{"text_format":"1","workbook":"xlsx","n_sheets":5,"sheets":["Calculos","Hoja1","Hoja1 (2)","Simulador","Calculos PLD"],"not_rendered":{"charts":0,"images":2,"macros":0,"external_links":0,"defined_names":0,"comments":1,"pivot_tables":0},"unopened":[],"bounds":{"document_bytes":16777216,"sheet_cells":100000,"rows_first":2000,"rows_last":500,"rows_between":2000,"halvings":0,"cell_chars":16384,"cell_head_chars":4096},"cells_cut":0,"cells_raw":0,"read":"whole","date_system":"1900"}

{"sheet":"Calculos","index":0,"n_rows":386,"n_cols":7,"rows_kept":386,"cut":false,"hidden":true,"merged":[[0,0,0,6]]}
["Factores utilizados en Meses de No Pago para cálculo del valor cuota"]
[]
["N° de Cuota","Equivalente","Fecha","Mes","Marca Cuota No Pago","Factor (10)","Acumulado"]
[1,{"$f":"IF(E4<>\"C\",IF(ISERROR(1+B3)=TRUE,1,1+B3),IF(ISNUMBER(B3),B3,1))","v":1},{"$f":"+#REF!","v":{"$error":"#REF!"}},{"$f":"MONTH(C4)","v":{"$error":"#REF!"}},{"$f":"IF(ISERROR(MATCH(D4,#REF!,0))=FALSE,\"C\",IF(ISERROR(MATCH(D4,#REF!,0))=FALSE,\"D\",\"\"))","v":""},{"$f":"IF(E4=\"C\",0,IF(E4 =\"D\",ROUND(1/((1+#REF!)^A4),9) * 2,ROUND(1/((1+#REF!)^A4),9)))","v":{"$error":"#REF!"}},{"$f":"ROUND(F4,9)","v":{"$error":"#REF!"}}]
[{"$f":"A4+1","v":2},{"$f":"IF(E5<>\"C\",IF(ISERROR(1+B4)=TRUE,1,1+B4),IF(ISNUMBER(B4),B4,1))","v":2},{"$f":"DATE(YEAR(C4) + 1/12,MONTH(C4)+1,DAY(C4))","v":{"$error":"#REF!"}},{"$error":"#REF!"},{"$f":"IF(ISERROR(MATCH(D5,#REF!,0))=FALSE,\"C\",IF(ISERROR(MATCH(D5,#REF!,0))=FALSE,\"D\",\"\"))","v":""},{"$f":"IF(E5=\"C\",0,IF(E5 =\"D\",ROUND(1/((1+#REF!)^A5),9) * 2,ROUND(1/((1+#REF!)^A5),9)))","v":{"$error":"#REF!"}},{"$f":"G4+ROUND(F5,9)","v":{"$error":"#REF!"}}]
[3,3,{"$error":"#REF!"},{"$error":"#REF!"},{"$f":"IF(ISERROR(MATCH(D6,#REF!,0))=FALSE,\"C\",IF(ISERROR(MATCH(D6,#REF!,0))=FALSE,\"D\",\"\"))","v":""},{"$f":"IF(E6=\"C\",0,IF(E6 =\"D\",ROUND(1/((1+#REF!)^A6),9) * 2,ROUND(1/((1+#REF!)^A6),9)))","v":{"$error":"#REF!"}},{"$f":"G5+ROUND(F6,9)","v":{"$error":"#REF!"}}]
[4,4,{"$error":"#REF!"},{"$error":"#REF!"},{"$f":"IF(ISERROR(MATCH(D7,#REF!,0))=FALSE,\"C\",IF(ISERROR(MATCH(D7,#REF!,0))=FALSE,\"D\",\"\"))","v":""},{"$f":"IF(E7=\"C\",0,IF(E7 =\"D\",ROUND(1/((1+#REF!)^A7),9) * 2,ROUND(1/((1+#REF!)^A7),9)))","v":{"$error":"#REF!"}},{"$error":"#REF!"}]
[5,5,{"$error":"#REF!"},{"$error":"#REF!"},{"$f":"IF(ISERROR(MATCH(D8,#REF!,0))=FALSE,\"C\",IF(ISERROR(MATCH(D8,#REF!,0))=FALSE,\"D\",\"\"))","v":""},{"$f":"IF(E8=\"C\",0,IF(E8 =\"D\",ROUND(1/((1+#REF!)^A8),9) * 2,ROUND(1/((1+#REF!)^A8),9)))","v":{"$error":"#REF!"}},{"$error":"#REF!"}]
[6,6,{"$error":"#REF!"},{"$error":"#REF!"},{"$f":"IF(ISERROR(MATCH(D9,#REF!,0))=FALSE,\"C\",IF(ISERROR(MATCH(D9,#REF!,0))=FALSE,\"D\",\"\"))","v":""},{"$f":"IF(E9=\"C\",0,IF(E9 =\"D\",ROUND(1/((1+#REF!)^A9),9) * 2,ROUND(1/((1+#REF!)^A9),9)))","v":{"$error":"#REF!"}},{"$error":"#REF!"}]
[7,7,{"$error":"#REF!"},{"$error":"#REF!"},{"$f":"IF(ISERROR(MATCH(D10,#REF!,0))=FALSE,\"C\",IF(ISERROR(MATCH(D10,#REF!,0))=FALSE,\"D\",\"\"))","v":""},{"$f":"IF(E10=\"C\",0,IF(E10 =\"D\",ROUND(1/((1+#REF!)^A10),9) * 2,ROUND(1/((1+#REF!)^A10),9)))","v":{"$error":"#REF!"}},{"$error":"#REF!"}]
[8,8,{"$error":"#REF!"},{"$error":"#REF!"},{"$f":"IF(ISERROR(MATCH(D11,#REF!,0))=FALSE,\"C\",IF(ISERROR(MATCH(D11,#REF!,0))=FALSE,\"D\",\"\"))","v":""},{"$f":"IF(E11=\"C\",0,IF(E11 =\"D\",ROUND(1/((1+#REF!)^A11),9) * 2,ROUND(1/((1+#REF!)^A11),9)))","v":{"$error":"#REF!"}},{"$error":"#REF!"}]
[9,9,{"$error":"#REF!"},{"$error":"#REF!"},{"$f":"IF(ISERROR(MATCH(D12,#REF!,0))=FALSE,\"C\",IF(ISERROR(MATCH(D12,#REF!,0))=FALSE,\"D\",\"\"))","v":""},{"$f":"IF(E12=\"C\",0,IF(E12 =\"D\",ROUND(1/((1+#REF!)^A12),9) * 2,ROUND(1/((1+#REF!)^A12),9)))","v":{"$error":"#REF!"}},{"$error":"#REF!"}]
[10,10,{"$error":"#REF!"},{"$error":"#REF!"},{"$f":"IF(ISERROR(MATCH(D13,#REF!,0))=FALSE,\"C\",IF(ISERROR(MATCH(D13,#REF!,0))=FALSE,\"D\",\"\"))","v":""},{"$f":"IF(E13=\"C\",0,IF(E13 =\"D\",ROUND(1/((1+#REF!)^A13),9) * 2,ROUND(1/((1+#REF!)^A13),9)))","v":{"$error":"#REF!"}},{"$error":"#REF!"}]
[11,11,{"$error":"#REF!"},{"$error":"#REF!"},{"$f":"IF(ISERROR(MATCH(D14,#REF!,0))=FALSE,\"C\",IF(ISERROR(MATCH(D14,#REF!,0))=FALSE,\"D\",\"\"))","v":""},{"$f":"IF(E14=\"C\",0,IF(E14 =\"D\",ROUND(1/((1+#REF!)^A14),9) * 2,ROUND(1/((1+#REF!)^A14),9)))","v":{"$error":"#REF!"}},{"$error":"#REF!"}]
[12,12,{"$error":"#REF!"},{"$error":"#REF!"},{"$f":"IF(ISERROR(MATCH(D15,#REF!,0))=FALSE,\"C\",IF(ISERROR(MATCH(D15,#REF!,0))=FALSE,\"D\",\"\"))","v":""},{"$f":"IF(E15=\"C\",0,IF(E15 =\"D\",ROUND(1/((1+#REF!)^A15),9) * 2,ROUND(1/((1+#REF!)^A15),9)))","v":{"$error":"#REF!"}},{"$error":"#REF!"}]
[13,13,{"$error":"#REF!"},{"$error":"#REF!"},{"$f":"IF(ISERROR(MATCH(D16,#REF!,0))=FALSE,\"C\",IF(ISERROR(MATCH(D16,#REF!,0))=FALSE,\"D\",\"\"))","v":""},{"$f":"IF(E16=\"C\",0,IF(E16 =\"D\",ROUND(1/((1+#REF!)^A16),9) * 2,ROUND(1/((1+#REF!)^A16),9)))","v":{"$error":"#REF!"}},{"$error":"#REF!"}]
[14,14,{"$error":"#REF!"},{"$error":"#REF!"},{"$f":"IF(ISERROR(MATCH(D17,#REF!,0))=FALSE,\"C\",IF(ISERROR(MATCH(D17,#REF!,0))=FALSE,\"D\",\"\"))","v":""},{"$f":"IF(E17=\"C\",0,IF(E17 =\"D\",ROUND(1/((1+#REF!)^A17),9) * 2,ROUND(1/((1+#REF!)^A17),9)))","v":{"$error":"#REF!"}},{"$error":"#REF!"}]
[15,15,{"$error":"#REF!"},{"$error":"#REF!"},{"$f":"IF(ISERROR(MATCH(D18,#REF!,0))=FALSE,\"C\",IF(ISERROR(MATCH(D18,#REF!,0))=FALSE,\"D\",\"\"))","v":""},{"$f":"IF(E18=\"C\",0,IF(E18 =\"D\",ROUND(1/((1+#REF!)^A18),9) * 2,ROUND(1/((1+#REF!)^A18),9)))","v":{"$error":"#REF!"}},{"$error":"#REF!"}]
[16,16,{"$error":"#REF!"},{"$error":"#REF!"},{"$f":"IF(ISERROR(MATCH(D19,#REF!,0))=FALSE,\"C\",IF(ISERROR(MATCH(D19,#REF!,0))=FALSE,\"D\",\"\"))","v":""},{"$f":"IF(E19=\"C\",0,IF(E19 =\"D\",ROUND(1/((1+#REF!)^A19),9) * 2,ROUND(1/((1+#REF!)^A19),9)))","v":{"$error":"#REF!"}},{"$error":"#REF!"}]
[17,17,{"$error":"#REF!"},{"$error":"#REF!"},{"$f":"IF(ISERROR(MATCH(D20,#REF!,0))=FALSE,\"C\",IF(ISERROR(MATCH(D20,#REF!,0))=FALSE,\"D\",\"\"))","v":""},{"$f":"IF(E20=\"C\",0,IF(E20 =\"D\",ROUND(1/((1+#REF!)^A20),9) * 2,ROUND(1/((1+#REF!)^A20),9)))","v":{"$error":"#REF!"}},{"$error":"#REF!"}]
[18,18,{"$error":"#REF!"},{"$error":"#REF!"},{"$f":"IF(ISERROR(MATCH(D21,#REF!,0))=FALSE,\"C\",IF(ISERROR(MATCH(D21,#REF!,0))=FALSE,\"D\",\"\"))","v":""},{"$f":"IF(E21=\"C\",0,IF(E21 =\"D\",ROUND(1/((1+#REF!)^A21),9) * 2,ROUND(1/((1+#REF!)^A21),9)))","v":{"$error":"#REF!"}},{"$error":"#REF!"}]
[19,19,{"$error":"#REF!"},{"$error":"#REF!"},{"$f":"IF(ISERROR(MATCH(D22,#REF!,0))=FALSE,\"C\",IF(ISERROR(MATCH(D22,#REF!,0))=FALSE,\"D\",\"\"))","v":""},{"$f":"IF(E22=\"C\",0,IF(E22 =\"D\",ROUND(1/((1+#REF!)^A22),9) * 2,ROUND(1/((1+#REF!)^A22),9)))","v":{"$error":"#REF!"}},{"$error":"#REF!"}]
[20,20,{"$error":"#REF!"},{"$error":"#REF!"},{"$f":"IF(ISERROR(MATCH(D23,#REF!,0))=FALSE,\"C\",IF(ISERROR(MATCH(D23,#REF!,0))=FALSE,\"D\",\"\"))","v":""},{"$f":"IF(E23=\"C\",0,IF(E23 =\"D\",ROUND(1/((1+#REF!)^A23),9) * 2,ROUND(1/((1+#REF!)^A23),9)))","v":{"$error":"#REF!"}},{"$error":"#REF!"}]
[21,21,{"$error":"#REF!"},{"$error":"#REF!"},{"$f":"IF(ISERROR(MATCH(D24,#REF!,0))=FALSE,\"C\",IF(ISERROR(MATCH(D24,#REF!,0))=FALSE,\"D\",\"\"))","v":""},{"$f":"IF(E24=\"C\",0,IF(E24 =\"D\",ROUND(1/((1+#REF!)^A24),9) * 2,ROUND(1/((1+#REF!)^A24),9)))","v":{"$error":"#REF!"}},{"$error":"#REF!"}]
[22,22,{"$error":"#REF!"},{"$error":"#REF!"},{"$f":"IF(ISERROR(MATCH(D25,#REF!,0))=FALSE,\"C\",IF(ISERROR(MATCH(D25,#REF!,0))=FALSE,\"D\",\"\"))","v":""},{"$f":"IF(E25=\"C\",0,IF(E25 =\"D\",ROUND(1/((1+#REF!)^A25),9) * 2,ROUND(1/((1+#REF!)^A25),9)))","v":{"$error":"#REF!"}},{"$error":"#REF!"}]
[23,23,{"$error":"#REF!"},{"$error":"#REF!"},{"$f":"IF(ISERROR(MATCH(D26,#REF!,0))=FALSE,\"C\",IF(ISERROR(MATCH(D26,#REF!,0))=FALSE,\"D\",\"\"))","v":""},{"$f":"IF(E26=\"C\",0,IF(E26 =\"D\",ROUND(1/((1+#REF!)^A26),9) * 2,ROUND(1/((1+#REF!)^A26),9)))","v":{"$error":"#REF!"}},{"$error":"#REF!"}]
[24,24,{"$error":"#REF!"},{"$error":"#REF!"},{"$f":"IF(ISERROR(MATCH(D27,#REF!,0))=FALSE,\"C\",IF(ISERROR(MATCH(D27,#REF!,0))=FALSE,\"D\",\"\"))","v":""},{"$f":"IF(E27=\"C\",0,IF(E27 =\"D\",ROUND(1/((1+#REF!)^A27),9) * 2,ROUND(1/((1+#REF!)^A27),9)))","v":{"$error":"#REF!"}},{"$error":"#REF!"}]
[25,25,{"$error":"#REF!"},{"$error":"#REF!"},{"$f":"IF(ISERROR(MATCH(D28,#REF!,0))=FALSE,\"C\",IF(ISERROR(MATCH(D28,#REF!,0))=FALSE,\"D\",\"\"))","v":""},{"$f":"IF(E28=\"C\",0,IF(E28 =\"D\",ROUND(1/((1+#REF!)^A28),9) * 2,ROUND(1/((1+#REF!)^A28),9)))","v":{"$error":"#REF!"}},{"$error":"#REF!"}]
[26,26,{"$error":"#REF!"},{"$error":"#REF!"},{"$f":"IF(ISERROR(MATCH(D29,#REF!,0))=FALSE,\"C\",IF(ISERROR(MATCH(D29,#REF!,0))=FALSE,\"D\",\"\"))","v":""},{"$f":"IF(E29=\"C\",0,IF(E29 =\"D\",ROUND(1/((1+#REF!)^A29),9) * 2,ROUND(1/((1+#REF!)^A29),9)))","v":{"$error":"#REF!"}},{"$error":"#REF!"}]
[27,27,{"$error":"#REF!"},{"$error":"#REF!"},{"$f":"IF(ISERROR(MATCH(D30,#REF!,0))=FALSE,\"C\",IF(ISERROR(MATCH(D30,#REF!,0))=FALSE,\"D\",\"\"))","v":""},{"$f":"IF(E30=\"C\",0,IF(E30 =\"D\",ROUND(1/((1+#REF!)^A30),9) * 2,ROUND(1/((1+#REF!)^A30),9)))","v":{"$error":"#REF!"}},{"$error":"#REF!"}]
[28,28,{"$error":"#REF!"},{"$error":"#REF!"},{"$f":"IF(ISERROR(MATCH(D31,#REF!,0))=FALSE,\"C\",IF(ISERROR(MATCH(D31,#REF!,0))=FALSE,\"D\",\"\"))","v":""},{"$f":"IF(E31=\"C\",0,IF(E31 =\"D\",ROUND(1/((1+#REF!)^A31),9) * 2,ROUND(1/((1+#REF!)^A31),9)))","v":{"$error":"#REF!"}},{"$error":"#REF!"}]
[29,29,{"$error":"#REF!"},{"$error":"#REF!"},{"$f":"IF(ISERROR(MATCH(D32,#REF!,0))=FALSE,\"C\",IF(ISERROR(MATCH(D32,#REF!,0))=FALSE,\"D\",\"\"))","v":""},{"$f":"IF(E32=\"C\",0,IF(E32 =\"D\",ROUND(1/((1+#REF!)^A32),9) * 2,ROUND(1/((1+#REF!)^A32),9)))","v":{"$error":"#REF!"}},{"$error":"#REF!"}]
[30,30,{"$error":"#REF!"},{"$error":"#REF!"},{"$f":"IF(ISERROR(MATCH(D33,#REF!,0))=FALSE,\"C\",IF(ISERROR(MATCH(D33,#REF!,0))=FALSE,\"D\",\"\"))","v":""},{"$f":"IF(E33=\"C\",0,IF(E33 =\"D\",ROUND(1/((1+#REF!)^A33),9) * 2,ROUND(1/((1+#REF!)^A33),9)))","v":{"$error":"#REF!"}},{"$error":"#REF!"}]
[31,31,{"$error":"#REF!"},{"$error":"#REF!"},{"$f":"IF(ISERROR(MATCH(D34,#REF!,0))=FALSE,\"C\",IF(ISERROR(MATCH(D34,#REF!,0))=FALSE,\"D\",\"\"))","v":""},{"$f":"IF(E34=\"C\",0,IF(E34 =\"D\",ROUND(1/((1+#REF!)^A34),9) * 2,ROUND(1/((1+#REF!)^A34),9)))","v":{"$error":"#REF!"}},{"$error":"#REF!"}]
[32,32,{"$error":"#REF!"},{"$error":"#REF!"},{"$f":"IF(ISERROR(MATCH(D35,#REF!,0))=FALSE,\"C\",IF(ISERROR(MATCH(D35,#REF!,0))=FALSE,\"D\",\"\"))","v":""},{"$f":"IF(E35=\"C\",0,IF(E35 =\"D\",ROUND(1/((1+#REF!)^A35),9) * 2,ROUND(1/((1+#REF!)^A35),9)))","v":{"$error":"#REF!"}},{"$error":"#REF!"}]
[33,33,{"$error":"#REF!"},{"$error":"#REF!"},{"$f":"IF(ISERROR(MATCH(D36,#REF!,0))=FALSE,\"C\",IF(ISERROR(MATCH(D36,#REF!,0))=FALSE,\"D\",\"\"))","v":""},{"$f":"IF(E36=\"C\",0,IF(E36 =\"D\",ROUND(1/((1+#REF!)^A36),9) * 2,ROUND(1/((1+#REF!)^A36),9)))","v":{"$error":"#REF!"}},{"$error":"#REF!"}]
[34,34,{"$error":"#REF!"},{"$error":"#REF!"},{"$f":"IF(ISERROR(MATCH(D37,#REF!,0))=FALSE,\"C\",IF(ISERROR(MATCH(D37,#REF!,0))=FALSE,\"D\",\"\"))","v":""},{"$f":"IF(E37=\"C\",0,IF(E37 =\"D\",ROUND(1/((1+#REF!)^A37),9) * 2,ROUND(1/((1+#REF!)^A37),9)))","v":{"$error":"#REF!"}},{"$error":"#REF!"}]
[35,35,{"$error":"#REF!"},{"$error":"#REF!"},{"$f":"IF(ISERROR(MATCH(D38,#REF!,0))=FALSE,\"C\",IF(ISERROR(MATCH(D38,#REF!,0))=FALSE,\"D\",\"\"))","v":""},{"$f":"IF(E38=\"C\",0,IF(E38 =\"D\",ROUND(1/((1+#REF!)^A38),9) * 2,ROUND(1/((1+#REF!)^A38),9)))","v":{"$error":"#REF!"}},{"$error":"#REF!"}]
[36,36,{"$error":"#REF!"},{"$error":"#REF!"},{"$f":"IF(ISERROR(MATCH(D39,#REF!,0))=FALSE,\"C\",IF(ISERROR(MATCH(D39,#REF!,0))=FALSE,\"D\",\"\"))","v":""},{"$f":"IF(E39=\"C\",0,IF(E39 =\"D\",ROUND(1/((1+#REF!)^A39),9) * 2,ROUND(1/((1+#REF!)^A39),9)))","v":{"$error":"#REF!"}},{"$error":"#REF!"}]
[37,37,{"$error":"#REF!"},{"$error":"#REF!"},{"$f":"IF(ISERROR(MATCH(D40,#REF!,0))=FALSE,\"C\",IF(ISERROR(MATCH(D40,#REF!,0))=FALSE,\"D\",\"\"))","v":""},{"$f":"IF(E40=\"C\",0,IF(E40 =\"D\",ROUND(1/((1+#REF!)^A40),9) * 2,ROUND(1/((1+#REF!)^A40),9)))","v":{"$error":"#REF!"}},{"$error":"#REF!"}]
[38,38,{"$error":"#REF!"},{"$error":"#REF!"},{"$f":"IF(ISERROR(MATCH(D41,#REF!,0))=FALSE,\"C\",IF(ISERROR(MATCH(D41,#REF!,0))=FALSE,\"D\",\"\"))","v":""},{"$f":"IF(E41=\"C\",0,IF(E41 =\"D\",ROUND(1/((1+#REF!)^A41),9) * 2,ROUND(1/((1+#REF!)^A41),9)))","v":{"$error":"#REF!"}},{"$error":"#REF!"}]
[39,39,{"$error":"#REF!"},{"$error":"#REF!"},{"$f":"IF(ISERROR(MATCH(D42,#REF!,0))=FALSE,\"C\",IF(ISERROR(MATCH(D42,#REF!,0))=FALSE,\"D\",\"\"))","v":""},{"$f":"IF(E42=\"C\",0,IF(E42 =\"D\",ROUND(1/((1+#REF!)^A42),9) * 2,ROUND(1/((1+#REF!)^A42),9)))","v":{"$error":"#REF!"}},{"$error":"#REF!"}]
[40,40,{"$error":"#REF!"},{"$error":"#REF!"},{"$f":"IF(ISERROR(MATCH(D43,#REF!,0))=FALSE,\"C\",IF(ISERROR(MATCH(D43,#REF!,0))=FALSE,\"D\",\"\"))","v":""},{"$f":"IF(E43=\"C\",0,IF(E43 =\"D\",ROUND(1/((1+#REF!)^A43),9) * 2,ROUND(1/((1+#REF!)^A43),9)))","v":{"$error":"#REF!"}},{"$error":"#REF!"}]
[41,41,{"$error":"#REF!"},{"$error":"#REF!"},{"$f":"IF(ISERROR(MATCH(D44,#REF!,0))=FALSE,\"C\",IF(ISERROR(MATCH(D44,#REF!,0))=FALSE,\"D\",\"\"))","v":""},{"$f":"IF(E44=\"C\",0,IF(E44 =\"D\",ROUND(1/((1+#REF!)^A44),9) * 2,ROUND(1/((1+#REF!)^A44),9)))","v":{"$error":"#REF!"}},{"$error":"#REF!"}]
[42,42,{"$error":"#REF!"},{"$error":"#REF!"},{"$f":"IF(ISERROR(MATCH(D45,#REF!,0))=FALSE,\"C\",IF(ISERROR(MATCH(D45,#REF!,0))=FALSE,\"D\",\"\"))","v":""},{"$f":"IF(E45=\"C\",0,IF(E45 =\"D\",ROUND(1/((1+#REF!)^A45),9) * 2,ROUND(1/((1+#REF!)^A45),9)))","v":{"$error":"#REF!"}},{"$error":"#REF!"}]
[43,43,{"$error":"#REF!"},{"$error":"#REF!"},{"$f":"IF(ISERROR(MATCH(D46,#REF!,0))=FALSE,\"C\",IF(ISERROR(MATCH(D46,#REF!,0))=FALSE,\"D\",\"\"))","v":""},{"$f":"IF(E46=\"C\",0,IF(E46 =\"D\",ROUND(1/((1+#REF!)^A46),9) * 2,ROUND(1/((1+#REF!)^A46),9)))","v":{"$error":"#REF!"}},{"$error":"#REF!"}]
[44,44,{"$error":"#REF!"},{"$error":"#REF!"},{"$f":"IF(ISERROR(MATCH(D47,#REF!,0))=FALSE,\"C\",IF(ISERROR(MATCH(D47,#REF!,0))=FALSE,\"D\",\"\"))","v":""},{"$f":"IF(E47=\"C\",0,IF(E47 =\"D\",ROUND(1/((1+#REF!)^A47),9) * 2,ROUND(1/((1+#REF!)^A47),9)))","v":{"$error":"#REF!"}},{"$error":"#REF!"}]
[45,45,{"$error":"#REF!"},{"$error":"#REF!"},{"$f":"IF(ISERROR(MATCH(D48,#REF!,0))=FALSE,\"C\",IF(ISERROR(MATCH(D48,#REF!,0))=FALSE,\"D\",\"\"))","v":""},{"$f":"IF(E48=\"C\",0,IF(E48 =\"D\",ROUND(1/((1+#REF!)^A48),9) * 2,ROUND(1/((1+#REF!)^A48),9)))","v":{"$error":"#REF!"}},{"$error":"#REF!"}]
[46,46,{"$error":"#REF!"},{"$error":"#REF!"},{"$f":"IF(ISERROR(MATCH(D49,#REF!,0))=FALSE,\"C\",IF(ISERROR(MATCH(D49,#REF!,0))=FALSE,\"D\",\"\"))","v":""},{"$f":"IF(E49=\"C\",0,IF(E49 =\"D\",ROUND(1/((1+#REF!)^A49),9) * 2,ROUND(1/((1+#REF!)^A49),9)))","v":{"$error":"#REF!"}},{"$error":"#REF!"}]
[47,47,{"$error":"#REF!"},{"$error":"#REF!"},{"$f":"IF(ISERROR(MATCH(D50,#REF!,0))=FALSE,\"C\",IF(ISERROR(MATCH(D50,#REF!,0))=FALSE,\"D\",\"\"))","v":""},{"$f":"IF(E50=\"C\",0,IF(E50 =\"D\",ROUND(1/((1+#REF!)^A50),9) * 2,ROUND(1/((1+#REF!)^A50),9)))","v":{"$error":"#REF!"}},{"$error":"#REF!"}]
[48,48,{"$error":"#REF!"},{"$error":"#REF!"},{"$f":"IF(ISERROR(MATCH(D51,#REF!,0))=FALSE,\"C\",IF(ISERROR(MATCH(D51,#REF!,0))=FALSE,\"D\",\"\"))","v":""},{"$f":"IF(E51=\"C\",0,IF(E51 =\"D\",ROUND(1/((1+#REF!)^A51),9) * 2,ROUND(1/((1+#REF!)^A51),9)))","v":{"$error":"#REF!"}},{"$error":"#REF!"}]
[49,49,{"$error":"#REF!"},{"$error":"#REF!"},{"$f":"IF(ISERROR(MATCH(D52,#REF!,0))=FALSE,\"C\",IF(ISERROR(MATCH(D52,#REF!,0))=FALSE,\"D\",\"\"))","v":""},{"$f":"IF(E52=\"C\",0,IF(E52 =\"D\",ROUND(1/((1+#REF!)^A52),9) * 2,ROUND(1/((1+#REF!)^A52),9)))","v":{"$error":"#REF!"}},{"$error":"#REF!"}]
[50,50,{"$error":"#REF!"},{"$error":"#REF!"},{"$f":"IF(ISERROR(MATCH(D53,#REF!,0))=FALSE,\"C\",IF(ISERROR(MATCH(D53,#REF!,0))=FALSE,\"D\",\"\"))","v":""},{"$f":"IF(E53=\"C\",0,IF(E53 =\"D\",ROUND(1/((1+#REF!)^A53),9) * 2,ROUND(1/((1+#REF!)^A53),9)))","v":{"$error":"#REF!"}},{"$error":"#REF!"}]
[51,51,{"$error":"#REF!"},{"$error":"#REF!"},{"$f":"IF(ISERROR(MATCH(D54,#REF!,0))=FALSE,\"C\",IF(ISERROR(MATCH(D54,#REF!,0))=FALSE,\"D\",\"\"))","v":""},{"$f":"IF(E54=\"C\",0,IF(E54 =\"D\",ROUND(1/((1+#REF!)^A54),9) * 2,ROUND(1/((1+#REF!)^A54),9)))","v":{"$error":"#REF!"}},{"$error":"#REF!"}]
[52,52,{"$error":"#REF!"},{"$error":"#REF!"},{"$f":"IF(ISERROR(MATCH(D55,#REF!,0))=FALSE,\"C\",IF(ISERROR(MATCH(D55,#REF!,0))=FALSE,\"D\",\"\"))","v":""},{"$f":"IF(E55=\"C\",0,IF(E55 =\"D\",ROUND(1/((1+#REF!)^A55),9) * 2,ROUND(1/((1+#REF!)^A55),9)))","v":{"$error":"#REF!"}},{"$error":"#REF!"}]
[53,53,{"$error":"#REF!"},{"$error":"#REF!"},{"$f":"IF(ISERROR(MATCH(D56,#REF!,0))=FALSE,\"C\",IF(ISERROR(MATCH(D56,#REF!,0))=FALSE,\"D\",\"\"))","v":""},{"$f":"IF(E56=\"C\",0,IF(E56 =\"D\",ROUND(1/((1+#REF!)^A56),9) * 2,ROUND(1/((1+#REF!)^A56),9)))","v":{"$error":"#REF!"}},{"$error":"#REF!"}]
[54,54,{"$error":"#REF!"},{"$error":"#REF!"},{"$f":"IF(ISERROR(MATCH(D57,#REF!,0))=FALSE,\"C\",IF(ISERROR(MATCH(D57,#REF!,0))=FALSE,\"D\",\"\"))","v":""},{"$f":"IF(E57=\"C\",0,IF(E57 =\"D\",ROUND(1/((1+#REF!)^A57),9) * 2,ROUND(1/((1+#REF!)^A57),9)))","v":{"$error":"#REF!"}},{"$error":"#REF!"}]
[55,55,{"$error":"#REF!"},{"$error":"#REF!"},{"$f":"IF(ISERROR(MATCH(D58,#REF!,0))=FALSE,\"C\",IF(ISERROR(MATCH(D58,#REF!,0))=FALSE,\"D\",\"\"))","v":""},{"$f":"IF(E58=\"C\",0,IF(E58 =\"D\",ROUND(1/((1+#REF!)^A58),9) * 2,ROUND(1/((1+#REF!)^A58),9)))","v":{"$error":"#REF!"}},{"$error":"#REF!"}]
[56,56,{"$error":"#REF!"},{"$error":"#REF!"},{"$f":"IF(ISERROR(MATCH(D59,#REF!,0))=FALSE,\"C\",IF(ISERROR(MATCH(D59,#REF!,0))=FALSE,\"D\",\"\"))","v":""},{"$f":"IF(E59=\"C\",0,IF(E59 =\"D\",ROUND(1/((1+#REF!)^A59),9) * 2,ROUND(1/((1+#REF!)^A59),9)))","v":{"$error":"#REF!"}},{"$error":"#REF!"}]
[57,57,{"$error":"#REF!"},{"$error":"#REF!"},{"$f":"IF(ISERROR(MATCH(D60,#REF!,0))=FALSE,\"C\",IF(ISERROR(MATCH(D60,#REF!,0))=FALSE,\"D\",\"\"))","v":""},{"$f":"IF(E60=\"C\",0,IF(E60 =\"D\",ROUND(1/((1+#REF!)^A60),9) * 2,ROUND(1/((1+#REF!)^A60),9)))","v":{"$error":"#REF!"}},{"$error":"#REF!"}]
[58,58,{"$error":"#REF!"},{"$error":"#REF!"},{"$f":"IF(ISERROR(MATCH(D61,#REF!,0))=FALSE,\"C\",IF(ISERROR(MATCH(D61,#REF!,0))=FALSE,\"D\",\"\"))","v":""},{"$f":"IF(E61=\"C\",0,IF(E61 =\"D\",ROUND(1/((1+#REF!)^A61),9) * 2,ROUND(1/((1+#REF!)^A61),9)))","v":{"$error":"#REF!"}},{"$error":"#REF!"}]
[59,59,{"$error":"#REF!"},{"$error":"#REF!"},{"$f":"IF(ISERROR(MATCH(D62,#REF!,0))=FALSE,\"C\",IF(ISERROR(MATCH(D62,#REF!,0))=FALSE,\"D\",\"\"))","v":""},{"$f":"IF(E62=\"C\",0,IF(E62 =\"D\",ROUND(1/((1+#REF!)^A62),9) * 2,ROUND(1/((1+#REF!)^A62),9)))","v":{"$error":"#REF!"}},{"$error":"#REF!"}]
[60,60,{"$error":"#REF!"},{"$error":"#REF!"},{"$f":"IF(ISERROR(MATCH(D63,#REF!,0))=FALSE,\"C\",IF(ISERROR(MATCH(D63,#REF!,0))=FALSE,\"D\",\"\"))","v":""},{"$f":"IF(E63=\"C\",0,IF(E63 =\"D\",ROUND(1/((1+#REF!)^A63),9) * 2,ROUND(1/((1+#REF!)^A63),9)))","v":{"$error":"#REF!"}},{"$error":"#REF!"}]
[61,61,{"$error":"#REF!"},{"$error":"#REF!"},{"$f":"IF(ISERROR(MATCH(D64,#REF!,0))=FALSE,\"C\",IF(ISERROR(MATCH(D64,#REF!,0))=FALSE,\"D\",\"\"))","v":""},{"$f":"IF(E64=\"C\",0,IF(E64 =\"D\",ROUND(1/((1+#REF!)^A64),9) * 2,ROUND(1/((1+#REF!)^A64),9)))","v":{"$error":"#REF!"}},{"$error":"#REF!"}]
[62,62,{"$error":"#REF!"},{"$error":"#REF!"},{"$f":"IF(ISERROR(MATCH(D65,#REF!,0))=FALSE,\"C\",IF(ISERROR(MATCH(D65,#REF!,0))=FALSE,\"D\",\"\"))","v":""},{"$f":"IF(E65=\"C\",0,IF(E65 =\"D\",ROUND(1/((1+#REF!)^A65),9) * 2,ROUND(1/((1+#REF!)^A65),9)))","v":{"$error":"#REF!"}},{"$error":"#REF!"}]
[63,63,{"$error":"#REF!"},{"$error":"#REF!"},{"$f":"IF(ISERROR(MATCH(D66,#REF!,0))=FALSE,\"C\",IF(ISERROR(MATCH(D66,#REF!,0))=FALSE,\"D\",\"\"))","v":""},{"$f":"IF(E66=\"C\",0,IF(E66 =\"D\",ROUND(1/((1+#REF!)^A66),9) * 2,ROUND(1/((1+#REF!)^A66),9)))","v":{"$error":"#REF!"}},{"$error":"#REF!"}]
[64,64,{"$error":"#REF!"},{"$error":"#REF!"},{"$f":"IF(ISERROR(MATCH(D67,#REF!,0))=FALSE,\"C\",IF(ISERROR(MATCH(D67,#REF!,0))=FALSE,\"D\",\"\"))","v":""},{"$f":"IF(E67=\"C\",0,IF(E67 =\"D\",ROUND(1/((1+#REF!)^A67),9) * 2,ROUND(1/((1+#REF!)^A67),9)))","v":{"$error":"#REF!"}},{"$error":"#REF!"}]
[65,65,{"$error":"#REF!"},{"$f":"MONTH(C68)","v":{"$error":"#REF!"}},{"$f":"IF(ISERROR(MATCH(D68,#REF!,0))=FALSE,\"C\",IF(ISERROR(MATCH(D68,#REF!,0))=FALSE,\"D\",\"\"))","v":""},{"$f":"IF(E68=\"C\",0,IF(E68 =\"D\",ROUND(1/((1+#REF!)^A68),9) * 2,ROUND(1/((1+#REF!)^A68),9)))","v":{"$error":"#REF!"}},{"$error":"#REF!"}]
[{"$f":"A68+1","v":66},{"$f":"IF(E69<>\"C\",IF(ISERROR(1+B68)=TRUE,1,1+B68),IF(ISNUMBER(B68),B68,1))","v":66},{"$f":"DATE(YEAR(C68) + 1/12,MONTH(C68)+1,DAY(C68))","v":{"$error":"#REF!"}},{"$error":"#REF!"},{"$f":"IF(ISERROR(MATCH(D69,#REF!,0))=FALSE,\"C\",IF(ISERROR(MATCH(D69,#REF!,0))=FALSE,\"D\",\"\"))","v":""},{"$f":"IF(E69=\"C\",0,IF(E69 =\"D\",ROUND(1/((1+#REF!)^A69),9) * 2,ROUND(1/((1+#REF!)^A69),9)))","v":{"$error":"#REF!"}},{"$error":"#REF!"}]
[67,67,{"$error":"#REF!"},{"$error":"#REF!"},{"$f":"IF(ISERROR(MATCH(D70,#REF!,0))=FALSE,\"C\",IF(ISERROR(MATCH(D70,#REF!,0))=FALSE,\"D\",\"\"))","v":""},{"$f":"IF(E70=\"C\",0,IF(E70 =\"D\",ROUND(1/((1+#REF!)^A70),9) * 2,ROUND(1/((1+#REF!)^A70),9)))","v":{"$error":"#REF!"}},{"$f":"G69+ROUND(F70,9)","v":{"$error":"#REF!"}}]
[68,68,{"$error":"#REF!"},{"$error":"#REF!"},{"$f":"IF(ISERROR(MATCH(D71,#REF!,0))=FALSE,\"C\",IF(ISERROR(MATCH(D71,#REF!,0))=FALSE,\"D\",\"\"))","v":""},{"$f":"IF(E71=\"C\",0,IF(E71 =\"D\",ROUND(1/((1+#REF!)^A71),9) * 2,ROUND(1/((1+#REF!)^A71),9)))","v":{"$error":"#REF!"}},{"$error":"#REF!"}]
[69,69,{"$error":"#REF!"},{"$error":"#REF!"},{"$f":"IF(ISERROR(MATCH(D72,#REF!,0))=FALSE,\"C\",IF(ISERROR(MATCH(D72,#REF!,0))=FALSE,\"D\",\"\"))","v":""},{"$f":"IF(E72=\"C\",0,IF(E72 =\"D\",ROUND(1/((1+#REF!)^A72),9) * 2,ROUND(1/((1+#REF!)^A72),9)))","v":{"$error":"#REF!"}},{"$error":"#REF!"}]
[70,70,{"$error":"#REF!"},{"$error":"#REF!"},{"$f":"IF(ISERROR(MATCH(D73,#REF!,0))=FALSE,\"C\",IF(ISERROR(MATCH(D73,#REF!,0))=FALSE,\"D\",\"\"))","v":""},{"$f":"IF(E73=\"C\",0,IF(E73 =\"D\",ROUND(1/((1+#REF!)^A73),9) * 2,ROUND(1/((1+#REF!)^A73),9)))","v":{"$error":"#REF!"}},{"$error":"#REF!"}]
[71,71,{"$error":"#REF!"},{"$error":"#REF!"},{"$f":"IF(ISERROR(MATCH(D74,#REF!,0))=FALSE,\"C\",IF(ISERROR(MATCH(D74,#REF!,0))=FALSE,\"D\",\"\"))","v":""},{"$f":"IF(E74=\"C\",0,IF(E74 =\"D\",ROUND(1/((1+#REF!)^A74),9) * 2,ROUND(1/((1+#REF!)^A74),9)))","v":{"$error":"#REF!"}},{"$error":"#REF!"}]
[72,72,{"$error":"#REF!"},{"$error":"#REF!"},{"$f":"IF(ISERROR(MATCH(D75,#REF!,0))=FALSE,\"C\",IF(ISERROR(MATCH(D75,#REF!,0))=FALSE,\"D\",\"\"))","v":""},{"$f":"IF(E75=\"C\",0,IF(E75 =\"D\",ROUND(1/((1+#REF!)^A75),9) * 2,ROUND(1/((1+#REF!)^A75),9)))","v":{"$error":"#REF!"}},{"$error":"#REF!"}]
[73,73,{"$error":"#REF!"},{"$error":"#REF!"},{"$f":"IF(ISERROR(MATCH(D76,#REF!,0))=FALSE,\"C\",IF(ISERROR(MATCH(D76,#REF!,0))=FALSE,\"D\",\"\"))","v":""},{"$f":"IF(E76=\"C\",0,IF(E76 =\"D\",ROUND(1/((1+#REF!)^A76),9) * 2,ROUND(1/((1+#REF!)^A76),9)))","v":{"$error":"#REF!"}},{"$error":"#REF!"}]
[74,74,{"$error":"#REF!"},{"$error":"#REF!"},{"$f":"IF(ISERROR(MATCH(D77,#REF!,0))=FALSE,\"C\",IF(ISERROR(MATCH(D77,#REF!,0))=FALSE,\"D\",\"\"))","v":""},{"$f":"IF(E77=\"C\",0,IF(E77 =\"D\",ROUND(1/((1+#REF!)^A77),9) * 2,ROUND(1/((1+#REF!)^A77),9)))","v":{"$error":"#REF!"}},{"$error":"#REF!"}]
[75,75,{"$error":"#REF!"},{"$error":"#REF!"},{"$f":"IF(ISERROR(MATCH(D78,#REF!,0))=FALSE,\"C\",IF(ISERROR(MATCH(D78,#REF!,0))=FALSE,\"D\",\"\"))","v":""},{"$f":"IF(E78=\"C\",0,IF(E78 =\"D\",ROUND(1/((1+#REF!)^A78),9) * 2,ROUND(1/((1+#REF!)^A78),9)))","v":{"$error":"#REF!"}},{"$error":"#REF!"}]
[76,76,{"$error":"#REF!"},{"$error":"#REF!"},{"$f":"IF(ISERROR(MATCH(D79,#REF!,0))=FALSE,\"C\",IF(ISERROR(MATCH(D79,#REF!,0))=FALSE,\"D\",\"\"))","v":""},{"$f":"IF(E79=\"C\",0,IF(E79 =\"D\",ROUND(1/((1+#REF!)^A79),9) * 2,ROUND(1/((1+#REF!)^A79),9)))","v":{"$error":"#REF!"}},{"$error":"#REF!"}]
[77,77,{"$error":"#REF!"},{"$error":"#REF!"},{"$f":"IF(ISERROR(MATCH(D80,#REF!,0))=FALSE,\"C\",IF(ISERROR(MATCH(D80,#REF!,0))=FALSE,\"D\",\"\"))","v":""},{"$f":"IF(E80=\"C\",0,IF(E80 =\"D\",ROUND(1/((1+#REF!)^A80),9) * 2,ROUND(1/((1+#REF!)^A80),9)))","v":{"$error":"#REF!"}},{"$error":"#REF!"}]
[78,78,{"$error":"#REF!"},{"$error":"#REF!"},{"$f":"IF(ISERROR(MATCH(D81,#REF!,0))=FALSE,\"C\",IF(ISERROR(MATCH(D81,#REF!,0))=FALSE,\"D\",\"\"))","v":""},{"$f":"IF(E81=\"C\",0,IF(E81 =\"D\",ROUND(1/((1+#REF!)^A81),9) * 2,ROUND(1/((1+#REF!)^A81),9)))","v":{"$error":"#REF!"}},{"$error":"#REF!"}]
[79,79,{"$error":"#REF!"},{"$error":"#REF!"},{"$f":"IF(ISERROR(MATCH(D82,#REF!,0))=FALSE,\"C\",IF(ISERROR(MATCH(D82,#REF!,0))=FALSE,\"D\",\"\"))","v":""},{"$f":"IF(E82=\"C\",0,IF(E82 =\"D\",ROUND(1/((1+#REF!)^A82),9) * 2,ROUND(1/((1+#REF!)^A82),9)))","v":{"$error":"#REF!"}},{"$error":"#REF!"}]
[80,80,{"$error":"#REF!"},{"$error":"#REF!"},{"$f":"IF(ISERROR(MATCH(D83,#REF!,0))=FALSE,\"C\",IF(ISERROR(MATCH(D83,#REF!,0))=FALSE,\"D\",\"\"))","v":""},{"$f":"IF(E83=\"C\",0,IF(E83 =\"D\",ROUND(1/((1+#REF!)^A83),9) * 2,ROUND(1/((1+#REF!)^A83),9)))","v":{"$error":"#REF!"}},{"$error":"#REF!"}]
[81,81,{"$error":"#REF!"},{"$error":"#REF!"},{"$f":"IF(ISERROR(MATCH(D84,#REF!,0))=FALSE,\"C\",IF(ISERROR(MATCH(D84,#REF!,0))=FALSE,\"D\",\"\"))","v":""},{"$f":"IF(E84=\"C\",0,IF(E84 =\"D\",ROUND(1/((1+#REF!)^A84),9) * 2,ROUND(1/((1+#REF!)^A84),9)))","v":{"$error":"#REF!"}},{"$error":"#REF!"}]
[82,82,{"$error":"#REF!"},{"$error":"#REF!"},{"$f":"IF(ISERROR(MATCH(D85,#REF!,0))=FALSE,\"C\",IF(ISERROR(MATCH(D85,#REF!,0))=FALSE,\"D\",\"\"))","v":""},{"$f":"IF(E85=\"C\",0,IF(E85 =\"D\",ROUND(1/((1+#REF!)^A85),9) * 2,ROUND(1/((1+#REF!)^A85),9)))","v":{"$error":"#REF!"}},{"$error":"#REF!"}]
[83,83,{"$error":"#REF!"},{"$error":"#REF!"},{"$f":"IF(ISERROR(MATCH(D86,#REF!,0))=FALSE,\"C\",IF(ISERROR(MATCH(D86,#REF!,0))=FALSE,\"D\",\"\"))","v":""},{"$f":"IF(E86=\"C\",0,IF(E86 =\"D\",ROUND(1/((1+#REF!)^A86),9) * 2,ROUND(1/((1+#REF!)^A86),9)))","v":{"$error":"#REF!"}},{"$error":"#REF!"}]
[84,84,{"$error":"#REF!"},{"$error":"#REF!"},{"$f":"IF(ISERROR(MATCH(D87,#REF!,0))=FALSE,\"C\",IF(ISERROR(MATCH(D87,#REF!,0))=FALSE,\"D\",\"\"))","v":""},{"$f":"IF(E87=\"C\",0,IF(E87 =\"D\",ROUND(1/((1+#REF!)^A87),9) * 2,ROUND(1/((1+#REF!)^A87),9)))","v":{"$error":"#REF!"}},{"$error":"#REF!"}]
[85,85,{"$error":"#REF!"},{"$error":"#REF!"},{"$f":"IF(ISERROR(MATCH(D88,#REF!,0))=FALSE,\"C\",IF(ISERROR(MATCH(D88,#REF!,0))=FALSE,\"D\",\"\"))","v":""},{"$f":"IF(E88=\"C\",0,IF(E88 =\"D\",ROUND(1/((1+#REF!)^A88),9) * 2,ROUND(1/((1+#REF!)^A88),9)))","v":{"$error":"#REF!"}},{"$error":"#REF!"}]
[86,86,{"$error":"#REF!"},{"$error":"#REF!"},{"$f":"IF(ISERROR(MATCH(D89,#REF!,0))=FALSE,\"C\",IF(ISERROR(MATCH(D89,#REF!,0))=FALSE,\"D\",\"\"))","v":""},{"$f":"IF(E89=\"C\",0,IF(E89 =\"D\",ROUND(1/((1+#REF!)^A89),9) * 2,ROUND(1/((1+#REF!)^A89),9)))","v":{"$error":"#REF!"}},{"$error":"#REF!"}]
[87,87,{"$error":"#REF!"},{"$error":"#REF!"},{"$f":"IF(ISERROR(MATCH(D90,#REF!,0))=FALSE,\"C\",IF(ISERROR(MATCH(D90,#REF!,0))=FALSE,\"D\",\"\"))","v":""},{"$f":"IF(E90=\"C\",0,IF(E90 =\"D\",ROUND(1/((1+#REF!)^A90),9) * 2,ROUND(1/((1+#REF!)^A90),9)))","v":{"$error":"#REF!"}},{"$error":"#REF!"}]
[88,88,{"$error":"#REF!"},{"$error":"#REF!"},{"$f":"IF(ISERROR(MATCH(D91,#REF!,0))=FALSE,\"C\",IF(ISERROR(MATCH(D91,#REF!,0))=FALSE,\"D\",\"\"))","v":""},{"$f":"IF(E91=\"C\",0,IF(E91 =\"D\",ROUND(1/((1+#REF!)^A91),9) * 2,ROUND(1/((1+#REF!)^A91),9)))","v":{"$error":"#REF!"}},{"$error":"#REF!"}]
[89,89,{"$error":"#REF!"},{"$error":"#REF!"},{"$f":"IF(ISERROR(MATCH(D92,#REF!,0))=FALSE,\"C\",IF(ISERROR(MATCH(D92,#REF!,0))=FALSE,\"D\",\"\"))","v":""},{"$f":"IF(E92=\"C\",0,IF(E92 =\"D\",ROUND(1/((1+#REF!)^A92),9) * 2,ROUND(1/((1+#REF!)^A92),9)))","v":{"$error":"#REF!"}},{"$error":"#REF!"}]
[90,90,{"$error":"#REF!"},{"$error":"#REF!"},{"$f":"IF(ISERROR(MATCH(D93,#REF!,0))=FALSE,\"C\",IF(ISERROR(MATCH(D93,#REF!,0))=FALSE,\"D\",\"\"))","v":""},{"$f":"IF(E93=\"C\",0,IF(E93 =\"D\",ROUND(1/((1+#REF!)^A93),9) * 2,ROUND(1/((1+#REF!)^A93),9)))","v":{"$error":"#REF!"}},{"$error":"#REF!"}]
[91,91,{"$error":"#REF!"},{"$error":"#REF!"},{"$f":"IF(ISERROR(MATCH(D94,#REF!,0))=FALSE,\"C\",IF(ISERROR(MATCH(D94,#REF!,0))=FALSE,\"D\",\"\"))","v":""},{"$f":"IF(E94=\"C\",0,IF(E94 =\"D\",ROUND(1/((1+#REF!)^A94),9) * 2,ROUND(1/((1+#REF!)^A94),9)))","v":{"$error":"#REF!"}},{"$error":"#REF!"}]
[92,92,{"$error":"#REF!"},{"$error":"#REF!"},{"$f":"IF(ISERROR(MATCH(D95,#REF!,0))=FALSE,\"C\",IF(ISERROR(MATCH(D95,#REF!,0))=FALSE,\"D\",\"\"))","v":""},{"$f":"IF(E95=\"C\",0,IF(E95 =\"D\",ROUND(1/((1+#REF!)^A95),9) * 2,ROUND(1/((1+#REF!)^A95),9)))","v":{"$error":"#REF!"}},{"$error":"#REF!"}]
[93,93,{"$error":"#REF!"},{"$error":"#REF!"},{"$f":"IF(ISERROR(MATCH(D96,#REF!,0))=FALSE,\"C\",IF(ISERROR(MATCH(D96,#REF!,0))=FALSE,\"D\",\"\"))","v":""},{"$f":"IF(E96=\"C\",0,IF(E96 =\"D\",ROUND(1/((1+#REF!)^A96),9) * 2,ROUND(1/((1+#REF!)^A96),9)))","v":{"$error":"#REF!"}},{"$error":"#REF!"}]
[94,94,{"$error":"#REF!"},{"$error":"#REF!"},{"$f":"IF(ISERROR(MATCH(D97,#REF!,0))=FALSE,\"C\",IF(ISERROR(MATCH(D97,#REF!,0))=FALSE,\"D\",\"\"))","v":""},{"$f":"IF(E97=\"C\",0,IF(E97 =\"D\",ROUND(1/((1+#REF!)^A97),9) * 2,ROUND(1/((1+#REF!)^A97),9)))","v":{"$error":"#REF!"}},{"$error":"#REF!"}]
[95,95,{"$error":"#REF!"},{"$error":"#REF!"},{"$f":"IF(ISERROR(MATCH(D98,#REF!,0))=FALSE,\"C\",IF(ISERROR(MATCH(D98,#REF!,0))=FALSE,\"D\",\"\"))","v":""},{"$f":"IF(E98=\"C\",0,IF(E98 =\"D\",ROUND(1/((1+#REF!)^A98),9) * 2,ROUND(1/((1+#REF!)^A98),9)))","v":{"$error":"#REF!"}},{"$error":"#REF!"}]
[96,96,{"$error":"#REF!"},{"$error":"#REF!"},{"$f":"IF(ISERROR(MATCH(D99,#REF!,0))=FALSE,\"C\",IF(ISERROR(MATCH(D99,#REF!,0))=FALSE,\"D\",\"\"))","v":""},{"$f":"IF(E99=\"C\",0,IF(E99 =\"D\",ROUND(1/((1+#REF!)^A99),9) * 2,ROUND(1/((1+#REF!)^A99),9)))","v":{"$error":"#REF!"}},{"$error":"#REF!"}]
[97,{"$f":"IF(E100<>\"C\",IF(ISERROR(1+B99)=TRUE,1,1+B99),IF(ISNUMBER(B99),B99,1))","v":97},{"$error":"#REF!"},{"$f":"MONTH(C100)","v":{"$error":"#REF!"}},{"$f":"IF(ISERROR(MATCH(D100,#REF!,0))=FALSE,\"C\",IF(ISERROR(MATCH(D100,#REF!,0))=FALSE,\"D\",\"\"))","v":""},{"$f":"IF(E100=\"C\",0,IF(E100 =\"D\",ROUND(1/((1+#REF!)^A100),9) * 2,ROUND(1/((1+#REF!)^A100),9)))","v":{"$error":"#REF!"}},{"$f":"G99+ROUND(F100,9)","v":{"$error":"#REF!"}}]
[98,98,{"$error":"#REF!"},{"$error":"#REF!"},{"$f":"IF(ISERROR(MATCH(D101,#REF!,0))=FALSE,\"C\",IF(ISERROR(MATCH(D101,#REF!,0))=FALSE,\"D\",\"\"))","v":""},{"$f":"IF(E101=\"C\",0,IF(E101 =\"D\",ROUND(1/((1+#REF!)^A101),9) * 2,ROUND(1/((1+#REF!)^A101),9)))","v":{"$error":"#REF!"}},{"$error":"#REF!"}]
[99,99,{"$error":"#REF!"},{"$error":"#REF!"},{"$f":"IF(ISERROR(MATCH(D102,#REF!,0))=FALSE,\"C\",IF(ISERROR(MATCH(D102,#REF!,0))=FALSE,\"D\",\"\"))","v":""},{"$f":"IF(E102=\"C\",0,IF(E102 =\"D\",ROUND(1/((1+#REF!)^A102),9) * 2,ROUND(1/((1+#REF!)^A102),9)))","v":{"$error":"#REF!"}},{"$error":"#REF!"}]
[100,100,{"$error":"#REF!"},{"$error":"#REF!"},{"$f":"IF(ISERROR(MATCH(D103,#REF!,0))=FALSE,\"C\",IF(ISERROR(MATCH(D103,#REF!,0))=FALSE,\"D\",\"\"))","v":""},{"$f":"IF(E103=\"C\",0,IF(E103 =\"D\",ROUND(1/((1+#REF!)^A103),9) * 2,ROUND(1/((1+#REF!)^A103),9)))","v":{"$error":"#REF!"}},{"$error":"#REF!"}]
[101,101,{"$error":"#REF!"},{"$error":"#REF!"},{"$f":"IF(ISERROR(MATCH(D104,#REF!,0))=FALSE,\"C\",IF(ISERROR(MATCH(D104,#REF!,0))=FALSE,\"D\",\"\"))","v":""},{"$f":"IF(E104=\"C\",0,IF(E104 =\"D\",ROUND(1/((1+#REF!)^A104),9) * 2,ROUND(1/((1+#REF!)^A104),9)))","v":{"$error":"#REF!"}},{"$error":"#REF!"}]
[102,102,{"$error":"#REF!"},{"$error":"#REF!"},{"$f":"IF(ISERROR(MATCH(D105,#REF!,0))=FALSE,\"C\",IF(ISERROR(MATCH(D105,#REF!,0))=FALSE,\"D\",\"\"))","v":""},{"$f":"IF(E105=\"C\",0,IF(E105 =\"D\",ROUND(1/((1+#REF!)^A105),9) * 2,ROUND(1/((1+#REF!)^A105),9)))","v":{"$error":"#REF!"}},{"$error":"#REF!"}]
[103,103,{"$error":"#REF!"},{"$error":"#REF!"},{"$f":"IF(ISERROR(MATCH(D106,#REF!,0))=FALSE,\"C\",IF(ISERROR(MATCH(D106,#REF!,0))=FALSE,\"D\",\"\"))","v":""},{"$f":"IF(E106=\"C\",0,IF(E106 =\"D\",ROUND(1/((1+#REF!)^A106),9) * 2,ROUND(1/((1+#REF!)^A106),9)))","v":{"$error":"#REF!"}},{"$error":"#REF!"}]
[104,104,{"$error":"#REF!"},{"$error":"#REF!"},{"$f":"IF(ISERROR(MATCH(D107,#REF!,0))=FALSE,\"C\",IF(ISERROR(MATCH(D107,#REF!,0))=FALSE,\"D\",\"\"))","v":""},{"$f":"IF(E107=\"C\",0,IF(E107 =\"D\",ROUND(1/((1+#REF!)^A107),9) * 2,ROUND(1/((1+#REF!)^A107),9)))","v":{"$error":"#REF!"}},{"$error":"#REF!"}]
[105,105,{"$error":"#REF!"},{"$error":"#REF!"},{"$f":"IF(ISERROR(MATCH(D108,#REF!,0))=FALSE,\"C\",IF(ISERROR(MATCH(D108,#REF!,0))=FALSE,\"D\",\"\"))","v":""},{"$f":"IF(E108=\"C\",0,IF(E108 =\"D\",ROUND(1/((1+#REF!)^A108),9) * 2,ROUND(1/((1+#REF!)^A108),9)))","v":{"$error":"#REF!"}},{"$error":"#REF!"}]
[106,106,{"$error":"#REF!"},{"$error":"#REF!"},{"$f":"IF(ISERROR(MATCH(D109,#REF!,0))=FALSE,\"C\",IF(ISERROR(MATCH(D109,#REF!,0))=FALSE,\"D\",\"\"))","v":""},{"$f":"IF(E109=\"C\",0,IF(E109 =\"D\",ROUND(1/((1+#REF!)^A109),9) * 2,ROUND(1/((1+#REF!)^A109),9)))","v":{"$error":"#REF!"}},{"$error":"#REF!"}]
[107,107,{"$error":"#REF!"},{"$error":"#REF!"},{"$f":"IF(ISERROR(MATCH(D110,#REF!,0))=FALSE,\"C\",IF(ISERROR(MATCH(D110,#REF!,0))=FALSE,\"D\",\"\"))","v":""},{"$f":"IF(E110=\"C\",0,IF(E110 =\"D\",ROUND(1/((1+#REF!)^A110),9) * 2,ROUND(1/((1+#REF!)^A110),9)))","v":{"$error":"#REF!"}},{"$error":"#REF!"}]
[108,108,{"$error":"#REF!"},{"$error":"#REF!"},{"$f":"IF(ISERROR(MATCH(D111,#REF!,0))=FALSE,\"C\",IF(ISERROR(MATCH(D111,#REF!,0))=FALSE,\"D\",\"\"))","v":""},{"$f":"IF(E111=\"C\",0,IF(E111 =\"D\",ROUND(1/((1+#REF!)^A111),9) * 2,ROUND(1/((1+#REF!)^A111),9)))","v":{"$error":"#REF!"}},{"$error":"#REF!"}]
[109,109,{"$error":"#REF!"},{"$error":"#REF!"},{"$f":"IF(ISERROR(MATCH(D112,#REF!,0))=FALSE,\"C\",IF(ISERROR(MATCH(D112,#REF!,0))=FALSE,\"D\",\"\"))","v":""},{"$f":"IF(E112=\"C\",0,IF(E112 =\"D\",ROUND(1/((1+#REF!)^A112),9) * 2,ROUND(1/((1+#REF!)^A112),9)))","v":{"$error":"#REF!"}},{"$error":"#REF!"}]
[110,110,{"$error":"#REF!"},{"$error":"#REF!"},{"$f":"IF(ISERROR(MATCH(D113,#REF!,0))=FALSE,\"C\",IF(ISERROR(MATCH(D113,#REF!,0))=FALSE,\"D\",\"\"))","v":""},{"$f":"IF(E113=\"C\",0,IF(E113 =\"D\",ROUND(1/((1+#REF!)^A113),9) * 2,ROUND(1/((1+#REF!)^A113),9)))","v":{"$error":"#REF!"}},{"$error":"#REF!"}]
[111,111,{"$error":"#REF!"},{"$error":"#REF!"},{"$f":"IF(ISERROR(MATCH(D114,#REF!,0))=FALSE,\"C\",IF(ISERROR(MATCH(D114,#REF!,0))=FALSE,\"D\",\"\"))","v":""},{"$f":"IF(E114=\"C\",0,IF(E114 =\"D\",ROUND(1/((1+#REF!)^A114),9) * 2,ROUND(1/((1+#REF!)^A114),9)))","v":{"$error":"#REF!"}},{"$error":"#REF!"}]
[112,112,{"$error":"#REF!"},{"$error":"#REF!"},{"$f":"IF(ISERROR(MATCH(D115,#REF!,0))=FALSE,\"C\",IF(ISERROR(MATCH(D115,#REF!,0))=FALSE,\"D\",\"\"))","v":""},{"$f":"IF(E115=\"C\",0,IF(E115 =\"D\",ROUND(1/((1+#REF!)^A115),9) * 2,ROUND(1/((1+#REF!)^A115),9)))","v":{"$error":"#REF!"}},{"$error":"#REF!"}]
[113,113,{"$error":"#REF!"},{"$error":"#REF!"},{"$f":"IF(ISERROR(MATCH(D116,#REF!,0))=FALSE,\"C\",IF(ISERROR(MATCH(D116,#REF!,0))=FALSE,\"D\",\"\"))","v":""},{"$f":"IF(E116=\"C\",0,IF(E116 =\"D\",ROUND(1/((1+#REF!)^A116),9) * 2,ROUND(1/((1+#REF!)^A116),9)))","v":{"$error":"#REF!"}},{"$error":"#REF!"}]
[114,114,{"$error":"#REF!"},{"$error":"#REF!"},{"$f":"IF(ISERROR(MATCH(D117,#REF!,0))=FALSE,\"C\",IF(ISERROR(MATCH(D117,#REF!,0))=FALSE,\"D\",\"\"))","v":""},{"$f":"IF(E117=\"C\",0,IF(E117 =\"D\",ROUND(1/((1+#REF!)^A117),9) * 2,ROUND(1/((1+#REF!)^A117),9)))","v":{"$error":"#REF!"}},{"$error":"#REF!"}]
[115,115,{"$error":"#REF!"},{"$error":"#REF!"},{"$f":"IF(ISERROR(MATCH(D118,#REF!,0))=FALSE,\"C\",IF(ISERROR(MATCH(D118,#REF!,0))=FALSE,\"D\",\"\"))","v":""},{"$f":"IF(E118=\"C\",0,IF(E118 =\"D\",ROUND(1/((1+#REF!)^A118),9) * 2,ROUND(1/((1+#REF!)^A118),9)))","v":{"$error":"#REF!"}},{"$error":"#REF!"}]
[116,116,{"$error":"#REF!"},{"$error":"#REF!"},{"$f":"IF(ISERROR(MATCH(D119,#REF!,0))=FALSE,\"C\",IF(ISERROR(MATCH(D119,#REF!,0))=FALSE,\"D\",\"\"))","v":""},{"$f":"IF(E119=\"C\",0,IF(E119 =\"D\",ROUND(1/((1+#REF!)^A119),9) * 2,ROUND(1/((1+#REF!)^A119),9)))","v":{"$error":"#REF!"}},{"$error":"#REF!"}]
[117,117,{"$error":"#REF!"},{"$error":"#REF!"},{"$f":"IF(ISERROR(MATCH(D120,#REF!,0))=FALSE,\"C\",IF(ISERROR(MATCH(D120,#REF!,0))=FALSE,\"D\",\"\"))","v":""},{"$f":"IF(E120=\"C\",0,IF(E120 =\"D\",ROUND(1/((1+#REF!)^A120),9) * 2,ROUND(1/((1+#REF!)^A120),9)))","v":{"$error":"#REF!"}},{"$error":"#REF!"}]
[118,118,{"$error":"#REF!"},{"$error":"#REF!"},{"$f":"IF(ISERROR(MATCH(D121,#REF!,0))=FALSE,\"C\",IF(ISERROR(MATCH(D121,#REF!,0))=FALSE,\"D\",\"\"))","v":""},{"$f":"IF(E121=\"C\",0,IF(E121 =\"D\",ROUND(1/((1+#REF!)^A121),9) * 2,ROUND(1/((1+#REF!)^A121),9)))","v":{"$error":"#REF!"}},{"$error":"#REF!"}]
[119,119,{"$error":"#REF!"},{"$error":"#REF!"},{"$f":"IF(ISERROR(MATCH(D122,#REF!,0))=FALSE,\"C\",IF(ISERROR(MATCH(D122,#REF!,0))=FALSE,\"D\",\"\"))","v":""},{"$f":"IF(E122=\"C\",0,IF(E122 =\"D\",ROUND(1/((1+#REF!)^A122),9) * 2,ROUND(1/((1+#REF!)^A122),9)))","v":{"$error":"#REF!"}},{"$error":"#REF!"}]
[120,120,{"$error":"#REF!"},{"$error":"#REF!"},{"$f":"IF(ISERROR(MATCH(D123,#REF!,0))=FALSE,\"C\",IF(ISERROR(MATCH(D123,#REF!,0))=FALSE,\"D\",\"\"))","v":""},{"$f":"IF(E123=\"C\",0,IF(E123 =\"D\",ROUND(1/((1+#REF!)^A123),9) * 2,ROUND(1/((1+#REF!)^A123),9)))","v":{"$error":"#REF!"}},{"$error":"#REF!"}]
[121,121,{"$error":"#REF!"},{"$error":"#REF!"},{"$f":"IF(ISERROR(MATCH(D124,#REF!,0))=FALSE,\"C\",IF(ISERROR(MATCH(D124,#REF!,0))=FALSE,\"D\",\"\"))","v":""},{"$f":"IF(E124=\"C\",0,IF(E124 =\"D\",ROUND(1/((1+#REF!)^A124),9) * 2,ROUND(1/((1+#REF!)^A124),9)))","v":{"$error":"#REF!"}},{"$error":"#REF!"}]
[122,122,{"$error":"#REF!"},{"$error":"#REF!"},{"$f":"IF(ISERROR(MATCH(D125,#REF!,0))=FALSE,\"C\",IF(ISERROR(MATCH(D125,#REF!,0))=FALSE,\"D\",\"\"))","v":""},{"$f":"IF(E125=\"C\",0,IF(E125 =\"D\",ROUND(1/((1+#REF!)^A125),9) * 2,ROUND(1/((1+#REF!)^A125),9)))","v":{"$error":"#REF!"}},{"$error":"#REF!"}]
[123,123,{"$error":"#REF!"},{"$error":"#REF!"},{"$f":"IF(ISERROR(MATCH(D126,#REF!,0))=FALSE,\"C\",IF(ISERROR(MATCH(D126,#REF!,0))=FALSE,\"D\",\"\"))","v":""},{"$f":"IF(E126=\"C\",0,IF(E126 =\"D\",ROUND(1/((1+#REF!)^A126),9) * 2,ROUND(1/((1+#REF!)^A126),9)))","v":{"$error":"#REF!"}},{"$error":"#REF!"}]
[124,124,{"$error":"#REF!"},{"$error":"#REF!"},{"$f":"IF(ISERROR(MATCH(D127,#REF!,0))=FALSE,\"C\",IF(ISERROR(MATCH(D127,#REF!,0))=FALSE,\"D\",\"\"))","v":""},{"$f":"IF(E127=\"C\",0,IF(E127 =\"D\",ROUND(1/((1+#REF!)^A127),9) * 2,ROUND(1/((1+#REF!)^A127),9)))","v":{"$error":"#REF!"}},{"$error":"#REF!"}]
[125,125,{"$error":"#REF!"},{"$error":"#REF!"},{"$f":"IF(ISERROR(MATCH(D128,#REF!,0))=FALSE,\"C\",IF(ISERROR(MATCH(D128,#REF!,0))=FALSE,\"D\",\"\"))","v":""},{"$f":"IF(E128=\"C\",0,IF(E128 =\"D\",ROUND(1/((1+#REF!)^A128),9) * 2,ROUND(1/((1+#REF!)^A128),9)))","v":{"$error":"#REF!"}},{"$error":"#REF!"}]
[126,126,{"$error":"#REF!"},{"$error":"#REF!"},{"$f":"IF(ISERROR(MATCH(D129,#REF!,0))=FALSE,\"C\",IF(ISERROR(MATCH(D129,#REF!,0))=FALSE,\"D\",\"\"))","v":""},{"$f":"IF(E129=\"C\",0,IF(E129 =\"D\",ROUND(1/((1+#REF!)^A129),9) * 2,ROUND(1/((1+#REF!)^A129),9)))","v":{"$error":"#REF!"}},{"$error":"#REF!"}]
[127,127,{"$error":"#REF!"},{"$error":"#REF!"},{"$f":"IF(ISERROR(MATCH(D130,#REF!,0))=FALSE,\"C\",IF(ISERROR(MATCH(D130,#REF!,0))=FALSE,\"D\",\"\"))","v":""},{"$f":"IF(E130=\"C\",0,IF(E130 =\"D\",ROUND(1/((1+#REF!)^A130),9) * 2,ROUND(1/((1+#REF!)^A130),9)))","v":{"$error":"#REF!"}},{"$error":"#REF!"}]
[128,128,{"$error":"#REF!"},{"$error":"#REF!"},{"$f":"IF(ISERROR(MATCH(D131,#REF!,0))=FALSE,\"C\",IF(ISERROR(MATCH(D131,#REF!,0))=FALSE,\"D\",\"\"))","v":""},{"$f":"IF(E131=\"C\",0,IF(E131 =\"D\",ROUND(1/((1+#REF!)^A131),9) * 2,ROUND(1/((1+#REF!)^A131),9)))","v":{"$error":"#REF!"}},{"$error":"#REF!"}]
[129,129,{"$error":"#REF!"},{"$error":"#REF!"},{"$f":"IF(ISERROR(MATCH(D132,#REF!,0))=FALSE,\"C\",IF(ISERROR(MATCH(D132,#REF!,0))=FALSE,\"D\",\"\"))","v":""},{"$f":"IF(E132=\"C\",0,IF(E132 =\"D\",ROUND(1/((1+#REF!)^A132),9) * 2,ROUND(1/((1+#REF!)^A132),9)))","v":{"$error":"#REF!"}},{"$error":"#REF!"}]
[{"$f":"A132+1","v":130},130,{"$f":"DATE(YEAR(C132) + 1/12,MONTH(C132)+1,DAY(C132))","v":{"$error":"#REF!"}},{"$error":"#REF!"},{"$f":"IF(ISERROR(MATCH(D133,#REF!,0))=FALSE,\"C\",IF(ISERROR(MATCH(D133,#REF!,0))=FALSE,\"D\",\"\"))","v":""},{"$f":"IF(E133=\"C\",0,IF(E133 =\"D\",ROUND(1/((1+#REF!)^A133),9) * 2,ROUND(1/((1+#REF!)^A133),9)))","v":{"$error":"#REF!"}},{"$error":"#REF!"}]
[131,131,{"$error":"#REF!"},{"$error":"#REF!"},{"$f":"IF(ISERROR(MATCH(D134,#REF!,0))=FALSE,\"C\",IF(ISERROR(MATCH(D134,#REF!,0))=FALSE,\"D\",\"\"))","v":""},{"$f":"IF(E134=\"C\",0,IF(E134 =\"D\",ROUND(1/((1+#REF!)^A134),9) * 2,ROUND(1/((1+#REF!)^A134),9)))","v":{"$error":"#REF!"}},{"$error":"#REF!"}]
[132,132,{"$error":"#REF!"},{"$error":"#REF!"},{"$f":"IF(ISERROR(MATCH(D135,#REF!,0))=FALSE,\"C\",IF(ISERROR(MATCH(D135,#REF!,0))=FALSE,\"D\",\"\"))","v":""},{"$f":"IF(E135=\"C\",0,IF(E135 =\"D\",ROUND(1/((1+#REF!)^A135),9) * 2,ROUND(1/((1+#REF!)^A135),9)))","v":{"$error":"#REF!"}},{"$error":"#REF!"}]
[133,133,{"$error":"#REF!"},{"$error":"#REF!"},{"$f":"IF(ISERROR(MATCH(D136,#REF!,0))=FALSE,\"C\",IF(ISERROR(MATCH(D136,#REF!,0))=FALSE,\"D\",\"\"))","v":""},{"$f":"IF(E136=\"C\",0,IF(E136 =\"D\",ROUND(1/((1+#REF!)^A136),9) * 2,ROUND(1/((1+#REF!)^A136),9)))","v":{"$error":"#REF!"}},{"$error":"#REF!"}]
[134,134,{"$error":"#REF!"},{"$error":"#REF!"},{"$f":"IF(ISERROR(MATCH(D137,#REF!,0))=FALSE,\"C\",IF(ISERROR(MATCH(D137,#REF!,0))=FALSE,\"D\",\"\"))","v":""},{"$f":"IF(E137=\"C\",0,IF(E137 =\"D\",ROUND(1/((1+#REF!)^A137),9) * 2,ROUND(1/((1+#REF!)^A137),9)))","v":{"$error":"#REF!"}},{"$error":"#REF!"}]
[135,135,{"$error":"#REF!"},{"$error":"#REF!"},{"$f":"IF(ISERROR(MATCH(D138,#REF!,0))=FALSE,\"C\",IF(ISERROR(MATCH(D138,#REF!,0))=FALSE,\"D\",\"\"))","v":""},{"$f":"IF(E138=\"C\",0,IF(E138 =\"D\",ROUND(1/((1+#REF!)^A138),9) * 2,ROUND(1/((1+#REF!)^A138),9)))","v":{"$error":"#REF!"}},{"$error":"#REF!"}]
[136,136,{"$error":"#REF!"},{"$error":"#REF!"},{"$f":"IF(ISERROR(MATCH(D139,#REF!,0))=FALSE,\"C\",IF(ISERROR(MATCH(D139,#REF!,0))=FALSE,\"D\",\"\"))","v":""},{"$f":"IF(E139=\"C\",0,IF(E139 =\"D\",ROUND(1/((1+#REF!)^A139),9) * 2,ROUND(1/((1+#REF!)^A139),9)))","v":{"$error":"#REF!"}},{"$error":"#REF!"}]
[137,137,{"$error":"#REF!"},{"$error":"#REF!"},{"$f":"IF(ISERROR(MATCH(D140,#REF!,0))=FALSE,\"C\",IF(ISERROR(MATCH(D140,#REF!,0))=FALSE,\"D\",\"\"))","v":""},{"$f":"IF(E140=\"C\",0,IF(E140 =\"D\",ROUND(1/((1+#REF!)^A140),9) * 2,ROUND(1/((1+#REF!)^A140),9)))","v":{"$error":"#REF!"}},{"$error":"#REF!"}]
[138,138,{"$error":"#REF!"},{"$error":"#REF!"},{"$f":"IF(ISERROR(MATCH(D141,#REF!,0))=FALSE,\"C\",IF(ISERROR(MATCH(D141,#REF!,0))=FALSE,\"D\",\"\"))","v":""},{"$f":"IF(E141=\"C\",0,IF(E141 =\"D\",ROUND(1/((1+#REF!)^A141),9) * 2,ROUND(1/((1+#REF!)^A141),9)))","v":{"$error":"#REF!"}},{"$error":"#REF!"}]
[139,139,{"$error":"#REF!"},{"$error":"#REF!"},{"$f":"IF(ISERROR(MATCH(D142,#REF!,0))=FALSE,\"C\",IF(ISERROR(MATCH(D142,#REF!,0))=FALSE,\"D\",\"\"))","v":""},{"$f":"IF(E142=\"C\",0,IF(E142 =\"D\",ROUND(1/((1+#REF!)^A142),9) * 2,ROUND(1/((1+#REF!)^A142),9)))","v":{"$error":"#REF!"}},{"$error":"#REF!"}]
[140,140,{"$error":"#REF!"},{"$error":"#REF!"},{"$f":"IF(ISERROR(MATCH(D143,#REF!,0))=FALSE,\"C\",IF(ISERROR(MATCH(D143,#REF!,0))=FALSE,\"D\",\"\"))","v":""},{"$f":"IF(E143=\"C\",0,IF(E143 =\"D\",ROUND(1/((1+#REF!)^A143),9) * 2,ROUND(1/((1+#REF!)^A143),9)))","v":{"$error":"#REF!"}},{"$error":"#REF!"}]
[141,141,{"$error":"#REF!"},{"$error":"#REF!"},{"$f":"IF(ISERROR(MATCH(D144,#REF!,0))=FALSE,\"C\",IF(ISERROR(MATCH(D144,#REF!,0))=FALSE,\"D\",\"\"))","v":""},{"$f":"IF(E144=\"C\",0,IF(E144 =\"D\",ROUND(1/((1+#REF!)^A144),9) * 2,ROUND(1/((1+#REF!)^A144),9)))","v":{"$error":"#REF!"}},{"$error":"#REF!"}]
[142,142,{"$error":"#REF!"},{"$error":"#REF!"},{"$f":"IF(ISERROR(MATCH(D145,#REF!,0))=FALSE,\"C\",IF(ISERROR(MATCH(D145,#REF!,0))=FALSE,\"D\",\"\"))","v":""},{"$f":"IF(E145=\"C\",0,IF(E145 =\"D\",ROUND(1/((1+#REF!)^A145),9) * 2,ROUND(1/((1+#REF!)^A145),9)))","v":{"$error":"#REF!"}},{"$error":"#REF!"}]
[143,143,{"$error":"#REF!"},{"$error":"#REF!"},{"$f":"IF(ISERROR(MATCH(D146,#REF!,0))=FALSE,\"C\",IF(ISERROR(MATCH(D146,#REF!,0))=FALSE,\"D\",\"\"))","v":""},{"$f":"IF(E146=\"C\",0,IF(E146 =\"D\",ROUND(1/((1+#REF!)^A146),9) * 2,ROUND(1/((1+#REF!)^A146),9)))","v":{"$error":"#REF!"}},{"$error":"#REF!"}]
[144,144,{"$error":"#REF!"},{"$error":"#REF!"},{"$f":"IF(ISERROR(MATCH(D147,#REF!,0))=FALSE,\"C\",IF(ISERROR(MATCH(D147,#REF!,0))=FALSE,\"D\",\"\"))","v":""},{"$f":"IF(E147=\"C\",0,IF(E147 =\"D\",ROUND(1/((1+#REF!)^A147),9) * 2,ROUND(1/((1+#REF!)^A147),9)))","v":{"$error":"#REF!"}},{"$error":"#REF!"}]
[145,145,{"$error":"#REF!"},{"$error":"#REF!"},{"$f":"IF(ISERROR(MATCH(D148,#REF!,0))=FALSE,\"C\",IF(ISERROR(MATCH(D148,#REF!,0))=FALSE,\"D\",\"\"))","v":""},{"$f":"IF(E148=\"C\",0,IF(E148 =\"D\",ROUND(1/((1+#REF!)^A148),9) * 2,ROUND(1/((1+#REF!)^A148),9)))","v":{"$error":"#REF!"}},{"$error":"#REF!"}]
[146,146,{"$error":"#REF!"},{"$error":"#REF!"},{"$f":"IF(ISERROR(MATCH(D149,#REF!,0))=FALSE,\"C\",IF(ISERROR(MATCH(D149,#REF!,0))=FALSE,\"D\",\"\"))","v":""},{"$f":"IF(E149=\"C\",0,IF(E149 =\"D\",ROUND(1/((1+#REF!)^A149),9) * 2,ROUND(1/((1+#REF!)^A149),9)))","v":{"$error":"#REF!"}},{"$error":"#REF!"}]
[147,147,{"$error":"#REF!"},{"$error":"#REF!"},{"$f":"IF(ISERROR(MATCH(D150,#REF!,0))=FALSE,\"C\",IF(ISERROR(MATCH(D150,#REF!,0))=FALSE,\"D\",\"\"))","v":""},{"$f":"IF(E150=\"C\",0,IF(E150 =\"D\",ROUND(1/((1+#REF!)^A150),9) * 2,ROUND(1/((1+#REF!)^A150),9)))","v":{"$error":"#REF!"}},{"$error":"#REF!"}]
[148,148,{"$error":"#REF!"},{"$error":"#REF!"},{"$f":"IF(ISERROR(MATCH(D151,#REF!,0))=FALSE,\"C\",IF(ISERROR(MATCH(D151,#REF!,0))=FALSE,\"D\",\"\"))","v":""},{"$f":"IF(E151=\"C\",0,IF(E151 =\"D\",ROUND(1/((1+#REF!)^A151),9) * 2,ROUND(1/((1+#REF!)^A151),9)))","v":{"$error":"#REF!"}},{"$error":"#REF!"}]
[149,149,{"$error":"#REF!"},{"$error":"#REF!"},{"$f":"IF(ISERROR(MATCH(D152,#REF!,0))=FALSE,\"C\",IF(ISERROR(MATCH(D152,#REF!,0))=FALSE,\"D\",\"\"))","v":""},{"$f":"IF(E152=\"C\",0,IF(E152 =\"D\",ROUND(1/((1+#REF!)^A152),9) * 2,ROUND(1/((1+#REF!)^A152),9)))","v":{"$error":"#REF!"}},{"$error":"#REF!"}]
[150,150,{"$error":"#REF!"},{"$error":"#REF!"},{"$f":"IF(ISERROR(MATCH(D153,#REF!,0))=FALSE,\"C\",IF(ISERROR(MATCH(D153,#REF!,0))=FALSE,\"D\",\"\"))","v":""},{"$f":"IF(E153=\"C\",0,IF(E153 =\"D\",ROUND(1/((1+#REF!)^A153),9) * 2,ROUND(1/((1+#REF!)^A153),9)))","v":{"$error":"#REF!"}},{"$error":"#REF!"}]
[151,151,{"$error":"#REF!"},{"$error":"#REF!"},{"$f":"IF(ISERROR(MATCH(D154,#REF!,0))=FALSE,\"C\",IF(ISERROR(MATCH(D154,#REF!,0))=FALSE,\"D\",\"\"))","v":""},{"$f":"IF(E154=\"C\",0,IF(E154 =\"D\",ROUND(1/((1+#REF!)^A154),9) * 2,ROUND(1/((1+#REF!)^A154),9)))","v":{"$error":"#REF!"}},{"$error":"#REF!"}]
[152,152,{"$error":"#REF!"},{"$error":"#REF!"},{"$f":"IF(ISERROR(MATCH(D155,#REF!,0))=FALSE,\"C\",IF(ISERROR(MATCH(D155,#REF!,0))=FALSE,\"D\",\"\"))","v":""},{"$f":"IF(E155=\"C\",0,IF(E155 =\"D\",ROUND(1/((1+#REF!)^A155),9) * 2,ROUND(1/((1+#REF!)^A155),9)))","v":{"$error":"#REF!"}},{"$error":"#REF!"}]
[153,153,{"$error":"#REF!"},{"$error":"#REF!"},{"$f":"IF(ISERROR(MATCH(D156,#REF!,0))=FALSE,\"C\",IF(ISERROR(MATCH(D156,#REF!,0))=FALSE,\"D\",\"\"))","v":""},{"$f":"IF(E156=\"C\",0,IF(E156 =\"D\",ROUND(1/((1+#REF!)^A156),9) * 2,ROUND(1/((1+#REF!)^A156),9)))","v":{"$error":"#REF!"}},{"$error":"#REF!"}]
[154,154,{"$error":"#REF!"},{"$error":"#REF!"},{"$f":"IF(ISERROR(MATCH(D157,#REF!,0))=FALSE,\"C\",IF(ISERROR(MATCH(D157,#REF!,0))=FALSE,\"D\",\"\"))","v":""},{"$f":"IF(E157=\"C\",0,IF(E157 =\"D\",ROUND(1/((1+#REF!)^A157),9) * 2,ROUND(1/((1+#REF!)^A157),9)))","v":{"$error":"#REF!"}},{"$error":"#REF!"}]
[155,155,{"$error":"#REF!"},{"$error":"#REF!"},{"$f":"IF(ISERROR(MATCH(D158,#REF!,0))=FALSE,\"C\",IF(ISERROR(MATCH(D158,#REF!,0))=FALSE,\"D\",\"\"))","v":""},{"$f":"IF(E158=\"C\",0,IF(E158 =\"D\",ROUND(1/((1+#REF!)^A158),9) * 2,ROUND(1/((1+#REF!)^A158),9)))","v":{"$error":"#REF!"}},{"$error":"#REF!"}]
[156,156,{"$error":"#REF!"},{"$error":"#REF!"},{"$f":"IF(ISERROR(MATCH(D159,#REF!,0))=FALSE,\"C\",IF(ISERROR(MATCH(D159,#REF!,0))=FALSE,\"D\",\"\"))","v":""},{"$f":"IF(E159=\"C\",0,IF(E159 =\"D\",ROUND(1/((1+#REF!)^A159),9) * 2,ROUND(1/((1+#REF!)^A159),9)))","v":{"$error":"#REF!"}},{"$error":"#REF!"}]
[157,157,{"$error":"#REF!"},{"$error":"#REF!"},{"$f":"IF(ISERROR(MATCH(D160,#REF!,0))=FALSE,\"C\",IF(ISERROR(MATCH(D160,#REF!,0))=FALSE,\"D\",\"\"))","v":""},{"$f":"IF(E160=\"C\",0,IF(E160 =\"D\",ROUND(1/((1+#REF!)^A160),9) * 2,ROUND(1/((1+#REF!)^A160),9)))","v":{"$error":"#REF!"}},{"$error":"#REF!"}]
[158,158,{"$error":"#REF!"},{"$error":"#REF!"},{"$f":"IF(ISERROR(MATCH(D161,#REF!,0))=FALSE,\"C\",IF(ISERROR(MATCH(D161,#REF!,0))=FALSE,\"D\",\"\"))","v":""},{"$f":"IF(E161=\"C\",0,IF(E161 =\"D\",ROUND(1/((1+#REF!)^A161),9) * 2,ROUND(1/((1+#REF!)^A161),9)))","v":{"$error":"#REF!"}},{"$error":"#REF!"}]
[159,159,{"$error":"#REF!"},{"$error":"#REF!"},{"$f":"IF(ISERROR(MATCH(D162,#REF!,0))=FALSE,\"C\",IF(ISERROR(MATCH(D162,#REF!,0))=FALSE,\"D\",\"\"))","v":""},{"$f":"IF(E162=\"C\",0,IF(E162 =\"D\",ROUND(1/((1+#REF!)^A162),9) * 2,ROUND(1/((1+#REF!)^A162),9)))","v":{"$error":"#REF!"}},{"$error":"#REF!"}]
[160,160,{"$error":"#REF!"},{"$error":"#REF!"},{"$f":"IF(ISERROR(MATCH(D163,#REF!,0))=FALSE,\"C\",IF(ISERROR(MATCH(D163,#REF!,0))=FALSE,\"D\",\"\"))","v":""},{"$f":"IF(E163=\"C\",0,IF(E163 =\"D\",ROUND(1/((1+#REF!)^A163),9) * 2,ROUND(1/((1+#REF!)^A163),9)))","v":{"$error":"#REF!"}},{"$error":"#REF!"}]
[161,{"$f":"IF(E164<>\"C\",IF(ISERROR(1+B163)=TRUE,1,1+B163),IF(ISNUMBER(B163),B163,1))","v":161},{"$error":"#REF!"},{"$f":"MONTH(C164)","v":{"$error":"#REF!"}},{"$f":"IF(ISERROR(MATCH(D164,#REF!,0))=FALSE,\"C\",IF(ISERROR(MATCH(D164,#REF!,0))=FALSE,\"D\",\"\"))","v":""},{"$f":"IF(E164=\"C\",0,IF(E164 =\"D\",ROUND(1/((1+#REF!)^A164),9) * 2,ROUND(1/((1+#REF!)^A164),9)))","v":{"$error":"#REF!"}},{"$f":"G163+ROUND(F164,9)","v":{"$error":"#REF!"}}]
[162,162,{"$error":"#REF!"},{"$error":"#REF!"},{"$f":"IF(ISERROR(MATCH(D165,#REF!,0))=FALSE,\"C\",IF(ISERROR(MATCH(D165,#REF!,0))=FALSE,\"D\",\"\"))","v":""},{"$f":"IF(E165=\"C\",0,IF(E165 =\"D\",ROUND(1/((1+#REF!)^A165),9) * 2,ROUND(1/((1+#REF!)^A165),9)))","v":{"$error":"#REF!"}},{"$error":"#REF!"}]
[163,163,{"$error":"#REF!"},{"$error":"#REF!"},{"$f":"IF(ISERROR(MATCH(D166,#REF!,0))=FALSE,\"C\",IF(ISERROR(MATCH(D166,#REF!,0))=FALSE,\"D\",\"\"))","v":""},{"$f":"IF(E166=\"C\",0,IF(E166 =\"D\",ROUND(1/((1+#REF!)^A166),9) * 2,ROUND(1/((1+#REF!)^A166),9)))","v":{"$error":"#REF!"}},{"$error":"#REF!"}]
[164,164,{"$error":"#REF!"},{"$error":"#REF!"},{"$f":"IF(ISERROR(MATCH(D167,#REF!,0))=FALSE,\"C\",IF(ISERROR(MATCH(D167,#REF!,0))=FALSE,\"D\",\"\"))","v":""},{"$f":"IF(E167=\"C\",0,IF(E167 =\"D\",ROUND(1/((1+#REF!)^A167),9) * 2,ROUND(1/((1+#REF!)^A167),9)))","v":{"$error":"#REF!"}},{"$error":"#REF!"}]
[165,165,{"$error":"#REF!"},{"$error":"#REF!"},{"$f":"IF(ISERROR(MATCH(D168,#REF!,0))=FALSE,\"C\",IF(ISERROR(MATCH(D168,#REF!,0))=FALSE,\"D\",\"\"))","v":""},{"$f":"IF(E168=\"C\",0,IF(E168 =\"D\",ROUND(1/((1+#REF!)^A168),9) * 2,ROUND(1/((1+#REF!)^A168),9)))","v":{"$error":"#REF!"}},{"$error":"#REF!"}]
[166,166,{"$error":"#REF!"},{"$error":"#REF!"},{"$f":"IF(ISERROR(MATCH(D169,#REF!,0))=FALSE,\"C\",IF(ISERROR(MATCH(D169,#REF!,0))=FALSE,\"D\",\"\"))","v":""},{"$f":"IF(E169=\"C\",0,IF(E169 =\"D\",ROUND(1/((1+#REF!)^A169),9) * 2,ROUND(1/((1+#REF!)^A169),9)))","v":{"$error":"#REF!"}},{"$error":"#REF!"}]
[167,167,{"$error":"#REF!"},{"$error":"#REF!"},{"$f":"IF(ISERROR(MATCH(D170,#REF!,0))=FALSE,\"C\",IF(ISERROR(MATCH(D170,#REF!,0))=FALSE,\"D\",\"\"))","v":""},{"$f":"IF(E170=\"C\",0,IF(E170 =\"D\",ROUND(1/((1+#REF!)^A170),9) * 2,ROUND(1/((1+#REF!)^A170),9)))","v":{"$error":"#REF!"}},{"$error":"#REF!"}]
[168,168,{"$error":"#REF!"},{"$error":"#REF!"},{"$f":"IF(ISERROR(MATCH(D171,#REF!,0))=FALSE,\"C\",IF(ISERROR(MATCH(D171,#REF!,0))=FALSE,\"D\",\"\"))","v":""},{"$f":"IF(E171=\"C\",0,IF(E171 =\"D\",ROUND(1/((1+#REF!)^A171),9) * 2,ROUND(1/((1+#REF!)^A171),9)))","v":{"$error":"#REF!"}},{"$error":"#REF!"}]
[169,169,{"$error":"#REF!"},{"$error":"#REF!"},{"$f":"IF(ISERROR(MATCH(D172,#REF!,0))=FALSE,\"C\",IF(ISERROR(MATCH(D172,#REF!,0))=FALSE,\"D\",\"\"))","v":""},{"$f":"IF(E172=\"C\",0,IF(E172 =\"D\",ROUND(1/((1+#REF!)^A172),9) * 2,ROUND(1/((1+#REF!)^A172),9)))","v":{"$error":"#REF!"}},{"$error":"#REF!"}]
[170,170,{"$error":"#REF!"},{"$error":"#REF!"},{"$f":"IF(ISERROR(MATCH(D173,#REF!,0))=FALSE,\"C\",IF(ISERROR(MATCH(D173,#REF!,0))=FALSE,\"D\",\"\"))","v":""},{"$f":"IF(E173=\"C\",0,IF(E173 =\"D\",ROUND(1/((1+#REF!)^A173),9) * 2,ROUND(1/((1+#REF!)^A173),9)))","v":{"$error":"#REF!"}},{"$error":"#REF!"}]
[171,171,{"$error":"#REF!"},{"$error":"#REF!"},{"$f":"IF(ISERROR(MATCH(D174,#REF!,0))=FALSE,\"C\",IF(ISERROR(MATCH(D174,#REF!,0))=FALSE,\"D\",\"\"))","v":""},{"$f":"IF(E174=\"C\",0,IF(E174 =\"D\",ROUND(1/((1+#REF!)^A174),9) * 2,ROUND(1/((1+#REF!)^A174),9)))","v":{"$error":"#REF!"}},{"$error":"#REF!"}]
[172,172,{"$error":"#REF!"},{"$error":"#REF!"},{"$f":"IF(ISERROR(MATCH(D175,#REF!,0))=FALSE,\"C\",IF(ISERROR(MATCH(D175,#REF!,0))=FALSE,\"D\",\"\"))","v":""},{"$f":"IF(E175=\"C\",0,IF(E175 =\"D\",ROUND(1/((1+#REF!)^A175),9) * 2,ROUND(1/((1+#REF!)^A175),9)))","v":{"$error":"#REF!"}},{"$error":"#REF!"}]
[173,173,{"$error":"#REF!"},{"$error":"#REF!"},{"$f":"IF(ISERROR(MATCH(D176,#REF!,0))=FALSE,\"C\",IF(ISERROR(MATCH(D176,#REF!,0))=FALSE,\"D\",\"\"))","v":""},{"$f":"IF(E176=\"C\",0,IF(E176 =\"D\",ROUND(1/((1+#REF!)^A176),9) * 2,ROUND(1/((1+#REF!)^A176),9)))","v":{"$error":"#REF!"}},{"$error":"#REF!"}]
[174,174,{"$error":"#REF!"},{"$error":"#REF!"},{"$f":"IF(ISERROR(MATCH(D177,#REF!,0))=FALSE,\"C\",IF(ISERROR(MATCH(D177,#REF!,0))=FALSE,\"D\",\"\"))","v":""},{"$f":"IF(E177=\"C\",0,IF(E177 =\"D\",ROUND(1/((1+#REF!)^A177),9) * 2,ROUND(1/((1+#REF!)^A177),9)))","v":{"$error":"#REF!"}},{"$error":"#REF!"}]
[175,175,{"$error":"#REF!"},{"$error":"#REF!"},{"$f":"IF(ISERROR(MATCH(D178,#REF!,0))=FALSE,\"C\",IF(ISERROR(MATCH(D178,#REF!,0))=FALSE,\"D\",\"\"))","v":""},{"$f":"IF(E178=\"C\",0,IF(E178 =\"D\",ROUND(1/((1+#REF!)^A178),9) * 2,ROUND(1/((1+#REF!)^A178),9)))","v":{"$error":"#REF!"}},{"$error":"#REF!"}]
[176,176,{"$error":"#REF!"},{"$error":"#REF!"},{"$f":"IF(ISERROR(MATCH(D179,#REF!,0))=FALSE,\"C\",IF(ISERROR(MATCH(D179,#REF!,0))=FALSE,\"D\",\"\"))","v":""},{"$f":"IF(E179=\"C\",0,IF(E179 =\"D\",ROUND(1/((1+#REF!)^A179),9) * 2,ROUND(1/((1+#REF!)^A179),9)))","v":{"$error":"#REF!"}},{"$error":"#REF!"}]
[177,177,{"$error":"#REF!"},{"$error":"#REF!"},{"$f":"IF(ISERROR(MATCH(D180,#REF!,0))=FALSE,\"C\",IF(ISERROR(MATCH(D180,#REF!,0))=FALSE,\"D\",\"\"))","v":""},{"$f":"IF(E180=\"C\",0,IF(E180 =\"D\",ROUND(1/((1+#REF!)^A180),9) * 2,ROUND(1/((1+#REF!)^A180),9)))","v":{"$error":"#REF!"}},{"$error":"#REF!"}]
[178,178,{"$error":"#REF!"},{"$error":"#REF!"},{"$f":"IF(ISERROR(MATCH(D181,#REF!,0))=FALSE,\"C\",IF(ISERROR(MATCH(D181,#REF!,0))=FALSE,\"D\",\"\"))","v":""},{"$f":"IF(E181=\"C\",0,IF(E181 =\"D\",ROUND(1/((1+#REF!)^A181),9) * 2,ROUND(1/((1+#REF!)^A181),9)))","v":{"$error":"#REF!"}},{"$error":"#REF!"}]
[179,179,{"$error":"#REF!"},{"$error":"#REF!"},{"$f":"IF(ISERROR(MATCH(D182,#REF!,0))=FALSE,\"C\",IF(ISERROR(MATCH(D182,#REF!,0))=FALSE,\"D\",\"\"))","v":""},{"$f":"IF(E182=\"C\",0,IF(E182 =\"D\",ROUND(1/((1+#REF!)^A182),9) * 2,ROUND(1/((1+#REF!)^A182),9)))","v":{"$error":"#REF!"}},{"$error":"#REF!"}]
[180,180,{"$error":"#REF!"},{"$error":"#REF!"},{"$f":"IF(ISERROR(MATCH(D183,#REF!,0))=FALSE,\"C\",IF(ISERROR(MATCH(D183,#REF!,0))=FALSE,\"D\",\"\"))","v":""},{"$f":"IF(E183=\"C\",0,IF(E183 =\"D\",ROUND(1/((1+#REF!)^A183),9) * 2,ROUND(1/((1+#REF!)^A183),9)))","v":{"$error":"#REF!"}},{"$error":"#REF!"}]
[181,181,{"$error":"#REF!"},{"$error":"#REF!"},{"$f":"IF(ISERROR(MATCH(D184,#REF!,0))=FALSE,\"C\",IF(ISERROR(MATCH(D184,#REF!,0))=FALSE,\"D\",\"\"))","v":""},{"$f":"IF(E184=\"C\",0,IF(E184 =\"D\",ROUND(1/((1+#REF!)^A184),9) * 2,ROUND(1/((1+#REF!)^A184),9)))","v":{"$error":"#REF!"}},{"$error":"#REF!"}]
[182,182,{"$error":"#REF!"},{"$error":"#REF!"},{"$f":"IF(ISERROR(MATCH(D185,#REF!,0))=FALSE,\"C\",IF(ISERROR(MATCH(D185,#REF!,0))=FALSE,\"D\",\"\"))","v":""},{"$f":"IF(E185=\"C\",0,IF(E185 =\"D\",ROUND(1/((1+#REF!)^A185),9) * 2,ROUND(1/((1+#REF!)^A185),9)))","v":{"$error":"#REF!"}},{"$error":"#REF!"}]
[183,183,{"$error":"#REF!"},{"$error":"#REF!"},{"$f":"IF(ISERROR(MATCH(D186,#REF!,0))=FALSE,\"C\",IF(ISERROR(MATCH(D186,#REF!,0))=FALSE,\"D\",\"\"))","v":""},{"$f":"IF(E186=\"C\",0,IF(E186 =\"D\",ROUND(1/((1+#REF!)^A186),9) * 2,ROUND(1/((1+#REF!)^A186),9)))","v":{"$error":"#REF!"}},{"$error":"#REF!"}]
[184,184,{"$error":"#REF!"},{"$error":"#REF!"},{"$f":"IF(ISERROR(MATCH(D187,#REF!,0))=FALSE,\"C\",IF(ISERROR(MATCH(D187,#REF!,0))=FALSE,\"D\",\"\"))","v":""},{"$f":"IF(E187=\"C\",0,IF(E187 =\"D\",ROUND(1/((1+#REF!)^A187),9) * 2,ROUND(1/((1+#REF!)^A187),9)))","v":{"$error":"#REF!"}},{"$error":"#REF!"}]
[185,185,{"$error":"#REF!"},{"$error":"#REF!"},{"$f":"IF(ISERROR(MATCH(D188,#REF!,0))=FALSE,\"C\",IF(ISERROR(MATCH(D188,#REF!,0))=FALSE,\"D\",\"\"))","v":""},{"$f":"IF(E188=\"C\",0,IF(E188 =\"D\",ROUND(1/((1+#REF!)^A188),9) * 2,ROUND(1/((1+#REF!)^A188),9)))","v":{"$error":"#REF!"}},{"$error":"#REF!"}]
[186,186,{"$error":"#REF!"},{"$error":"#REF!"},{"$f":"IF(ISERROR(MATCH(D189,#REF!,0))=FALSE,\"C\",IF(ISERROR(MATCH(D189,#REF!,0))=FALSE,\"D\",\"\"))","v":""},{"$f":"IF(E189=\"C\",0,IF(E189 =\"D\",ROUND(1/((1+#REF!)^A189),9) * 2,ROUND(1/((1+#REF!)^A189),9)))","v":{"$error":"#REF!"}},{"$error":"#REF!"}]
[187,187,{"$error":"#REF!"},{"$error":"#REF!"},{"$f":"IF(ISERROR(MATCH(D190,#REF!,0))=FALSE,\"C\",IF(ISERROR(MATCH(D190,#REF!,0))=FALSE,\"D\",\"\"))","v":""},{"$f":"IF(E190=\"C\",0,IF(E190 =\"D\",ROUND(1/((1+#REF!)^A190),9) * 2,ROUND(1/((1+#REF!)^A190),9)))","v":{"$error":"#REF!"}},{"$error":"#REF!"}]
[188,188,{"$error":"#REF!"},{"$error":"#REF!"},{"$f":"IF(ISERROR(MATCH(D191,#REF!,0))=FALSE,\"C\",IF(ISERROR(MATCH(D191,#REF!,0))=FALSE,\"D\",\"\"))","v":""},{"$f":"IF(E191=\"C\",0,IF(E191 =\"D\",ROUND(1/((1+#REF!)^A191),9) * 2,ROUND(1/((1+#REF!)^A191),9)))","v":{"$error":"#REF!"}},{"$error":"#REF!"}]
[189,189,{"$error":"#REF!"},{"$error":"#REF!"},{"$f":"IF(ISERROR(MATCH(D192,#REF!,0))=FALSE,\"C\",IF(ISERROR(MATCH(D192,#REF!,0))=FALSE,\"D\",\"\"))","v":""},{"$f":"IF(E192=\"C\",0,IF(E192 =\"D\",ROUND(1/((1+#REF!)^A192),9) * 2,ROUND(1/((1+#REF!)^A192),9)))","v":{"$error":"#REF!"}},{"$error":"#REF!"}]
[190,190,{"$error":"#REF!"},{"$error":"#REF!"},{"$f":"IF(ISERROR(MATCH(D193,#REF!,0))=FALSE,\"C\",IF(ISERROR(MATCH(D193,#REF!,0))=FALSE,\"D\",\"\"))","v":""},{"$f":"IF(E193=\"C\",0,IF(E193 =\"D\",ROUND(1/((1+#REF!)^A193),9) * 2,ROUND(1/((1+#REF!)^A193),9)))","v":{"$error":"#REF!"}},{"$error":"#REF!"}]
[191,191,{"$error":"#REF!"},{"$error":"#REF!"},{"$f":"IF(ISERROR(MATCH(D194,#REF!,0))=FALSE,\"C\",IF(ISERROR(MATCH(D194,#REF!,0))=FALSE,\"D\",\"\"))","v":""},{"$f":"IF(E194=\"C\",0,IF(E194 =\"D\",ROUND(1/((1+#REF!)^A194),9) * 2,ROUND(1/((1+#REF!)^A194),9)))","v":{"$error":"#REF!"}},{"$error":"#REF!"}]
[192,192,{"$error":"#REF!"},{"$error":"#REF!"},{"$f":"IF(ISERROR(MATCH(D195,#REF!,0))=FALSE,\"C\",IF(ISERROR(MATCH(D195,#REF!,0))=FALSE,\"D\",\"\"))","v":""},{"$f":"IF(E195=\"C\",0,IF(E195 =\"D\",ROUND(1/((1+#REF!)^A195),9) * 2,ROUND(1/((1+#REF!)^A195),9)))","v":{"$error":"#REF!"}},{"$error":"#REF!"}]
[193,193,{"$error":"#REF!"},{"$error":"#REF!"},{"$f":"IF(ISERROR(MATCH(D196,#REF!,0))=FALSE,\"C\",IF(ISERROR(MATCH(D196,#REF!,0))=FALSE,\"D\",\"\"))","v":""},{"$f":"IF(E196=\"C\",0,IF(E196 =\"D\",ROUND(1/((1+#REF!)^A196),9) * 2,ROUND(1/((1+#REF!)^A196),9)))","v":{"$error":"#REF!"}},{"$error":"#REF!"}]
[{"$f":"A196+1","v":194},194,{"$f":"DATE(YEAR(C196) + 1/12,MONTH(C196)+1,DAY(C196))","v":{"$error":"#REF!"}},{"$error":"#REF!"},{"$f":"IF(ISERROR(MATCH(D197,#REF!,0))=FALSE,\"C\",IF(ISERROR(MATCH(D197,#REF!,0))=FALSE,\"D\",\"\"))","v":""},{"$f":"IF(E197=\"C\",0,IF(E197 =\"D\",ROUND(1/((1+#REF!)^A197),9) * 2,ROUND(1/((1+#REF!)^A197),9)))","v":{"$error":"#REF!"}},{"$error":"#REF!"}]
[195,195,{"$error":"#REF!"},{"$error":"#REF!"},{"$f":"IF(ISERROR(MATCH(D198,#REF!,0))=FALSE,\"C\",IF(ISERROR(MATCH(D198,#REF!,0))=FALSE,\"D\",\"\"))","v":""},{"$f":"IF(E198=\"C\",0,IF(E198 =\"D\",ROUND(1/((1+#REF!)^A198),9) * 2,ROUND(1/((1+#REF!)^A198),9)))","v":{"$error":"#REF!"}},{"$error":"#REF!"}]
[196,196,{"$error":"#REF!"},{"$error":"#REF!"},{"$f":"IF(ISERROR(MATCH(D199,#REF!,0))=FALSE,\"C\",IF(ISERROR(MATCH(D199,#REF!,0))=FALSE,\"D\",\"\"))","v":""},{"$f":"IF(E199=\"C\",0,IF(E199 =\"D\",ROUND(1/((1+#REF!)^A199),9) * 2,ROUND(1/((1+#REF!)^A199),9)))","v":{"$error":"#REF!"}},{"$error":"#REF!"}]
[197,197,{"$error":"#REF!"},{"$error":"#REF!"},{"$f":"IF(ISERROR(MATCH(D200,#REF!,0))=FALSE,\"C\",IF(ISERROR(MATCH(D200,#REF!,0))=FALSE,\"D\",\"\"))","v":""},{"$f":"IF(E200=\"C\",0,IF(E200 =\"D\",ROUND(1/((1+#REF!)^A200),9) * 2,ROUND(1/((1+#REF!)^A200),9)))","v":{"$error":"#REF!"}},{"$error":"#REF!"}]
[198,198,{"$error":"#REF!"},{"$error":"#REF!"},{"$f":"IF(ISERROR(MATCH(D201,#REF!,0))=FALSE,\"C\",IF(ISERROR(MATCH(D201,#REF!,0))=FALSE,\"D\",\"\"))","v":""},{"$f":"IF(E201=\"C\",0,IF(E201 =\"D\",ROUND(1/((1+#REF!)^A201),9) * 2,ROUND(1/((1+#REF!)^A201),9)))","v":{"$error":"#REF!"}},{"$error":"#REF!"}]
[199,199,{"$error":"#REF!"},{"$error":"#REF!"},{"$f":"IF(ISERROR(MATCH(D202,#REF!,0))=FALSE,\"C\",IF(ISERROR(MATCH(D202,#REF!,0))=FALSE,\"D\",\"\"))","v":""},{"$f":"IF(E202=\"C\",0,IF(E202 =\"D\",ROUND(1/((1+#REF!)^A202),9) * 2,ROUND(1/((1+#REF!)^A202),9)))","v":{"$error":"#REF!"}},{"$error":"#REF!"}]
[200,200,{"$error":"#REF!"},{"$error":"#REF!"},{"$f":"IF(ISERROR(MATCH(D203,#REF!,0))=FALSE,\"C\",IF(ISERROR(MATCH(D203,#REF!,0))=FALSE,\"D\",\"\"))","v":""},{"$f":"IF(E203=\"C\",0,IF(E203 =\"D\",ROUND(1/((1+#REF!)^A203),9) * 2,ROUND(1/((1+#REF!)^A203),9)))","v":{"$error":"#REF!"}},{"$error":"#REF!"}]
[201,201,{"$error":"#REF!"},{"$error":"#REF!"},{"$f":"IF(ISERROR(MATCH(D204,#REF!,0))=FALSE,\"C\",IF(ISERROR(MATCH(D204,#REF!,0))=FALSE,\"D\",\"\"))","v":""},{"$f":"IF(E204=\"C\",0,IF(E204 =\"D\",ROUND(1/((1+#REF!)^A204),9) * 2,ROUND(1/((1+#REF!)^A204),9)))","v":{"$error":"#REF!"}},{"$error":"#REF!"}]
[202,202,{"$error":"#REF!"},{"$error":"#REF!"},{"$f":"IF(ISERROR(MATCH(D205,#REF!,0))=FALSE,\"C\",IF(ISERROR(MATCH(D205,#REF!,0))=FALSE,\"D\",\"\"))","v":""},{"$f":"IF(E205=\"C\",0,IF(E205 =\"D\",ROUND(1/((1+#REF!)^A205),9) * 2,ROUND(1/((1+#REF!)^A205),9)))","v":{"$error":"#REF!"}},{"$error":"#REF!"}]
[203,203,{"$error":"#REF!"},{"$error":"#REF!"},{"$f":"IF(ISERROR(MATCH(D206,#REF!,0))=FALSE,\"C\",IF(ISERROR(MATCH(D206,#REF!,0))=FALSE,\"D\",\"\"))","v":""},{"$f":"IF(E206=\"C\",0,IF(E206 =\"D\",ROUND(1/((1+#REF!)^A206),9) * 2,ROUND(1/((1+#REF!)^A206),9)))","v":{"$error":"#REF!"}},{"$error":"#REF!"}]
[204,204,{"$error":"#REF!"},{"$error":"#REF!"},{"$f":"IF(ISERROR(MATCH(D207,#REF!,0))=FALSE,\"C\",IF(ISERROR(MATCH(D207,#REF!,0))=FALSE,\"D\",\"\"))","v":""},{"$f":"IF(E207=\"C\",0,IF(E207 =\"D\",ROUND(1/((1+#REF!)^A207),9) * 2,ROUND(1/((1+#REF!)^A207),9)))","v":{"$error":"#REF!"}},{"$error":"#REF!"}]
[205,205,{"$error":"#REF!"},{"$error":"#REF!"},{"$f":"IF(ISERROR(MATCH(D208,#REF!,0))=FALSE,\"C\",IF(ISERROR(MATCH(D208,#REF!,0))=FALSE,\"D\",\"\"))","v":""},{"$f":"IF(E208=\"C\",0,IF(E208 =\"D\",ROUND(1/((1+#REF!)^A208),9) * 2,ROUND(1/((1+#REF!)^A208),9)))","v":{"$error":"#REF!"}},{"$error":"#REF!"}]
[206,206,{"$error":"#REF!"},{"$error":"#REF!"},{"$f":"IF(ISERROR(MATCH(D209,#REF!,0))=FALSE,\"C\",IF(ISERROR(MATCH(D209,#REF!,0))=FALSE,\"D\",\"\"))","v":""},{"$f":"IF(E209=\"C\",0,IF(E209 =\"D\",ROUND(1/((1+#REF!)^A209),9) * 2,ROUND(1/((1+#REF!)^A209),9)))","v":{"$error":"#REF!"}},{"$error":"#REF!"}]
[207,207,{"$error":"#REF!"},{"$error":"#REF!"},{"$f":"IF(ISERROR(MATCH(D210,#REF!,0))=FALSE,\"C\",IF(ISERROR(MATCH(D210,#REF!,0))=FALSE,\"D\",\"\"))","v":""},{"$f":"IF(E210=\"C\",0,IF(E210 =\"D\",ROUND(1/((1+#REF!)^A210),9) * 2,ROUND(1/((1+#REF!)^A210),9)))","v":{"$error":"#REF!"}},{"$error":"#REF!"}]
[208,208,{"$error":"#REF!"},{"$error":"#REF!"},{"$f":"IF(ISERROR(MATCH(D211,#REF!,0))=FALSE,\"C\",IF(ISERROR(MATCH(D211,#REF!,0))=FALSE,\"D\",\"\"))","v":""},{"$f":"IF(E211=\"C\",0,IF(E211 =\"D\",ROUND(1/((1+#REF!)^A211),9) * 2,ROUND(1/((1+#REF!)^A211),9)))","v":{"$error":"#REF!"}},{"$error":"#REF!"}]
[209,209,{"$error":"#REF!"},{"$error":"#REF!"},{"$f":"IF(ISERROR(MATCH(D212,#REF!,0))=FALSE,\"C\",IF(ISERROR(MATCH(D212,#REF!,0))=FALSE,\"D\",\"\"))","v":""},{"$f":"IF(E212=\"C\",0,IF(E212 =\"D\",ROUND(1/((1+#REF!)^A212),9) * 2,ROUND(1/((1+#REF!)^A212),9)))","v":{"$error":"#REF!"}},{"$error":"#REF!"}]
[210,210,{"$error":"#REF!"},{"$error":"#REF!"},{"$f":"IF(ISERROR(MATCH(D213,#REF!,0))=FALSE,\"C\",IF(ISERROR(MATCH(D213,#REF!,0))=FALSE,\"D\",\"\"))","v":""},{"$f":"IF(E213=\"C\",0,IF(E213 =\"D\",ROUND(1/((1+#REF!)^A213),9) * 2,ROUND(1/((1+#REF!)^A213),9)))","v":{"$error":"#REF!"}},{"$error":"#REF!"}]
[211,211,{"$error":"#REF!"},{"$error":"#REF!"},{"$f":"IF(ISERROR(MATCH(D214,#REF!,0))=FALSE,\"C\",IF(ISERROR(MATCH(D214,#REF!,0))=FALSE,\"D\",\"\"))","v":""},{"$f":"IF(E214=\"C\",0,IF(E214 =\"D\",ROUND(1/((1+#REF!)^A214),9) * 2,ROUND(1/((1+#REF!)^A214),9)))","v":{"$error":"#REF!"}},{"$error":"#REF!"}]
[212,212,{"$error":"#REF!"},{"$error":"#REF!"},{"$f":"IF(ISERROR(MATCH(D215,#REF!,0))=FALSE,\"C\",IF(ISERROR(MATCH(D215,#REF!,0))=FALSE,\"D\",\"\"))","v":""},{"$f":"IF(E215=\"C\",0,IF(E215 =\"D\",ROUND(1/((1+#REF!)^A215),9) * 2,ROUND(1/((1+#REF!)^A215),9)))","v":{"$error":"#REF!"}},{"$error":"#REF!"}]
[213,213,{"$error":"#REF!"},{"$error":"#REF!"},{"$f":"IF(ISERROR(MATCH(D216,#REF!,0))=FALSE,\"C\",IF(ISERROR(MATCH(D216,#REF!,0))=FALSE,\"D\",\"\"))","v":""},{"$f":"IF(E216=\"C\",0,IF(E216 =\"D\",ROUND(1/((1+#REF!)^A216),9) * 2,ROUND(1/((1+#REF!)^A216),9)))","v":{"$error":"#REF!"}},{"$error":"#REF!"}]
[214,214,{"$error":"#REF!"},{"$error":"#REF!"},{"$f":"IF(ISERROR(MATCH(D217,#REF!,0))=FALSE,\"C\",IF(ISERROR(MATCH(D217,#REF!,0))=FALSE,\"D\",\"\"))","v":""},{"$f":"IF(E217=\"C\",0,IF(E217 =\"D\",ROUND(1/((1+#REF!)^A217),9) * 2,ROUND(1/((1+#REF!)^A217),9)))","v":{"$error":"#REF!"}},{"$error":"#REF!"}]
[215,215,{"$error":"#REF!"},{"$error":"#REF!"},{"$f":"IF(ISERROR(MATCH(D218,#REF!,0))=FALSE,\"C\",IF(ISERROR(MATCH(D218,#REF!,0))=FALSE,\"D\",\"\"))","v":""},{"$f":"IF(E218=\"C\",0,IF(E218 =\"D\",ROUND(1/((1+#REF!)^A218),9) * 2,ROUND(1/((1+#REF!)^A218),9)))","v":{"$error":"#REF!"}},{"$error":"#REF!"}]
[216,216,{"$error":"#REF!"},{"$error":"#REF!"},{"$f":"IF(ISERROR(MATCH(D219,#REF!,0))=FALSE,\"C\",IF(ISERROR(MATCH(D219,#REF!,0))=FALSE,\"D\",\"\"))","v":""},{"$f":"IF(E219=\"C\",0,IF(E219 =\"D\",ROUND(1/((1+#REF!)^A219),9) * 2,ROUND(1/((1+#REF!)^A219),9)))","v":{"$error":"#REF!"}},{"$error":"#REF!"}]
[217,217,{"$error":"#REF!"},{"$error":"#REF!"},{"$f":"IF(ISERROR(MATCH(D220,#REF!,0))=FALSE,\"C\",IF(ISERROR(MATCH(D220,#REF!,0))=FALSE,\"D\",\"\"))","v":""},{"$f":"IF(E220=\"C\",0,IF(E220 =\"D\",ROUND(1/((1+#REF!)^A220),9) * 2,ROUND(1/((1+#REF!)^A220),9)))","v":{"$error":"#REF!"}},{"$error":"#REF!"}]
[218,218,{"$error":"#REF!"},{"$error":"#REF!"},{"$f":"IF(ISERROR(MATCH(D221,#REF!,0))=FALSE,\"C\",IF(ISERROR(MATCH(D221,#REF!,0))=FALSE,\"D\",\"\"))","v":""},{"$f":"IF(E221=\"C\",0,IF(E221 =\"D\",ROUND(1/((1+#REF!)^A221),9) * 2,ROUND(1/((1+#REF!)^A221),9)))","v":{"$error":"#REF!"}},{"$error":"#REF!"}]
[219,219,{"$error":"#REF!"},{"$error":"#REF!"},{"$f":"IF(ISERROR(MATCH(D222,#REF!,0))=FALSE,\"C\",IF(ISERROR(MATCH(D222,#REF!,0))=FALSE,\"D\",\"\"))","v":""},{"$f":"IF(E222=\"C\",0,IF(E222 =\"D\",ROUND(1/((1+#REF!)^A222),9) * 2,ROUND(1/((1+#REF!)^A222),9)))","v":{"$error":"#REF!"}},{"$error":"#REF!"}]
[220,220,{"$error":"#REF!"},{"$error":"#REF!"},{"$f":"IF(ISERROR(MATCH(D223,#REF!,0))=FALSE,\"C\",IF(ISERROR(MATCH(D223,#REF!,0))=FALSE,\"D\",\"\"))","v":""},{"$f":"IF(E223=\"C\",0,IF(E223 =\"D\",ROUND(1/((1+#REF!)^A223),9) * 2,ROUND(1/((1+#REF!)^A223),9)))","v":{"$error":"#REF!"}},{"$error":"#REF!"}]
[221,221,{"$error":"#REF!"},{"$error":"#REF!"},{"$f":"IF(ISERROR(MATCH(D224,#REF!,0))=FALSE,\"C\",IF(ISERROR(MATCH(D224,#REF!,0))=FALSE,\"D\",\"\"))","v":""},{"$f":"IF(E224=\"C\",0,IF(E224 =\"D\",ROUND(1/((1+#REF!)^A224),9) * 2,ROUND(1/((1+#REF!)^A224),9)))","v":{"$error":"#REF!"}},{"$error":"#REF!"}]
[222,222,{"$error":"#REF!"},{"$error":"#REF!"},{"$f":"IF(ISERROR(MATCH(D225,#REF!,0))=FALSE,\"C\",IF(ISERROR(MATCH(D225,#REF!,0))=FALSE,\"D\",\"\"))","v":""},{"$f":"IF(E225=\"C\",0,IF(E225 =\"D\",ROUND(1/((1+#REF!)^A225),9) * 2,ROUND(1/((1+#REF!)^A225),9)))","v":{"$error":"#REF!"}},{"$error":"#REF!"}]
[223,223,{"$error":"#REF!"},{"$error":"#REF!"},{"$f":"IF(ISERROR(MATCH(D226,#REF!,0))=FALSE,\"C\",IF(ISERROR(MATCH(D226,#REF!,0))=FALSE,\"D\",\"\"))","v":""},{"$f":"IF(E226=\"C\",0,IF(E226 =\"D\",ROUND(1/((1+#REF!)^A226),9) * 2,ROUND(1/((1+#REF!)^A226),9)))","v":{"$error":"#REF!"}},{"$error":"#REF!"}]
[224,224,{"$error":"#REF!"},{"$error":"#REF!"},{"$f":"IF(ISERROR(MATCH(D227,#REF!,0))=FALSE,\"C\",IF(ISERROR(MATCH(D227,#REF!,0))=FALSE,\"D\",\"\"))","v":""},{"$f":"IF(E227=\"C\",0,IF(E227 =\"D\",ROUND(1/((1+#REF!)^A227),9) * 2,ROUND(1/((1+#REF!)^A227),9)))","v":{"$error":"#REF!"}},{"$error":"#REF!"}]
[225,{"$f":"IF(E228<>\"C\",IF(ISERROR(1+B227)=TRUE,1,1+B227),IF(ISNUMBER(B227),B227,1))","v":225},{"$error":"#REF!"},{"$f":"MONTH(C228)","v":{"$error":"#REF!"}},{"$f":"IF(ISERROR(MATCH(D228,#REF!,0))=FALSE,\"C\",IF(ISERROR(MATCH(D228,#REF!,0))=FALSE,\"D\",\"\"))","v":""},{"$f":"IF(E228=\"C\",0,IF(E228 =\"D\",ROUND(1/((1+#REF!)^A228),9) * 2,ROUND(1/((1+#REF!)^A228),9)))","v":{"$error":"#REF!"}},{"$f":"G227+ROUND(F228,9)","v":{"$error":"#REF!"}}]
[226,226,{"$error":"#REF!"},{"$error":"#REF!"},{"$f":"IF(ISERROR(MATCH(D229,#REF!,0))=FALSE,\"C\",IF(ISERROR(MATCH(D229,#REF!,0))=FALSE,\"D\",\"\"))","v":""},{"$f":"IF(E229=\"C\",0,IF(E229 =\"D\",ROUND(1/((1+#REF!)^A229),9) * 2,ROUND(1/((1+#REF!)^A229),9)))","v":{"$error":"#REF!"}},{"$error":"#REF!"}]
[227,227,{"$error":"#REF!"},{"$error":"#REF!"},{"$f":"IF(ISERROR(MATCH(D230,#REF!,0))=FALSE,\"C\",IF(ISERROR(MATCH(D230,#REF!,0))=FALSE,\"D\",\"\"))","v":""},{"$f":"IF(E230=\"C\",0,IF(E230 =\"D\",ROUND(1/((1+#REF!)^A230),9) * 2,ROUND(1/((1+#REF!)^A230),9)))","v":{"$error":"#REF!"}},{"$error":"#REF!"}]
[228,228,{"$error":"#REF!"},{"$error":"#REF!"},{"$f":"IF(ISERROR(MATCH(D231,#REF!,0))=FALSE,\"C\",IF(ISERROR(MATCH(D231,#REF!,0))=FALSE,\"D\",\"\"))","v":""},{"$f":"IF(E231=\"C\",0,IF(E231 =\"D\",ROUND(1/((1+#REF!)^A231),9) * 2,ROUND(1/((1+#REF!)^A231),9)))","v":{"$error":"#REF!"}},{"$error":"#REF!"}]
[229,229,{"$error":"#REF!"},{"$error":"#REF!"},{"$f":"IF(ISERROR(MATCH(D232,#REF!,0))=FALSE,\"C\",IF(ISERROR(MATCH(D232,#REF!,0))=FALSE,\"D\",\"\"))","v":""},{"$f":"IF(E232=\"C\",0,IF(E232 =\"D\",ROUND(1/((1+#REF!)^A232),9) * 2,ROUND(1/((1+#REF!)^A232),9)))","v":{"$error":"#REF!"}},{"$error":"#REF!"}]
[230,230,{"$error":"#REF!"},{"$error":"#REF!"},{"$f":"IF(ISERROR(MATCH(D233,#REF!,0))=FALSE,\"C\",IF(ISERROR(MATCH(D233,#REF!,0))=FALSE,\"D\",\"\"))","v":""},{"$f":"IF(E233=\"C\",0,IF(E233 =\"D\",ROUND(1/((1+#REF!)^A233),9) * 2,ROUND(1/((1+#REF!)^A233),9)))","v":{"$error":"#REF!"}},{"$error":"#REF!"}]
[231,231,{"$error":"#REF!"},{"$error":"#REF!"},{"$f":"IF(ISERROR(MATCH(D234,#REF!,0))=FALSE,\"C\",IF(ISERROR(MATCH(D234,#REF!,0))=FALSE,\"D\",\"\"))","v":""},{"$f":"IF(E234=\"C\",0,IF(E234 =\"D\",ROUND(1/((1+#REF!)^A234),9) * 2,ROUND(1/((1+#REF!)^A234),9)))","v":{"$error":"#REF!"}},{"$error":"#REF!"}]
[232,232,{"$error":"#REF!"},{"$error":"#REF!"},{"$f":"IF(ISERROR(MATCH(D235,#REF!,0))=FALSE,\"C\",IF(ISERROR(MATCH(D235,#REF!,0))=FALSE,\"D\",\"\"))","v":""},{"$f":"IF(E235=\"C\",0,IF(E235 =\"D\",ROUND(1/((1+#REF!)^A235),9) * 2,ROUND(1/((1+#REF!)^A235),9)))","v":{"$error":"#REF!"}},{"$error":"#REF!"}]
[233,233,{"$error":"#REF!"},{"$error":"#REF!"},{"$f":"IF(ISERROR(MATCH(D236,#REF!,0))=FALSE,\"C\",IF(ISERROR(MATCH(D236,#REF!,0))=FALSE,\"D\",\"\"))","v":""},{"$f":"IF(E236=\"C\",0,IF(E236 =\"D\",ROUND(1/((1+#REF!)^A236),9) * 2,ROUND(1/((1+#REF!)^A236),9)))","v":{"$error":"#REF!"}},{"$error":"#REF!"}]
[234,234,{"$error":"#REF!"},{"$error":"#REF!"},{"$f":"IF(ISERROR(MATCH(D237,#REF!,0))=FALSE,\"C\",IF(ISERROR(MATCH(D237,#REF!,0))=FALSE,\"D\",\"\"))","v":""},{"$f":"IF(E237=\"C\",0,IF(E237 =\"D\",ROUND(1/((1+#REF!)^A237),9) * 2,ROUND(1/((1+#REF!)^A237),9)))","v":{"$error":"#REF!"}},{"$error":"#REF!"}]
[235,235,{"$error":"#REF!"},{"$error":"#REF!"},{"$f":"IF(ISERROR(MATCH(D238,#REF!,0))=FALSE,\"C\",IF(ISERROR(MATCH(D238,#REF!,0))=FALSE,\"D\",\"\"))","v":""},{"$f":"IF(E238=\"C\",0,IF(E238 =\"D\",ROUND(1/((1+#REF!)^A238),9) * 2,ROUND(1/((1+#REF!)^A238),9)))","v":{"$error":"#REF!"}},{"$error":"#REF!"}]
[236,236,{"$error":"#REF!"},{"$error":"#REF!"},{"$f":"IF(ISERROR(MATCH(D239,#REF!,0))=FALSE,\"C\",IF(ISERROR(MATCH(D239,#REF!,0))=FALSE,\"D\",\"\"))","v":""},{"$f":"IF(E239=\"C\",0,IF(E239 =\"D\",ROUND(1/((1+#REF!)^A239),9) * 2,ROUND(1/((1+#REF!)^A239),9)))","v":{"$error":"#REF!"}},{"$error":"#REF!"}]
[237,237,{"$error":"#REF!"},{"$error":"#REF!"},{"$f":"IF(ISERROR(MATCH(D240,#REF!,0))=FALSE,\"C\",IF(ISERROR(MATCH(D240,#REF!,0))=FALSE,\"D\",\"\"))","v":""},{"$f":"IF(E240=\"C\",0,IF(E240 =\"D\",ROUND(1/((1+#REF!)^A240),9) * 2,ROUND(1/((1+#REF!)^A240),9)))","v":{"$error":"#REF!"}},{"$error":"#REF!"}]
[238,238,{"$error":"#REF!"},{"$error":"#REF!"},{"$f":"IF(ISERROR(MATCH(D241,#REF!,0))=FALSE,\"C\",IF(ISERROR(MATCH(D241,#REF!,0))=FALSE,\"D\",\"\"))","v":""},{"$f":"IF(E241=\"C\",0,IF(E241 =\"D\",ROUND(1/((1+#REF!)^A241),9) * 2,ROUND(1/((1+#REF!)^A241),9)))","v":{"$error":"#REF!"}},{"$error":"#REF!"}]
[239,239,{"$error":"#REF!"},{"$error":"#REF!"},{"$f":"IF(ISERROR(MATCH(D242,#REF!,0))=FALSE,\"C\",IF(ISERROR(MATCH(D242,#REF!,0))=FALSE,\"D\",\"\"))","v":""},{"$f":"IF(E242=\"C\",0,IF(E242 =\"D\",ROUND(1/((1+#REF!)^A242),9) * 2,ROUND(1/((1+#REF!)^A242),9)))","v":{"$error":"#REF!"}},{"$error":"#REF!"}]
[240,240,{"$error":"#REF!"},{"$error":"#REF!"},{"$f":"IF(ISERROR(MATCH(D243,#REF!,0))=FALSE,\"C\",IF(ISERROR(MATCH(D243,#REF!,0))=FALSE,\"D\",\"\"))","v":""},{"$f":"IF(E243=\"C\",0,IF(E243 =\"D\",ROUND(1/((1+#REF!)^A243),9) * 2,ROUND(1/((1+#REF!)^A243),9)))","v":{"$error":"#REF!"}},{"$error":"#REF!"}]
[241,241,{"$error":"#REF!"},{"$error":"#REF!"},{"$f":"IF(ISERROR(MATCH(D244,#REF!,0))=FALSE,\"C\",IF(ISERROR(MATCH(D244,#REF!,0))=FALSE,\"D\",\"\"))","v":""},{"$f":"IF(E244=\"C\",0,IF(E244 =\"D\",ROUND(1/((1+#REF!)^A244),9) * 2,ROUND(1/((1+#REF!)^A244),9)))","v":{"$error":"#REF!"}},{"$error":"#REF!"}]
[242,242,{"$error":"#REF!"},{"$error":"#REF!"},{"$f":"IF(ISERROR(MATCH(D245,#REF!,0))=FALSE,\"C\",IF(ISERROR(MATCH(D245,#REF!,0))=FALSE,\"D\",\"\"))","v":""},{"$f":"IF(E245=\"C\",0,IF(E245 =\"D\",ROUND(1/((1+#REF!)^A245),9) * 2,ROUND(1/((1+#REF!)^A245),9)))","v":{"$error":"#REF!"}},{"$error":"#REF!"}]
[243,243,{"$error":"#REF!"},{"$error":"#REF!"},{"$f":"IF(ISERROR(MATCH(D246,#REF!,0))=FALSE,\"C\",IF(ISERROR(MATCH(D246,#REF!,0))=FALSE,\"D\",\"\"))","v":""},{"$f":"IF(E246=\"C\",0,IF(E246 =\"D\",ROUND(1/((1+#REF!)^A246),9) * 2,ROUND(1/((1+#REF!)^A246),9)))","v":{"$error":"#REF!"}},{"$error":"#REF!"}]
[244,244,{"$error":"#REF!"},{"$error":"#REF!"},{"$f":"IF(ISERROR(MATCH(D247,#REF!,0))=FALSE,\"C\",IF(ISERROR(MATCH(D247,#REF!,0))=FALSE,\"D\",\"\"))","v":""},{"$f":"IF(E247=\"C\",0,IF(E247 =\"D\",ROUND(1/((1+#REF!)^A247),9) * 2,ROUND(1/((1+#REF!)^A247),9)))","v":{"$error":"#REF!"}},{"$error":"#REF!"}]
[245,245,{"$error":"#REF!"},{"$error":"#REF!"},{"$f":"IF(ISERROR(MATCH(D248,#REF!,0))=FALSE,\"C\",IF(ISERROR(MATCH(D248,#REF!,0))=FALSE,\"D\",\"\"))","v":""},{"$f":"IF(E248=\"C\",0,IF(E248 =\"D\",ROUND(1/((1+#REF!)^A248),9) * 2,ROUND(1/((1+#REF!)^A248),9)))","v":{"$error":"#REF!"}},{"$error":"#REF!"}]
[246,246,{"$error":"#REF!"},{"$error":"#REF!"},{"$f":"IF(ISERROR(MATCH(D249,#REF!,0))=FALSE,\"C\",IF(ISERROR(MATCH(D249,#REF!,0))=FALSE,\"D\",\"\"))","v":""},{"$f":"IF(E249=\"C\",0,IF(E249 =\"D\",ROUND(1/((1+#REF!)^A249),9) * 2,ROUND(1/((1+#REF!)^A249),9)))","v":{"$error":"#REF!"}},{"$error":"#REF!"}]
[247,247,{"$error":"#REF!"},{"$error":"#REF!"},{"$f":"IF(ISERROR(MATCH(D250,#REF!,0))=FALSE,\"C\",IF(ISERROR(MATCH(D250,#REF!,0))=FALSE,\"D\",\"\"))","v":""},{"$f":"IF(E250=\"C\",0,IF(E250 =\"D\",ROUND(1/((1+#REF!)^A250),9) * 2,ROUND(1/((1+#REF!)^A250),9)))","v":{"$error":"#REF!"}},{"$error":"#REF!"}]
[248,248,{"$error":"#REF!"},{"$error":"#REF!"},{"$f":"IF(ISERROR(MATCH(D251,#REF!,0))=FALSE,\"C\",IF(ISERROR(MATCH(D251,#REF!,0))=FALSE,\"D\",\"\"))","v":""},{"$f":"IF(E251=\"C\",0,IF(E251 =\"D\",ROUND(1/((1+#REF!)^A251),9) * 2,ROUND(1/((1+#REF!)^A251),9)))","v":{"$error":"#REF!"}},{"$error":"#REF!"}]
[249,249,{"$error":"#REF!"},{"$error":"#REF!"},{"$f":"IF(ISERROR(MATCH(D252,#REF!,0))=FALSE,\"C\",IF(ISERROR(MATCH(D252,#REF!,0))=FALSE,\"D\",\"\"))","v":""},{"$f":"IF(E252=\"C\",0,IF(E252 =\"D\",ROUND(1/((1+#REF!)^A252),9) * 2,ROUND(1/((1+#REF!)^A252),9)))","v":{"$error":"#REF!"}},{"$error":"#REF!"}]
[250,250,{"$error":"#REF!"},{"$error":"#REF!"},{"$f":"IF(ISERROR(MATCH(D253,#REF!,0))=FALSE,\"C\",IF(ISERROR(MATCH(D253,#REF!,0))=FALSE,\"D\",\"\"))","v":""},{"$f":"IF(E253=\"C\",0,IF(E253 =\"D\",ROUND(1/((1+#REF!)^A253),9) * 2,ROUND(1/((1+#REF!)^A253),9)))","v":{"$error":"#REF!"}},{"$error":"#REF!"}]
[251,251,{"$error":"#REF!"},{"$error":"#REF!"},{"$f":"IF(ISERROR(MATCH(D254,#REF!,0))=FALSE,\"C\",IF(ISERROR(MATCH(D254,#REF!,0))=FALSE,\"D\",\"\"))","v":""},{"$f":"IF(E254=\"C\",0,IF(E254 =\"D\",ROUND(1/((1+#REF!)^A254),9) * 2,ROUND(1/((1+#REF!)^A254),9)))","v":{"$error":"#REF!"}},{"$error":"#REF!"}]
[252,252,{"$error":"#REF!"},{"$error":"#REF!"},{"$f":"IF(ISERROR(MATCH(D255,#REF!,0))=FALSE,\"C\",IF(ISERROR(MATCH(D255,#REF!,0))=FALSE,\"D\",\"\"))","v":""},{"$f":"IF(E255=\"C\",0,IF(E255 =\"D\",ROUND(1/((1+#REF!)^A255),9) * 2,ROUND(1/((1+#REF!)^A255),9)))","v":{"$error":"#REF!"}},{"$error":"#REF!"}]
[253,253,{"$error":"#REF!"},{"$error":"#REF!"},{"$f":"IF(ISERROR(MATCH(D256,#REF!,0))=FALSE,\"C\",IF(ISERROR(MATCH(D256,#REF!,0))=FALSE,\"D\",\"\"))","v":""},{"$f":"IF(E256=\"C\",0,IF(E256 =\"D\",ROUND(1/((1+#REF!)^A256),9) * 2,ROUND(1/((1+#REF!)^A256),9)))","v":{"$error":"#REF!"}},{"$error":"#REF!"}]
[254,254,{"$error":"#REF!"},{"$error":"#REF!"},{"$f":"IF(ISERROR(MATCH(D257,#REF!,0))=FALSE,\"C\",IF(ISERROR(MATCH(D257,#REF!,0))=FALSE,\"D\",\"\"))","v":""},{"$f":"IF(E257=\"C\",0,IF(E257 =\"D\",ROUND(1/((1+#REF!)^A257),9) * 2,ROUND(1/((1+#REF!)^A257),9)))","v":{"$error":"#REF!"}},{"$error":"#REF!"}]
[255,255,{"$error":"#REF!"},{"$error":"#REF!"},{"$f":"IF(ISERROR(MATCH(D258,#REF!,0))=FALSE,\"C\",IF(ISERROR(MATCH(D258,#REF!,0))=FALSE,\"D\",\"\"))","v":""},{"$f":"IF(E258=\"C\",0,IF(E258 =\"D\",ROUND(1/((1+#REF!)^A258),9) * 2,ROUND(1/((1+#REF!)^A258),9)))","v":{"$error":"#REF!"}},{"$error":"#REF!"}]
[256,256,{"$error":"#REF!"},{"$error":"#REF!"},{"$f":"IF(ISERROR(MATCH(D259,#REF!,0))=FALSE,\"C\",IF(ISERROR(MATCH(D259,#REF!,0))=FALSE,\"D\",\"\"))","v":""},{"$f":"IF(E259=\"C\",0,IF(E259 =\"D\",ROUND(1/((1+#REF!)^A259),9) * 2,ROUND(1/((1+#REF!)^A259),9)))","v":{"$error":"#REF!"}},{"$error":"#REF!"}]
[257,257,{"$error":"#REF!"},{"$error":"#REF!"},{"$f":"IF(ISERROR(MATCH(D260,#REF!,0))=FALSE,\"C\",IF(ISERROR(MATCH(D260,#REF!,0))=FALSE,\"D\",\"\"))","v":""},{"$f":"IF(E260=\"C\",0,IF(E260 =\"D\",ROUND(1/((1+#REF!)^A260),9) * 2,ROUND(1/((1+#REF!)^A260),9)))","v":{"$error":"#REF!"}},{"$error":"#REF!"}]
[{"$f":"A260+1","v":258},258,{"$f":"DATE(YEAR(C260) + 1/12,MONTH(C260)+1,DAY(C260))","v":{"$error":"#REF!"}},{"$error":"#REF!"},{"$f":"IF(ISERROR(MATCH(D261,#REF!,0))=FALSE,\"C\",IF(ISERROR(MATCH(D261,#REF!,0))=FALSE,\"D\",\"\"))","v":""},{"$f":"IF(E261=\"C\",0,IF(E261 =\"D\",ROUND(1/((1+#REF!)^A261),9) * 2,ROUND(1/((1+#REF!)^A261),9)))","v":{"$error":"#REF!"}},{"$error":"#REF!"}]
[259,259,{"$error":"#REF!"},{"$error":"#REF!"},{"$f":"IF(ISERROR(MATCH(D262,#REF!,0))=FALSE,\"C\",IF(ISERROR(MATCH(D262,#REF!,0))=FALSE,\"D\",\"\"))","v":""},{"$f":"IF(E262=\"C\",0,IF(E262 =\"D\",ROUND(1/((1+#REF!)^A262),9) * 2,ROUND(1/((1+#REF!)^A262),9)))","v":{"$error":"#REF!"}},{"$error":"#REF!"}]
[260,260,{"$error":"#REF!"},{"$error":"#REF!"},{"$f":"IF(ISERROR(MATCH(D263,#REF!,0))=FALSE,\"C\",IF(ISERROR(MATCH(D263,#REF!,0))=FALSE,\"D\",\"\"))","v":""},{"$f":"IF(E263=\"C\",0,IF(E263 =\"D\",ROUND(1/((1+#REF!)^A263),9) * 2,ROUND(1/((1+#REF!)^A263),9)))","v":{"$error":"#REF!"}},{"$error":"#REF!"}]
[261,261,{"$error":"#REF!"},{"$error":"#REF!"},{"$f":"IF(ISERROR(MATCH(D264,#REF!,0))=FALSE,\"C\",IF(ISERROR(MATCH(D264,#REF!,0))=FALSE,\"D\",\"\"))","v":""},{"$f":"IF(E264=\"C\",0,IF(E264 =\"D\",ROUND(1/((1+#REF!)^A264),9) * 2,ROUND(1/((1+#REF!)^A264),9)))","v":{"$error":"#REF!"}},{"$error":"#REF!"}]
[262,262,{"$error":"#REF!"},{"$error":"#REF!"},{"$f":"IF(ISERROR(MATCH(D265,#REF!,0))=FALSE,\"C\",IF(ISERROR(MATCH(D265,#REF!,0))=FALSE,\"D\",\"\"))","v":""},{"$f":"IF(E265=\"C\",0,IF(E265 =\"D\",ROUND(1/((1+#REF!)^A265),9) * 2,ROUND(1/((1+#REF!)^A265),9)))","v":{"$error":"#REF!"}},{"$error":"#REF!"}]
[263,263,{"$error":"#REF!"},{"$error":"#REF!"},{"$f":"IF(ISERROR(MATCH(D266,#REF!,0))=FALSE,\"C\",IF(ISERROR(MATCH(D266,#REF!,0))=FALSE,\"D\",\"\"))","v":""},{"$f":"IF(E266=\"C\",0,IF(E266 =\"D\",ROUND(1/((1+#REF!)^A266),9) * 2,ROUND(1/((1+#REF!)^A266),9)))","v":{"$error":"#REF!"}},{"$error":"#REF!"}]
[264,264,{"$error":"#REF!"},{"$error":"#REF!"},{"$f":"IF(ISERROR(MATCH(D267,#REF!,0))=FALSE,\"C\",IF(ISERROR(MATCH(D267,#REF!,0))=FALSE,\"D\",\"\"))","v":""},{"$f":"IF(E267=\"C\",0,IF(E267 =\"D\",ROUND(1/((1+#REF!)^A267),9) * 2,ROUND(1/((1+#REF!)^A267),9)))","v":{"$error":"#REF!"}},{"$error":"#REF!"}]
[265,265,{"$error":"#REF!"},{"$error":"#REF!"},{"$f":"IF(ISERROR(MATCH(D268,#REF!,0))=FALSE,\"C\",IF(ISERROR(MATCH(D268,#REF!,0))=FALSE,\"D\",\"\"))","v":""},{"$f":"IF(E268=\"C\",0,IF(E268 =\"D\",ROUND(1/((1+#REF!)^A268),9) * 2,ROUND(1/((1+#REF!)^A268),9)))","v":{"$error":"#REF!"}},{"$error":"#REF!"}]
[266,266,{"$error":"#REF!"},{"$error":"#REF!"},{"$f":"IF(ISERROR(MATCH(D269,#REF!,0))=FALSE,\"C\",IF(ISERROR(MATCH(D269,#REF!,0))=FALSE,\"D\",\"\"))","v":""},{"$f":"IF(E269=\"C\",0,IF(E269 =\"D\",ROUND(1/((1+#REF!)^A269),9) * 2,ROUND(1/((1+#REF!)^A269),9)))","v":{"$error":"#REF!"}},{"$error":"#REF!"}]
[267,267,{"$error":"#REF!"},{"$error":"#REF!"},{"$f":"IF(ISERROR(MATCH(D270,#REF!,0))=FALSE,\"C\",IF(ISERROR(MATCH(D270,#REF!,0))=FALSE,\"D\",\"\"))","v":""},{"$f":"IF(E270=\"C\",0,IF(E270 =\"D\",ROUND(1/((1+#REF!)^A270),9) * 2,ROUND(1/((1+#REF!)^A270),9)))","v":{"$error":"#REF!"}},{"$error":"#REF!"}]
[268,268,{"$error":"#REF!"},{"$error":"#REF!"},{"$f":"IF(ISERROR(MATCH(D271,#REF!,0))=FALSE,\"C\",IF(ISERROR(MATCH(D271,#REF!,0))=FALSE,\"D\",\"\"))","v":""},{"$f":"IF(E271=\"C\",0,IF(E271 =\"D\",ROUND(1/((1+#REF!)^A271),9) * 2,ROUND(1/((1+#REF!)^A271),9)))","v":{"$error":"#REF!"}},{"$error":"#REF!"}]
[269,269,{"$error":"#REF!"},{"$error":"#REF!"},{"$f":"IF(ISERROR(MATCH(D272,#REF!,0))=FALSE,\"C\",IF(ISERROR(MATCH(D272,#REF!,0))=FALSE,\"D\",\"\"))","v":""},{"$f":"IF(E272=\"C\",0,IF(E272 =\"D\",ROUND(1/((1+#REF!)^A272),9) * 2,ROUND(1/((1+#REF!)^A272),9)))","v":{"$error":"#REF!"}},{"$error":"#REF!"}]
[270,270,{"$error":"#REF!"},{"$error":"#REF!"},{"$f":"IF(ISERROR(MATCH(D273,#REF!,0))=FALSE,\"C\",IF(ISERROR(MATCH(D273,#REF!,0))=FALSE,\"D\",\"\"))","v":""},{"$f":"IF(E273=\"C\",0,IF(E273 =\"D\",ROUND(1/((1+#REF!)^A273),9) * 2,ROUND(1/((1+#REF!)^A273),9)))","v":{"$error":"#REF!"}},{"$error":"#REF!"}]
[271,271,{"$error":"#REF!"},{"$error":"#REF!"},{"$f":"IF(ISERROR(MATCH(D274,#REF!,0))=FALSE,\"C\",IF(ISERROR(MATCH(D274,#REF!,0))=FALSE,\"D\",\"\"))","v":""},{"$f":"IF(E274=\"C\",0,IF(E274 =\"D\",ROUND(1/((1+#REF!)^A274),9) * 2,ROUND(1/((1+#REF!)^A274),9)))","v":{"$error":"#REF!"}},{"$error":"#REF!"}]
[272,272,{"$error":"#REF!"},{"$error":"#REF!"},{"$f":"IF(ISERROR(MATCH(D275,#REF!,0))=FALSE,\"C\",IF(ISERROR(MATCH(D275,#REF!,0))=FALSE,\"D\",\"\"))","v":""},{"$f":"IF(E275=\"C\",0,IF(E275 =\"D\",ROUND(1/((1+#REF!)^A275),9) * 2,ROUND(1/((1+#REF!)^A275),9)))","v":{"$error":"#REF!"}},{"$error":"#REF!"}]
[273,273,{"$error":"#REF!"},{"$error":"#REF!"},{"$f":"IF(ISERROR(MATCH(D276,#REF!,0))=FALSE,\"C\",IF(ISERROR(MATCH(D276,#REF!,0))=FALSE,\"D\",\"\"))","v":""},{"$f":"IF(E276=\"C\",0,IF(E276 =\"D\",ROUND(1/((1+#REF!)^A276),9) * 2,ROUND(1/((1+#REF!)^A276),9)))","v":{"$error":"#REF!"}},{"$error":"#REF!"}]
[274,274,{"$error":"#REF!"},{"$error":"#REF!"},{"$f":"IF(ISERROR(MATCH(D277,#REF!,0))=FALSE,\"C\",IF(ISERROR(MATCH(D277,#REF!,0))=FALSE,\"D\",\"\"))","v":""},{"$f":"IF(E277=\"C\",0,IF(E277 =\"D\",ROUND(1/((1+#REF!)^A277),9) * 2,ROUND(1/((1+#REF!)^A277),9)))","v":{"$error":"#REF!"}},{"$error":"#REF!"}]
[275,275,{"$error":"#REF!"},{"$error":"#REF!"},{"$f":"IF(ISERROR(MATCH(D278,#REF!,0))=FALSE,\"C\",IF(ISERROR(MATCH(D278,#REF!,0))=FALSE,\"D\",\"\"))","v":""},{"$f":"IF(E278=\"C\",0,IF(E278 =\"D\",ROUND(1/((1+#REF!)^A278),9) * 2,ROUND(1/((1+#REF!)^A278),9)))","v":{"$error":"#REF!"}},{"$error":"#REF!"}]
[276,276,{"$error":"#REF!"},{"$error":"#REF!"},{"$f":"IF(ISERROR(MATCH(D279,#REF!,0))=FALSE,\"C\",IF(ISERROR(MATCH(D279,#REF!,0))=FALSE,\"D\",\"\"))","v":""},{"$f":"IF(E279=\"C\",0,IF(E279 =\"D\",ROUND(1/((1+#REF!)^A279),9) * 2,ROUND(1/((1+#REF!)^A279),9)))","v":{"$error":"#REF!"}},{"$error":"#REF!"}]
[277,277,{"$error":"#REF!"},{"$error":"#REF!"},{"$f":"IF(ISERROR(MATCH(D280,#REF!,0))=FALSE,\"C\",IF(ISERROR(MATCH(D280,#REF!,0))=FALSE,\"D\",\"\"))","v":""},{"$f":"IF(E280=\"C\",0,IF(E280 =\"D\",ROUND(1/((1+#REF!)^A280),9) * 2,ROUND(1/((1+#REF!)^A280),9)))","v":{"$error":"#REF!"}},{"$error":"#REF!"}]
[278,278,{"$error":"#REF!"},{"$error":"#REF!"},{"$f":"IF(ISERROR(MATCH(D281,#REF!,0))=FALSE,\"C\",IF(ISERROR(MATCH(D281,#REF!,0))=FALSE,\"D\",\"\"))","v":""},{"$f":"IF(E281=\"C\",0,IF(E281 =\"D\",ROUND(1/((1+#REF!)^A281),9) * 2,ROUND(1/((1+#REF!)^A281),9)))","v":{"$error":"#REF!"}},{"$error":"#REF!"}]
[279,279,{"$error":"#REF!"},{"$error":"#REF!"},{"$f":"IF(ISERROR(MATCH(D282,#REF!,0))=FALSE,\"C\",IF(ISERROR(MATCH(D282,#REF!,0))=FALSE,\"D\",\"\"))","v":""},{"$f":"IF(E282=\"C\",0,IF(E282 =\"D\",ROUND(1/((1+#REF!)^A282),9) * 2,ROUND(1/((1+#REF!)^A282),9)))","v":{"$error":"#REF!"}},{"$error":"#REF!"}]
[280,280,{"$error":"#REF!"},{"$error":"#REF!"},{"$f":"IF(ISERROR(MATCH(D283,#REF!,0))=FALSE,\"C\",IF(ISERROR(MATCH(D283,#REF!,0))=FALSE,\"D\",\"\"))","v":""},{"$f":"IF(E283=\"C\",0,IF(E283 =\"D\",ROUND(1/((1+#REF!)^A283),9) * 2,ROUND(1/((1+#REF!)^A283),9)))","v":{"$error":"#REF!"}},{"$error":"#REF!"}]
[281,281,{"$error":"#REF!"},{"$error":"#REF!"},{"$f":"IF(ISERROR(MATCH(D284,#REF!,0))=FALSE,\"C\",IF(ISERROR(MATCH(D284,#REF!,0))=FALSE,\"D\",\"\"))","v":""},{"$f":"IF(E284=\"C\",0,IF(E284 =\"D\",ROUND(1/((1+#REF!)^A284),9) * 2,ROUND(1/((1+#REF!)^A284),9)))","v":{"$error":"#REF!"}},{"$error":"#REF!"}]
[282,282,{"$error":"#REF!"},{"$error":"#REF!"},{"$f":"IF(ISERROR(MATCH(D285,#REF!,0))=FALSE,\"C\",IF(ISERROR(MATCH(D285,#REF!,0))=FALSE,\"D\",\"\"))","v":""},{"$f":"IF(E285=\"C\",0,IF(E285 =\"D\",ROUND(1/((1+#REF!)^A285),9) * 2,ROUND(1/((1+#REF!)^A285),9)))","v":{"$error":"#REF!"}},{"$error":"#REF!"}]
[283,283,{"$error":"#REF!"},{"$error":"#REF!"},{"$f":"IF(ISERROR(MATCH(D286,#REF!,0))=FALSE,\"C\",IF(ISERROR(MATCH(D286,#REF!,0))=FALSE,\"D\",\"\"))","v":""},{"$f":"IF(E286=\"C\",0,IF(E286 =\"D\",ROUND(1/((1+#REF!)^A286),9) * 2,ROUND(1/((1+#REF!)^A286),9)))","v":{"$error":"#REF!"}},{"$error":"#REF!"}]
[284,284,{"$error":"#REF!"},{"$error":"#REF!"},{"$f":"IF(ISERROR(MATCH(D287,#REF!,0))=FALSE,\"C\",IF(ISERROR(MATCH(D287,#REF!,0))=FALSE,\"D\",\"\"))","v":""},{"$f":"IF(E287=\"C\",0,IF(E287 =\"D\",ROUND(1/((1+#REF!)^A287),9) * 2,ROUND(1/((1+#REF!)^A287),9)))","v":{"$error":"#REF!"}},{"$error":"#REF!"}]
[285,285,{"$error":"#REF!"},{"$error":"#REF!"},{"$f":"IF(ISERROR(MATCH(D288,#REF!,0))=FALSE,\"C\",IF(ISERROR(MATCH(D288,#REF!,0))=FALSE,\"D\",\"\"))","v":""},{"$f":"IF(E288=\"C\",0,IF(E288 =\"D\",ROUND(1/((1+#REF!)^A288),9) * 2,ROUND(1/((1+#REF!)^A288),9)))","v":{"$error":"#REF!"}},{"$error":"#REF!"}]
[286,286,{"$error":"#REF!"},{"$error":"#REF!"},{"$f":"IF(ISERROR(MATCH(D289,#REF!,0))=FALSE,\"C\",IF(ISERROR(MATCH(D289,#REF!,0))=FALSE,\"D\",\"\"))","v":""},{"$f":"IF(E289=\"C\",0,IF(E289 =\"D\",ROUND(1/((1+#REF!)^A289),9) * 2,ROUND(1/((1+#REF!)^A289),9)))","v":{"$error":"#REF!"}},{"$error":"#REF!"}]
[287,287,{"$error":"#REF!"},{"$error":"#REF!"},{"$f":"IF(ISERROR(MATCH(D290,#REF!,0))=FALSE,\"C\",IF(ISERROR(MATCH(D290,#REF!,0))=FALSE,\"D\",\"\"))","v":""},{"$f":"IF(E290=\"C\",0,IF(E290 =\"D\",ROUND(1/((1+#REF!)^A290),9) * 2,ROUND(1/((1+#REF!)^A290),9)))","v":{"$error":"#REF!"}},{"$error":"#REF!"}]
[288,288,{"$error":"#REF!"},{"$error":"#REF!"},{"$f":"IF(ISERROR(MATCH(D291,#REF!,0))=FALSE,\"C\",IF(ISERROR(MATCH(D291,#REF!,0))=FALSE,\"D\",\"\"))","v":""},{"$f":"IF(E291=\"C\",0,IF(E291 =\"D\",ROUND(1/((1+#REF!)^A291),9) * 2,ROUND(1/((1+#REF!)^A291),9)))","v":{"$error":"#REF!"}},{"$error":"#REF!"}]
[289,{"$f":"IF(E292<>\"C\",IF(ISERROR(1+B291)=TRUE,1,1+B291),IF(ISNUMBER(B291),B291,1))","v":289},{"$error":"#REF!"},{"$f":"MONTH(C292)","v":{"$error":"#REF!"}},{"$f":"IF(ISERROR(MATCH(D292,#REF!,0))=FALSE,\"C\",IF(ISERROR(MATCH(D292,#REF!,0))=FALSE,\"D\",\"\"))","v":""},{"$f":"IF(E292=\"C\",0,IF(E292 =\"D\",ROUND(1/((1+#REF!)^A292),9) * 2,ROUND(1/((1+#REF!)^A292),9)))","v":{"$error":"#REF!"}},{"$f":"G291+ROUND(F292,9)","v":{"$error":"#REF!"}}]
[290,290,{"$error":"#REF!"},{"$error":"#REF!"},{"$f":"IF(ISERROR(MATCH(D293,#REF!,0))=FALSE,\"C\",IF(ISERROR(MATCH(D293,#REF!,0))=FALSE,\"D\",\"\"))","v":""},{"$f":"IF(E293=\"C\",0,IF(E293 =\"D\",ROUND(1/((1+#REF!)^A293),9) * 2,ROUND(1/((1+#REF!)^A293),9)))","v":{"$error":"#REF!"}},{"$error":"#REF!"}]
[291,291,{"$error":"#REF!"},{"$error":"#REF!"},{"$f":"IF(ISERROR(MATCH(D294,#REF!,0))=FALSE,\"C\",IF(ISERROR(MATCH(D294,#REF!,0))=FALSE,\"D\",\"\"))","v":""},{"$f":"IF(E294=\"C\",0,IF(E294 =\"D\",ROUND(1/((1+#REF!)^A294),9) * 2,ROUND(1/((1+#REF!)^A294),9)))","v":{"$error":"#REF!"}},{"$error":"#REF!"}]
[292,292,{"$error":"#REF!"},{"$error":"#REF!"},{"$f":"IF(ISERROR(MATCH(D295,#REF!,0))=FALSE,\"C\",IF(ISERROR(MATCH(D295,#REF!,0))=FALSE,\"D\",\"\"))","v":""},{"$f":"IF(E295=\"C\",0,IF(E295 =\"D\",ROUND(1/((1+#REF!)^A295),9) * 2,ROUND(1/((1+#REF!)^A295),9)))","v":{"$error":"#REF!"}},{"$error":"#REF!"}]
[293,293,{"$error":"#REF!"},{"$error":"#REF!"},{"$f":"IF(ISERROR(MATCH(D296,#REF!,0))=FALSE,\"C\",IF(ISERROR(MATCH(D296,#REF!,0))=FALSE,\"D\",\"\"))","v":""},{"$f":"IF(E296=\"C\",0,IF(E296 =\"D\",ROUND(1/((1+#REF!)^A296),9) * 2,ROUND(1/((1+#REF!)^A296),9)))","v":{"$error":"#REF!"}},{"$error":"#REF!"}]
[294,294,{"$error":"#REF!"},{"$error":"#REF!"},{"$f":"IF(ISERROR(MATCH(D297,#REF!,0))=FALSE,\"C\",IF(ISERROR(MATCH(D297,#REF!,0))=FALSE,\"D\",\"\"))","v":""},{"$f":"IF(E297=\"C\",0,IF(E297 =\"D\",ROUND(1/((1+#REF!)^A297),9) * 2,ROUND(1/((1+#REF!)^A297),9)))","v":{"$error":"#REF!"}},{"$error":"#REF!"}]
[295,295,{"$error":"#REF!"},{"$error":"#REF!"},{"$f":"IF(ISERROR(MATCH(D298,#REF!,0))=FALSE,\"C\",IF(ISERROR(MATCH(D298,#REF!,0))=FALSE,\"D\",\"\"))","v":""},{"$f":"IF(E298=\"C\",0,IF(E298 =\"D\",ROUND(1/((1+#REF!)^A298),9) * 2,ROUND(1/((1+#REF!)^A298),9)))","v":{"$error":"#REF!"}},{"$error":"#REF!"}]
[296,296,{"$error":"#REF!"},{"$error":"#REF!"},{"$f":"IF(ISERROR(MATCH(D299,#REF!,0))=FALSE,\"C\",IF(ISERROR(MATCH(D299,#REF!,0))=FALSE,\"D\",\"\"))","v":""},{"$f":"IF(E299=\"C\",0,IF(E299 =\"D\",ROUND(1/((1+#REF!)^A299),9) * 2,ROUND(1/((1+#REF!)^A299),9)))","v":{"$error":"#REF!"}},{"$error":"#REF!"}]
[297,297,{"$error":"#REF!"},{"$error":"#REF!"},{"$f":"IF(ISERROR(MATCH(D300,#REF!,0))=FALSE,\"C\",IF(ISERROR(MATCH(D300,#REF!,0))=FALSE,\"D\",\"\"))","v":""},{"$f":"IF(E300=\"C\",0,IF(E300 =\"D\",ROUND(1/((1+#REF!)^A300),9) * 2,ROUND(1/((1+#REF!)^A300),9)))","v":{"$error":"#REF!"}},{"$error":"#REF!"}]
[298,298,{"$error":"#REF!"},{"$error":"#REF!"},{"$f":"IF(ISERROR(MATCH(D301,#REF!,0))=FALSE,\"C\",IF(ISERROR(MATCH(D301,#REF!,0))=FALSE,\"D\",\"\"))","v":""},{"$f":"IF(E301=\"C\",0,IF(E301 =\"D\",ROUND(1/((1+#REF!)^A301),9) * 2,ROUND(1/((1+#REF!)^A301),9)))","v":{"$error":"#REF!"}},{"$error":"#REF!"}]
[299,299,{"$error":"#REF!"},{"$error":"#REF!"},{"$f":"IF(ISERROR(MATCH(D302,#REF!,0))=FALSE,\"C\",IF(ISERROR(MATCH(D302,#REF!,0))=FALSE,\"D\",\"\"))","v":""},{"$f":"IF(E302=\"C\",0,IF(E302 =\"D\",ROUND(1/((1+#REF!)^A302),9) * 2,ROUND(1/((1+#REF!)^A302),9)))","v":{"$error":"#REF!"}},{"$error":"#REF!"}]
[300,300,{"$error":"#REF!"},{"$error":"#REF!"},{"$f":"IF(ISERROR(MATCH(D303,#REF!,0))=FALSE,\"C\",IF(ISERROR(MATCH(D303,#REF!,0))=FALSE,\"D\",\"\"))","v":""},{"$f":"IF(E303=\"C\",0,IF(E303 =\"D\",ROUND(1/((1+#REF!)^A303),9) * 2,ROUND(1/((1+#REF!)^A303),9)))","v":{"$error":"#REF!"}},{"$error":"#REF!"}]
[301,301,{"$error":"#REF!"},{"$error":"#REF!"},{"$f":"IF(ISERROR(MATCH(D304,#REF!,0))=FALSE,\"C\",IF(ISERROR(MATCH(D304,#REF!,0))=FALSE,\"D\",\"\"))","v":""},{"$f":"IF(E304=\"C\",0,IF(E304 =\"D\",ROUND(1/((1+#REF!)^A304),9) * 2,ROUND(1/((1+#REF!)^A304),9)))","v":{"$error":"#REF!"}},{"$error":"#REF!"}]
[302,302,{"$error":"#REF!"},{"$error":"#REF!"},{"$f":"IF(ISERROR(MATCH(D305,#REF!,0))=FALSE,\"C\",IF(ISERROR(MATCH(D305,#REF!,0))=FALSE,\"D\",\"\"))","v":""},{"$f":"IF(E305=\"C\",0,IF(E305 =\"D\",ROUND(1/((1+#REF!)^A305),9) * 2,ROUND(1/((1+#REF!)^A305),9)))","v":{"$error":"#REF!"}},{"$error":"#REF!"}]
[303,303,{"$error":"#REF!"},{"$error":"#REF!"},{"$f":"IF(ISERROR(MATCH(D306,#REF!,0))=FALSE,\"C\",IF(ISERROR(MATCH(D306,#REF!,0))=FALSE,\"D\",\"\"))","v":""},{"$f":"IF(E306=\"C\",0,IF(E306 =\"D\",ROUND(1/((1+#REF!)^A306),9) * 2,ROUND(1/((1+#REF!)^A306),9)))","v":{"$error":"#REF!"}},{"$error":"#REF!"}]
[304,304,{"$error":"#REF!"},{"$error":"#REF!"},{"$f":"IF(ISERROR(MATCH(D307,#REF!,0))=FALSE,\"C\",IF(ISERROR(MATCH(D307,#REF!,0))=FALSE,\"D\",\"\"))","v":""},{"$f":"IF(E307=\"C\",0,IF(E307 =\"D\",ROUND(1/((1+#REF!)^A307),9) * 2,ROUND(1/((1+#REF!)^A307),9)))","v":{"$error":"#REF!"}},{"$error":"#REF!"}]
[305,305,{"$error":"#REF!"},{"$error":"#REF!"},{"$f":"IF(ISERROR(MATCH(D308,#REF!,0))=FALSE,\"C\",IF(ISERROR(MATCH(D308,#REF!,0))=FALSE,\"D\",\"\"))","v":""},{"$f":"IF(E308=\"C\",0,IF(E308 =\"D\",ROUND(1/((1+#REF!)^A308),9) * 2,ROUND(1/((1+#REF!)^A308),9)))","v":{"$error":"#REF!"}},{"$error":"#REF!"}]
[306,306,{"$error":"#REF!"},{"$error":"#REF!"},{"$f":"IF(ISERROR(MATCH(D309,#REF!,0))=FALSE,\"C\",IF(ISERROR(MATCH(D309,#REF!,0))=FALSE,\"D\",\"\"))","v":""},{"$f":"IF(E309=\"C\",0,IF(E309 =\"D\",ROUND(1/((1+#REF!)^A309),9) * 2,ROUND(1/((1+#REF!)^A309),9)))","v":{"$error":"#REF!"}},{"$error":"#REF!"}]
[307,307,{"$error":"#REF!"},{"$error":"#REF!"},{"$f":"IF(ISERROR(MATCH(D310,#REF!,0))=FALSE,\"C\",IF(ISERROR(MATCH(D310,#REF!,0))=FALSE,\"D\",\"\"))","v":""},{"$f":"IF(E310=\"C\",0,IF(E310 =\"D\",ROUND(1/((1+#REF!)^A310),9) * 2,ROUND(1/((1+#REF!)^A310),9)))","v":{"$error":"#REF!"}},{"$error":"#REF!"}]
[308,308,{"$error":"#REF!"},{"$error":"#REF!"},{"$f":"IF(ISERROR(MATCH(D311,#REF!,0))=FALSE,\"C\",IF(ISERROR(MATCH(D311,#REF!,0))=FALSE,\"D\",\"\"))","v":""},{"$f":"IF(E311=\"C\",0,IF(E311 =\"D\",ROUND(1/((1+#REF!)^A311),9) * 2,ROUND(1/((1+#REF!)^A311),9)))","v":{"$error":"#REF!"}},{"$error":"#REF!"}]
[309,309,{"$error":"#REF!"},{"$error":"#REF!"},{"$f":"IF(ISERROR(MATCH(D312,#REF!,0))=FALSE,\"C\",IF(ISERROR(MATCH(D312,#REF!,0))=FALSE,\"D\",\"\"))","v":""},{"$f":"IF(E312=\"C\",0,IF(E312 =\"D\",ROUND(1/((1+#REF!)^A312),9) * 2,ROUND(1/((1+#REF!)^A312),9)))","v":{"$error":"#REF!"}},{"$error":"#REF!"}]
[310,310,{"$error":"#REF!"},{"$error":"#REF!"},{"$f":"IF(ISERROR(MATCH(D313,#REF!,0))=FALSE,\"C\",IF(ISERROR(MATCH(D313,#REF!,0))=FALSE,\"D\",\"\"))","v":""},{"$f":"IF(E313=\"C\",0,IF(E313 =\"D\",ROUND(1/((1+#REF!)^A313),9) * 2,ROUND(1/((1+#REF!)^A313),9)))","v":{"$error":"#REF!"}},{"$error":"#REF!"}]
[311,311,{"$error":"#REF!"},{"$error":"#REF!"},{"$f":"IF(ISERROR(MATCH(D314,#REF!,0))=FALSE,\"C\",IF(ISERROR(MATCH(D314,#REF!,0))=FALSE,\"D\",\"\"))","v":""},{"$f":"IF(E314=\"C\",0,IF(E314 =\"D\",ROUND(1/((1+#REF!)^A314),9) * 2,ROUND(1/((1+#REF!)^A314),9)))","v":{"$error":"#REF!"}},{"$error":"#REF!"}]
[312,312,{"$error":"#REF!"},{"$error":"#REF!"},{"$f":"IF(ISERROR(MATCH(D315,#REF!,0))=FALSE,\"C\",IF(ISERROR(MATCH(D315,#REF!,0))=FALSE,\"D\",\"\"))","v":""},{"$f":"IF(E315=\"C\",0,IF(E315 =\"D\",ROUND(1/((1+#REF!)^A315),9) * 2,ROUND(1/((1+#REF!)^A315),9)))","v":{"$error":"#REF!"}},{"$error":"#REF!"}]
[313,313,{"$error":"#REF!"},{"$error":"#REF!"},{"$f":"IF(ISERROR(MATCH(D316,#REF!,0))=FALSE,\"C\",IF(ISERROR(MATCH(D316,#REF!,0))=FALSE,\"D\",\"\"))","v":""},{"$f":"IF(E316=\"C\",0,IF(E316 =\"D\",ROUND(1/((1+#REF!)^A316),9) * 2,ROUND(1/((1+#REF!)^A316),9)))","v":{"$error":"#REF!"}},{"$error":"#REF!"}]
[314,314,{"$error":"#REF!"},{"$error":"#REF!"},{"$f":"IF(ISERROR(MATCH(D317,#REF!,0))=FALSE,\"C\",IF(ISERROR(MATCH(D317,#REF!,0))=FALSE,\"D\",\"\"))","v":""},{"$f":"IF(E317=\"C\",0,IF(E317 =\"D\",ROUND(1/((1+#REF!)^A317),9) * 2,ROUND(1/((1+#REF!)^A317),9)))","v":{"$error":"#REF!"}},{"$error":"#REF!"}]
[315,315,{"$error":"#REF!"},{"$error":"#REF!"},{"$f":"IF(ISERROR(MATCH(D318,#REF!,0))=FALSE,\"C\",IF(ISERROR(MATCH(D318,#REF!,0))=FALSE,\"D\",\"\"))","v":""},{"$f":"IF(E318=\"C\",0,IF(E318 =\"D\",ROUND(1/((1+#REF!)^A318),9) * 2,ROUND(1/((1+#REF!)^A318),9)))","v":{"$error":"#REF!"}},{"$error":"#REF!"}]
[316,316,{"$error":"#REF!"},{"$error":"#REF!"},{"$f":"IF(ISERROR(MATCH(D319,#REF!,0))=FALSE,\"C\",IF(ISERROR(MATCH(D319,#REF!,0))=FALSE,\"D\",\"\"))","v":""},{"$f":"IF(E319=\"C\",0,IF(E319 =\"D\",ROUND(1/((1+#REF!)^A319),9) * 2,ROUND(1/((1+#REF!)^A319),9)))","v":{"$error":"#REF!"}},{"$error":"#REF!"}]
[317,317,{"$error":"#REF!"},{"$error":"#REF!"},{"$f":"IF(ISERROR(MATCH(D320,#REF!,0))=FALSE,\"C\",IF(ISERROR(MATCH(D320,#REF!,0))=FALSE,\"D\",\"\"))","v":""},{"$f":"IF(E320=\"C\",0,IF(E320 =\"D\",ROUND(1/((1+#REF!)^A320),9) * 2,ROUND(1/((1+#REF!)^A320),9)))","v":{"$error":"#REF!"}},{"$error":"#REF!"}]
[318,318,{"$error":"#REF!"},{"$error":"#REF!"},{"$f":"IF(ISERROR(MATCH(D321,#REF!,0))=FALSE,\"C\",IF(ISERROR(MATCH(D321,#REF!,0))=FALSE,\"D\",\"\"))","v":""},{"$f":"IF(E321=\"C\",0,IF(E321 =\"D\",ROUND(1/((1+#REF!)^A321),9) * 2,ROUND(1/((1+#REF!)^A321),9)))","v":{"$error":"#REF!"}},{"$error":"#REF!"}]
[319,319,{"$error":"#REF!"},{"$error":"#REF!"},{"$f":"IF(ISERROR(MATCH(D322,#REF!,0))=FALSE,\"C\",IF(ISERROR(MATCH(D322,#REF!,0))=FALSE,\"D\",\"\"))","v":""},{"$f":"IF(E322=\"C\",0,IF(E322 =\"D\",ROUND(1/((1+#REF!)^A322),9) * 2,ROUND(1/((1+#REF!)^A322),9)))","v":{"$error":"#REF!"}},{"$error":"#REF!"}]
[320,320,{"$error":"#REF!"},{"$error":"#REF!"},{"$f":"IF(ISERROR(MATCH(D323,#REF!,0))=FALSE,\"C\",IF(ISERROR(MATCH(D323,#REF!,0))=FALSE,\"D\",\"\"))","v":""},{"$f":"IF(E323=\"C\",0,IF(E323 =\"D\",ROUND(1/((1+#REF!)^A323),9) * 2,ROUND(1/((1+#REF!)^A323),9)))","v":{"$error":"#REF!"}},{"$error":"#REF!"}]
[321,321,{"$error":"#REF!"},{"$error":"#REF!"},{"$f":"IF(ISERROR(MATCH(D324,#REF!,0))=FALSE,\"C\",IF(ISERROR(MATCH(D324,#REF!,0))=FALSE,\"D\",\"\"))","v":""},{"$f":"IF(E324=\"C\",0,IF(E324 =\"D\",ROUND(1/((1+#REF!)^A324),9) * 2,ROUND(1/((1+#REF!)^A324),9)))","v":{"$error":"#REF!"}},{"$error":"#REF!"}]
[{"$f":"A324+1","v":322},322,{"$f":"DATE(YEAR(C324) + 1/12,MONTH(C324)+1,DAY(C324))","v":{"$error":"#REF!"}},{"$error":"#REF!"},{"$f":"IF(ISERROR(MATCH(D325,#REF!,0))=FALSE,\"C\",IF(ISERROR(MATCH(D325,#REF!,0))=FALSE,\"D\",\"\"))","v":""},{"$f":"IF(E325=\"C\",0,IF(E325 =\"D\",ROUND(1/((1+#REF!)^A325),9) * 2,ROUND(1/((1+#REF!)^A325),9)))","v":{"$error":"#REF!"}},{"$error":"#REF!"}]
[323,323,{"$error":"#REF!"},{"$error":"#REF!"},{"$f":"IF(ISERROR(MATCH(D326,#REF!,0))=FALSE,\"C\",IF(ISERROR(MATCH(D326,#REF!,0))=FALSE,\"D\",\"\"))","v":""},{"$f":"IF(E326=\"C\",0,IF(E326 =\"D\",ROUND(1/((1+#REF!)^A326),9) * 2,ROUND(1/((1+#REF!)^A326),9)))","v":{"$error":"#REF!"}},{"$error":"#REF!"}]
[324,324,{"$error":"#REF!"},{"$error":"#REF!"},{"$f":"IF(ISERROR(MATCH(D327,#REF!,0))=FALSE,\"C\",IF(ISERROR(MATCH(D327,#REF!,0))=FALSE,\"D\",\"\"))","v":""},{"$f":"IF(E327=\"C\",0,IF(E327 =\"D\",ROUND(1/((1+#REF!)^A327),9) * 2,ROUND(1/((1+#REF!)^A327),9)))","v":{"$error":"#REF!"}},{"$error":"#REF!"}]
[325,325,{"$error":"#REF!"},{"$error":"#REF!"},{"$f":"IF(ISERROR(MATCH(D328,#REF!,0))=FALSE,\"C\",IF(ISERROR(MATCH(D328,#REF!,0))=FALSE,\"D\",\"\"))","v":""},{"$f":"IF(E328=\"C\",0,IF(E328 =\"D\",ROUND(1/((1+#REF!)^A328),9) * 2,ROUND(1/((1+#REF!)^A328),9)))","v":{"$error":"#REF!"}},{"$error":"#REF!"}]
[326,326,{"$error":"#REF!"},{"$error":"#REF!"},{"$f":"IF(ISERROR(MATCH(D329,#REF!,0))=FALSE,\"C\",IF(ISERROR(MATCH(D329,#REF!,0))=FALSE,\"D\",\"\"))","v":""},{"$f":"IF(E329=\"C\",0,IF(E329 =\"D\",ROUND(1/((1+#REF!)^A329),9) * 2,ROUND(1/((1+#REF!)^A329),9)))","v":{"$error":"#REF!"}},{"$error":"#REF!"}]
[327,327,{"$error":"#REF!"},{"$error":"#REF!"},{"$f":"IF(ISERROR(MATCH(D330,#REF!,0))=FALSE,\"C\",IF(ISERROR(MATCH(D330,#REF!,0))=FALSE,\"D\",\"\"))","v":""},{"$f":"IF(E330=\"C\",0,IF(E330 =\"D\",ROUND(1/((1+#REF!)^A330),9) * 2,ROUND(1/((1+#REF!)^A330),9)))","v":{"$error":"#REF!"}},{"$error":"#REF!"}]
[328,328,{"$error":"#REF!"},{"$error":"#REF!"},{"$f":"IF(ISERROR(MATCH(D331,#REF!,0))=FALSE,\"C\",IF(ISERROR(MATCH(D331,#REF!,0))=FALSE,\"D\",\"\"))","v":""},{"$f":"IF(E331=\"C\",0,IF(E331 =\"D\",ROUND(1/((1+#REF!)^A331),9) * 2,ROUND(1/((1+#REF!)^A331),9)))","v":{"$error":"#REF!"}},{"$error":"#REF!"}]
[329,329,{"$error":"#REF!"},{"$error":"#REF!"},{"$f":"IF(ISERROR(MATCH(D332,#REF!,0))=FALSE,\"C\",IF(ISERROR(MATCH(D332,#REF!,0))=FALSE,\"D\",\"\"))","v":""},{"$f":"IF(E332=\"C\",0,IF(E332 =\"D\",ROUND(1/((1+#REF!)^A332),9) * 2,ROUND(1/((1+#REF!)^A332),9)))","v":{"$error":"#REF!"}},{"$error":"#REF!"}]
[330,330,{"$error":"#REF!"},{"$error":"#REF!"},{"$f":"IF(ISERROR(MATCH(D333,#REF!,0))=FALSE,\"C\",IF(ISERROR(MATCH(D333,#REF!,0))=FALSE,\"D\",\"\"))","v":""},{"$f":"IF(E333=\"C\",0,IF(E333 =\"D\",ROUND(1/((1+#REF!)^A333),9) * 2,ROUND(1/((1+#REF!)^A333),9)))","v":{"$error":"#REF!"}},{"$error":"#REF!"}]
[331,331,{"$error":"#REF!"},{"$error":"#REF!"},{"$f":"IF(ISERROR(MATCH(D334,#REF!,0))=FALSE,\"C\",IF(ISERROR(MATCH(D334,#REF!,0))=FALSE,\"D\",\"\"))","v":""},{"$f":"IF(E334=\"C\",0,IF(E334 =\"D\",ROUND(1/((1+#REF!)^A334),9) * 2,ROUND(1/((1+#REF!)^A334),9)))","v":{"$error":"#REF!"}},{"$error":"#REF!"}]
[332,332,{"$error":"#REF!"},{"$error":"#REF!"},{"$f":"IF(ISERROR(MATCH(D335,#REF!,0))=FALSE,\"C\",IF(ISERROR(MATCH(D335,#REF!,0))=FALSE,\"D\",\"\"))","v":""},{"$f":"IF(E335=\"C\",0,IF(E335 =\"D\",ROUND(1/((1+#REF!)^A335),9) * 2,ROUND(1/((1+#REF!)^A335),9)))","v":{"$error":"#REF!"}},{"$error":"#REF!"}]
[333,333,{"$error":"#REF!"},{"$error":"#REF!"},{"$f":"IF(ISERROR(MATCH(D336,#REF!,0))=FALSE,\"C\",IF(ISERROR(MATCH(D336,#REF!,0))=FALSE,\"D\",\"\"))","v":""},{"$f":"IF(E336=\"C\",0,IF(E336 =\"D\",ROUND(1/((1+#REF!)^A336),9) * 2,ROUND(1/((1+#REF!)^A336),9)))","v":{"$error":"#REF!"}},{"$error":"#REF!"}]
[334,334,{"$error":"#REF!"},{"$error":"#REF!"},{"$f":"IF(ISERROR(MATCH(D337,#REF!,0))=FALSE,\"C\",IF(ISERROR(MATCH(D337,#REF!,0))=FALSE,\"D\",\"\"))","v":""},{"$f":"IF(E337=\"C\",0,IF(E337 =\"D\",ROUND(1/((1+#REF!)^A337),9) * 2,ROUND(1/((1+#REF!)^A337),9)))","v":{"$error":"#REF!"}},{"$error":"#REF!"}]
[335,335,{"$error":"#REF!"},{"$error":"#REF!"},{"$f":"IF(ISERROR(MATCH(D338,#REF!,0))=FALSE,\"C\",IF(ISERROR(MATCH(D338,#REF!,0))=FALSE,\"D\",\"\"))","v":""},{"$f":"IF(E338=\"C\",0,IF(E338 =\"D\",ROUND(1/((1+#REF!)^A338),9) * 2,ROUND(1/((1+#REF!)^A338),9)))","v":{"$error":"#REF!"}},{"$error":"#REF!"}]
[336,336,{"$error":"#REF!"},{"$error":"#REF!"},{"$f":"IF(ISERROR(MATCH(D339,#REF!,0))=FALSE,\"C\",IF(ISERROR(MATCH(D339,#REF!,0))=FALSE,\"D\",\"\"))","v":""},{"$f":"IF(E339=\"C\",0,IF(E339 =\"D\",ROUND(1/((1+#REF!)^A339),9) * 2,ROUND(1/((1+#REF!)^A339),9)))","v":{"$error":"#REF!"}},{"$error":"#REF!"}]
[337,337,{"$error":"#REF!"},{"$error":"#REF!"},{"$f":"IF(ISERROR(MATCH(D340,#REF!,0))=FALSE,\"C\",IF(ISERROR(MATCH(D340,#REF!,0))=FALSE,\"D\",\"\"))","v":""},{"$f":"IF(E340=\"C\",0,IF(E340 =\"D\",ROUND(1/((1+#REF!)^A340),9) * 2,ROUND(1/((1+#REF!)^A340),9)))","v":{"$error":"#REF!"}},{"$error":"#REF!"}]
[338,338,{"$error":"#REF!"},{"$error":"#REF!"},{"$f":"IF(ISERROR(MATCH(D341,#REF!,0))=FALSE,\"C\",IF(ISERROR(MATCH(D341,#REF!,0))=FALSE,\"D\",\"\"))","v":""},{"$f":"IF(E341=\"C\",0,IF(E341 =\"D\",ROUND(1/((1+#REF!)^A341),9) * 2,ROUND(1/((1+#REF!)^A341),9)))","v":{"$error":"#REF!"}},{"$error":"#REF!"}]
[339,339,{"$error":"#REF!"},{"$error":"#REF!"},{"$f":"IF(ISERROR(MATCH(D342,#REF!,0))=FALSE,\"C\",IF(ISERROR(MATCH(D342,#REF!,0))=FALSE,\"D\",\"\"))","v":""},{"$f":"IF(E342=\"C\",0,IF(E342 =\"D\",ROUND(1/((1+#REF!)^A342),9) * 2,ROUND(1/((1+#REF!)^A342),9)))","v":{"$error":"#REF!"}},{"$error":"#REF!"}]
[340,340,{"$error":"#REF!"},{"$error":"#REF!"},{"$f":"IF(ISERROR(MATCH(D343,#REF!,0))=FALSE,\"C\",IF(ISERROR(MATCH(D343,#REF!,0))=FALSE,\"D\",\"\"))","v":""},{"$f":"IF(E343=\"C\",0,IF(E343 =\"D\",ROUND(1/((1+#REF!)^A343),9) * 2,ROUND(1/((1+#REF!)^A343),9)))","v":{"$error":"#REF!"}},{"$error":"#REF!"}]
[341,341,{"$error":"#REF!"},{"$error":"#REF!"},{"$f":"IF(ISERROR(MATCH(D344,#REF!,0))=FALSE,\"C\",IF(ISERROR(MATCH(D344,#REF!,0))=FALSE,\"D\",\"\"))","v":""},{"$f":"IF(E344=\"C\",0,IF(E344 =\"D\",ROUND(1/((1+#REF!)^A344),9) * 2,ROUND(1/((1+#REF!)^A344),9)))","v":{"$error":"#REF!"}},{"$error":"#REF!"}]
[342,342,{"$error":"#REF!"},{"$error":"#REF!"},{"$f":"IF(ISERROR(MATCH(D345,#REF!,0))=FALSE,\"C\",IF(ISERROR(MATCH(D345,#REF!,0))=FALSE,\"D\",\"\"))","v":""},{"$f":"IF(E345=\"C\",0,IF(E345 =\"D\",ROUND(1/((1+#REF!)^A345),9) * 2,ROUND(1/((1+#REF!)^A345),9)))","v":{"$error":"#REF!"}},{"$error":"#REF!"}]
[343,343,{"$error":"#REF!"},{"$error":"#REF!"},{"$f":"IF(ISERROR(MATCH(D346,#REF!,0))=FALSE,\"C\",IF(ISERROR(MATCH(D346,#REF!,0))=FALSE,\"D\",\"\"))","v":""},{"$f":"IF(E346=\"C\",0,IF(E346 =\"D\",ROUND(1/((1+#REF!)^A346),9) * 2,ROUND(1/((1+#REF!)^A346),9)))","v":{"$error":"#REF!"}},{"$error":"#REF!"}]
[344,344,{"$error":"#REF!"},{"$error":"#REF!"},{"$f":"IF(ISERROR(MATCH(D347,#REF!,0))=FALSE,\"C\",IF(ISERROR(MATCH(D347,#REF!,0))=FALSE,\"D\",\"\"))","v":""},{"$f":"IF(E347=\"C\",0,IF(E347 =\"D\",ROUND(1/((1+#REF!)^A347),9) * 2,ROUND(1/((1+#REF!)^A347),9)))","v":{"$error":"#REF!"}},{"$error":"#REF!"}]
[345,345,{"$error":"#REF!"},{"$error":"#REF!"},{"$f":"IF(ISERROR(MATCH(D348,#REF!,0))=FALSE,\"C\",IF(ISERROR(MATCH(D348,#REF!,0))=FALSE,\"D\",\"\"))","v":""},{"$f":"IF(E348=\"C\",0,IF(E348 =\"D\",ROUND(1/((1+#REF!)^A348),9) * 2,ROUND(1/((1+#REF!)^A348),9)))","v":{"$error":"#REF!"}},{"$error":"#REF!"}]
[346,346,{"$error":"#REF!"},{"$error":"#REF!"},{"$f":"IF(ISERROR(MATCH(D349,#REF!,0))=FALSE,\"C\",IF(ISERROR(MATCH(D349,#REF!,0))=FALSE,\"D\",\"\"))","v":""},{"$f":"IF(E349=\"C\",0,IF(E349 =\"D\",ROUND(1/((1+#REF!)^A349),9) * 2,ROUND(1/((1+#REF!)^A349),9)))","v":{"$error":"#REF!"}},{"$error":"#REF!"}]
[347,347,{"$error":"#REF!"},{"$error":"#REF!"},{"$f":"IF(ISERROR(MATCH(D350,#REF!,0))=FALSE,\"C\",IF(ISERROR(MATCH(D350,#REF!,0))=FALSE,\"D\",\"\"))","v":""},{"$f":"IF(E350=\"C\",0,IF(E350 =\"D\",ROUND(1/((1+#REF!)^A350),9) * 2,ROUND(1/((1+#REF!)^A350),9)))","v":{"$error":"#REF!"}},{"$error":"#REF!"}]
[348,348,{"$error":"#REF!"},{"$error":"#REF!"},{"$f":"IF(ISERROR(MATCH(D351,#REF!,0))=FALSE,\"C\",IF(ISERROR(MATCH(D351,#REF!,0))=FALSE,\"D\",\"\"))","v":""},{"$f":"IF(E351=\"C\",0,IF(E351 =\"D\",ROUND(1/((1+#REF!)^A351),9) * 2,ROUND(1/((1+#REF!)^A351),9)))","v":{"$error":"#REF!"}},{"$error":"#REF!"}]
[349,349,{"$error":"#REF!"},{"$error":"#REF!"},{"$f":"IF(ISERROR(MATCH(D352,#REF!,0))=FALSE,\"C\",IF(ISERROR(MATCH(D352,#REF!,0))=FALSE,\"D\",\"\"))","v":""},{"$f":"IF(E352=\"C\",0,IF(E352 =\"D\",ROUND(1/((1+#REF!)^A352),9) * 2,ROUND(1/((1+#REF!)^A352),9)))","v":{"$error":"#REF!"}},{"$error":"#REF!"}]
[350,350,{"$error":"#REF!"},{"$error":"#REF!"},{"$f":"IF(ISERROR(MATCH(D353,#REF!,0))=FALSE,\"C\",IF(ISERROR(MATCH(D353,#REF!,0))=FALSE,\"D\",\"\"))","v":""},{"$f":"IF(E353=\"C\",0,IF(E353 =\"D\",ROUND(1/((1+#REF!)^A353),9) * 2,ROUND(1/((1+#REF!)^A353),9)))","v":{"$error":"#REF!"}},{"$error":"#REF!"}]
[351,351,{"$error":"#REF!"},{"$error":"#REF!"},{"$f":"IF(ISERROR(MATCH(D354,#REF!,0))=FALSE,\"C\",IF(ISERROR(MATCH(D354,#REF!,0))=FALSE,\"D\",\"\"))","v":""},{"$f":"IF(E354=\"C\",0,IF(E354 =\"D\",ROUND(1/((1+#REF!)^A354),9) * 2,ROUND(1/((1+#REF!)^A354),9)))","v":{"$error":"#REF!"}},{"$error":"#REF!"}]
[352,352,{"$error":"#REF!"},{"$error":"#REF!"},{"$f":"IF(ISERROR(MATCH(D355,#REF!,0))=FALSE,\"C\",IF(ISERROR(MATCH(D355,#REF!,0))=FALSE,\"D\",\"\"))","v":""},{"$f":"IF(E355=\"C\",0,IF(E355 =\"D\",ROUND(1/((1+#REF!)^A355),9) * 2,ROUND(1/((1+#REF!)^A355),9)))","v":{"$error":"#REF!"}},{"$error":"#REF!"}]
[353,{"$f":"IF(E356<>\"C\",IF(ISERROR(1+B355)=TRUE,1,1+B355),IF(ISNUMBER(B355),B355,1))","v":353},{"$error":"#REF!"},{"$f":"MONTH(C356)","v":{"$error":"#REF!"}},{"$f":"IF(ISERROR(MATCH(D356,#REF!,0))=FALSE,\"C\",IF(ISERROR(MATCH(D356,#REF!,0))=FALSE,\"D\",\"\"))","v":""},{"$f":"IF(E356=\"C\",0,IF(E356 =\"D\",ROUND(1/((1+#REF!)^A356),9) * 2,ROUND(1/((1+#REF!)^A356),9)))","v":{"$error":"#REF!"}},{"$f":"G355+ROUND(F356,9)","v":{"$error":"#REF!"}}]
[354,354,{"$error":"#REF!"},{"$error":"#REF!"},{"$f":"IF(ISERROR(MATCH(D357,#REF!,0))=FALSE,\"C\",IF(ISERROR(MATCH(D357,#REF!,0))=FALSE,\"D\",\"\"))","v":""},{"$f":"IF(E357=\"C\",0,IF(E357 =\"D\",ROUND(1/((1+#REF!)^A357),9) * 2,ROUND(1/((1+#REF!)^A357),9)))","v":{"$error":"#REF!"}},{"$error":"#REF!"}]
[355,355,{"$error":"#REF!"},{"$error":"#REF!"},{"$f":"IF(ISERROR(MATCH(D358,#REF!,0))=FALSE,\"C\",IF(ISERROR(MATCH(D358,#REF!,0))=FALSE,\"D\",\"\"))","v":""},{"$f":"IF(E358=\"C\",0,IF(E358 =\"D\",ROUND(1/((1+#REF!)^A358),9) * 2,ROUND(1/((1+#REF!)^A358),9)))","v":{"$error":"#REF!"}},{"$error":"#REF!"}]
[356,356,{"$error":"#REF!"},{"$error":"#REF!"},{"$f":"IF(ISERROR(MATCH(D359,#REF!,0))=FALSE,\"C\",IF(ISERROR(MATCH(D359,#REF!,0))=FALSE,\"D\",\"\"))","v":""},{"$f":"IF(E359=\"C\",0,IF(E359 =\"D\",ROUND(1/((1+#REF!)^A359),9) * 2,ROUND(1/((1+#REF!)^A359),9)))","v":{"$error":"#REF!"}},{"$error":"#REF!"}]
[357,357,{"$error":"#REF!"},{"$error":"#REF!"},{"$f":"IF(ISERROR(MATCH(D360,#REF!,0))=FALSE,\"C\",IF(ISERROR(MATCH(D360,#REF!,0))=FALSE,\"D\",\"\"))","v":""},{"$f":"IF(E360=\"C\",0,IF(E360 =\"D\",ROUND(1/((1+#REF!)^A360),9) * 2,ROUND(1/((1+#REF!)^A360),9)))","v":{"$error":"#REF!"}},{"$error":"#REF!"}]
[358,358,{"$error":"#REF!"},{"$error":"#REF!"},{"$f":"IF(ISERROR(MATCH(D361,#REF!,0))=FALSE,\"C\",IF(ISERROR(MATCH(D361,#REF!,0))=FALSE,\"D\",\"\"))","v":""},{"$f":"IF(E361=\"C\",0,IF(E361 =\"D\",ROUND(1/((1+#REF!)^A361),9) * 2,ROUND(1/((1+#REF!)^A361),9)))","v":{"$error":"#REF!"}},{"$error":"#REF!"}]
[359,359,{"$error":"#REF!"},{"$error":"#REF!"},{"$f":"IF(ISERROR(MATCH(D362,#REF!,0))=FALSE,\"C\",IF(ISERROR(MATCH(D362,#REF!,0))=FALSE,\"D\",\"\"))","v":""},{"$f":"IF(E362=\"C\",0,IF(E362 =\"D\",ROUND(1/((1+#REF!)^A362),9) * 2,ROUND(1/((1+#REF!)^A362),9)))","v":{"$error":"#REF!"}},{"$error":"#REF!"}]
[360,360,{"$error":"#REF!"},{"$error":"#REF!"},{"$f":"IF(ISERROR(MATCH(D363,#REF!,0))=FALSE,\"C\",IF(ISERROR(MATCH(D363,#REF!,0))=FALSE,\"D\",\"\"))","v":""},{"$f":"IF(E363=\"C\",0,IF(E363 =\"D\",ROUND(1/((1+#REF!)^A363),9) * 2,ROUND(1/((1+#REF!)^A363),9)))","v":{"$error":"#REF!"}},{"$error":"#REF!"}]
[361,361,{"$error":"#REF!"},{"$error":"#REF!"},{"$f":"IF(ISERROR(MATCH(D364,#REF!,0))=FALSE,\"C\",IF(ISERROR(MATCH(D364,#REF!,0))=FALSE,\"D\",\"\"))","v":""},{"$f":"IF(E364=\"C\",0,IF(E364 =\"D\",ROUND(1/((1+#REF!)^A364),9) * 2,ROUND(1/((1+#REF!)^A364),9)))","v":{"$error":"#REF!"}},{"$error":"#REF!"}]
[362,362,{"$error":"#REF!"},{"$error":"#REF!"},{"$f":"IF(ISERROR(MATCH(D365,#REF!,0))=FALSE,\"C\",IF(ISERROR(MATCH(D365,#REF!,0))=FALSE,\"D\",\"\"))","v":""},{"$f":"IF(E365=\"C\",0,IF(E365 =\"D\",ROUND(1/((1+#REF!)^A365),9) * 2,ROUND(1/((1+#REF!)^A365),9)))","v":{"$error":"#REF!"}},{"$error":"#REF!"}]
[363,363,{"$error":"#REF!"},{"$error":"#REF!"},{"$f":"IF(ISERROR(MATCH(D366,#REF!,0))=FALSE,\"C\",IF(ISERROR(MATCH(D366,#REF!,0))=FALSE,\"D\",\"\"))","v":""},{"$f":"IF(E366=\"C\",0,IF(E366 =\"D\",ROUND(1/((1+#REF!)^A366),9) * 2,ROUND(1/((1+#REF!)^A366),9)))","v":{"$error":"#REF!"}},{"$error":"#REF!"}]
[364,364,{"$error":"#REF!"},{"$error":"#REF!"},{"$f":"IF(ISERROR(MATCH(D367,#REF!,0))=FALSE,\"C\",IF(ISERROR(MATCH(D367,#REF!,0))=FALSE,\"D\",\"\"))","v":""},{"$f":"IF(E367=\"C\",0,IF(E367 =\"D\",ROUND(1/((1+#REF!)^A367),9) * 2,ROUND(1/((1+#REF!)^A367),9)))","v":{"$error":"#REF!"}},{"$error":"#REF!"}]
[365,365,{"$error":"#REF!"},{"$error":"#REF!"},{"$f":"IF(ISERROR(MATCH(D368,#REF!,0))=FALSE,\"C\",IF(ISERROR(MATCH(D368,#REF!,0))=FALSE,\"D\",\"\"))","v":""},{"$f":"IF(E368=\"C\",0,IF(E368 =\"D\",ROUND(1/((1+#REF!)^A368),9) * 2,ROUND(1/((1+#REF!)^A368),9)))","v":{"$error":"#REF!"}},{"$error":"#REF!"}]
[366,366,{"$error":"#REF!"},{"$error":"#REF!"},{"$f":"IF(ISERROR(MATCH(D369,#REF!,0))=FALSE,\"C\",IF(ISERROR(MATCH(D369,#REF!,0))=FALSE,\"D\",\"\"))","v":""},{"$f":"IF(E369=\"C\",0,IF(E369 =\"D\",ROUND(1/((1+#REF!)^A369),9) * 2,ROUND(1/((1+#REF!)^A369),9)))","v":{"$error":"#REF!"}},{"$error":"#REF!"}]
[367,367,{"$error":"#REF!"},{"$error":"#REF!"},{"$f":"IF(ISERROR(MATCH(D370,#REF!,0))=FALSE,\"C\",IF(ISERROR(MATCH(D370,#REF!,0))=FALSE,\"D\",\"\"))","v":""},{"$f":"IF(E370=\"C\",0,IF(E370 =\"D\",ROUND(1/((1+#REF!)^A370),9) * 2,ROUND(1/((1+#REF!)^A370),9)))","v":{"$error":"#REF!"}},{"$error":"#REF!"}]
[368,368,{"$error":"#REF!"},{"$error":"#REF!"},{"$f":"IF(ISERROR(MATCH(D371,#REF!,0))=FALSE,\"C\",IF(ISERROR(MATCH(D371,#REF!,0))=FALSE,\"D\",\"\"))","v":""},{"$f":"IF(E371=\"C\",0,IF(E371 =\"D\",ROUND(1/((1+#REF!)^A371),9) * 2,ROUND(1/((1+#REF!)^A371),9)))","v":{"$error":"#REF!"}},{"$error":"#REF!"}]
[369,369,{"$error":"#REF!"},{"$error":"#REF!"},{"$f":"IF(ISERROR(MATCH(D372,#REF!,0))=FALSE,\"C\",IF(ISERROR(MATCH(D372,#REF!,0))=FALSE,\"D\",\"\"))","v":""},{"$f":"IF(E372=\"C\",0,IF(E372 =\"D\",ROUND(1/((1+#REF!)^A372),9) * 2,ROUND(1/((1+#REF!)^A372),9)))","v":{"$error":"#REF!"}},{"$error":"#REF!"}]
[370,370,{"$error":"#REF!"},{"$error":"#REF!"},{"$f":"IF(ISERROR(MATCH(D373,#REF!,0))=FALSE,\"C\",IF(ISERROR(MATCH(D373,#REF!,0))=FALSE,\"D\",\"\"))","v":""},{"$f":"IF(E373=\"C\",0,IF(E373 =\"D\",ROUND(1/((1+#REF!)^A373),9) * 2,ROUND(1/((1+#REF!)^A373),9)))","v":{"$error":"#REF!"}},{"$error":"#REF!"}]
[371,371,{"$error":"#REF!"},{"$error":"#REF!"},{"$f":"IF(ISERROR(MATCH(D374,#REF!,0))=FALSE,\"C\",IF(ISERROR(MATCH(D374,#REF!,0))=FALSE,\"D\",\"\"))","v":""},{"$f":"IF(E374=\"C\",0,IF(E374 =\"D\",ROUND(1/((1+#REF!)^A374),9) * 2,ROUND(1/((1+#REF!)^A374),9)))","v":{"$error":"#REF!"}},{"$error":"#REF!"}]
[372,372,{"$error":"#REF!"},{"$error":"#REF!"},{"$f":"IF(ISERROR(MATCH(D375,#REF!,0))=FALSE,\"C\",IF(ISERROR(MATCH(D375,#REF!,0))=FALSE,\"D\",\"\"))","v":""},{"$f":"IF(E375=\"C\",0,IF(E375 =\"D\",ROUND(1/((1+#REF!)^A375),9) * 2,ROUND(1/((1+#REF!)^A375),9)))","v":{"$error":"#REF!"}},{"$error":"#REF!"}]
[373,373,{"$error":"#REF!"},{"$error":"#REF!"},{"$f":"IF(ISERROR(MATCH(D376,#REF!,0))=FALSE,\"C\",IF(ISERROR(MATCH(D376,#REF!,0))=FALSE,\"D\",\"\"))","v":""},{"$f":"IF(E376=\"C\",0,IF(E376 =\"D\",ROUND(1/((1+#REF!)^A376),9) * 2,ROUND(1/((1+#REF!)^A376),9)))","v":{"$error":"#REF!"}},{"$error":"#REF!"}]
[374,374,{"$error":"#REF!"},{"$error":"#REF!"},{"$f":"IF(ISERROR(MATCH(D377,#REF!,0))=FALSE,\"C\",IF(ISERROR(MATCH(D377,#REF!,0))=FALSE,\"D\",\"\"))","v":""},{"$f":"IF(E377=\"C\",0,IF(E377 =\"D\",ROUND(1/((1+#REF!)^A377),9) * 2,ROUND(1/((1+#REF!)^A377),9)))","v":{"$error":"#REF!"}},{"$error":"#REF!"}]
[375,375,{"$error":"#REF!"},{"$error":"#REF!"},{"$f":"IF(ISERROR(MATCH(D378,#REF!,0))=FALSE,\"C\",IF(ISERROR(MATCH(D378,#REF!,0))=FALSE,\"D\",\"\"))","v":""},{"$f":"IF(E378=\"C\",0,IF(E378 =\"D\",ROUND(1/((1+#REF!)^A378),9) * 2,ROUND(1/((1+#REF!)^A378),9)))","v":{"$error":"#REF!"}},{"$error":"#REF!"}]
[376,376,{"$error":"#REF!"},{"$error":"#REF!"},{"$f":"IF(ISERROR(MATCH(D379,#REF!,0))=FALSE,\"C\",IF(ISERROR(MATCH(D379,#REF!,0))=FALSE,\"D\",\"\"))","v":""},{"$f":"IF(E379=\"C\",0,IF(E379 =\"D\",ROUND(1/((1+#REF!)^A379),9) * 2,ROUND(1/((1+#REF!)^A379),9)))","v":{"$error":"#REF!"}},{"$error":"#REF!"}]
[377,377,{"$error":"#REF!"},{"$error":"#REF!"},{"$f":"IF(ISERROR(MATCH(D380,#REF!,0))=FALSE,\"C\",IF(ISERROR(MATCH(D380,#REF!,0))=FALSE,\"D\",\"\"))","v":""},{"$f":"IF(E380=\"C\",0,IF(E380 =\"D\",ROUND(1/((1+#REF!)^A380),9) * 2,ROUND(1/((1+#REF!)^A380),9)))","v":{"$error":"#REF!"}},{"$error":"#REF!"}]
[378,378,{"$error":"#REF!"},{"$error":"#REF!"},{"$f":"IF(ISERROR(MATCH(D381,#REF!,0))=FALSE,\"C\",IF(ISERROR(MATCH(D381,#REF!,0))=FALSE,\"D\",\"\"))","v":""},{"$f":"IF(E381=\"C\",0,IF(E381 =\"D\",ROUND(1/((1+#REF!)^A381),9) * 2,ROUND(1/((1+#REF!)^A381),9)))","v":{"$error":"#REF!"}},{"$error":"#REF!"}]
[379,379,{"$error":"#REF!"},{"$error":"#REF!"},{"$f":"IF(ISERROR(MATCH(D382,#REF!,0))=FALSE,\"C\",IF(ISERROR(MATCH(D382,#REF!,0))=FALSE,\"D\",\"\"))","v":""},{"$f":"IF(E382=\"C\",0,IF(E382 =\"D\",ROUND(1/((1+#REF!)^A382),9) * 2,ROUND(1/((1+#REF!)^A382),9)))","v":{"$error":"#REF!"}},{"$error":"#REF!"}]
[380,380,{"$error":"#REF!"},{"$error":"#REF!"},{"$f":"IF(ISERROR(MATCH(D383,#REF!,0))=FALSE,\"C\",IF(ISERROR(MATCH(D383,#REF!,0))=FALSE,\"D\",\"\"))","v":""},{"$f":"IF(E383=\"C\",0,IF(E383 =\"D\",ROUND(1/((1+#REF!)^A383),9) * 2,ROUND(1/((1+#REF!)^A383),9)))","v":{"$error":"#REF!"}},{"$error":"#REF!"}]
[381,381,{"$error":"#REF!"},{"$error":"#REF!"},{"$f":"IF(ISERROR(MATCH(D384,#REF!,0))=FALSE,\"C\",IF(ISERROR(MATCH(D384,#REF!,0))=FALSE,\"D\",\"\"))","v":""},{"$f":"IF(E384=\"C\",0,IF(E384 =\"D\",ROUND(1/((1+#REF!)^A384),9) * 2,ROUND(1/((1+#REF!)^A384),9)))","v":{"$error":"#REF!"}},{"$error":"#REF!"}]
[382,382,{"$error":"#REF!"},{"$error":"#REF!"},{"$f":"IF(ISERROR(MATCH(D385,#REF!,0))=FALSE,\"C\",IF(ISERROR(MATCH(D385,#REF!,0))=FALSE,\"D\",\"\"))","v":""},{"$f":"IF(E385=\"C\",0,IF(E385 =\"D\",ROUND(1/((1+#REF!)^A385),9) * 2,ROUND(1/((1+#REF!)^A385),9)))","v":{"$error":"#REF!"}},{"$error":"#REF!"}]
[383,383,{"$error":"#REF!"},{"$error":"#REF!"},{"$f":"IF(ISERROR(MATCH(D386,#REF!,0))=FALSE,\"C\",IF(ISERROR(MATCH(D386,#REF!,0))=FALSE,\"D\",\"\"))","v":""},{"$f":"IF(E386=\"C\",0,IF(E386 =\"D\",ROUND(1/((1+#REF!)^A386),9) * 2,ROUND(1/((1+#REF!)^A386),9)))","v":{"$error":"#REF!"}},{"$error":"#REF!"}]

{"sheet":"Hoja1","index":1,"n_rows":15,"n_cols":13,"rows_kept":15,"cut":false,"hidden":false,"merged":[[15,0,15,1],[16,0,16,1],[18,0,18,3],[2,1,3,3],[4,0,5,3]]}
[]
[]
[null,"SIMULADOR PRÉSTAMO PERSONAL\nCON GARANTÍA",null,null,null,null,"Soles"]
[null,null,null,null,null,null,"Dólares"]
["Nota: Para hacer uso del simulador, debe tener habilitado y desbloqueado la opción de macros en su equipo. Luego de habiliarlo ingrese todos los valores a simular,después de click a Calcular y luego a Generar cronograma para visualizar el Cronograma Simulado"]
[null,null,null,null,null,null,"No"]
[null,"Moneda","Soles",null,null,null,"Julio"]
[null,"Monto del Préstamo",50000,null,null,null,"Diciembre"]
[null,"Fecha de Desembolso","2025-06-10",null,null,null,null,null,null,null,null,null,0]
[null,"Plazo",48,null,null,null,"Seguro sin retorno",null,null,null,null,null,30]
[null,"TEA*",10.7,null,null,null,"Seguro con retorno",null,null,null,null,null,60]
[null,"Días de Gracia",0,null,null,null,"Endoso o sin seguro",null,null,null,null,null,90]
[null,"Seguro Desgravamen**","Endoso o sin seguro"]
[null,"Cuota Doble 1","No",null,null,null,null,{"$f":"+Simulador!Q29","v":5.4166666667248835E-2},{"$f":"+Simulador!W28","v":0}]
[null,"Cuota Doble 2","No",null,null,null,null,null,{"$f":"+IF(AND(I14>-1,I14<1),\"CORRECTO\",\"INCORRECTO\")","v":"CORRECTO"}]

{"sheet":"Hoja1 (2)","index":2,"n_rows":68,"n_cols":9,"rows_kept":68,"cut":false,"hidden":false,"merged":[[14,1,14,2],[13,1,13,2],[13,5,13,6],[4,1,4,7],[5,1,5,7],[8,1,8,2],[9,1,9,2],[10,1,10,2],[11,1,11,2],[12,1,12,2],[8,5,8,6],[9,5,9,6],[10,5,10,6],[11,5,11,6],[12,5,12,6]]}
[]
[]
[]
[]
[null,"(SIMULACIÓN)"]
[null,"CRONOGRAMA DE PAGOS"]
[]
[]
[null,"Moneda                                                  :",null,{"$f":"+Hoja1!C7","v":"Soles"},null,"Monto del Préstamo                                                    :",null,{"$f":"+Hoja1!C8","v":50000}]
[null,"Producto                                                :",null,"Préstamo Personal con Garantía",null,"Tasa Efectiva Anual (fija)                                                     :",null,{"$f":"+Hoja1!C11&\"%\"","v":"10.7%"}]
[null,"Fecha de desembolso                          :",null,{"$f":"+Hoja1!C9","v":"2025-06-10"},null,"Plazo (en meses)                                                          :",null,{"$f":"+Hoja1!C10","v":48}]
[null,"Mes de Cuota Doble 1                          :",null,{"$f":"+Hoja1!C14","v":"No"},null,"Tasa de Costo Efectiva Anual                                     :",null,{"$f":"+Simulador!Q18","v":0.10700045436028738},{"$f":"+RATE(H11,H18,-H9-I13)","v":8.6330955494775471E-3}]
[null,"Mes de Cuota Doble 2                          :",null,{"$f":"+Hoja1!C15","v":"No"},null,"Tasa Seguro de Desgravamen Mensual                   :",null,{"$f":"+IF(Hoja1!C13=\"Endoso o sin seguro\",0,IF(Hoja1!C13=\"Seguro con retorno\",0.346%,0.18%))","v":0},{"$f":"Simulador!Q16","v":0}]
[null,"Periodo de gracia                                 :",null,{"$f":"+Hoja1!C12&\" \"& \"días\"","v":"0 días"}]
[null,"Frecuencia de pago                             :",null,"Mensual"]
[null,{"$f":"+IF(AND(Simulador!W28<1,Simulador!W28>-1),\"\",\"No ha presionado el botón de calcular, por favor volver a simular\")","v":""}]
[null,"N°","Fecha Vencimiento","Capital","Interes","Interes de Gracia","Seguro Desgravamen","Total Cuota"]
[null,1,{"$f":"IFERROR(+IF(B18>0,VLOOKUP(B18,Simulador!$A$32:$T$550,3,0),\" \"),\" \")","v":"2025-07-10"},{"$f":"IFERROR(+IF(B18>0,VLOOKUP(B18,Simulador!$A$32:$T$550,11,0),\" \"),\" \")","v":851.42416666666725},{"$f":"IFERROR(+IF(B18>0,VLOOKUP(B18,Simulador!$A$32:$T$550,12,0),\" \"),\" \")","v":425.36},{"$f":"IFERROR(+IF(B18>0,VLOOKUP(B18,Simulador!$A$32:$T$550,13,0),\" \"),\" \")","v":0},{"$f":"IFERROR(+IF(B18>0,VLOOKUP(B18,Simulador!$A$32:$T$550,20,0),\" \"),\" \")","v":0},{"$f":"IFERROR(+IF(B18>0,VLOOKUP(B18,Simulador!$A$32:$Z$550,22,0),\" \"),\" \")","v":1276.7841666666673}]
[null,{"$f":"IF(B18=0,\" \",IF(B18>=$H$11,\"\",B18+1))","v":2},{"$f":"IF($H$11=0,\" \",IF(B18=$H$11,\"TOTALES\",+IF(B19>0,VLOOKUP(B19,Simulador!$A$32:$T$550,3,0),\" \")))","v":"2025-08-10"},{"$f":"IF($H$11=0,\" \",IF(B18=$H$11,Simulador!$J$33,+IF(B19>0,VLOOKUP(B19,Simulador!$A$32:$T$550,11,0),\" \")))","v":844.67416666666725},{"$f":"IF($H$11=0,\" \",IF(B18=$H$11,Simulador!$L$31,+IF(B19>0,VLOOKUP(B19,Simulador!$A$32:$T$550,12,0),\" \")))","v":432.11},{"$f":"IF($H$11=0,\" \",IF(B18=$H$11,Simulador!$M$31,+IF(B19>0,VLOOKUP(B19,Simulador!$A$32:$T$550,13,0),\" \")))","v":0},{"$f":"IF($H$11=0,\" \",IF(B18=$H$11,Simulador!$T$31,+IF(B19>0,VLOOKUP(B19,Simulador!$A$32:$T$550,20,0),\" \")))","v":0},{"$f":"IF($H$11=0,\" \",IF(B18=$H$11,Simulador!$V$31,+IF(B19>0,VLOOKUP(B19,Simulador!$A$32:$Z$550,22,0),\" \")))","v":1276.7841666666673}]
[null,{"$f":"IF(B19=0,\" \",IF(B19>=$H$11,\"\",B19+1))","v":3},{"$f":"IF($H$11=0,\" \",IF(B19=$H$11,\"TOTALES\",+IF(B20>0,VLOOKUP(B20,Simulador!$A$32:$T$550,3,0),\" \")))","v":"2025-09-10"},{"$f":"IF($H$11=0,\" \",IF(B19=$H$11,Simulador!$J$33,+IF(B20>0,VLOOKUP(B20,Simulador!$A$32:$T$550,11,0),\" \")))","v":852.1041666666672},{"$f":"IF($H$11=0,\" \",IF(B19=$H$11,Simulador!$L$31,+IF(B20>0,VLOOKUP(B20,Simulador!$A$32:$T$550,12,0),\" \")))","v":424.68},{"$f":"IF($H$11=0,\" \",IF(B19=$H$11,Simulador!$M$31,+IF(B20>0,VLOOKUP(B20,Simulador!$A$32:$T$550,13,0),\" \")))","v":0},{"$f":"IF($H$11=0,\" \",IF(B19=$H$11,Simulador!$T$31,+IF(B20>0,VLOOKUP(B20,Simulador!$A$32:$T$550,20,0),\" \")))","v":0},{"$f":"IF($H$11=0,\" \",IF(B19=$H$11,Simulador!$V$31,+IF(B20>0,VLOOKUP(B20,Simulador!$A$32:$Z$550,22,0),\" \")))","v":1276.7841666666673}]
[null,4,{"$f":"IF($H$11=0,\" \",IF(B20=$H$11,\"TOTALES\",+IF(B21>0,VLOOKUP(B21,Simulador!$A$32:$T$550,3,0),\" \")))","v":"2025-10-10"},{"$f":"IF($H$11=0,\" \",IF(B20=$H$11,Simulador!$J$33,+IF(B21>0,VLOOKUP(B21,Simulador!$A$32:$T$550,11,0),\" \")))","v":873.1041666666672},{"$f":"IF($H$11=0,\" \",IF(B20=$H$11,Simulador!$L$31,+IF(B21>0,VLOOKUP(B21,Simulador!$A$32:$T$550,12,0),\" \")))","v":403.68},{"$f":"IF($H$11=0,\" \",IF(B20=$H$11,Simulador!$M$31,+IF(B21>0,VLOOKUP(B21,Simulador!$A$32:$T$550,13,0),\" \")))","v":0},{"$f":"IF($H$11=0,\" \",IF(B20=$H$11,Simulador!$T$31,+IF(B21>0,VLOOKUP(B21,Simulador!$A$32:$T$550,20,0),\" \")))","v":0},{"$f":"IF($H$11=0,\" \",IF(B20=$H$11,Simulador!$V$31,+IF(B21>0,VLOOKUP(B21,Simulador!$A$32:$Z$550,22,0),\" \")))","v":1276.7841666666673}]
[null,5,{"$f":"IF($H$11=0,\" \",IF(B21=$H$11,\"TOTALES\",+IF(B22>0,VLOOKUP(B22,Simulador!$A$32:$T$550,3,0),\" \")))","v":"2025-11-10"},{"$f":"IF($H$11=0,\" \",IF(B21=$H$11,Simulador!$J$33,+IF(B22>0,VLOOKUP(B22,Simulador!$A$32:$T$550,11,0),\" \")))","v":867.26416666666728},{"$f":"IF($H$11=0,\" \",IF(B21=$H$11,Simulador!$L$31,+IF(B22>0,VLOOKUP(B22,Simulador!$A$32:$T$550,12,0),\" \")))","v":409.52},{"$f":"IF($H$11=0,\" \",IF(B21=$H$11,Simulador!$M$31,+IF(B22>0,VLOOKUP(B22,Simulador!$A$32:$T$550,13,0),\" \")))","v":0},{"$f":"IF($H$11=0,\" \",IF(B21=$H$11,Simulador!$T$31,+IF(B22>0,VLOOKUP(B22,Simulador!$A$32:$T$550,20,0),\" \")))","v":0},{"$f":"IF($H$11=0,\" \",IF(B21=$H$11,Simulador!$V$31,+IF(B22>0,VLOOKUP(B22,Simulador!$A$32:$Z$550,22,0),\" \")))","v":1276.7841666666673}]
[null,6,{"$f":"IF($H$11=0,\" \",IF(B22=$H$11,\"TOTALES\",+IF(B23>0,VLOOKUP(B23,Simulador!$A$32:$T$550,3,0),\" \")))","v":"2025-12-10"},{"$f":"IF($H$11=0,\" \",IF(B22=$H$11,Simulador!$J$33,+IF(B23>0,VLOOKUP(B23,Simulador!$A$32:$T$550,11,0),\" \")))","v":887.91416666666726},{"$f":"IF($H$11=0,\" \",IF(B22=$H$11,Simulador!$L$31,+IF(B23>0,VLOOKUP(B23,Simulador!$A$32:$T$550,12,0),\" \")))","v":388.87},{"$f":"IF($H$11=0,\" \",IF(B22=$H$11,Simulador!$M$31,+IF(B23>0,VLOOKUP(B23,Simulador!$A$32:$T$550,13,0),\" \")))","v":0},{"$f":"IF($H$11=0,\" \",IF(B22=$H$11,Simulador!$T$31,+IF(B23>0,VLOOKUP(B23,Simulador!$A$32:$T$550,20,0),\" \")))","v":0},{"$f":"IF($H$11=0,\" \",IF(B22=$H$11,Simulador!$V$31,+IF(B23>0,VLOOKUP(B23,Simulador!$A$32:$Z$550,22,0),\" \")))","v":1276.7841666666673}]
[null,7,{"$f":"IF($H$11=0,\" \",IF(B23=$H$11,\"TOTALES\",+IF(B24>0,VLOOKUP(B24,Simulador!$A$32:$T$550,3,0),\" \")))","v":"2026-01-10"},{"$f":"IF($H$11=0,\" \",IF(B23=$H$11,Simulador!$J$33,+IF(B24>0,VLOOKUP(B24,Simulador!$A$32:$T$550,11,0),\" \")))","v":882.69416666666734},{"$f":"IF($H$11=0,\" \",IF(B23=$H$11,Simulador!$L$31,+IF(B24>0,VLOOKUP(B24,Simulador!$A$32:$T$550,12,0),\" \")))","v":394.09},{"$f":"IF($H$11=0,\" \",IF(B23=$H$11,Simulador!$M$31,+IF(B24>0,VLOOKUP(B24,Simulador!$A$32:$T$550,13,0),\" \")))","v":0},{"$f":"IF($H$11=0,\" \",IF(B23=$H$11,Simulador!$T$31,+IF(B24>0,VLOOKUP(B24,Simulador!$A$32:$T$550,20,0),\" \")))","v":0},{"$f":"IF($H$11=0,\" \",IF(B23=$H$11,Simulador!$V$31,+IF(B24>0,VLOOKUP(B24,Simulador!$A$32:$Z$550,22,0),\" \")))","v":1276.7841666666673}]
[null,8,{"$f":"IF($H$11=0,\" \",IF(B24=$H$11,\"TOTALES\",+IF(B25>0,VLOOKUP(B25,Simulador!$A$32:$T$550,3,0),\" \")))","v":"2026-02-10"},{"$f":"IF($H$11=0,\" \",IF(B24=$H$11,Simulador!$J$33,+IF(B25>0,VLOOKUP(B25,Simulador!$A$32:$T$550,11,0),\" \")))","v":890.45416666666733},{"$f":"IF($H$11=0,\" \",IF(B24=$H$11,Simulador!$L$31,+IF(B25>0,VLOOKUP(B25,Simulador!$A$32:$T$550,12,0),\" \")))","v":386.33},{"$f":"IF($H$11=0,\" \",IF(B24=$H$11,Simulador!$M$31,+IF(B25>0,VLOOKUP(B25,Simulador!$A$32:$T$550,13,0),\" \")))","v":0},{"$f":"IF($H$11=0,\" \",IF(B24=$H$11,Simulador!$T$31,+IF(B25>0,VLOOKUP(B25,Simulador!$A$32:$T$550,20,0),\" \")))","v":0},{"$f":"IF($H$11=0,\" \",IF(B24=$H$11,Simulador!$V$31,+IF(B25>0,VLOOKUP(B25,Simulador!$A$32:$Z$550,22,0),\" \")))","v":1276.7841666666673}]
[null,9,{"$f":"IF($H$11=0,\" \",IF(B25=$H$11,\"TOTALES\",+IF(B26>0,VLOOKUP(B26,Simulador!$A$32:$T$550,3,0),\" \")))","v":"2026-03-10"},{"$f":"IF($H$11=0,\" \",IF(B25=$H$11,Simulador!$J$33,+IF(B26>0,VLOOKUP(B26,Simulador!$A$32:$T$550,11,0),\" \")))","v":935.06416666666723},{"$f":"IF($H$11=0,\" \",IF(B25=$H$11,Simulador!$L$31,+IF(B26>0,VLOOKUP(B26,Simulador!$A$32:$T$550,12,0),\" \")))","v":341.72},{"$f":"IF($H$11=0,\" \",IF(B25=$H$11,Simulador!$M$31,+IF(B26>0,VLOOKUP(B26,Simulador!$A$32:$T$550,13,0),\" \")))","v":0},{"$f":"IF($H$11=0,\" \",IF(B25=$H$11,Simulador!$T$31,+IF(B26>0,VLOOKUP(B26,Simulador!$A$32:$T$550,20,0),\" \")))","v":0},{"$f":"IF($H$11=0,\" \",IF(B25=$H$11,Simulador!$V$31,+IF(B26>0,VLOOKUP(B26,Simulador!$A$32:$Z$550,22,0),\" \")))","v":1276.7841666666673}]
[null,10,{"$f":"IF($H$11=0,\" \",IF(B26=$H$11,\"TOTALES\",+IF(B27>0,VLOOKUP(B27,Simulador!$A$32:$T$550,3,0),\" \")))","v":"2026-04-10"},{"$f":"IF($H$11=0,\" \",IF(B26=$H$11,Simulador!$J$33,+IF(B27>0,VLOOKUP(B27,Simulador!$A$32:$T$550,11,0),\" \")))","v":906.50416666666729},{"$f":"IF($H$11=0,\" \",IF(B26=$H$11,Simulador!$L$31,+IF(B27>0,VLOOKUP(B27,Simulador!$A$32:$T$550,12,0),\" \")))","v":370.28},{"$f":"IF($H$11=0,\" \",IF(B26=$H$11,Simulador!$M$31,+IF(B27>0,VLOOKUP(B27,Simulador!$A$32:$T$550,13,0),\" \")))","v":0},{"$f":"IF($H$11=0,\" \",IF(B26=$H$11,Simulador!$T$31,+IF(B27>0,VLOOKUP(B27,Simulador!$A$32:$T$550,20,0),\" \")))","v":0},{"$f":"IF($H$11=0,\" \",IF(B26=$H$11,Simulador!$V$31,+IF(B27>0,VLOOKUP(B27,Simulador!$A$32:$Z$550,22,0),\" \")))","v":1276.7841666666673}]
[null,11,{"$f":"IF($H$11=0,\" \",IF(B27=$H$11,\"TOTALES\",+IF(B28>0,VLOOKUP(B28,Simulador!$A$32:$T$550,3,0),\" \")))","v":"2026-05-10"},{"$f":"IF($H$11=0,\" \",IF(B27=$H$11,Simulador!$J$33,+IF(B28>0,VLOOKUP(B28,Simulador!$A$32:$T$550,11,0),\" \")))","v":926.21416666666732},{"$f":"IF($H$11=0,\" \",IF(B27=$H$11,Simulador!$L$31,+IF(B28>0,VLOOKUP(B28,Simulador!$A$32:$T$550,12,0),\" \")))","v":350.57},{"$f":"IF($H$11=0,\" \",IF(B27=$H$11,Simulador!$M$31,+IF(B28>0,VLOOKUP(B28,Simulador!$A$32:$T$550,13,0),\" \")))","v":0},{"$f":"IF($H$11=0,\" \",IF(B27=$H$11,Simulador!$T$31,+IF(B28>0,VLOOKUP(B28,Simulador!$A$32:$T$550,20,0),\" \")))","v":0},{"$f":"IF($H$11=0,\" \",IF(B27=$H$11,Simulador!$V$31,+IF(B28>0,VLOOKUP(B28,Simulador!$A$32:$Z$550,22,0),\" \")))","v":1276.7841666666673}]
[null,12,{"$f":"IF($H$11=0,\" \",IF(B28=$H$11,\"TOTALES\",+IF(B29>0,VLOOKUP(B29,Simulador!$A$32:$T$550,3,0),\" \")))","v":"2026-06-10"},{"$f":"IF($H$11=0,\" \",IF(B28=$H$11,Simulador!$J$33,+IF(B29>0,VLOOKUP(B29,Simulador!$A$32:$T$550,11,0),\" \")))","v":922.62416666666718},{"$f":"IF($H$11=0,\" \",IF(B28=$H$11,Simulador!$L$31,+IF(B29>0,VLOOKUP(B29,Simulador!$A$32:$T$550,12,0),\" \")))","v":354.16},{"$f":"IF($H$11=0,\" \",IF(B28=$H$11,Simulador!$M$31,+IF(B29>0,VLOOKUP(B29,Simulador!$A$32:$T$550,13,0),\" \")))","v":0},{"$f":"IF($H$11=0,\" \",IF(B28=$H$11,Simulador!$T$31,+IF(B29>0,VLOOKUP(B29,Simulador!$A$32:$T$550,20,0),\" \")))","v":0},{"$f":"IF($H$11=0,\" \",IF(B28=$H$11,Simulador!$V$31,+IF(B29>0,VLOOKUP(B29,Simulador!$A$32:$Z$550,22,0),\" \")))","v":1276.7841666666673}]
[null,13,{"$f":"IF($H$11=0,\" \",IF(B29=$H$11,\"TOTALES\",+IF(B30>0,VLOOKUP(B30,Simulador!$A$32:$T$550,3,0),\" \")))","v":"2026-07-10"},{"$f":"IF($H$11=0,\" \",IF(B29=$H$11,Simulador!$J$33,+IF(B30>0,VLOOKUP(B30,Simulador!$A$32:$T$550,11,0),\" \")))","v":941.94416666666734},{"$f":"IF($H$11=0,\" \",IF(B29=$H$11,Simulador!$L$31,+IF(B30>0,VLOOKUP(B30,Simulador!$A$32:$T$550,12,0),\" \")))","v":334.84},{"$f":"IF($H$11=0,\" \",IF(B29=$H$11,Simulador!$M$31,+IF(B30>0,VLOOKUP(B30,Simulador!$A$32:$T$550,13,0),\" \")))","v":0},{"$f":"IF($H$11=0,\" \",IF(B29=$H$11,Simulador!$T$31,+IF(B30>0,VLOOKUP(B30,Simulador!$A$32:$T$550,20,0),\" \")))","v":0},{"$f":"IF($H$11=0,\" \",IF(B29=$H$11,Simulador!$V$31,+IF(B30>0,VLOOKUP(B30,Simulador!$A$32:$Z$550,22,0),\" \")))","v":1276.7841666666673}]
[null,14,{"$f":"IF($H$11=0,\" \",IF(B30=$H$11,\"TOTALES\",+IF(B31>0,VLOOKUP(B31,Simulador!$A$32:$T$550,3,0),\" \")))","v":"2026-08-10"},{"$f":"IF($H$11=0,\" \",IF(B30=$H$11,Simulador!$J$33,+IF(B31>0,VLOOKUP(B31,Simulador!$A$32:$T$550,11,0),\" \")))","v":939.01416666666728},{"$f":"IF($H$11=0,\" \",IF(B30=$H$11,Simulador!$L$31,+IF(B31>0,VLOOKUP(B31,Simulador!$A$32:$T$550,12,0),\" \")))","v":337.77},{"$f":"IF($H$11=0,\" \",IF(B30=$H$11,Simulador!$M$31,+IF(B31>0,VLOOKUP(B31,Simulador!$A$32:$T$550,13,0),\" \")))","v":0},{"$f":"IF($H$11=0,\" \",IF(B30=$H$11,Simulador!$T$31,+IF(B31>0,VLOOKUP(B31,Simulador!$A$32:$T$550,20,0),\" \")))","v":0},{"$f":"IF($H$11=0,\" \",IF(B30=$H$11,Simulador!$V$31,+IF(B31>0,VLOOKUP(B31,Simulador!$A$32:$Z$550,22,0),\" \")))","v":1276.7841666666673}]
[null,15,{"$f":"IF($H$11=0,\" \",IF(B31=$H$11,\"TOTALES\",+IF(B32>0,VLOOKUP(B32,Simulador!$A$32:$T$550,3,0),\" \")))","v":"2026-09-10"},{"$f":"IF($H$11=0,\" \",IF(B31=$H$11,Simulador!$J$33,+IF(B32>0,VLOOKUP(B32,Simulador!$A$32:$T$550,11,0),\" \")))","v":947.27416666666727},{"$f":"IF($H$11=0,\" \",IF(B31=$H$11,Simulador!$L$31,+IF(B32>0,VLOOKUP(B32,Simulador!$A$32:$T$550,12,0),\" \")))","v":329.51},{"$f":"IF($H$11=0,\" \",IF(B31=$H$11,Simulador!$M$31,+IF(B32>0,VLOOKUP(B32,Simulador!$A$32:$T$550,13,0),\" \")))","v":0},{"$f":"IF($H$11=0,\" \",IF(B31=$H$11,Simulador!$T$31,+IF(B32>0,VLOOKUP(B32,Simulador!$A$32:$T$550,20,0),\" \")))","v":0},{"$f":"IF($H$11=0,\" \",IF(B31=$H$11,Simulador!$V$31,+IF(B32>0,VLOOKUP(B32,Simulador!$A$32:$Z$550,22,0),\" \")))","v":1276.7841666666673}]
[null,16,{"$f":"IF($H$11=0,\" \",IF(B32=$H$11,\"TOTALES\",+IF(B33>0,VLOOKUP(B33,Simulador!$A$32:$T$550,3,0),\" \")))","v":"2026-10-10"},{"$f":"IF($H$11=0,\" \",IF(B32=$H$11,Simulador!$J$33,+IF(B33>0,VLOOKUP(B33,Simulador!$A$32:$T$550,11,0),\" \")))","v":966.00416666666729},{"$f":"IF($H$11=0,\" \",IF(B32=$H$11,Simulador!$L$31,+IF(B33>0,VLOOKUP(B33,Simulador!$A$32:$T$550,12,0),\" \")))","v":310.77999999999997},{"$f":"IF($H$11=0,\" \",IF(B32=$H$11,Simulador!$M$31,+IF(B33>0,VLOOKUP(B33,Simulador!$A$32:$T$550,13,0),\" \")))","v":0},{"$f":"IF($H$11=0,\" \",IF(B32=$H$11,Simulador!$T$31,+IF(B33>0,VLOOKUP(B33,Simulador!$A$32:$T$550,20,0),\" \")))","v":0},{"$f":"IF($H$11=0,\" \",IF(B32=$H$11,Simulador!$V$31,+IF(B33>0,VLOOKUP(B33,Simulador!$A$32:$Z$550,22,0),\" \")))","v":1276.7841666666673}]
[null,17,{"$f":"IF($H$11=0,\" \",IF(B33=$H$11,\"TOTALES\",+IF(B34>0,VLOOKUP(B34,Simulador!$A$32:$T$550,3,0),\" \")))","v":"2026-11-10"},{"$f":"IF($H$11=0,\" \",IF(B33=$H$11,Simulador!$J$33,+IF(B34>0,VLOOKUP(B34,Simulador!$A$32:$T$550,11,0),\" \")))","v":964.09416666666721},{"$f":"IF($H$11=0,\" \",IF(B33=$H$11,Simulador!$L$31,+IF(B34>0,VLOOKUP(B34,Simulador!$A$32:$T$550,12,0),\" \")))","v":312.69},{"$f":"IF($H$11=0,\" \",IF(B33=$H$11,Simulador!$M$31,+IF(B34>0,VLOOKUP(B34,Simulador!$A$32:$T$550,13,0),\" \")))","v":0},{"$f":"IF($H$11=0,\" \",IF(B33=$H$11,Simulador!$T$31,+IF(B34>0,VLOOKUP(B34,Simulador!$A$32:$T$550,20,0),\" \")))","v":0},{"$f":"IF($H$11=0,\" \",IF(B33=$H$11,Simulador!$V$31,+IF(B34>0,VLOOKUP(B34,Simulador!$A$32:$Z$550,22,0),\" \")))","v":1276.7841666666673}]
[null,18,{"$f":"IF($H$11=0,\" \",IF(B34=$H$11,\"TOTALES\",+IF(B35>0,VLOOKUP(B35,Simulador!$A$32:$T$550,3,0),\" \")))","v":"2026-12-10"},{"$f":"IF($H$11=0,\" \",IF(B34=$H$11,Simulador!$J$33,+IF(B35>0,VLOOKUP(B35,Simulador!$A$32:$T$550,11,0),\" \")))","v":982.42416666666725},{"$f":"IF($H$11=0,\" \",IF(B34=$H$11,Simulador!$L$31,+IF(B35>0,VLOOKUP(B35,Simulador!$A$32:$T$550,12,0),\" \")))","v":294.36},{"$f":"IF($H$11=0,\" \",IF(B34=$H$11,Simulador!$M$31,+IF(B35>0,VLOOKUP(B35,Simulador!$A$32:$T$550,13,0),\" \")))","v":0},{"$f":"IF($H$11=0,\" \",IF(B34=$H$11,Simulador!$T$31,+IF(B35>0,VLOOKUP(B35,Simulador!$A$32:$T$550,20,0),\" \")))","v":0},{"$f":"IF($H$11=0,\" \",IF(B34=$H$11,Simulador!$V$31,+IF(B35>0,VLOOKUP(B35,Simulador!$A$32:$Z$550,22,0),\" \")))","v":1276.7841666666673}]
[null,19,{"$f":"IF($H$11=0,\" \",IF(B35=$H$11,\"TOTALES\",+IF(B36>0,VLOOKUP(B36,Simulador!$A$32:$T$550,3,0),\" \")))","v":"2027-01-10"},{"$f":"IF($H$11=0,\" \",IF(B35=$H$11,Simulador!$J$33,+IF(B36>0,VLOOKUP(B36,Simulador!$A$32:$T$550,11,0),\" \")))","v":981.20416666666733},{"$f":"IF($H$11=0,\" \",IF(B35=$H$11,Simulador!$L$31,+IF(B36>0,VLOOKUP(B36,Simulador!$A$32:$T$550,12,0),\" \")))","v":295.58},{"$f":"IF($H$11=0,\" \",IF(B35=$H$11,Simulador!$M$31,+IF(B36>0,VLOOKUP(B36,Simulador!$A$32:$T$550,13,0),\" \")))","v":0},{"$f":"IF($H$11=0,\" \",IF(B35=$H$11,Simulador!$T$31,+IF(B36>0,VLOOKUP(B36,Simulador!$A$32:$T$550,20,0),\" \")))","v":0},{"$f":"IF($H$11=0,\" \",IF(B35=$H$11,Simulador!$V$31,+IF(B36>0,VLOOKUP(B36,Simulador!$A$32:$Z$550,22,0),\" \")))","v":1276.7841666666673}]
[null,20,{"$f":"IF($H$11=0,\" \",IF(B36=$H$11,\"TOTALES\",+IF(B37>0,VLOOKUP(B37,Simulador!$A$32:$T$550,3,0),\" \")))","v":"2027-02-10"},{"$f":"IF($H$11=0,\" \",IF(B36=$H$11,Simulador!$J$33,+IF(B37>0,VLOOKUP(B37,Simulador!$A$32:$T$550,11,0),\" \")))","v":989.83416666666722},{"$f":"IF($H$11=0,\" \",IF(B36=$H$11,Simulador!$L$31,+IF(B37>0,VLOOKUP(B37,Simulador!$A$32:$T$550,12,0),\" \")))","v":286.95},{"$f":"IF($H$11=0,\" \",IF(B36=$H$11,Simulador!$M$31,+IF(B37>0,VLOOKUP(B37,Simulador!$A$32:$T$550,13,0),\" \")))","v":0},{"$f":"IF($H$11=0,\" \",IF(B36=$H$11,Simulador!$T$31,+IF(B37>0,VLOOKUP(B37,Simulador!$A$32:$T$550,20,0),\" \")))","v":0},{"$f":"IF($H$11=0,\" \",IF(B36=$H$11,Simulador!$V$31,+IF(B37>0,VLOOKUP(B37,Simulador!$A$32:$Z$550,22,0),\" \")))","v":1276.7841666666673}]
[null,21,{"$f":"IF($H$11=0,\" \",IF(B37=$H$11,\"TOTALES\",+IF(B38>0,VLOOKUP(B38,Simulador!$A$32:$T$550,3,0),\" \")))","v":"2027-03-10"},{"$f":"IF($H$11=0,\" \",IF(B37=$H$11,Simulador!$J$33,+IF(B38>0,VLOOKUP(B38,Simulador!$A$32:$T$550,11,0),\" \")))","v":1025.5641666666672},{"$f":"IF($H$11=0,\" \",IF(B37=$H$11,Simulador!$L$31,+IF(B38>0,VLOOKUP(B38,Simulador!$A$32:$T$550,12,0),\" \")))","v":251.22},{"$f":"IF($H$11=0,\" \",IF(B37=$H$11,Simulador!$M$31,+IF(B38>0,VLOOKUP(B38,Simulador!$A$32:$T$550,13,0),\" \")))","v":0},{"$f":"IF($H$11=0,\" \",IF(B37=$H$11,Simulador!$T$31,+IF(B38>0,VLOOKUP(B38,Simulador!$A$32:$T$550,20,0),\" \")))","v":0},{"$f":"IF($H$11=0,\" \",IF(B37=$H$11,Simulador!$V$31,+IF(B38>0,VLOOKUP(B38,Simulador!$A$32:$Z$550,22,0),\" \")))","v":1276.7841666666673}]
[null,22,{"$f":"IF($H$11=0,\" \",IF(B38=$H$11,\"TOTALES\",+IF(B39>0,VLOOKUP(B39,Simulador!$A$32:$T$550,3,0),\" \")))","v":"2027-04-10"},{"$f":"IF($H$11=0,\" \",IF(B38=$H$11,Simulador!$J$33,+IF(B39>0,VLOOKUP(B39,Simulador!$A$32:$T$550,11,0),\" \")))","v":1007.5541666666672},{"$f":"IF($H$11=0,\" \",IF(B38=$H$11,Simulador!$L$31,+IF(B39>0,VLOOKUP(B39,Simulador!$A$32:$T$550,12,0),\" \")))","v":269.23},{"$f":"IF($H$11=0,\" \",IF(B38=$H$11,Simulador!$M$31,+IF(B39>0,VLOOKUP(B39,Simulador!$A$32:$T$550,13,0),\" \")))","v":0},{"$f":"IF($H$11=0,\" \",IF(B38=$H$11,Simulador!$T$31,+IF(B39>0,VLOOKUP(B39,Simulador!$A$32:$T$550,20,0),\" \")))","v":0},{"$f":"IF($H$11=0,\" \",IF(B38=$H$11,Simulador!$V$31,+IF(B39>0,VLOOKUP(B39,Simulador!$A$32:$Z$550,22,0),\" \")))","v":1276.7841666666673}]
[null,23,{"$f":"IF($H$11=0,\" \",IF(B39=$H$11,\"TOTALES\",+IF(B40>0,VLOOKUP(B40,Simulador!$A$32:$T$550,3,0),\" \")))","v":"2027-05-10"},{"$f":"IF($H$11=0,\" \",IF(B39=$H$11,Simulador!$J$33,+IF(B40>0,VLOOKUP(B40,Simulador!$A$32:$T$550,11,0),\" \")))","v":1024.8441666666672},{"$f":"IF($H$11=0,\" \",IF(B39=$H$11,Simulador!$L$31,+IF(B40>0,VLOOKUP(B40,Simulador!$A$32:$T$550,12,0),\" \")))","v":251.94},{"$f":"IF($H$11=0,\" \",IF(B39=$H$11,Simulador!$M$31,+IF(B40>0,VLOOKUP(B40,Simulador!$A$32:$T$550,13,0),\" \")))","v":0},{"$f":"IF($H$11=0,\" \",IF(B39=$H$11,Simulador!$T$31,+IF(B40>0,VLOOKUP(B40,Simulador!$A$32:$T$550,20,0),\" \")))","v":0},{"$f":"IF($H$11=0,\" \",IF(B39=$H$11,Simulador!$V$31,+IF(B40>0,VLOOKUP(B40,Simulador!$A$32:$Z$550,22,0),\" \")))","v":1276.7841666666673}]
[null,24,{"$f":"IF($H$11=0,\" \",IF(B40=$H$11,\"TOTALES\",+IF(B41>0,VLOOKUP(B41,Simulador!$A$32:$T$550,3,0),\" \")))","v":"2027-06-10"},{"$f":"IF($H$11=0,\" \",IF(B40=$H$11,Simulador!$J$33,+IF(B41>0,VLOOKUP(B41,Simulador!$A$32:$T$550,11,0),\" \")))","v":1025.4241666666671},{"$f":"IF($H$11=0,\" \",IF(B40=$H$11,Simulador!$L$31,+IF(B41>0,VLOOKUP(B41,Simulador!$A$32:$T$550,12,0),\" \")))","v":251.36},{"$f":"IF($H$11=0,\" \",IF(B40=$H$11,Simulador!$M$31,+IF(B41>0,VLOOKUP(B41,Simulador!$A$32:$T$550,13,0),\" \")))","v":0},{"$f":"IF($H$11=0,\" \",IF(B40=$H$11,Simulador!$T$31,+IF(B41>0,VLOOKUP(B41,Simulador!$A$32:$T$550,20,0),\" \")))","v":0},{"$f":"IF($H$11=0,\" \",IF(B40=$H$11,Simulador!$V$31,+IF(B41>0,VLOOKUP(B41,Simulador!$A$32:$Z$550,22,0),\" \")))","v":1276.7841666666673}]
[null,25,{"$f":"IF($H$11=0,\" \",IF(B41=$H$11,\"TOTALES\",+IF(B42>0,VLOOKUP(B42,Simulador!$A$32:$T$550,3,0),\" \")))","v":"2027-07-10"},{"$f":"IF($H$11=0,\" \",IF(B41=$H$11,Simulador!$J$33,+IF(B42>0,VLOOKUP(B42,Simulador!$A$32:$T$550,11,0),\" \")))","v":1042.2841666666673},{"$f":"IF($H$11=0,\" \",IF(B41=$H$11,Simulador!$L$31,+IF(B42>0,VLOOKUP(B42,Simulador!$A$32:$T$550,12,0),\" \")))","v":234.5},{"$f":"IF($H$11=0,\" \",IF(B41=$H$11,Simulador!$M$31,+IF(B42>0,VLOOKUP(B42,Simulador!$A$32:$T$550,13,0),\" \")))","v":0},{"$f":"IF($H$11=0,\" \",IF(B41=$H$11,Simulador!$T$31,+IF(B42>0,VLOOKUP(B42,Simulador!$A$32:$T$550,20,0),\" \")))","v":0},{"$f":"IF($H$11=0,\" \",IF(B41=$H$11,Simulador!$V$31,+IF(B42>0,VLOOKUP(B42,Simulador!$A$32:$Z$550,22,0),\" \")))","v":1276.7841666666673}]
[null,26,{"$f":"IF($H$11=0,\" \",IF(B42=$H$11,\"TOTALES\",+IF(B43>0,VLOOKUP(B43,Simulador!$A$32:$T$550,3,0),\" \")))","v":"2027-08-10"},{"$f":"IF($H$11=0,\" \",IF(B42=$H$11,Simulador!$J$33,+IF(B43>0,VLOOKUP(B43,Simulador!$A$32:$T$550,11,0),\" \")))","v":1043.6041666666672},{"$f":"IF($H$11=0,\" \",IF(B42=$H$11,Simulador!$L$31,+IF(B43>0,VLOOKUP(B43,Simulador!$A$32:$T$550,12,0),\" \")))","v":233.18},{"$f":"IF($H$11=0,\" \",IF(B42=$H$11,Simulador!$M$31,+IF(B43>0,VLOOKUP(B43,Simulador!$A$32:$T$550,13,0),\" \")))","v":0},{"$f":"IF($H$11=0,\" \",IF(B42=$H$11,Simulador!$T$31,+IF(B43>0,VLOOKUP(B43,Simulador!$A$32:$T$550,20,0),\" \")))","v":0},{"$f":"IF($H$11=0,\" \",IF(B42=$H$11,Simulador!$V$31,+IF(B43>0,VLOOKUP(B43,Simulador!$A$32:$Z$550,22,0),\" \")))","v":1276.7841666666673}]
[null,27,{"$f":"IF($H$11=0,\" \",IF(B43=$H$11,\"TOTALES\",+IF(B44>0,VLOOKUP(B44,Simulador!$A$32:$T$550,3,0),\" \")))","v":"2027-09-10"},{"$f":"IF($H$11=0,\" \",IF(B43=$H$11,Simulador!$J$33,+IF(B44>0,VLOOKUP(B44,Simulador!$A$32:$T$550,11,0),\" \")))","v":1052.7741666666673},{"$f":"IF($H$11=0,\" \",IF(B43=$H$11,Simulador!$L$31,+IF(B44>0,VLOOKUP(B44,Simulador!$A$32:$T$550,12,0),\" \")))","v":224.01},{"$f":"IF($H$11=0,\" \",IF(B43=$H$11,Simulador!$M$31,+IF(B44>0,VLOOKUP(B44,Simulador!$A$32:$T$550,13,0),\" \")))","v":0},{"$f":"IF($H$11=0,\" \",IF(B43=$H$11,Simulador!$T$31,+IF(B44>0,VLOOKUP(B44,Simulador!$A$32:$T$550,20,0),\" \")))","v":0},{"$f":"IF($H$11=0,\" \",IF(B43=$H$11,Simulador!$V$31,+IF(B44>0,VLOOKUP(B44,Simulador!$A$32:$Z$550,22,0),\" \")))","v":1276.7841666666673}]
[null,28,{"$f":"IF($H$11=0,\" \",IF(B44=$H$11,\"TOTALES\",+IF(B45>0,VLOOKUP(B45,Simulador!$A$32:$T$550,3,0),\" \")))","v":"2027-10-10"},{"$f":"IF($H$11=0,\" \",IF(B44=$H$11,Simulador!$J$33,+IF(B45>0,VLOOKUP(B45,Simulador!$A$32:$T$550,11,0),\" \")))","v":1068.9841666666673},{"$f":"IF($H$11=0,\" \",IF(B44=$H$11,Simulador!$L$31,+IF(B45>0,VLOOKUP(B45,Simulador!$A$32:$T$550,12,0),\" \")))","v":207.8},{"$f":"IF($H$11=0,\" \",IF(B44=$H$11,Simulador!$M$31,+IF(B45>0,VLOOKUP(B45,Simulador!$A$32:$T$550,13,0),\" \")))","v":0},{"$f":"IF($H$11=0,\" \",IF(B44=$H$11,Simulador!$T$31,+IF(B45>0,VLOOKUP(B45,Simulador!$A$32:$T$550,20,0),\" \")))","v":0},{"$f":"IF($H$11=0,\" \",IF(B44=$H$11,Simulador!$V$31,+IF(B45>0,VLOOKUP(B45,Simulador!$A$32:$Z$550,22,0),\" \")))","v":1276.7841666666673}]
[null,29,{"$f":"IF($H$11=0,\" \",IF(B45=$H$11,\"TOTALES\",+IF(B46>0,VLOOKUP(B46,Simulador!$A$32:$T$550,3,0),\" \")))","v":"2027-11-10"},{"$f":"IF($H$11=0,\" \",IF(B45=$H$11,Simulador!$J$33,+IF(B46>0,VLOOKUP(B46,Simulador!$A$32:$T$550,11,0),\" \")))","v":1071.4241666666671},{"$f":"IF($H$11=0,\" \",IF(B45=$H$11,Simulador!$L$31,+IF(B46>0,VLOOKUP(B46,Simulador!$A$32:$T$550,12,0),\" \")))","v":205.36},{"$f":"IF($H$11=0,\" \",IF(B45=$H$11,Simulador!$M$31,+IF(B46>0,VLOOKUP(B46,Simulador!$A$32:$T$550,13,0),\" \")))","v":0},{"$f":"IF($H$11=0,\" \",IF(B45=$H$11,Simulador!$T$31,+IF(B46>0,VLOOKUP(B46,Simulador!$A$32:$T$550,20,0),\" \")))","v":0},{"$f":"IF($H$11=0,\" \",IF(B45=$H$11,Simulador!$V$31,+IF(B46>0,VLOOKUP(B46,Simulador!$A$32:$Z$550,22,0),\" \")))","v":1276.7841666666673}]
[null,30,{"$f":"IF($H$11=0,\" \",IF(B46=$H$11,\"TOTALES\",+IF(B47>0,VLOOKUP(B47,Simulador!$A$32:$T$550,3,0),\" \")))","v":"2027-12-10"},{"$f":"IF($H$11=0,\" \",IF(B46=$H$11,Simulador!$J$33,+IF(B47>0,VLOOKUP(B47,Simulador!$A$32:$T$550,11,0),\" \")))","v":1087.1941666666673},{"$f":"IF($H$11=0,\" \",IF(B46=$H$11,Simulador!$L$31,+IF(B47>0,VLOOKUP(B47,Simulador!$A$32:$T$550,12,0),\" \")))","v":189.59},{"$f":"IF($H$11=0,\" \",IF(B46=$H$11,Simulador!$M$31,+IF(B47>0,VLOOKUP(B47,Simulador!$A$32:$T$550,13,0),\" \")))","v":0},{"$f":"IF($H$11=0,\" \",IF(B46=$H$11,Simulador!$T$31,+IF(B47>0,VLOOKUP(B47,Simulador!$A$32:$T$550,20,0),\" \")))","v":0},{"$f":"IF($H$11=0,\" \",IF(B46=$H$11,Simulador!$V$31,+IF(B47>0,VLOOKUP(B47,Simulador!$A$32:$Z$550,22,0),\" \")))","v":1276.7841666666673}]
[null,31,{"$f":"IF($H$11=0,\" \",IF(B47=$H$11,\"TOTALES\",+IF(B48>0,VLOOKUP(B48,Simulador!$A$32:$T$550,3,0),\" \")))","v":"2028-01-10"},{"$f":"IF($H$11=0,\" \",IF(B47=$H$11,Simulador!$J$33,+IF(B48>0,VLOOKUP(B48,Simulador!$A$32:$T$550,11,0),\" \")))","v":1090.4041666666672},{"$f":"IF($H$11=0,\" \",IF(B47=$H$11,Simulador!$L$31,+IF(B48>0,VLOOKUP(B48,Simulador!$A$32:$T$550,12,0),\" \")))","v":186.38},{"$f":"IF($H$11=0,\" \",IF(B47=$H$11,Simulador!$M$31,+IF(B48>0,VLOOKUP(B48,Simulador!$A$32:$T$550,13,0),\" \")))","v":0},{"$f":"IF($H$11=0,\" \",IF(B47=$H$11,Simulador!$T$31,+IF(B48>0,VLOOKUP(B48,Simulador!$A$32:$T$550,20,0),\" \")))","v":0},{"$f":"IF($H$11=0,\" \",IF(B47=$H$11,Simulador!$V$31,+IF(B48>0,VLOOKUP(B48,Simulador!$A$32:$Z$550,22,0),\" \")))","v":1276.7841666666673}]
[null,32,{"$f":"IF($H$11=0,\" \",IF(B48=$H$11,\"TOTALES\",+IF(B49>0,VLOOKUP(B49,Simulador!$A$32:$T$550,3,0),\" \")))","v":"2028-02-10"},{"$f":"IF($H$11=0,\" \",IF(B48=$H$11,Simulador!$J$33,+IF(B49>0,VLOOKUP(B49,Simulador!$A$32:$T$550,11,0),\" \")))","v":1099.9941666666673},{"$f":"IF($H$11=0,\" \",IF(B48=$H$11,Simulador!$L$31,+IF(B49>0,VLOOKUP(B49,Simulador!$A$32:$T$550,12,0),\" \")))","v":176.79},{"$f":"IF($H$11=0,\" \",IF(B48=$H$11,Simulador!$M$31,+IF(B49>0,VLOOKUP(B49,Simulador!$A$32:$T$550,13,0),\" \")))","v":0},{"$f":"IF($H$11=0,\" \",IF(B48=$H$11,Simulador!$T$31,+IF(B49>0,VLOOKUP(B49,Simulador!$A$32:$T$550,20,0),\" \")))","v":0},{"$f":"IF($H$11=0,\" \",IF(B48=$H$11,Simulador!$V$31,+IF(B49>0,VLOOKUP(B49,Simulador!$A$32:$Z$550,22,0),\" \")))","v":1276.7841666666673}]
[null,33,{"$f":"IF($H$11=0,\" \",IF(B49=$H$11,\"TOTALES\",+IF(B50>0,VLOOKUP(B50,Simulador!$A$32:$T$550,3,0),\" \")))","v":"2028-03-10"},{"$f":"IF($H$11=0,\" \",IF(B49=$H$11,Simulador!$J$33,+IF(B50>0,VLOOKUP(B50,Simulador!$A$32:$T$550,11,0),\" \")))","v":1120.4941666666673},{"$f":"IF($H$11=0,\" \",IF(B49=$H$11,Simulador!$L$31,+IF(B50>0,VLOOKUP(B50,Simulador!$A$32:$T$550,12,0),\" \")))","v":156.29},{"$f":"IF($H$11=0,\" \",IF(B49=$H$11,Simulador!$M$31,+IF(B50>0,VLOOKUP(B50,Simulador!$A$32:$T$550,13,0),\" \")))","v":0},{"$f":"IF($H$11=0,\" \",IF(B49=$H$11,Simulador!$T$31,+IF(B50>0,VLOOKUP(B50,Simulador!$A$32:$T$550,20,0),\" \")))","v":0},{"$f":"IF($H$11=0,\" \",IF(B49=$H$11,Simulador!$V$31,+IF(B50>0,VLOOKUP(B50,Simulador!$A$32:$Z$550,22,0),\" \")))","v":1276.7841666666673}]
[null,34,{"$f":"IF($H$11=0,\" \",IF(B50=$H$11,\"TOTALES\",+IF(B51>0,VLOOKUP(B51,Simulador!$A$32:$T$550,3,0),\" \")))","v":"2028-04-10"},{"$f":"IF($H$11=0,\" \",IF(B50=$H$11,Simulador!$J$33,+IF(B51>0,VLOOKUP(B51,Simulador!$A$32:$T$550,11,0),\" \")))","v":1119.5141666666673},{"$f":"IF($H$11=0,\" \",IF(B50=$H$11,Simulador!$L$31,+IF(B51>0,VLOOKUP(B51,Simulador!$A$32:$T$550,12,0),\" \")))","v":157.27000000000001},{"$f":"IF($H$11=0,\" \",IF(B50=$H$11,Simulador!$M$31,+IF(B51>0,VLOOKUP(B51,Simulador!$A$32:$T$550,13,0),\" \")))","v":0},{"$f":"IF($H$11=0,\" \",IF(B50=$H$11,Simulador!$T$31,+IF(B51>0,VLOOKUP(B51,Simulador!$A$32:$T$550,20,0),\" \")))","v":0},{"$f":"IF($H$11=0,\" \",IF(B50=$H$11,Simulador!$V$31,+IF(B51>0,VLOOKUP(B51,Simulador!$A$32:$Z$550,22,0),\" \")))","v":1276.7841666666673}]
[null,35,{"$f":"IF($H$11=0,\" \",IF(B51=$H$11,\"TOTALES\",+IF(B52>0,VLOOKUP(B52,Simulador!$A$32:$T$550,3,0),\" \")))","v":"2028-05-10"},{"$f":"IF($H$11=0,\" \",IF(B51=$H$11,Simulador!$J$33,+IF(B52>0,VLOOKUP(B52,Simulador!$A$32:$T$550,11,0),\" \")))","v":1134.1341666666672},{"$f":"IF($H$11=0,\" \",IF(B51=$H$11,Simulador!$L$31,+IF(B52>0,VLOOKUP(B52,Simulador!$A$32:$T$550,12,0),\" \")))","v":142.65},{"$f":"IF($H$11=0,\" \",IF(B51=$H$11,Simulador!$M$31,+IF(B52>0,VLOOKUP(B52,Simulador!$A$32:$T$550,13,0),\" \")))","v":0},{"$f":"IF($H$11=0,\" \",IF(B51=$H$11,Simulador!$T$31,+IF(B52>0,VLOOKUP(B52,Simulador!$A$32:$T$550,20,0),\" \")))","v":0},{"$f":"IF($H$11=0,\" \",IF(B51=$H$11,Simulador!$V$31,+IF(B52>0,VLOOKUP(B52,Simulador!$A$32:$Z$550,22,0),\" \")))","v":1276.7841666666673}]
[null,36,{"$f":"IF($H$11=0,\" \",IF(B52=$H$11,\"TOTALES\",+IF(B53>0,VLOOKUP(B53,Simulador!$A$32:$T$550,3,0),\" \")))","v":"2028-06-10"},{"$f":"IF($H$11=0,\" \",IF(B52=$H$11,Simulador!$J$33,+IF(B53>0,VLOOKUP(B53,Simulador!$A$32:$T$550,11,0),\" \")))","v":1139.3341666666672},{"$f":"IF($H$11=0,\" \",IF(B52=$H$11,Simulador!$L$31,+IF(B53>0,VLOOKUP(B53,Simulador!$A$32:$T$550,12,0),\" \")))","v":137.44999999999999},{"$f":"IF($H$11=0,\" \",IF(B52=$H$11,Simulador!$M$31,+IF(B53>0,VLOOKUP(B53,Simulador!$A$32:$T$550,13,0),\" \")))","v":0},{"$f":"IF($H$11=0,\" \",IF(B52=$H$11,Simulador!$T$31,+IF(B53>0,VLOOKUP(B53,Simulador!$A$32:$T$550,20,0),\" \")))","v":0},{"$f":"IF($H$11=0,\" \",IF(B52=$H$11,Simulador!$V$31,+IF(B53>0,VLOOKUP(B53,Simulador!$A$32:$Z$550,22,0),\" \")))","v":1276.7841666666673}]
[null,37,{"$f":"IF($H$11=0,\" \",IF(B53=$H$11,\"TOTALES\",+IF(B54>0,VLOOKUP(B54,Simulador!$A$32:$T$550,3,0),\" \")))","v":"2028-07-10"},{"$f":"IF($H$11=0,\" \",IF(B53=$H$11,Simulador!$J$33,+IF(B54>0,VLOOKUP(B54,Simulador!$A$32:$T$550,11,0),\" \")))","v":1153.4741666666673},{"$f":"IF($H$11=0,\" \",IF(B53=$H$11,Simulador!$L$31,+IF(B54>0,VLOOKUP(B54,Simulador!$A$32:$T$550,12,0),\" \")))","v":123.31},{"$f":"IF($H$11=0,\" \",IF(B53=$H$11,Simulador!$M$31,+IF(B54>0,VLOOKUP(B54,Simulador!$A$32:$T$550,13,0),\" \")))","v":0},{"$f":"IF($H$11=0,\" \",IF(B53=$H$11,Simulador!$T$31,+IF(B54>0,VLOOKUP(B54,Simulador!$A$32:$T$550,20,0),\" \")))","v":0},{"$f":"IF($H$11=0,\" \",IF(B53=$H$11,Simulador!$V$31,+IF(B54>0,VLOOKUP(B54,Simulador!$A$32:$Z$550,22,0),\" \")))","v":1276.7841666666673}]
[null,38,{"$f":"IF($H$11=0,\" \",IF(B54=$H$11,\"TOTALES\",+IF(B55>0,VLOOKUP(B55,Simulador!$A$32:$T$550,3,0),\" \")))","v":"2028-08-10"},{"$f":"IF($H$11=0,\" \",IF(B54=$H$11,Simulador!$J$33,+IF(B55>0,VLOOKUP(B55,Simulador!$A$32:$T$550,11,0),\" \")))","v":1159.4841666666673},{"$f":"IF($H$11=0,\" \",IF(B54=$H$11,Simulador!$L$31,+IF(B55>0,VLOOKUP(B55,Simulador!$A$32:$T$550,12,0),\" \")))","v":117.3},{"$f":"IF($H$11=0,\" \",IF(B54=$H$11,Simulador!$M$31,+IF(B55>0,VLOOKUP(B55,Simulador!$A$32:$T$550,13,0),\" \")))","v":0},{"$f":"IF($H$11=0,\" \",IF(B54=$H$11,Simulador!$T$31,+IF(B55>0,VLOOKUP(B55,Simulador!$A$32:$T$550,20,0),\" \")))","v":0},{"$f":"IF($H$11=0,\" \",IF(B54=$H$11,Simulador!$V$31,+IF(B55>0,VLOOKUP(B55,Simulador!$A$32:$Z$550,22,0),\" \")))","v":1276.7841666666673}]
[null,39,{"$f":"IF($H$11=0,\" \",IF(B55=$H$11,\"TOTALES\",+IF(B56>0,VLOOKUP(B56,Simulador!$A$32:$T$550,3,0),\" \")))","v":"2028-09-10"},{"$f":"IF($H$11=0,\" \",IF(B55=$H$11,Simulador!$J$33,+IF(B56>0,VLOOKUP(B56,Simulador!$A$32:$T$550,11,0),\" \")))","v":1169.6841666666674},{"$f":"IF($H$11=0,\" \",IF(B55=$H$11,Simulador!$L$31,+IF(B56>0,VLOOKUP(B56,Simulador!$A$32:$T$550,12,0),\" \")))","v":107.1},{"$f":"IF($H$11=0,\" \",IF(B55=$H$11,Simulador!$M$31,+IF(B56>0,VLOOKUP(B56,Simulador!$A$32:$T$550,13,0),\" \")))","v":0},{"$f":"IF($H$11=0,\" \",IF(B55=$H$11,Simulador!$T$31,+IF(B56>0,VLOOKUP(B56,Simulador!$A$32:$T$550,20,0),\" \")))","v":0},{"$f":"IF($H$11=0,\" \",IF(B55=$H$11,Simulador!$V$31,+IF(B56>0,VLOOKUP(B56,Simulador!$A$32:$Z$550,22,0),\" \")))","v":1276.7841666666673}]
[null,40,{"$f":"IF($H$11=0,\" \",IF(B56=$H$11,\"TOTALES\",+IF(B57>0,VLOOKUP(B57,Simulador!$A$32:$T$550,3,0),\" \")))","v":"2028-10-10"},{"$f":"IF($H$11=0,\" \",IF(B56=$H$11,Simulador!$J$33,+IF(B57>0,VLOOKUP(B57,Simulador!$A$32:$T$550,11,0),\" \")))","v":1183.1041666666672},{"$f":"IF($H$11=0,\" \",IF(B56=$H$11,Simulador!$L$31,+IF(B57>0,VLOOKUP(B57,Simulador!$A$32:$T$550,12,0),\" \")))","v":93.68},{"$f":"IF($H$11=0,\" \",IF(B56=$H$11,Simulador!$M$31,+IF(B57>0,VLOOKUP(B57,Simulador!$A$32:$T$550,13,0),\" \")))","v":0},{"$f":"IF($H$11=0,\" \",IF(B56=$H$11,Simulador!$T$31,+IF(B57>0,VLOOKUP(B57,Simulador!$A$32:$T$550,20,0),\" \")))","v":0},{"$f":"IF($H$11=0,\" \",IF(B56=$H$11,Simulador!$V$31,+IF(B57>0,VLOOKUP(B57,Simulador!$A$32:$Z$550,22,0),\" \")))","v":1276.7841666666673}]
[null,41,{"$f":"IF($H$11=0,\" \",IF(B57=$H$11,\"TOTALES\",+IF(B58>0,VLOOKUP(B58,Simulador!$A$32:$T$550,3,0),\" \")))","v":"2028-11-10"},{"$f":"IF($H$11=0,\" \",IF(B57=$H$11,Simulador!$J$33,+IF(B58>0,VLOOKUP(B58,Simulador!$A$32:$T$550,11,0),\" \")))","v":1190.3641666666672},{"$f":"IF($H$11=0,\" \",IF(B57=$H$11,Simulador!$L$31,+IF(B58>0,VLOOKUP(B58,Simulador!$A$32:$T$550,12,0),\" \")))","v":86.42},{"$f":"IF($H$11=0,\" \",IF(B57=$H$11,Simulador!$M$31,+IF(B58>0,VLOOKUP(B58,Simulador!$A$32:$T$550,13,0),\" \")))","v":0},{"$f":"IF($H$11=0,\" \",IF(B57=$H$11,Simulador!$T$31,+IF(B58>0,VLOOKUP(B58,Simulador!$A$32:$T$550,20,0),\" \")))","v":0},{"$f":"IF($H$11=0,\" \",IF(B57=$H$11,Simulador!$V$31,+IF(B58>0,VLOOKUP(B58,Simulador!$A$32:$Z$550,22,0),\" \")))","v":1276.7841666666673}]
[null,42,{"$f":"IF($H$11=0,\" \",IF(B58=$H$11,\"TOTALES\",+IF(B59>0,VLOOKUP(B59,Simulador!$A$32:$T$550,3,0),\" \")))","v":"2028-12-10"},{"$f":"IF($H$11=0,\" \",IF(B58=$H$11,Simulador!$J$33,+IF(B59>0,VLOOKUP(B59,Simulador!$A$32:$T$550,11,0),\" \")))","v":1203.2941666666673},{"$f":"IF($H$11=0,\" \",IF(B58=$H$11,Simulador!$L$31,+IF(B59>0,VLOOKUP(B59,Simulador!$A$32:$T$550,12,0),\" \")))","v":73.489999999999995},{"$f":"IF($H$11=0,\" \",IF(B58=$H$11,Simulador!$M$31,+IF(B59>0,VLOOKUP(B59,Simulador!$A$32:$T$550,13,0),\" \")))","v":0},{"$f":"IF($H$11=0,\" \",IF(B58=$H$11,Simulador!$T$31,+IF(B59>0,VLOOKUP(B59,Simulador!$A$32:$T$550,20,0),\" \")))","v":0},{"$f":"IF($H$11=0,\" \",IF(B58=$H$11,Simulador!$V$31,+IF(B59>0,VLOOKUP(B59,Simulador!$A$32:$Z$550,22,0),\" \")))","v":1276.7841666666673}]
[null,43,{"$f":"IF($H$11=0,\" \",IF(B59=$H$11,\"TOTALES\",+IF(B60>0,VLOOKUP(B60,Simulador!$A$32:$T$550,3,0),\" \")))","v":"2029-01-10"},{"$f":"IF($H$11=0,\" \",IF(B59=$H$11,Simulador!$J$33,+IF(B60>0,VLOOKUP(B60,Simulador!$A$32:$T$550,11,0),\" \")))","v":1211.4141666666674},{"$f":"IF($H$11=0,\" \",IF(B59=$H$11,Simulador!$L$31,+IF(B60>0,VLOOKUP(B60,Simulador!$A$32:$T$550,12,0),\" \")))","v":65.37},{"$f":"IF($H$11=0,\" \",IF(B59=$H$11,Simulador!$M$31,+IF(B60>0,VLOOKUP(B60,Simulador!$A$32:$T$550,13,0),\" \")))","v":0},{"$f":"IF($H$11=0,\" \",IF(B59=$H$11,Simulador!$T$31,+IF(B60>0,VLOOKUP(B60,Simulador!$A$32:$T$550,20,0),\" \")))","v":0},{"$f":"IF($H$11=0,\" \",IF(B59=$H$11,Simulador!$V$31,+IF(B60>0,VLOOKUP(B60,Simulador!$A$32:$Z$550,22,0),\" \")))","v":1276.7841666666673}]
[null,44,{"$f":"IF($H$11=0,\" \",IF(B60=$H$11,\"TOTALES\",+IF(B61>0,VLOOKUP(B61,Simulador!$A$32:$T$550,3,0),\" \")))","v":"2029-02-10"},{"$f":"IF($H$11=0,\" \",IF(B60=$H$11,Simulador!$J$33,+IF(B61>0,VLOOKUP(B61,Simulador!$A$32:$T$550,11,0),\" \")))","v":1222.0641666666672},{"$f":"IF($H$11=0,\" \",IF(B60=$H$11,Simulador!$L$31,+IF(B61>0,VLOOKUP(B61,Simulador!$A$32:$T$550,12,0),\" \")))","v":54.72},{"$f":"IF($H$11=0,\" \",IF(B60=$H$11,Simulador!$M$31,+IF(B61>0,VLOOKUP(B61,Simulador!$A$32:$T$550,13,0),\" \")))","v":0},{"$f":"IF($H$11=0,\" \",IF(B60=$H$11,Simulador!$T$31,+IF(B61>0,VLOOKUP(B61,Simulador!$A$32:$T$550,20,0),\" \")))","v":0},{"$f":"IF($H$11=0,\" \",IF(B60=$H$11,Simulador!$V$31,+IF(B61>0,VLOOKUP(B61,Simulador!$A$32:$Z$550,22,0),\" \")))","v":1276.7841666666673}]
[null,45,{"$f":"IF($H$11=0,\" \",IF(B61=$H$11,\"TOTALES\",+IF(B62>0,VLOOKUP(B62,Simulador!$A$32:$T$550,3,0),\" \")))","v":"2029-03-10"},{"$f":"IF($H$11=0,\" \",IF(B61=$H$11,Simulador!$J$33,+IF(B62>0,VLOOKUP(B62,Simulador!$A$32:$T$550,11,0),\" \")))","v":1237.0841666666672},{"$f":"IF($H$11=0,\" \",IF(B61=$H$11,Simulador!$L$31,+IF(B62>0,VLOOKUP(B62,Simulador!$A$32:$T$550,12,0),\" \")))","v":39.700000000000003},{"$f":"IF($H$11=0,\" \",IF(B61=$H$11,Simulador!$M$31,+IF(B62>0,VLOOKUP(B62,Simulador!$A$32:$T$550,13,0),\" \")))","v":0},{"$f":"IF($H$11=0,\" \",IF(B61=$H$11,Simulador!$T$31,+IF(B62>0,VLOOKUP(B62,Simulador!$A$32:$T$550,20,0),\" \")))","v":0},{"$f":"IF($H$11=0,\" \",IF(B61=$H$11,Simulador!$V$31,+IF(B62>0,VLOOKUP(B62,Simulador!$A$32:$Z$550,22,0),\" \")))","v":1276.7841666666673}]
[null,46,{"$f":"IF($H$11=0,\" \",IF(B62=$H$11,\"TOTALES\",+IF(B63>0,VLOOKUP(B63,Simulador!$A$32:$T$550,3,0),\" \")))","v":"2029-04-10"},{"$f":"IF($H$11=0,\" \",IF(B62=$H$11,Simulador!$J$33,+IF(B63>0,VLOOKUP(B63,Simulador!$A$32:$T$550,11,0),\" \")))","v":1243.6841666666674},{"$f":"IF($H$11=0,\" \",IF(B62=$H$11,Simulador!$L$31,+IF(B63>0,VLOOKUP(B63,Simulador!$A$32:$T$550,12,0),\" \")))","v":33.1},{"$f":"IF($H$11=0,\" \",IF(B62=$H$11,Simulador!$M$31,+IF(B63>0,VLOOKUP(B63,Simulador!$A$32:$T$550,13,0),\" \")))","v":0},{"$f":"IF($H$11=0,\" \",IF(B62=$H$11,Simulador!$T$31,+IF(B63>0,VLOOKUP(B63,Simulador!$A$32:$T$550,20,0),\" \")))","v":0},{"$f":"IF($H$11=0,\" \",IF(B62=$H$11,Simulador!$V$31,+IF(B63>0,VLOOKUP(B63,Simulador!$A$32:$Z$550,22,0),\" \")))","v":1276.7841666666673}]
[null,47,{"$f":"IF($H$11=0,\" \",IF(B63=$H$11,\"TOTALES\",+IF(B64>0,VLOOKUP(B64,Simulador!$A$32:$T$550,3,0),\" \")))","v":"2029-05-10"},{"$f":"IF($H$11=0,\" \",IF(B63=$H$11,Simulador!$J$33,+IF(B64>0,VLOOKUP(B64,Simulador!$A$32:$T$550,11,0),\" \")))","v":1255.3341666666672},{"$f":"IF($H$11=0,\" \",IF(B63=$H$11,Simulador!$L$31,+IF(B64>0,VLOOKUP(B64,Simulador!$A$32:$T$550,12,0),\" \")))","v":21.45},{"$f":"IF($H$11=0,\" \",IF(B63=$H$11,Simulador!$M$31,+IF(B64>0,VLOOKUP(B64,Simulador!$A$32:$T$550,13,0),\" \")))","v":0},{"$f":"IF($H$11=0,\" \",IF(B63=$H$11,Simulador!$T$31,+IF(B64>0,VLOOKUP(B64,Simulador!$A$32:$T$550,20,0),\" \")))","v":0},{"$f":"IF($H$11=0,\" \",IF(B63=$H$11,Simulador!$V$31,+IF(B64>0,VLOOKUP(B64,Simulador!$A$32:$Z$550,22,0),\" \")))","v":1276.7841666666673}]
[null,48,{"$f":"IF($H$11=0,\" \",IF(B64=$H$11,\"TOTALES\",+IF(B65>0,VLOOKUP(B65,Simulador!$A$32:$T$550,3,0),\" \")))","v":"2029-06-10"},{"$f":"IF($H$11=0,\" \",IF(B64=$H$11,Simulador!$J$33,+IF(B65>0,VLOOKUP(B65,Simulador!$A$32:$T$550,11,0),\" \")))","v":1265.6541666666672},{"$f":"IF($H$11=0,\" \",IF(B64=$H$11,Simulador!$L$31,+IF(B65>0,VLOOKUP(B65,Simulador!$A$32:$T$550,12,0),\" \")))","v":11.13},{"$f":"IF($H$11=0,\" \",IF(B64=$H$11,Simulador!$M$31,+IF(B65>0,VLOOKUP(B65,Simulador!$A$32:$T$550,13,0),\" \")))","v":0},{"$f":"IF($H$11=0,\" \",IF(B64=$H$11,Simulador!$T$31,+IF(B65>0,VLOOKUP(B65,Simulador!$A$32:$T$550,20,0),\" \")))","v":0},{"$f":"IF($H$11=0,\" \",IF(B64=$H$11,Simulador!$V$31,+IF(B65>0,VLOOKUP(B65,Simulador!$A$32:$Z$550,22,0),\" \")))","v":1276.7841666666673}]
[null,"",{"$f":"IF($H$11=0,\" \",IF(B65=$H$11,\"TOTALES\",+IF(B66>0,VLOOKUP(B66,Simulador!$A$32:$T$550,3,0),\" \")))","v":"TOTALES"},{"$f":"IF($H$11=0,\" \",IF(B65=$H$11,Simulador!$J$33,+IF(B66>0,VLOOKUP(B66,Simulador!$A$32:$T$550,11,0),\" \")))","v":50000},{"$f":"IF($H$11=0,\" \",IF(B65=$H$11,Simulador!$L$31,+IF(B66>0,VLOOKUP(B66,Simulador!$A$32:$T$550,12,0),\" \")))","v":11285.640000000001},{"$f":"IF($H$11=0,\" \",IF(B65=$H$11,Simulador!$M$31,+IF(B66>0,VLOOKUP(B66,Simulador!$A$32:$T$550,13,0),\" \")))","v":0},{"$f":"IF($H$11=0,\" \",IF(B65=$H$11,Simulador!$T$31,+IF(B66>0,VLOOKUP(B66,Simulador!$A$32:$T$550,20,0),\" \")))","v":0},{"$f":"IF($H$11=0,\" \",IF(B65=$H$11,Simulador!$V$31,+IF(B66>0,VLOOKUP(B66,Simulador!$A$32:$Z$550,22,0),\" \")))","v":61285.639999999985}]
[null,"",{"$f":"IF($H$11=0,\" \",IF(B66=$H$11,\"TOTALES\",+IF(B67>0,VLOOKUP(B67,Simulador!$A$32:$T$550,3,0),\" \")))","v":""},{"$f":"IF($H$11=0,\" \",IF(B66=$H$11,Simulador!$J$33,+IF(B67>0,VLOOKUP(B67,Simulador!$A$32:$T$550,11,0),\" \")))","v":""},{"$f":"IF($H$11=0,\" \",IF(B66=$H$11,Simulador!$L$31,+IF(B67>0,VLOOKUP(B67,Simulador!$A$32:$T$550,12,0),\" \")))","v":""},{"$f":"IF($H$11=0,\" \",IF(B66=$H$11,Simulador!$M$31,+IF(B67>0,VLOOKUP(B67,Simulador!$A$32:$T$550,13,0),\" \")))","v":""},{"$f":"IF($H$11=0,\" \",IF(B66=$H$11,Simulador!$T$31,+IF(B67>0,VLOOKUP(B67,Simulador!$A$32:$T$550,20,0),\" \")))","v":""},{"$f":"IF($H$11=0,\" \",IF(B66=$H$11,#REF!,+IF(B67>0,VLOOKUP(B67,Simulador!$A$32:$Z$550,22,0),\" \")))","v":""}]
[null,"",{"$f":"IF($H$11=0,\" \",IF(B67=$H$11,\"TOTALES\",+IF(B68>0,VLOOKUP(B68,Simulador!$A$32:$T$550,3,0),\" \")))","v":""},{"$f":"IF($H$11=0,\" \",IF(B67=$H$11,Simulador!$J$33,+IF(B68>0,VLOOKUP(B68,Simulador!$A$32:$T$550,11,0),\" \")))","v":""},{"$f":"IF($H$11=0,\" \",IF(B67=$H$11,Simulador!$L$31,+IF(B68>0,VLOOKUP(B68,Simulador!$A$32:$T$550,12,0),\" \")))","v":""},{"$f":"IF($H$11=0,\" \",IF(B67=$H$11,Simulador!$M$31,+IF(B68>0,VLOOKUP(B68,Simulador!$A$32:$T$550,13,0),\" \")))","v":""},{"$f":"IF($H$11=0,\" \",IF(B67=$H$11,Simulador!$T$31,+IF(B68>0,VLOOKUP(B68,Simulador!$A$32:$T$550,20,0),\" \")))","v":""},{"$f":"IF($H$11=0,\" \",IF(B67=$H$11,#REF!,+IF(B68>0,VLOOKUP(B68,Simulador!$A$32:$Z$550,22,0),\" \")))","v":""}]

{"sheet":"Simulador","index":3,"n_rows":275,"n_cols":45,"rows_kept":275,"cut":false,"hidden":true,"merged":[[1,2,1,22],[28,17,28,18],[31,35,31,36]]}
[]
[null,null,"SIMULADOR DE CUOTAS - CRÉDITO PLD"]
[]
[]
[null,null,"Importe Solicitado",null,null,null,null,{"$f":"+Hoja1!C8","v":50000},null,null,null,"Fecha Desembolso",null,null,null,null,{"$f":"+Hoja1!C9","v":"2025-06-10"}]
[null,null,"Saldo de Capital",null,null,null,null,{"$f":"H5","v":50000},null,null,null,"Fecha Final de Gracia",null,null,null,null,{"$f":"+DATE(YEAR(Q5+H15),MONTH(Q5+H15),DAY(Q5+H15))","v":"2025-06-10"}]
[null,null,"Saldo de Interes",null,null,null,null,0,null,null,null,"Fecha de la 1° cuota",null,null,null,null,{"$f":"DATE(YEAR(EDATE(Q6,1)),MONTH(EDATE(Q6,1)),DAY(EDATE(Q6,1)))","v":"2025-07-10"}]
[null,null,"Tasa Anual (TEA)",null,null,null,null,{"$f":"+Hoja1!C11","v":10.7},null,null,null,"Fecha final de vencimiento",null,null,null,null,{"$f":"IF(OR($H$16>0,$H$17>0),VLOOKUP($H$14,$A$33:$C$272,3,0),DATE(YEAR(EDATE(Q6,H14)),MONTH(EDATE(Q6,H14)),DAY(EDATE(Q6,H14))))","v":"2029-06-10"}]
[null,null,"Tasa de Seguro de Desgravamen",null,null,null,null,{"$f":"+IF(Hoja1!C13=\"Endoso o sin seguro\",0,IF(Hoja1!C13=\"Seguro con retorno\",0.346%,0.18%))","v":0},null,null,null,"Base",null,null,null,null,360]
[null,null,"Tasa Anual (TEA) - Ajustada",null,null,null,null,{"$f":"+H8","v":10.7},null,null,null,"Frecuencia pago en días",null,null,null,null,30,{"$f":"+((1+22%)^(1/12)-1)*12*100","v":20.050756647753776},{"$f":"+(Q11%)*Q12/Q9","v":8.631181321180556E-3}]
[null,null,"Comision por Env. Inf",null,null,null,null,0,null,null,null,"Tasa Equivalente - Ajustada",null,null,null,null,{"$f":"ROUND((((H10/100+1)^(1/(Q9/Q10))-1)*Q9/Q10)*100,6)","v":10.208543000000001},"tea conv. A tem luego nominal anual"]
[null,null,"Valor Asegurable",null,null,null,null,0,null,null,null,"Días entre cuotas",null,null,null,null,{"$f":"(Q8-Q6)/H14","v":30.4375},"dias promedio entre cuotas"]
[null,null,"Tasa de Seguro Todo Riesgo",null,null,null,null,0,{"$f":"+H13*12","v":0},{"$f":"+I13/365*30*H12","v":0},null,"Factor Aplicado - Ajustada",null,null,null,null,{"$f":"ROUND(($Q$11/100)/($Q$9/$Q$12),8)","v":8.6311800000000004E-3},"tem convertida de manera nominal a los dias entre cuotas"]
[null,null,"Plazo y  Nro. Cuotas",null,null,null,null,{"$f":"+Hoja1!C10","v":48},{"$f":"H14","v":48},null,null,"Factor Aplicado para la cuota - Ajustada",null,null,null,null,{"$f":"1/((1-((1+$Q$13)^(-1*$H$14)))/$Q$13)","v":2.553457496999401E-2},"Factor de cuota (ok)"]
[null,null,"Días de Gracia",null,null,null,null,{"$f":"+Hoja1!C12","v":0},null,null,null,"Interes de Gracia  (Se considera la TEA Normal)",null,null,null,null,{"$f":"IF(H15>0,ROUND(H6*(((1+H8/100)^(ABS(H15)/Q9))-1),4),ROUND(H6*(((1+H8/100)^(ABS(H15)/Q9))-1),4) * -1)","v":0},"Ok"]
[null,null,"Mes de No Pago 1",null,null,null,null,0,null,null,null,"Saldo Interes +/- Interes Gracia",null,null,null,null,{"$f":"IF(H7 + Q15>0,H7+ Q15,0)","v":0}]
[null,null,"Mes de No Pago 2",null,null,null,null,0,null,null,null,"Seg Desg de Gracia",null,null,null,null,{"$f":"IF(H15>0,ROUNDDOWN(H5*H9/30*H15,2),ROUNDDOWN(H5*H9/30*H15,2)*0)","v":0}]
[null,null,"Mes Cuota Doble 1",null,null,null,null,{"$f":"+IF(Hoja1!C14=\"No\",0,IF(Hoja1!C14=\"Julio\",7,12))","v":0},null,null,null,"TCEA",null,null,null,null,{"$f":"+$AH$31","v":0.10700045436028738}]
[null,null,"Mes Cuota Doble 2",null,null,null," ",{"$f":"+IF(Hoja1!C15=\"No\",0,IF(Hoja1!C15=\"Julio\",7,12))","v":0}]
[]
[null,null,null,null,null,null,null,null,null,null,null,null,null,null,"Suavización",null,null,null,null,null,"Validador Cuota Doble"]
[null,null,null,null,null,null,null,null,null,null,null,null,null,null,"Ultimo saldo de Principal",null,{"$f":"VLOOKUP(I14,$F$32:$W$272,18,FALSE)","v":0.2},null,null,null,"Cuota Simple",null,{"$f":"+VLOOKUP(\"\",$D$33:$V$272,19,0)","v":1276.7841666666673}]
[null,null,null,null,null,"Valor de cuota por dias de gracia",null,null,null,{"$f":"+ROUND(IF(OR(H16+H17>0,H18+H19>0),Q16/VLOOKUP(H14,'Calculos PLD'!$A$3:$G$386,7,FALSE),Simulador!Q16*Simulador!$Q$14),2)","v":0},{"$f":"Q16/SUM(AN33:INDIRECT(CONCATENATE(\"AE\",32+I14-1)))","v":0},null,null,null,"Numero de Dias",null,{"$f":"Q8-Q6","v":1461},null,null,null,"Cuota Doble",null,{"$f":"+IFERROR(VLOOKUP(\"D\",$D$33:$V$272,19,0),\" \")","v":" "}]
[null,null,null,null,null,"Valor de cuota por capital",null,null,null,{"$f":"ROUND(IF(OR(H16 + H17 > 0,H18 + H19>0), ROUNDUP(H6/VLOOKUP(H14,'Calculos PLD'!$A$3:$G$386,7,FALSE),2),H6*$Q$14),2)","v":1276.73},null,"sin desgravamen",null,null,"Valor de Cuota Nivelada",null,{"$f":"ROUND(+Q22/ROUND(1*(((1+H10/100)^(Q23/Q9))-1),4),2)","v":0.39},null,null,null,"Factor",null,{"$f":"+IFERROR(W23/W22,\" \")","v":" "}]
[null,null,null,null,null,"Valor de Seg Desg por dia de gracia",null,null,null,{"$f":"$Q$17/(($I$14+COUNTIF(D33:INDIRECT(CONCATENATE(\"C\",32+I14-1)),\"D\"))*(1/((1+0)^($Q$10/$Q$9))))","v":0}]
[null,null,null,null,null,"Seguro de Desgravamen (FPF)",null,null,null,{"$f":"$H$5*$H$9","v":0},null,null,null,null,"Factor Ajuste",null,{"$f":"Q24*Q14","v":9.9584842382976647E-3},null,"Se copia LO DEL COSTADO  a partir de la primera corrida",null,"Calce de Capital"]
[null,null,null,null,null,"Comision por Env.Inf",null,null,null,0,null,null,null,null,"Exceso de Int + Gracia",null,{"$f":"SUM(X33:X152)","v":0},{"$f":"ROUND(IF(OR(H16+ H17> 0,H18 + H19>0),ROUNDUP($Q$27/VLOOKUP(H14,'Calculos PLD'!$A$3:$G$386,7,FALSE),2),$Q$27*$Q$14),2)","v":0},0,null,"Suma Capital (K)",null,{"$f":"+SUM($K$33:$K$272)","v":50000.000000000036}]
[null,null,null,null,null,"Seguro Todo Riesgo",null,null,null,{"$f":"ROUND($H$12*$H$13,2)","v":0},null,null,null,null,"Factor Ajuste 2",null,{"$f":"+Q22/H14","v":4.1666666666666666E-3},null,null,null,"Validador",null,{"$f":"+$H$5-W27","v":0},null,null,null,"<- El valor tiene que ser cercano a cero."]
[null,null,null,null,null,"Cuota",null,null,null,{"$f":"J23+J24+J26+J27+ J28+J25","v":1276.73},null,null,null,null,"Digite Factor de Ajuste Anterior  mas El Actual",null,5.4166666667248835E-2,"Se actualiza en cada simulación (Validar que la celda W28 sea cero)",null,{"$f":"$W$272","v":""}]
[]
[null,null,null,null,null,null,null,null,null,null,null,{"$f":"+SUM(L33:L272)","v":11285.640000000001},0,11285.640000000001,61285.639999999985,0,0,0,0,{"$f":"+SUM(T33:T272)","v":0},0,{"$f":"+SUM(V33:V272)","v":61285.639999999985},null,null,null,null,null,null,null,null,null,null,"TIR",{"$f":"(1+XIRR(AH32:AH272,AG32:AG272))^(360/365)-1","v":0.10700045436028738},null,null,null,null,"Minicronograma de Gracia"]
[null,null,"Fecha Vcto.","Marca","Nro. Cuota (De acuerdo a Plazo)","Nro. Cuota","Periodo Base","Tasa","Nro. Dias","Principal*","Capital","Interes","Interes de Gracia","Interes Total","Valor Cuota (variable)","Comision por Env. Inf","Tasa de Seguro de Desgravamen*","Importe de Gracia Desgravamen","Importe Desgravamen por No Pago","Seg. Desgravamen Total","Seguro Todo Riesgo","Cuota","Saldo Principal","Exceso ","Nuevo Interes I","Nuevo Desgravamen  I (no se utiliza)","Nuevo Interes (SF2INT)\nreplica columna L","Nuevo Desgravamen (SF2GRV)\nreplica columna Q","Desgravamen Gracia\nreplica columna R","Desgravamen No Pago S","Total Cuota (SF2PAG)\nigual a columna V",null,{"$f":"+Q5","v":"2025-06-10"},{"$f":"-H5","v":-50000},null,"VALIDADORES",null,null,"Dias Transcurridos Acumulados","Factor Simple Actualizacion","Principal","Capital","Interes","Cuota Gracia","Saldo Deuda"]
[1,{"$f":"IF(A33=\"\",\"\",IF(A33<=$H$22,0,1))","v":1},{"$f":"IF(OR(MONTH(EDATE($Q$6,E33))=$H$16,MONTH(EDATE($Q$6,E33))=$H$17),IF(ABS($H$17-$H$16)=1,EDATE($Q$6,E33+2),EDATE($Q$6,E33+1)),EDATE($Q$6,E33))","v":"2025-07-10"},{"$f":"IF(B33=\"\",\"\",IF(OR(MONTH(C33)=$H$18,MONTH(C33)=$H$19),\"D\",\"\"))","v":""},{"$f":"IF(OR(MONTH(Q7)=H16, MONTH(Q7)=H17),IF(ABS(H17-H16)=1,3,2),1)","v":1},{"$f":"1","v":1},{"$f":"$Q$9","v":360},{"$f":"IF(B33=\"\",\"\",$H$10)","v":10.7},{"$f":"C33-Q6","v":30},{"$f":"H6","v":50000},{"$f":"IF(B33=\"\",\"\",IF((IF(ISERROR(MATCH(MONTH(C33),$H$18:$H$19,0))=FALSE,$J$24 + $Q$29,0) + $J$24+$Q$29+$S$27)-L33<0,0.01,IF(ISERROR(MATCH(MONTH(C33),$H$18:$H$19,0))=FALSE,$J$24 + $Q$29,0)+ ($J$24+$Q$29+$S$27)-L33)- R33 -S33-Q33)","v":851.42416666666725},{"$f":"IF(B33=\"\",\"\",IF($J$24+$Q$29<ROUND(ROUND(J33*(((1+(H33/100))^(I33/G33))-1),4),2),$J$24+$Q$29 +-0.01,IF(ROUND(ROUND(J33*(((1+(H33/100))^(I33/G33))-1),4),2)>$J$24,$J$24+ -0.01,ROUND(ROUND(J33*(((1+(H33/100))^(I33/G33))-1),4),2))))","v":425.36},{"$f":"IF(B33=\"\",\"\",IF(ISERROR(MATCH(MONTH(C33),$H$18:$H$19,0))=FALSE,$J$23,0)  + $J$23)","v":0},{"$f":"IF(B33=\"\",\"\",L33+M33)","v":425.36},{"$f":"IF(B33=\"\",\"\",K33+N33)","v":1276.7841666666673},{"$f":"IF(B33=\"\",\"\",$J$27)","v":0},{"$f":"IF(B33=\"\",\"\",ROUND($H$9*J33,2))","v":0},{"$f":"IF(B33=\"\",\"\",(E33-F33)*ROUNDDOWN($H$5*$H$9/30*30,2) + ROUNDDOWN($H$5*$H$9/30*H15,2))","v":0},{"$f":"IF(B33=\"\",\"\",IF(E33-0>1,ROUNDDOWN($J33*$H$9/30*(DATE(YEAR($C33),MONTH($C33)-1,DAY($C33))-C32),2),0))","v":0},{"$f":"IF(B33=\"\",\"\",Q33+R33+S33)","v":0},{"$f":"IF(B33=\"\",\"\",$J$28)","v":0},{"$f":"IF(B33=\"\",\"\",O33+P33+Q33+R33+S33+U33)","v":1276.7841666666673},{"$f":"IF(B33=\"\",\"\",(ROUND(J33-K33,2)))","v":49148.58},{"$f":"IF(B33=\"\",\"\",IF(ROUND(ROUND(J33*(((1+(H33/100))^(I33/G33))-1),4),2) - $J$24<0,0,ROUND(ROUND(J33*(((1+(H33/100))^(I33/G33))-1),4),2) - $J$24))","v":0},null,{"$f":"SUM(K33:M33)","v":1276.7841666666673},{"$f":"+L33","v":425.36},{"$f":"+Q33","v":0},0,0,{"$f":"IFERROR(AA33+K33 + P33 + U33+AB33 + M33 + AC33 + AD33,\"\")","v":1276.7841666666673},{"$f":"IFERROR(IF(D33=\"D\",$J$24*2,$J$24)+Q33,0)","v":1276.73},{"$f":"+IF(C33=\"\",0,C33)","v":"2025-07-10"},{"$f":"+IF(AE33=\"\",0,AE33)","v":1276.7841666666673},null,{"$f":"+IFERROR(AE33-V33,0)","v":0},{"$f":"+IFERROR(AA33-L33,0)","v":0},null,{"$f":"I33","v":30},{"$f":"(1/((1+($J$8/100))^(AM33/$Q$9))*1) * IF(D33=\"D\",2,1)","v":1},{"$f":"Q16","v":0},{"$f":"AR33-AQ33","v":0},{"$f":"(((1+($J$8/100))^((K33)/$Q$9))-1)*AO33","v":0},{"$f":"IF(D33=\"D\",$K$23,0)+ $K$23","v":0},{"$f":"AO33-AP33","v":0}]
[{"$f":"+IF(A33>=$H$14,\"\",A33+1)","v":2},{"$f":"IF(A34=\"\",\"\",IF(A34<=$H$22,0,1))","v":1},{"$f":"IF(B34=\"\",\"\",IF(OR(MONTH(EDATE($Q$6,E34))=$H$16,MONTH(EDATE($Q$6,E34))=$H$17),IF(ABS($H$17-$H$16)=1,EDATE($Q$6,E34+2),EDATE($Q$6,E34+1)),EDATE($Q$6,E34)))","v":"2025-08-10"},"",{"$f":"+IF(B34=\"\",\"\",IF(OR(MONTH(DATE(YEAR(C33)+0.0833333333333333,MONTH(C33)+1,DAY(C33)))=$H$16,MONTH(DATE(YEAR(C33)+0.5,MONTH(C33)+1,DAY(C33)))=$H$17),IF(ABS($H$17-$H$16)=1,E33+1,E33+2),E33+1))","v":2},{"$f":"+IF(B34=\"\",\"\",F33+1)","v":2},{"$f":"IF(B34=\"\",\"\",$Q$9)","v":360},{"$f":"IF(B34=\"\",\"\",$H$10)","v":10.7},{"$f":"IF(B34=\"\",\"\",C34-C33)","v":31},{"$f":"IF(B34=\"\",\"\",W33)","v":49148.58},844.67416666666725,432.11,0,432.11,1276.7841666666673,0,{"$f":"IF(B34=\"\",\"\",ROUND($H$9*J34/30*$I34,2)-S34)","v":0},null,{"$f":"IF(B34=\"\",\"\",IF(E34-E33>1,ROUNDDOWN($J34*$H$9/30*(DATE(YEAR($C34),MONTH($C34)-1,DAY($C34))-C33),2),0))","v":0},0,0,{"$f":"IF(B34=\"\",\"\",O34+P34+Q34+R34+S34+U34)","v":1276.7841666666673},48303.91,0,null,1276.7841666666673,{"$f":"+L34","v":432.11},0,0,0,1276.7841666666673,{"$f":"IFERROR(IF(D34=\"D\",$J$24*2,$J$24)+Q34,0)","v":1276.73},"2025-08-10",1276.7841666666673,null,{"$f":"+IFERROR(AE34-V34,0)","v":0},{"$f":"+IFERROR(AA34-L34,0)","v":0},null,{"$f":"I34 + AM33","v":61},1,{"$f":"AS33","v":0},{"$f":"AR34-AQ34","v":0},0,0,{"$f":"AO34-AP34","v":0}]
[{"$f":"+IF(A34>=$H$14,\"\",A34+1)","v":3},1,"2025-09-10","",{"$f":"+IF(B35=\"\",\"\",IF(OR(MONTH(DATE(YEAR(C34)+0.0833333333333333,MONTH(C34)+1,DAY(C34)))=$H$16,MONTH(DATE(YEAR(C34)+0.5,MONTH(C34)+1,DAY(C34)))=$H$17),IF(ABS($H$17-$H$16)=1,E34+1,E34+2),E34+1))","v":3},{"$f":"+IF(B35=\"\",\"\",F34+1)","v":3},{"$f":"IF(B35=\"\",\"\",$Q$9)","v":360},10.7,{"$f":"IF(B35=\"\",\"\",C35-C34)","v":31},{"$f":"IF(B35=\"\",\"\",W34)","v":48303.91},852.1041666666672,424.68,0,424.68,1276.7841666666673,0,{"$f":"IF(B35=\"\",\"\",ROUND($H$9*J35/30*$I35,2)-S35)","v":0},null,0,0,0,1276.7841666666673,47451.81,0,null,1276.7841666666673,424.68,0,0,0,1276.7841666666673,1276.73,"2025-09-10",1276.7841666666673,null,0,0,null,92,1,{"$f":"AS34","v":0},0,0,0,0]
[4,1,"2025-10-10","",4,4,360,10.7,30,47451.81,873.1041666666672,403.68,0,403.68,1276.7841666666673,0,0,null,0,0,0,1276.7841666666673,46578.71,0,null,1276.7841666666673,403.68,0,0,0,1276.7841666666673,1276.73,"2025-10-10",1276.7841666666673,null,0,0,null,122,1,0,0,0,0,0]
[5,1,"2025-11-10","",5,5,360,10.7,31,46578.71,867.26416666666728,409.52,0,409.52,1276.7841666666673,0,0,null,0,0,0,1276.7841666666673,45711.45,0,null,1276.7841666666673,409.52,0,0,0,1276.7841666666673,1276.73,"2025-11-10",1276.7841666666673,null,0,0,null,153,1,0,0,0,0,0]
[6,1,"2025-12-10","",6,6,360,10.7,30,45711.45,887.91416666666726,388.87,0,388.87,1276.7841666666673,0,0,null,0,0,0,1276.7841666666673,44823.54,0,null,1276.7841666666673,388.87,0,0,0,1276.7841666666673,1276.73,"2025-12-10",1276.7841666666673,null,0,0,null,183,1,0,0,0,0,0]
[7,1,"2026-01-10","",7,7,360,10.7,31,44823.54,882.69416666666734,394.09,0,394.09,1276.7841666666673,0,0,null,0,0,0,1276.7841666666673,43940.85,0,null,1276.7841666666673,394.09,0,0,0,1276.7841666666673,1276.73,"2026-01-10",1276.7841666666673,null,0,0,null,214,1,0,0,0,0,0]
[8,1,"2026-02-10","",8,8,360,10.7,31,43940.85,890.45416666666733,386.33,0,386.33,1276.7841666666673,0,0,null,0,0,0,1276.7841666666673,43050.400000000001,0,null,1276.7841666666673,386.33,0,0,0,1276.7841666666673,1276.73,"2026-02-10",1276.7841666666673,null,0,0,null,245,1,0,0,0,0,0]
[9,1,"2026-03-10","",9,9,360,10.7,28,43050.400000000001,935.06416666666723,341.72,0,341.72,1276.7841666666673,0,0,null,0,0,0,1276.7841666666673,42115.34,0,null,1276.7841666666673,341.72,0,0,0,1276.7841666666673,1276.73,"2026-03-10",1276.7841666666673,null,0,0,null,273,1,0,0,0,0,0]
[10,1,"2026-04-10","",10,10,360,10.7,31,42115.34,906.50416666666729,370.28,0,370.28,1276.7841666666673,0,0,null,0,0,0,1276.7841666666673,41208.839999999997,0,null,1276.7841666666673,370.28,0,0,0,1276.7841666666673,1276.73,"2026-04-10",1276.7841666666673,null,0,0,null,304,1,0,0,0,0,0]
[11,1,"2026-05-10","",11,11,360,10.7,30,41208.839999999997,926.21416666666732,350.57,0,350.57,1276.7841666666673,0,0,null,0,0,0,1276.7841666666673,40282.629999999997,0,null,1276.7841666666673,350.57,0,0,0,1276.7841666666673,1276.73,"2026-05-10",1276.7841666666673,null,0,0,null,334,1,0,0,0,0,0]
[12,1,"2026-06-10","",12,12,360,10.7,31,40282.629999999997,922.62416666666718,354.16,0,354.16,1276.7841666666673,0,0,null,0,0,0,1276.7841666666673,39360.01,0,null,1276.7841666666673,354.16,0,0,0,1276.7841666666673,1276.73,"2026-06-10",1276.7841666666673,null,0,0,null,365,1,0,0,0,0,0]
[13,1,"2026-07-10","",13,13,360,10.7,30,39360.01,941.94416666666734,334.84,0,334.84,1276.7841666666673,0,0,null,0,0,0,1276.7841666666673,38418.07,0,null,1276.7841666666673,334.84,0,0,0,1276.7841666666673,1276.73,{"$f":"+IF(C45=\"\",0,C45)","v":"2026-07-10"},{"$f":"+IF(AE45=\"\",0,AE45)","v":1276.7841666666673},null,0,0,null,395,1,0,0,0,0,0]
[14,1,"2026-08-10","",14,14,360,10.7,31,38418.07,939.01416666666728,337.77,0,337.77,1276.7841666666673,0,0,null,0,0,0,1276.7841666666673,37479.06,0,null,1276.7841666666673,337.77,0,0,0,1276.7841666666673,1276.73,{"$f":"+IF(C46=\"\",0,C46)","v":"2026-08-10"},{"$f":"+IF(AE46=\"\",0,AE46)","v":1276.7841666666673},null,0,0,null,426,1,0,0,0,0,0]
[15,1,"2026-09-10","",15,15,360,10.7,31,37479.06,947.27416666666727,329.51,0,329.51,1276.7841666666673,0,0,null,0,0,0,1276.7841666666673,36531.79,0,null,1276.7841666666673,329.51,0,0,0,1276.7841666666673,1276.73,"2026-09-10",1276.7841666666673,null,0,0,null,457,1,0,0,0,0,0]
[16,1,"2026-10-10","",16,16,360,10.7,30,36531.79,966.00416666666729,310.77999999999997,0,310.77999999999997,1276.7841666666673,0,0,null,0,0,0,1276.7841666666673,35565.79,0,null,1276.7841666666673,310.77999999999997,0,0,0,1276.7841666666673,1276.73,"2026-10-10",1276.7841666666673,null,0,0,null,487,1,0,0,0,0,0]
[17,1,"2026-11-10","",17,17,360,10.7,31,35565.79,964.09416666666721,312.69,0,312.69,1276.7841666666673,0,0,null,0,0,0,1276.7841666666673,34601.699999999997,0,null,1276.7841666666673,312.69,0,0,0,1276.7841666666673,1276.73,"2026-11-10",1276.7841666666673,null,0,0,null,518,1,0,0,0,0,0]
[18,1,"2026-12-10","",18,18,360,10.7,30,34601.699999999997,982.42416666666725,294.36,0,294.36,1276.7841666666673,0,0,null,0,0,0,1276.7841666666673,33619.279999999999,0,null,1276.7841666666673,294.36,0,0,0,1276.7841666666673,1276.73,"2026-12-10",1276.7841666666673,null,0,0,null,548,1,0,0,0,0,0]
[19,1,"2027-01-10","",19,19,360,10.7,31,33619.279999999999,981.20416666666733,295.58,0,295.58,1276.7841666666673,0,0,null,0,0,0,1276.7841666666673,32638.080000000002,0,null,1276.7841666666673,295.58,0,0,0,1276.7841666666673,1276.73,"2027-01-10",1276.7841666666673,null,0,0,null,579,1,0,0,0,0,0]
[20,1,"2027-02-10","",20,20,360,10.7,31,32638.080000000002,989.83416666666722,286.95,0,286.95,1276.7841666666673,0,0,null,0,0,0,1276.7841666666673,31648.25,0,null,1276.7841666666673,286.95,0,0,0,1276.7841666666673,1276.73,"2027-02-10",1276.7841666666673,null,0,0,null,610,1,0,0,0,0,0]
[21,1,"2027-03-10","",21,21,360,10.7,28,31648.25,1025.5641666666672,251.22,0,251.22,1276.7841666666673,0,0,null,0,0,0,1276.7841666666673,30622.69,0,null,1276.7841666666673,251.22,0,0,0,1276.7841666666673,1276.73,"2027-03-10",1276.7841666666673,null,0,0,null,638,1,0,0,0,0,0]
[22,1,"2027-04-10","",22,22,360,10.7,31,30622.69,1007.5541666666672,269.23,0,269.23,1276.7841666666673,0,0,null,0,0,0,1276.7841666666673,29615.14,0,null,1276.7841666666673,269.23,0,0,0,1276.7841666666673,1276.73,"2027-04-10",1276.7841666666673,null,0,0,null,669,1,0,0,0,0,0]
[23,1,"2027-05-10","",23,23,360,10.7,30,29615.14,1024.8441666666672,251.94,0,251.94,1276.7841666666673,0,0,null,0,0,0,1276.7841666666673,28590.3,0,null,1276.7841666666673,251.94,0,0,0,1276.7841666666673,1276.73,"2027-05-10",1276.7841666666673,null,0,0,null,699,1,0,0,0,0,0]
[24,1,"2027-06-10","",24,24,360,10.7,31,28590.3,1025.4241666666671,251.36,0,251.36,1276.7841666666673,0,0,null,0,0,0,1276.7841666666673,27564.880000000001,0,null,1276.7841666666673,251.36,0,0,0,1276.7841666666673,1276.73,"2027-06-10",1276.7841666666673,null,0,0,null,730,1,0,0,0,0,0]
[25,1,"2027-07-10","",25,25,360,10.7,30,27564.880000000001,1042.2841666666673,234.5,0,234.5,1276.7841666666673,0,0,null,0,0,0,1276.7841666666673,26522.6,0,null,1276.7841666666673,234.5,0,0,0,1276.7841666666673,1276.73,"2027-07-10",1276.7841666666673,null,0,0,null,760,1,0,0,0,0,0]
[26,1,"2027-08-10","",26,26,360,10.7,31,26522.6,1043.6041666666672,233.18,0,233.18,1276.7841666666673,0,0,null,0,0,0,1276.7841666666673,25479,0,null,1276.7841666666673,233.18,0,0,0,1276.7841666666673,1276.73,"2027-08-10",1276.7841666666673,null,0,0,null,791,1,0,0,0,0,0]
[27,1,"2027-09-10","",27,27,360,10.7,31,25479,1052.7741666666673,224.01,0,224.01,1276.7841666666673,0,0,null,0,0,0,1276.7841666666673,24426.23,0,null,1276.7841666666673,224.01,0,0,0,1276.7841666666673,1276.73,"2027-09-10",1276.7841666666673,null,0,0,null,822,1,0,0,0,0,0]
[28,1,"2027-10-10","",28,28,360,10.7,30,24426.23,1068.9841666666673,207.8,0,207.8,1276.7841666666673,0,0,null,0,0,0,1276.7841666666673,23357.25,0,null,1276.7841666666673,207.8,0,0,0,1276.7841666666673,1276.73,"2027-10-10",1276.7841666666673,null,0,0,null,852,1,0,0,0,0,0]
[29,1,"2027-11-10","",29,29,360,10.7,31,23357.25,1071.4241666666671,205.36,0,205.36,1276.7841666666673,0,0,null,0,0,0,1276.7841666666673,22285.83,0,null,1276.7841666666673,205.36,0,0,0,1276.7841666666673,1276.73,"2027-11-10",1276.7841666666673,null,0,0,null,883,1,0,0,0,0,0]
[30,1,"2027-12-10","",30,30,360,10.7,30,22285.83,1087.1941666666673,189.59,0,189.59,1276.7841666666673,0,0,null,0,0,0,1276.7841666666673,21198.639999999999,0,null,1276.7841666666673,189.59,0,0,0,1276.7841666666673,1276.73,"2027-12-10",1276.7841666666673,null,0,0,null,913,1,0,0,0,0,0]
[31,1,"2028-01-10","",31,31,360,10.7,31,21198.639999999999,1090.4041666666672,186.38,0,186.38,1276.7841666666673,0,0,null,0,0,0,1276.7841666666673,20108.240000000002,0,null,1276.7841666666673,186.38,0,0,0,1276.7841666666673,1276.73,"2028-01-10",1276.7841666666673,null,0,0,null,944,1,0,0,0,0,0]
[32,1,"2028-02-10","",32,32,360,10.7,31,20108.240000000002,1099.9941666666673,176.79,0,176.79,1276.7841666666673,0,0,null,0,0,0,1276.7841666666673,19008.25,0,null,1276.7841666666673,176.79,0,0,0,1276.7841666666673,1276.73,"2028-02-10",1276.7841666666673,null,0,0,null,975,1,0,0,0,0,0]
[33,1,"2028-03-10","",33,33,360,10.7,29,19008.25,1120.4941666666673,156.29,0,156.29,1276.7841666666673,0,0,null,0,0,0,1276.7841666666673,17887.759999999998,0,null,1276.7841666666673,156.29,0,0,0,1276.7841666666673,1276.73,"2028-03-10",1276.7841666666673,null,0,0,null,1004,1,0,0,0,0,0]
[34,1,"2028-04-10","",34,34,360,10.7,31,17887.759999999998,1119.5141666666673,157.27000000000001,0,157.27000000000001,1276.7841666666673,0,0,null,0,0,0,1276.7841666666673,16768.25,0,null,1276.7841666666673,157.27000000000001,0,0,0,1276.7841666666673,1276.73,"2028-04-10",1276.7841666666673,null,0,0,null,1035,1,0,0,0,0,0]
[35,1,"2028-05-10","",35,35,360,10.7,30,16768.25,1134.1341666666672,142.65,0,142.65,1276.7841666666673,0,0,null,0,0,0,1276.7841666666673,15634.12,0,null,1276.7841666666673,142.65,0,0,0,1276.7841666666673,1276.73,"2028-05-10",1276.7841666666673,null,0,0,null,1065,1,0,0,0,0,0]
[36,1,"2028-06-10","",36,36,360,10.7,31,15634.12,1139.3341666666672,137.44999999999999,0,137.44999999999999,1276.7841666666673,0,0,null,0,0,0,1276.7841666666673,14494.79,0,null,1276.7841666666673,137.44999999999999,0,0,0,1276.7841666666673,1276.73,"2028-06-10",1276.7841666666673,null,0,0,null,1096,1,0,0,0,0,0]
[37,1,"2028-07-10","",37,37,360,10.7,30,14494.79,1153.4741666666673,123.31,0,123.31,1276.7841666666673,0,0,null,0,0,0,1276.7841666666673,13341.32,0,null,1276.7841666666673,123.31,0,0,0,1276.7841666666673,1276.73,"2028-07-10",1276.7841666666673,null,0,0,null,1126,1,0,0,0,0,0]
[38,1,"2028-08-10","",38,38,360,10.7,31,13341.32,1159.4841666666673,117.3,0,117.3,1276.7841666666673,0,0,null,0,0,0,1276.7841666666673,12181.84,0,null,1276.7841666666673,117.3,0,0,0,1276.7841666666673,1276.73,"2028-08-10",1276.7841666666673,null,0,0,null,1157,1,0,0,0,0,0]
[39,1,"2028-09-10","",39,39,360,10.7,31,12181.84,1169.6841666666674,107.1,0,107.1,1276.7841666666673,0,0,null,0,0,0,1276.7841666666673,11012.16,0,null,1276.7841666666673,107.1,0,0,0,1276.7841666666673,1276.73,"2028-09-10",1276.7841666666673,null,0,0,null,1188,1,0,0,0,0,0]
[40,1,"2028-10-10","",40,40,360,10.7,30,11012.16,1183.1041666666672,93.68,0,93.68,1276.7841666666673,0,0,null,0,0,0,1276.7841666666673,9829.06,0,null,1276.7841666666673,93.68,0,0,0,1276.7841666666673,1276.73,"2028-10-10",1276.7841666666673,null,0,0,null,1218,1,0,0,0,0,0]
[41,1,"2028-11-10","",41,41,360,10.7,31,9829.06,1190.3641666666672,86.42,0,86.42,1276.7841666666673,0,0,null,0,0,0,1276.7841666666673,8638.7000000000007,0,null,1276.7841666666673,86.42,0,0,0,1276.7841666666673,1276.73,"2028-11-10",1276.7841666666673,null,0,0,null,1249,1,0,0,0,0,0]
[42,1,"2028-12-10","",42,42,360,10.7,30,8638.7000000000007,1203.2941666666673,73.489999999999995,0,73.489999999999995,1276.7841666666673,0,0,null,0,0,0,1276.7841666666673,7435.41,0,null,1276.7841666666673,73.489999999999995,0,0,0,1276.7841666666673,1276.73,"2028-12-10",1276.7841666666673,null,0,0,null,1279,1,0,0,0,0,0]
[43,1,"2029-01-10","",43,43,360,10.7,31,7435.41,1211.4141666666674,65.37,0,65.37,1276.7841666666673,0,0,null,0,0,0,1276.7841666666673,6224,0,null,1276.7841666666673,65.37,0,0,0,1276.7841666666673,1276.73,"2029-01-10",1276.7841666666673,null,0,0,null,1310,1,0,0,0,0,0]
[44,1,"2029-02-10","",44,44,360,10.7,31,6224,1222.0641666666672,54.72,0,54.72,1276.7841666666673,0,0,null,0,0,0,1276.7841666666673,5001.9399999999996,0,null,1276.7841666666673,54.72,0,0,0,1276.7841666666673,1276.73,"2029-02-10",1276.7841666666673,null,0,0,null,1341,1,0,0,0,0,0]
[45,1,"2029-03-10","",45,45,360,10.7,28,5001.9399999999996,1237.0841666666672,39.700000000000003,0,39.700000000000003,1276.7841666666673,0,0,null,0,0,0,1276.7841666666673,3764.86,0,null,1276.7841666666673,39.700000000000003,0,0,0,1276.7841666666673,1276.73,"2029-03-10",1276.7841666666673,null,0,0,null,1369,1,0,0,0,0,0]
[46,1,"2029-04-10","",46,46,360,10.7,31,3764.86,1243.6841666666674,33.1,0,33.1,1276.7841666666673,0,0,null,0,0,0,1276.7841666666673,2521.1799999999998,0,null,1276.7841666666673,33.1,0,0,0,1276.7841666666673,1276.73,"2029-04-10",1276.7841666666673,null,0,0,null,1400,1,0,0,0,0,0]
[47,1,"2029-05-10","",47,47,360,10.7,30,2521.1799999999998,1255.3341666666672,21.45,0,21.45,1276.7841666666673,0,0,null,0,0,0,1276.7841666666673,1265.8499999999999,0,null,1276.7841666666673,21.45,0,0,0,1276.7841666666673,1276.73,"2029-05-10",1276.7841666666673,null,0,0,null,1430,1,0,0,0,0,0]
[48,1,"2029-06-10","",48,48,360,10.7,31,1265.8499999999999,1265.6541666666672,11.13,0,11.13,1276.7841666666673,0,0,null,0,0,0,1276.7841666666673,0.2,0,null,1276.7841666666673,11.13,0,0,0,1276.7841666666673,1276.73,"2029-06-10",1276.7841666666673,null,0,0,null,1461,1,0,0,0,0,0]
["","","","","","","","","","","","","","","","","",null,"","","","","","",null,0,"","",0,"","",0,"00:00:00",0,null,0,0,null,{"$error":"#VALUE!"},{"$error":"#VALUE!"},0,{"$error":"#VALUE!"},{"$error":"#VALUE!"},0,{"$error":"#VALUE!"}]
["","","","","","","","","","","","","","","","","",null,"","","","","","",null,0,"","",0,"","",0,"00:00:00",0,null,0,0,null,{"$error":"#VALUE!"},{"$error":"#VALUE!"},{"$error":"#VALUE!"},{"$error":"#VALUE!"},{"$error":"#VALUE!"},0,{"$error":"#VALUE!"}]
["","","","","","","","","","","","","","","","","",null,"","","","","","",null,0,"","",0,"","",0,"00:00:00",0,null,0,0,null,{"$error":"#VALUE!"},{"$error":"#VALUE!"},{"$error":"#VALUE!"},{"$error":"#VALUE!"},{"$error":"#VALUE!"},0,{"$error":"#VALUE!"}]
["","","","","","","","","","","","","","","","","",null,"","","","","","",null,0,"","",0,"","",0,"00:00:00",0,null,0,0,null,{"$error":"#VALUE!"},{"$error":"#VALUE!"},{"$error":"#VALUE!"},{"$error":"#VALUE!"},{"$error":"#VALUE!"},0,{"$error":"#VALUE!"}]
["","","","","","","","","","","","","","","","","",null,"","","","","","",null,0,"","",0,"","",0,"00:00:00",0,null,0,0,null,{"$error":"#VALUE!"},{"$error":"#VALUE!"},{"$error":"#VALUE!"},{"$error":"#VALUE!"},{"$error":"#VALUE!"},0,{"$error":"#VALUE!"}]
["","","","","","","","","","","","","","","","","",null,"","","","","","",null,0,"","",0,"","",0,"00:00:00",0,null,0,0,null,{"$error":"#VALUE!"},{"$error":"#VALUE!"},{"$error":"#VALUE!"},{"$error":"#VALUE!"},{"$error":"#VALUE!"},0,{"$error":"#VALUE!"}]
["","","","","","","","","","","","","","","","","",null,"","","","","","",null,0,"","",0,"","",0,"00:00:00",0,null,0,0,null,{"$error":"#VALUE!"},{"$error":"#VALUE!"},{"$error":"#VALUE!"},{"$error":"#VALUE!"},{"$error":"#VALUE!"},0,{"$error":"#VALUE!"}]
["","","","","","","","","","","","","","","","","",null,"","","","","","",null,0,"","",0,"","",0,"00:00:00",0,null,0,0,null,{"$error":"#VALUE!"},{"$error":"#VALUE!"},{"$error":"#VALUE!"},{"$error":"#VALUE!"},{"$error":"#VALUE!"},0,{"$error":"#VALUE!"}]
["","","","","","","","","","","","","","","","","",null,"","","","","","",null,0,"","",0,"","",0,"00:00:00",0,null,0,0,null,{"$error":"#VALUE!"},{"$error":"#VALUE!"},{"$error":"#VALUE!"},{"$error":"#VALUE!"},{"$error":"#VALUE!"},0,{"$error":"#VALUE!"}]
["","","","","","","","","","","","","","","","","",null,"","","","","","",null,0,"","",0,"","",0,"00:00:00",0,null,0,0,null,{"$error":"#VALUE!"},{"$error":"#VALUE!"},{"$error":"#VALUE!"},{"$error":"#VALUE!"},{"$error":"#VALUE!"},0,{"$error":"#VALUE!"}]
["","","","","","","","","","","","","","","","","",null,"","","","","","",null,0,"","",0,"","",0,"00:00:00",0,null,0,0,null,{"$error":"#VALUE!"},{"$error":"#VALUE!"},{"$error":"#VALUE!"},{"$error":"#VALUE!"},{"$error":"#VALUE!"},0,{"$error":"#VALUE!"}]
["","","","","","","","","","","","","","","","","",null,"","","","","","",null,0,"","",0,"","",0,"00:00:00",0,null,0,0,null,{"$error":"#VALUE!"},{"$error":"#VALUE!"},{"$error":"#VALUE!"},{"$error":"#VALUE!"},{"$error":"#VALUE!"},0,{"$error":"#VALUE!"}]
["","","","","","","","","","","","","","","","","",null,"","","","","","",null,0,"","",0,"","",0,"00:00:00",0,null,0,0,null,{"$error":"#VALUE!"},{"$error":"#VALUE!"},{"$error":"#VALUE!"},{"$error":"#VALUE!"},{"$error":"#VALUE!"},0,{"$error":"#VALUE!"}]
["","","","","","","","","","","","","","","","","",null,"","","","","","",null,0,"","",0,"","",0,"00:00:00",0,null,0,0,null,{"$error":"#VALUE!"},{"$error":"#VALUE!"},{"$error":"#VALUE!"},{"$error":"#VALUE!"},{"$error":"#VALUE!"},0,{"$error":"#VALUE!"}]
["","","","","","","","","","","","","","","","","",null,"","","","","","",null,0,"","",0,"","",0,"00:00:00",0,null,0,0,null,{"$error":"#VALUE!"},{"$error":"#VALUE!"},{"$error":"#VALUE!"},{"$error":"#VALUE!"},{"$error":"#VALUE!"},0,{"$error":"#VALUE!"}]
["","","","","","","","","","","","","","","","","",null,"","","","","","",null,0,"","",0,"","",0,"00:00:00",0,null,0,0,null,{"$error":"#VALUE!"},{"$error":"#VALUE!"},{"$error":"#VALUE!"},{"$error":"#VALUE!"},{"$error":"#VALUE!"},0,{"$error":"#VALUE!"}]
["","","",{"$f":"IF(B97=\"\",\"\",IF(OR(MONTH(C97)=$H$18,MONTH(C97)=$H$19),\"D\",\"\"))","v":""},"","","","","","",{"$f":"IF(B97=\"\",\"\",IF((IF(ISERROR(MATCH(MONTH(C97),$H$18:$H$19,0))=FALSE,$J$24 + $Q$29,0) + $J$24+$Q$29+$S$27)-L97<0,0.01,IF(ISERROR(MATCH(MONTH(C97),$H$18:$H$19,0))=FALSE,$J$24 + $Q$29,0)+ ($J$24+$Q$29+$S$27)-L97)- R97 -S97-Q97)","v":""},{"$f":"IF(B97=\"\",\"\",IF($J$24+$Q$29<ROUND(ROUND(J97*(((1+(H97/100))^(I97/G97))-1),4),2),$J$24+$Q$29 +-0.01,IF(ROUND(ROUND(J97*(((1+(H97/100))^(I97/G97))-1),4),2)>$J$24,$J$24+ -0.01,ROUND(ROUND(J97*(((1+(H97/100))^(I97/G97))-1),4),2))))","v":""},{"$f":"IF(B97=\"\",\"\",IF(ISERROR(MATCH(MONTH(C97),$H$18:$H$19,0))=FALSE,$J$23,0)  + $J$23)","v":""},{"$f":"IF(B97=\"\",\"\",L97+M97)","v":""},{"$f":"IF(B97=\"\",\"\",K97+N97)","v":""},{"$f":"IF(B97=\"\",\"\",$J$27)","v":""},"",null,"",{"$f":"IF(B97=\"\",\"\",Q97+R97+S97)","v":""},{"$f":"IF(B97=\"\",\"\",$J$28)","v":""},"",{"$f":"IF(B97=\"\",\"\",(ROUND(J97-K97,2)))","v":""},{"$f":"IF(B97=\"\",\"\",IF(ROUND(ROUND(J97*(((1+(H97/100))^(I97/G97))-1),4),2) - $J$24<0,0,ROUND(ROUND(J97*(((1+(H97/100))^(I97/G97))-1),4),2) - $J$24))","v":""},null,{"$f":"SUM(K97:M97)","v":0},"",{"$f":"+Q97","v":""},0,"",{"$f":"IFERROR(AA97+K97 + P97 + U97+AB97 + M97 + AC97 + AD97,\"\")","v":""},0,"00:00:00",0,null,0,0,null,{"$error":"#VALUE!"},{"$f":"(1/((1+($J$8/100))^(AM97/$Q$9))*1) * IF(D97=\"D\",2,1)","v":{"$error":"#VALUE!"}},{"$error":"#VALUE!"},{"$error":"#VALUE!"},{"$f":"(((1+($J$8/100))^((K97)/$Q$9))-1)*AO97","v":{"$error":"#VALUE!"}},{"$f":"IF(D97=\"D\",$K$23,0)+ $K$23","v":0},{"$error":"#VALUE!"}]
["",{"$f":"IF(A98=\"\",\"\",IF(A98<=$H$22,0,1))","v":""},{"$f":"IF(B98=\"\",\"\",IF(OR(MONTH(EDATE($Q$6,E98))=$H$16,MONTH(EDATE($Q$6,E98))=$H$17),IF(ABS($H$17-$H$16)=1,EDATE($Q$6,E98+2),EDATE($Q$6,E98+1)),EDATE($Q$6,E98)))","v":""},"","","","",{"$f":"IF(B98=\"\",\"\",$H$10)","v":""},"","","","","","","","","",null,{"$f":"IF(B98=\"\",\"\",IF(E98-E97>1,ROUNDDOWN($J98*$H$9/30*(DATE(YEAR($C98),MONTH($C98)-1,DAY($C98))-C97),2),0))","v":""},"","",{"$f":"IF(B98=\"\",\"\",O98+P98+Q98+R98+S98+U98)","v":""},"","",null,0,{"$f":"+L98","v":""},"",0,"","",{"$f":"IFERROR(IF(D98=\"D\",$J$24*2,$J$24)+Q98,0)","v":0},"00:00:00",0,null,{"$f":"+IFERROR(AE98-V98,0)","v":0},{"$f":"+IFERROR(AA98-L98,0)","v":0},null,{"$f":"I98 + AM97","v":{"$error":"#VALUE!"}},{"$error":"#VALUE!"},{"$error":"#VALUE!"},{"$f":"AR98-AQ98","v":{"$error":"#VALUE!"}},{"$error":"#VALUE!"},0,{"$f":"AO98-AP98","v":{"$error":"#VALUE!"}}]
[{"$f":"+IF(A98>=$H$14,\"\",A98+1)","v":""},"","","",{"$f":"+IF(B99=\"\",\"\",IF(OR(MONTH(DATE(YEAR(C98)+0.0833333333333333,MONTH(C98)+1,DAY(C98)))=$H$16,MONTH(DATE(YEAR(C98)+0.5,MONTH(C98)+1,DAY(C98)))=$H$17),IF(ABS($H$17-$H$16)=1,E98+1,E98+2),E98+1))","v":""},{"$f":"+IF(B99=\"\",\"\",F98+1)","v":""},{"$f":"IF(B99=\"\",\"\",$Q$9)","v":""},"",{"$f":"IF(B99=\"\",\"\",C99-C98)","v":""},{"$f":"IF(B99=\"\",\"\",W98)","v":""},"","","","","","",{"$f":"IF(B99=\"\",\"\",ROUND($H$9*J99/30*$I99,2)-S99)","v":""},null,"","","","","","",null,0,"","",0,"","",0,"00:00:00",0,null,0,0,null,{"$error":"#VALUE!"},{"$error":"#VALUE!"},{"$f":"AS98","v":{"$error":"#VALUE!"}},{"$error":"#VALUE!"},{"$error":"#VALUE!"},0,{"$error":"#VALUE!"}]
["","","","","","","","","","","","","","","","","",null,"","","","","","",null,0,"","",0,"","",0,"00:00:00",0,null,0,0,null,{"$error":"#VALUE!"},{"$error":"#VALUE!"},{"$error":"#VALUE!"},{"$error":"#VALUE!"},{"$error":"#VALUE!"},0,{"$error":"#VALUE!"}]
["","","","","","","","","","","","","","","","","",null,"","","","","","",null,0,"","",0,"","",0,"00:00:00",0,null,0,0,null,{"$error":"#VALUE!"},{"$error":"#VALUE!"},{"$error":"#VALUE!"},{"$error":"#VALUE!"},{"$error":"#VALUE!"},0,{"$error":"#VALUE!"}]
["","","","","","","","","","","","","","","","","",null,"","","","","","",null,0,"","",0,"","",0,"00:00:00",0,null,0,0,null,{"$error":"#VALUE!"},{"$error":"#VALUE!"},{"$error":"#VALUE!"},{"$error":"#VALUE!"},{"$error":"#VALUE!"},0,{"$error":"#VALUE!"}]
["","","","","","","","","","","","","","","","","",null,"","","","","","",null,0,"","",0,"","",0,"00:00:00",0,null,0,0,null,{"$error":"#VALUE!"},{"$error":"#VALUE!"},{"$error":"#VALUE!"},{"$error":"#VALUE!"},{"$error":"#VALUE!"},0,{"$error":"#VALUE!"}]
["","","","","","","","","","","","","","","","","",null,"","","","","","",null,0,"","",0,"","",0,"00:00:00",0,null,0,0,null,{"$error":"#VALUE!"},{"$error":"#VALUE!"},{"$error":"#VALUE!"},{"$error":"#VALUE!"},{"$error":"#VALUE!"},0,{"$error":"#VALUE!"}]
["","","","","","","","","","","","","","","","","",null,"","","","","","",null,0,"","",0,"","",0,"00:00:00",0,null,0,0,null,{"$error":"#VALUE!"},{"$error":"#VALUE!"},{"$error":"#VALUE!"},{"$error":"#VALUE!"},{"$error":"#VALUE!"},0,{"$error":"#VALUE!"}]
["","","","","","","","","","","","","","","","","",null,"","","","","","",null,0,"","",0,"","",0,"00:00:00",0,null,0,0,null,{"$error":"#VALUE!"},{"$error":"#VALUE!"},{"$error":"#VALUE!"},{"$error":"#VALUE!"},{"$error":"#VALUE!"},0,{"$error":"#VALUE!"}]
["","","","","","","","","","","","","","","","","",null,"","","","","","",null,0,"","",0,"","",0,"00:00:00",0,null,0,0,null,{"$error":"#VALUE!"},{"$error":"#VALUE!"},{"$error":"#VALUE!"},{"$error":"#VALUE!"},{"$error":"#VALUE!"},0,{"$error":"#VALUE!"}]
["","","","","","","","","","","","","","","","","",null,"","","","","","",null,0,"","",0,"","",0,"00:00:00",0,null,0,0,null,{"$error":"#VALUE!"},{"$error":"#VALUE!"},{"$error":"#VALUE!"},{"$error":"#VALUE!"},{"$error":"#VALUE!"},0,{"$error":"#VALUE!"}]
["","","","","","","","","","","","","","","","","",null,"","","","","","",null,0,"","",0,"","",0,"00:00:00",0,null,0,0,null,{"$error":"#VALUE!"},{"$error":"#VALUE!"},{"$error":"#VALUE!"},{"$error":"#VALUE!"},{"$error":"#VALUE!"},0,{"$error":"#VALUE!"}]
["","","","","","","","","","","","","","","","","",null,"","","","","","",null,0,"","",0,"","",0,{"$f":"+IF(C110=\"\",0,C110)","v":"00:00:00"},{"$f":"+IF(AE110=\"\",0,AE110)","v":0},null,0,0,null,{"$error":"#VALUE!"},{"$error":"#VALUE!"},{"$error":"#VALUE!"},{"$error":"#VALUE!"},{"$error":"#VALUE!"},0,{"$error":"#VALUE!"}]
["","","","","","","","","","","","","","","","","",null,"","","","","","",null,0,"","",0,"","",0,"00:00:00",0,null,0,0,null,{"$error":"#VALUE!"},{"$error":"#VALUE!"},{"$error":"#VALUE!"},{"$error":"#VALUE!"},{"$error":"#VALUE!"},0,{"$error":"#VALUE!"}]
["","","","","","","","","","","","","","","","","",null,"","","","","","",null,0,"","",0,"","",0,"00:00:00",0,null,0,0,null,{"$error":"#VALUE!"},{"$error":"#VALUE!"},{"$error":"#VALUE!"},{"$error":"#VALUE!"},{"$error":"#VALUE!"},0,{"$error":"#VALUE!"}]
["","","","","","","","","","","","","","","","","",null,"","","","","","",null,0,"","",0,"","",0,"00:00:00",0,null,0,0,null,{"$error":"#VALUE!"},{"$error":"#VALUE!"},{"$error":"#VALUE!"},{"$error":"#VALUE!"},{"$error":"#VALUE!"},0,{"$error":"#VALUE!"}]
["","","","","","","","","","","","","","","","","",null,"","","","","","",null,0,"","",0,"","",0,"00:00:00",0,null,0,0,null,{"$error":"#VALUE!"},{"$error":"#VALUE!"},{"$error":"#VALUE!"},{"$error":"#VALUE!"},{"$error":"#VALUE!"},0,{"$error":"#VALUE!"}]
["","","","","","","","","","","","","","","","","",null,"","","","","","",null,0,"","",0,"","",0,"00:00:00",0,null,0,0,null,{"$error":"#VALUE!"},{"$error":"#VALUE!"},{"$error":"#VALUE!"},{"$error":"#VALUE!"},{"$error":"#VALUE!"},0,{"$error":"#VALUE!"}]
["","","","","","","","","","","","","","","","","",null,"","","","","","",null,0,"","",0,"","",0,"00:00:00",0,null,0,0,null,{"$error":"#VALUE!"},{"$error":"#VALUE!"},{"$error":"#VALUE!"},{"$error":"#VALUE!"},{"$error":"#VALUE!"},0,{"$error":"#VALUE!"}]
["","","","","","","","","","","","","","","","","",null,"","","","","","",null,0,"","",0,"","",0,"00:00:00",0,null,0,0,null,{"$error":"#VALUE!"},{"$error":"#VALUE!"},{"$error":"#VALUE!"},{"$error":"#VALUE!"},{"$error":"#VALUE!"},0,{"$error":"#VALUE!"}]
["","","","","","","","","","","","","","","","","",null,"","","","","","",null,0,"","",0,"","",0,"00:00:00",0,null,0,0,null,{"$error":"#VALUE!"},{"$error":"#VALUE!"},{"$error":"#VALUE!"},{"$error":"#VALUE!"},{"$error":"#VALUE!"},0,{"$error":"#VALUE!"}]
["","","","","","","","","","","","","","","","","",null,"","","","","","",null,0,"","",0,"","",0,"00:00:00",0,null,0,0,null,{"$error":"#VALUE!"},{"$error":"#VALUE!"},{"$error":"#VALUE!"},{"$error":"#VALUE!"},{"$error":"#VALUE!"},0,{"$error":"#VALUE!"}]
["","","","","","","","","","","","","","","","","",null,"","","","","","",null,0,"","",0,"","",0,"00:00:00",0,null,0,0,null,{"$error":"#VALUE!"},{"$error":"#VALUE!"},{"$error":"#VALUE!"},{"$error":"#VALUE!"},{"$error":"#VALUE!"},0,{"$error":"#VALUE!"}]
["","","","","","","","","","","","","","","","","",null,"","","","","","",null,0,"","",0,"","",0,"00:00:00",0,null,0,0,null,{"$error":"#VALUE!"},{"$error":"#VALUE!"},{"$error":"#VALUE!"},{"$error":"#VALUE!"},{"$error":"#VALUE!"},0,{"$error":"#VALUE!"}]
["","","","","","","","","","","","","","","","","",null,"","","","","","",null,0,"","",0,"","",0,"00:00:00",0,null,0,0,null,{"$error":"#VALUE!"},{"$error":"#VALUE!"},{"$error":"#VALUE!"},{"$error":"#VALUE!"},{"$error":"#VALUE!"},0,{"$error":"#VALUE!"}]
["","","","","","","","","","","","","","","","","",null,"","","","","","",null,0,"","",0,"","",0,"00:00:00",0,null,0,0,null,{"$error":"#VALUE!"},{"$error":"#VALUE!"},{"$error":"#VALUE!"},{"$error":"#VALUE!"},{"$error":"#VALUE!"},0,{"$error":"#VALUE!"}]
["","","","","","","","","","","","","","","","","",null,"","","","","","",null,0,"","",0,"","",0,"00:00:00",0,null,0,0,null,{"$error":"#VALUE!"},{"$error":"#VALUE!"},{"$error":"#VALUE!"},{"$error":"#VALUE!"},{"$error":"#VALUE!"},0,{"$error":"#VALUE!"}]
["","","","","","","","","","","","","","","","","",null,"","","","","","",null,0,"","",0,"","",0,"00:00:00",0,null,0,0,null,{"$error":"#VALUE!"},{"$error":"#VALUE!"},{"$error":"#VALUE!"},{"$error":"#VALUE!"},{"$error":"#VALUE!"},0,{"$error":"#VALUE!"}]
["","","","","","","","","","","","","","","","","",null,"","","","","","",null,0,"","",0,"","",0,"00:00:00",0,null,0,0,null,{"$error":"#VALUE!"},{"$error":"#VALUE!"},{"$error":"#VALUE!"},{"$error":"#VALUE!"},{"$error":"#VALUE!"},0,{"$error":"#VALUE!"}]
["","","","","","","","","","","","","","","","","",null,"","","","","","",null,0,"","",0,"","",0,"00:00:00",0,null,0,0,null,{"$error":"#VALUE!"},{"$error":"#VALUE!"},{"$error":"#VALUE!"},{"$error":"#VALUE!"},{"$error":"#VALUE!"},0,{"$error":"#VALUE!"}]
["","","","","","","","","","","","","","","","","",null,"","","","","","",null,0,"","",0,"","",0,"00:00:00",0,null,0,0,null,{"$error":"#VALUE!"},{"$error":"#VALUE!"},{"$error":"#VALUE!"},{"$error":"#VALUE!"},{"$error":"#VALUE!"},0,{"$error":"#VALUE!"}]
["","","","","","","","","","","","","","","","","",null,"","","","","","",null,0,"","",0,"","",0,"00:00:00",0,null,0,0,null,{"$error":"#VALUE!"},{"$error":"#VALUE!"},{"$error":"#VALUE!"},{"$error":"#VALUE!"},{"$error":"#VALUE!"},0,{"$error":"#VALUE!"}]
["","","","","","","","","","","","","","","","","",null,"","","","","","",null,0,"","",0,"","",0,"00:00:00",0,null,0,0,null,{"$error":"#VALUE!"},{"$error":"#VALUE!"},{"$error":"#VALUE!"},{"$error":"#VALUE!"},{"$error":"#VALUE!"},0,{"$error":"#VALUE!"}]
["","","","","","","","","","","","","","","","","",null,"","","","","","",null,0,"","",0,"","",0,"00:00:00",0,null,0,0,null,{"$error":"#VALUE!"},{"$error":"#VALUE!"},{"$error":"#VALUE!"},{"$error":"#VALUE!"},{"$error":"#VALUE!"},0,{"$error":"#VALUE!"}]
["","","","","","","","","","","","","","","","","",null,"","","","","","",null,0,"","",0,"","",0,"00:00:00",0,null,0,0,null,{"$error":"#VALUE!"},{"$error":"#VALUE!"},{"$error":"#VALUE!"},{"$error":"#VALUE!"},{"$error":"#VALUE!"},0,{"$error":"#VALUE!"}]
["","","","","","","","","","","","","","","","","",null,"","","","","","",null,0,"","",0,"","",0,"00:00:00",0,null,0,0,null,{"$error":"#VALUE!"},{"$error":"#VALUE!"},{"$error":"#VALUE!"},{"$error":"#VALUE!"},{"$error":"#VALUE!"},0,{"$error":"#VALUE!"}]
["","","","","","","","","","","","","","","","","",null,"","","","","","",null,0,"","",0,"","",0,"00:00:00",0,null,0,0,null,{"$error":"#VALUE!"},{"$error":"#VALUE!"},{"$error":"#VALUE!"},{"$error":"#VALUE!"},{"$error":"#VALUE!"},0,{"$error":"#VALUE!"}]
["","","","","","","","","","","","","","","","","",null,"","","","","","",null,0,"","",0,"","",0,"00:00:00",0,null,0,0,null,{"$error":"#VALUE!"},{"$error":"#VALUE!"},{"$error":"#VALUE!"},{"$error":"#VALUE!"},{"$error":"#VALUE!"},0,{"$error":"#VALUE!"}]
["","","","","","","","","","","","","","","","","",null,"","","","","","",null,0,"","",0,"","",0,"00:00:00",0,null,0,0,null,{"$error":"#VALUE!"},{"$error":"#VALUE!"},{"$error":"#VALUE!"},{"$error":"#VALUE!"},{"$error":"#VALUE!"},0,{"$error":"#VALUE!"}]
["","","","","","","","","","","","","","","","","",null,"","","","","","",null,0,"","",0,"","",0,"00:00:00",0,null,0,0,null,{"$error":"#VALUE!"},{"$error":"#VALUE!"},{"$error":"#VALUE!"},{"$error":"#VALUE!"},{"$error":"#VALUE!"},0,{"$error":"#VALUE!"}]
["","","","","","","","","","","","","","","","","",null,"","","","","","",null,0,"","",0,"","",0,"00:00:00",0,null,0,0,null,{"$error":"#VALUE!"},{"$error":"#VALUE!"},{"$error":"#VALUE!"},{"$error":"#VALUE!"},{"$error":"#VALUE!"},0,{"$error":"#VALUE!"}]
["","","","","","","","","","","","","","","","","",null,"","","","","","",null,0,"","",0,"","",0,"00:00:00",0,null,0,0,null,{"$error":"#VALUE!"},{"$error":"#VALUE!"},{"$error":"#VALUE!"},{"$error":"#VALUE!"},{"$error":"#VALUE!"},0,{"$error":"#VALUE!"}]
["","","","","","","","","","","","","","","","","",null,"","","","","","",null,0,"","",0,"","",0,"00:00:00",0,null,0,0,null,{"$error":"#VALUE!"},{"$error":"#VALUE!"},{"$error":"#VALUE!"},{"$error":"#VALUE!"},{"$error":"#VALUE!"},0,{"$error":"#VALUE!"}]
["","","","","","","","","","","","","","","","","",null,"","","","","","",null,0,"","",0,"","",0,"00:00:00",0,null,0,0,null,{"$error":"#VALUE!"},{"$error":"#VALUE!"},{"$error":"#VALUE!"},{"$error":"#VALUE!"},{"$error":"#VALUE!"},0,{"$error":"#VALUE!"}]
["","","","","","","","","","","","","","","","","",null,"","","","","","",null,0,"","",0,"","",0,"00:00:00",0,null,0,0,null,{"$error":"#VALUE!"},{"$error":"#VALUE!"},{"$error":"#VALUE!"},{"$error":"#VALUE!"},{"$error":"#VALUE!"},0,{"$error":"#VALUE!"}]
["","","","","","","","","","","","","","","","","",null,"","","","","","",null,0,"","",0,"","",0,"00:00:00",0,null,0,0,null,{"$error":"#VALUE!"},{"$error":"#VALUE!"},{"$error":"#VALUE!"},{"$error":"#VALUE!"},{"$error":"#VALUE!"},0,{"$error":"#VALUE!"}]
["","","","","","","","","","","","","","","","","",null,"","","","","","",null,0,"","",0,"","",0,"00:00:00",0,null,0,0,null,{"$error":"#VALUE!"},{"$error":"#VALUE!"},{"$error":"#VALUE!"},{"$error":"#VALUE!"},{"$error":"#VALUE!"},0,{"$error":"#VALUE!"}]
["","","","","","","","","","","","","","","","","",null,"","","","","","",null,0,"","",0,"","",0,"00:00:00",0,null,0,0,null,{"$error":"#VALUE!"},{"$error":"#VALUE!"},{"$error":"#VALUE!"},{"$error":"#VALUE!"},{"$error":"#VALUE!"},0,{"$error":"#VALUE!"}]
["","","","","","","","","","","","","","","","","",null,"","","","","","",null,0,"","",0,"","",0,"00:00:00",0,null,0,0,null,{"$error":"#VALUE!"},{"$error":"#VALUE!"},{"$error":"#VALUE!"},{"$error":"#VALUE!"},{"$error":"#VALUE!"},0,{"$error":"#VALUE!"}]
["","","","","","","","","","","","","","","","","",null,"","","","","","",null,0,"","",0,"","",0,"00:00:00",0,null,0,0,null,{"$error":"#VALUE!"},{"$error":"#VALUE!"},{"$error":"#VALUE!"},{"$error":"#VALUE!"},{"$error":"#VALUE!"},0,{"$error":"#VALUE!"}]
["","","","","","","","","","","","","","","","","",null,"","","","","","",null,0,"","",0,"","",0,"00:00:00",0,null,0,0,null,{"$error":"#VALUE!"},{"$error":"#VALUE!"},{"$error":"#VALUE!"},{"$error":"#VALUE!"},{"$error":"#VALUE!"},0,{"$error":"#VALUE!"}]
["","","","","","","","","","","","","","","","","",null,"","","","","","",null,0,"","",0,"","",0,"00:00:00",0,null,0,0,null,{"$error":"#VALUE!"},{"$error":"#VALUE!"},{"$error":"#VALUE!"},{"$error":"#VALUE!"},{"$error":"#VALUE!"},0,{"$error":"#VALUE!"}]
["","","","","","","","","","","","","","","","","",null,"","","","","","",null,0,"","",0,"","",0,"00:00:00",0,null,0,0,null,{"$error":"#VALUE!"},{"$error":"#VALUE!"},{"$error":"#VALUE!"},{"$error":"#VALUE!"},{"$error":"#VALUE!"},0,{"$error":"#VALUE!"}]
["","","","","","","","","","","","","","","","","",null,"","","","","","",null,0,"","",0,"","",0,"00:00:00",0,null,0,0,null,{"$error":"#VALUE!"},{"$error":"#VALUE!"},{"$error":"#VALUE!"},{"$error":"#VALUE!"},{"$error":"#VALUE!"},0,{"$error":"#VALUE!"}]
["","","","","","","","","","","","","","","","","",null,"","","","","","",null,0,"","",0,"","",0,"00:00:00",0,null,0,0,null,{"$error":"#VALUE!"},{"$error":"#VALUE!"},{"$error":"#VALUE!"},{"$error":"#VALUE!"},{"$error":"#VALUE!"},0,{"$error":"#VALUE!"}]
["","","","","","","","","","","","","","","","","",null,"","","","","","",null,0,"","",0,"","",0,"00:00:00",0,null,0,0,null,{"$error":"#VALUE!"},{"$error":"#VALUE!"},{"$error":"#VALUE!"},{"$error":"#VALUE!"},{"$error":"#VALUE!"},0,{"$error":"#VALUE!"}]
["","","","","","","","","","","","","","","","","",null,"","","","","","",null,0,"","",0,"","",0,"00:00:00",0,null,0,0,null,{"$error":"#VALUE!"},{"$error":"#VALUE!"},{"$error":"#VALUE!"},{"$error":"#VALUE!"},{"$error":"#VALUE!"},0,{"$error":"#VALUE!"}]
["","","","","","","","","","","","","","","","","",null,"","","","","","",null,0,"","",0,"","",0,"00:00:00",0,null,0,0,null,{"$error":"#VALUE!"},{"$error":"#VALUE!"},{"$error":"#VALUE!"},{"$error":"#VALUE!"},{"$error":"#VALUE!"},0,{"$error":"#VALUE!"}]
["","","","","","","","","","","","","","","","","",null,"","","","","","",null,0,"","",0,"","",0,"00:00:00",0,null,0,0,null,{"$error":"#VALUE!"},{"$error":"#VALUE!"},{"$error":"#VALUE!"},{"$error":"#VALUE!"},{"$error":"#VALUE!"},0,{"$error":"#VALUE!"}]
["","","","","","","","","","","","","","","","","",null,"","","","","","",null,0,"","",0,"","",0,"00:00:00",0,null,0,0,null,{"$error":"#VALUE!"},{"$error":"#VALUE!"},{"$error":"#VALUE!"},{"$error":"#VALUE!"},{"$error":"#VALUE!"},0,{"$error":"#VALUE!"}]
["","","","","","","","","","","","","","","","","",null,"","","","","","",null,0,"","",0,"","",0,"00:00:00",0,null,0,0,null,{"$error":"#VALUE!"},{"$error":"#VALUE!"},{"$error":"#VALUE!"},{"$error":"#VALUE!"},{"$error":"#VALUE!"},0,{"$error":"#VALUE!"}]
["","","","","","","","","","","","","","","","","",null,"","","","","","",null,0,"","",0,"","",0,"00:00:00",0,null,0,0,null,{"$error":"#VALUE!"},{"$error":"#VALUE!"},{"$error":"#VALUE!"},{"$error":"#VALUE!"},{"$error":"#VALUE!"},0,{"$error":"#VALUE!"}]
["","","","","","","","","","","","","","","","","",null,"","","","","","",null,0,"","",0,"","",0,"00:00:00",0,null,0,0,null,{"$error":"#VALUE!"},{"$error":"#VALUE!"},{"$error":"#VALUE!"},{"$error":"#VALUE!"},{"$error":"#VALUE!"},0,{"$error":"#VALUE!"}]
["","","",{"$f":"IF(B161=\"\",\"\",IF(OR(MONTH(C161)=$H$18,MONTH(C161)=$H$19),\"D\",\"\"))","v":""},"","","","","","",{"$f":"IF(B161=\"\",\"\",IF((IF(ISERROR(MATCH(MONTH(C161),$H$18:$H$19,0))=FALSE,$J$24 + $Q$29,0) + $J$24+$Q$29+$S$27)-L161<0,0.01,IF(ISERROR(MATCH(MONTH(C161),$H$18:$H$19,0))=FALSE,$J$24 + $Q$29,0)+ ($J$24+$Q$29+$S$27)-L161)- R161 -S161-Q161)","v":""},{"$f":"IF(B161=\"\",\"\",IF($J$24+$Q$29<ROUND(ROUND(J161*(((1+(H161/100))^(I161/G161))-1),4),2),$J$24+$Q$29 +-0.01,IF(ROUND(ROUND(J161*(((1+(H161/100))^(I161/G161))-1),4),2)>$J$24,$J$24+ -0.01,ROUND(ROUND(J161*(((1+(H161/100))^(I161/G161))-1),4),2))))","v":""},{"$f":"IF(B161=\"\",\"\",IF(ISERROR(MATCH(MONTH(C161),$H$18:$H$19,0))=FALSE,$J$23,0)  + $J$23)","v":""},{"$f":"IF(B161=\"\",\"\",L161+M161)","v":""},{"$f":"IF(B161=\"\",\"\",K161+N161)","v":""},{"$f":"IF(B161=\"\",\"\",$J$27)","v":""},"",null,"",{"$f":"IF(B161=\"\",\"\",Q161+R161+S161)","v":""},{"$f":"IF(B161=\"\",\"\",$J$28)","v":""},"",{"$f":"IF(B161=\"\",\"\",(ROUND(J161-K161,2)))","v":""},{"$f":"IF(B161=\"\",\"\",IF(ROUND(ROUND(J161*(((1+(H161/100))^(I161/G161))-1),4),2) - $J$24<0,0,ROUND(ROUND(J161*(((1+(H161/100))^(I161/G161))-1),4),2) - $J$24))","v":""},null,{"$f":"SUM(K161:M161)","v":0},"",{"$f":"+Q161","v":""},0,"",{"$f":"IFERROR(AA161+K161 + P161 + U161+AB161 + M161 + AC161 + AD161,\"\")","v":""},0,"00:00:00",0,null,0,0,null,{"$error":"#VALUE!"},{"$f":"(1/((1+($J$8/100))^(AM161/$Q$9))*1) * IF(D161=\"D\",2,1)","v":{"$error":"#VALUE!"}},{"$error":"#VALUE!"},{"$error":"#VALUE!"},{"$f":"(((1+($J$8/100))^((K161)/$Q$9))-1)*AO161","v":{"$error":"#VALUE!"}},{"$f":"IF(D161=\"D\",$K$23,0)+ $K$23","v":0},{"$error":"#VALUE!"}]
["",{"$f":"IF(A162=\"\",\"\",IF(A162<=$H$22,0,1))","v":""},{"$f":"IF(B162=\"\",\"\",IF(OR(MONTH(EDATE($Q$6,E162))=$H$16,MONTH(EDATE($Q$6,E162))=$H$17),IF(ABS($H$17-$H$16)=1,EDATE($Q$6,E162+2),EDATE($Q$6,E162+1)),EDATE($Q$6,E162)))","v":""},"","","","",{"$f":"IF(B162=\"\",\"\",$H$10)","v":""},"","","","","","","","","",null,{"$f":"IF(B162=\"\",\"\",IF(E162-E161>1,ROUNDDOWN($J162*$H$9/30*(DATE(YEAR($C162),MONTH($C162)-1,DAY($C162))-C161),2),0))","v":""},"","",{"$f":"IF(B162=\"\",\"\",O162+P162+Q162+R162+S162+U162)","v":""},"","",null,0,{"$f":"+L162","v":""},"",0,"","",{"$f":"IFERROR(IF(D162=\"D\",$J$24*2,$J$24)+Q162,0)","v":0},"00:00:00",0,null,{"$f":"+IFERROR(AE162-V162,0)","v":0},{"$f":"+IFERROR(AA162-L162,0)","v":0},null,{"$f":"I162 + AM161","v":{"$error":"#VALUE!"}},{"$error":"#VALUE!"},{"$error":"#VALUE!"},{"$f":"AR162-AQ162","v":{"$error":"#VALUE!"}},{"$error":"#VALUE!"},0,{"$f":"AO162-AP162","v":{"$error":"#VALUE!"}}]
[{"$f":"+IF(A162>=$H$14,\"\",A162+1)","v":""},"","","",{"$f":"+IF(B163=\"\",\"\",IF(OR(MONTH(DATE(YEAR(C162)+0.0833333333333333,MONTH(C162)+1,DAY(C162)))=$H$16,MONTH(DATE(YEAR(C162)+0.5,MONTH(C162)+1,DAY(C162)))=$H$17),IF(ABS($H$17-$H$16)=1,E162+1,E162+2),E162+1))","v":""},{"$f":"+IF(B163=\"\",\"\",F162+1)","v":""},{"$f":"IF(B163=\"\",\"\",$Q$9)","v":""},"",{"$f":"IF(B163=\"\",\"\",C163-C162)","v":""},{"$f":"IF(B163=\"\",\"\",W162)","v":""},"","","","","","",{"$f":"IF(B163=\"\",\"\",ROUND($H$9*J163/30*$I163,2)-S163)","v":""},null,"","","","","","",null,0,"","",0,"","",0,"00:00:00",0,null,0,0,null,{"$error":"#VALUE!"},{"$error":"#VALUE!"},{"$f":"AS162","v":{"$error":"#VALUE!"}},{"$error":"#VALUE!"},{"$error":"#VALUE!"},0,{"$error":"#VALUE!"}]
["","","","","","","","","","","","","","","","","",null,"","","","","","",null,0,"","",0,"","",0,"00:00:00",0,null,0,0,null,{"$error":"#VALUE!"},{"$error":"#VALUE!"},{"$error":"#VALUE!"},{"$error":"#VALUE!"},{"$error":"#VALUE!"},0,{"$error":"#VALUE!"}]
["","","","","","","","","","","","","","","","","",null,"","","","","","",null,0,"","",0,"","",0,"00:00:00",0,null,0,0,null,{"$error":"#VALUE!"},{"$error":"#VALUE!"},{"$error":"#VALUE!"},{"$error":"#VALUE!"},{"$error":"#VALUE!"},0,{"$error":"#VALUE!"}]
["","","","","","","","","","","","","","","","","",null,"","","","","","",null,0,"","",0,"","",0,"00:00:00",0,null,0,0,null,{"$error":"#VALUE!"},{"$error":"#VALUE!"},{"$error":"#VALUE!"},{"$error":"#VALUE!"},{"$error":"#VALUE!"},0,{"$error":"#VALUE!"}]
["","","","","","","","","","","","","","","","","",null,"","","","","","",null,0,"","",0,"","",0,"00:00:00",0,null,0,0,null,{"$error":"#VALUE!"},{"$error":"#VALUE!"},{"$error":"#VALUE!"},{"$error":"#VALUE!"},{"$error":"#VALUE!"},0,{"$error":"#VALUE!"}]
["","","","","","","","","","","","","","","","","",null,"","","","","","",null,0,"","",0,"","",0,"00:00:00",0,null,0,0,null,{"$error":"#VALUE!"},{"$error":"#VALUE!"},{"$error":"#VALUE!"},{"$error":"#VALUE!"},{"$error":"#VALUE!"},0,{"$error":"#VALUE!"}]
["","","","","","","","","","","","","","","","","",null,"","","","","","",null,0,"","",0,"","",0,"00:00:00",0,null,0,0,null,{"$error":"#VALUE!"},{"$error":"#VALUE!"},{"$error":"#VALUE!"},{"$error":"#VALUE!"},{"$error":"#VALUE!"},0,{"$error":"#VALUE!"}]
["","","","","","","","","","","","","","","","","",null,"","","","","","",null,0,"","",0,"","",0,"00:00:00",0,null,0,0,null,{"$error":"#VALUE!"},{"$error":"#VALUE!"},{"$error":"#VALUE!"},{"$error":"#VALUE!"},{"$error":"#VALUE!"},0,{"$error":"#VALUE!"}]
["","","","","","","","","","","","","","","","","",null,"","","","","","",null,0,"","",0,"","",0,"00:00:00",0,null,0,0,null,{"$error":"#VALUE!"},{"$error":"#VALUE!"},{"$error":"#VALUE!"},{"$error":"#VALUE!"},{"$error":"#VALUE!"},0,{"$error":"#VALUE!"}]
["","","","","","","","","","","","","","","","","",null,"","","","","","",null,0,"","",0,"","",0,"00:00:00",0,null,0,0,null,{"$error":"#VALUE!"},{"$error":"#VALUE!"},{"$error":"#VALUE!"},{"$error":"#VALUE!"},{"$error":"#VALUE!"},0,{"$error":"#VALUE!"}]
["","","","","","","","","","","","","","","","","",null,"","","","","","",null,0,"","",0,"","",0,"00:00:00",0,null,0,0,null,{"$error":"#VALUE!"},{"$error":"#VALUE!"},{"$error":"#VALUE!"},{"$error":"#VALUE!"},{"$error":"#VALUE!"},0,{"$error":"#VALUE!"}]
["","","","","","","","","","","","","","","","","",null,"","","","","","",null,0,"","",0,"","",0,{"$f":"+IF(C174=\"\",0,C174)","v":"00:00:00"},{"$f":"+IF(AE174=\"\",0,AE174)","v":0},null,0,0,null,{"$error":"#VALUE!"},{"$error":"#VALUE!"},{"$error":"#VALUE!"},{"$error":"#VALUE!"},{"$error":"#VALUE!"},0,{"$error":"#VALUE!"}]
["","","","","","","","","","","","","","","","","",null,"","","","","","",null,0,"","",0,"","",0,"00:00:00",0,null,0,0,null,{"$error":"#VALUE!"},{"$error":"#VALUE!"},{"$error":"#VALUE!"},{"$error":"#VALUE!"},{"$error":"#VALUE!"},0,{"$error":"#VALUE!"}]
["","","","","","","","","","","","","","","","","",null,"","","","","","",null,0,"","",0,"","",0,"00:00:00",0,null,0,0,null,{"$error":"#VALUE!"},{"$error":"#VALUE!"},{"$error":"#VALUE!"},{"$error":"#VALUE!"},{"$error":"#VALUE!"},0,{"$error":"#VALUE!"}]
["","","","","","","","","","","","","","","","","",null,"","","","","","",null,0,"","",0,"","",0,"00:00:00",0,null,0,0,null,{"$error":"#VALUE!"},{"$error":"#VALUE!"},{"$error":"#VALUE!"},{"$error":"#VALUE!"},{"$error":"#VALUE!"},0,{"$error":"#VALUE!"}]
["","","","","","","","","","","","","","","","","",null,"","","","","","",null,0,"","",0,"","",0,"00:00:00",0,null,0,0,null,{"$error":"#VALUE!"},{"$error":"#VALUE!"},{"$error":"#VALUE!"},{"$error":"#VALUE!"},{"$error":"#VALUE!"},0,{"$error":"#VALUE!"}]
["","","","","","","","","","","","","","","","","",null,"","","","","","",null,0,"","",0,"","",0,"00:00:00",0,null,0,0,null,{"$error":"#VALUE!"},{"$error":"#VALUE!"},{"$error":"#VALUE!"},{"$error":"#VALUE!"},{"$error":"#VALUE!"},0,{"$error":"#VALUE!"}]
["","","","","","","","","","","","","","","","","",null,"","","","","","",null,0,"","",0,"","",0,"00:00:00",0,null,0,0,null,{"$error":"#VALUE!"},{"$error":"#VALUE!"},{"$error":"#VALUE!"},{"$error":"#VALUE!"},{"$error":"#VALUE!"},0,{"$error":"#VALUE!"}]
["","","","","","","","","","","","","","","","","",null,"","","","","","",null,0,"","",0,"","",0,"00:00:00",0,null,0,0,null,{"$error":"#VALUE!"},{"$error":"#VALUE!"},{"$error":"#VALUE!"},{"$error":"#VALUE!"},{"$error":"#VALUE!"},0,{"$error":"#VALUE!"}]
["","","","","","","","","","","","","","","","","",null,"","","","","","",null,0,"","",0,"","",0,"00:00:00",0,null,0,0,null,{"$error":"#VALUE!"},{"$error":"#VALUE!"},{"$error":"#VALUE!"},{"$error":"#VALUE!"},{"$error":"#VALUE!"},0,{"$error":"#VALUE!"}]
["","","","","","","","","","","","","","","","","",null,"","","","","","",null,0,"","",0,"","",0,"00:00:00",0,null,0,0,null,{"$error":"#VALUE!"},{"$error":"#VALUE!"},{"$error":"#VALUE!"},{"$error":"#VALUE!"},{"$error":"#VALUE!"},0,{"$error":"#VALUE!"}]
["","","","","","","","","","","","","","","","","",null,"","","","","","",null,0,"","",0,"","",0,"00:00:00",0,null,0,0,null,{"$error":"#VALUE!"},{"$error":"#VALUE!"},{"$error":"#VALUE!"},{"$error":"#VALUE!"},{"$error":"#VALUE!"},0,{"$error":"#VALUE!"}]
["","","","","","","","","","","","","","","","","",null,"","","","","","",null,0,"","",0,"","",0,"00:00:00",0,null,0,0,null,{"$error":"#VALUE!"},{"$error":"#VALUE!"},{"$error":"#VALUE!"},{"$error":"#VALUE!"},{"$error":"#VALUE!"},0,{"$error":"#VALUE!"}]
["","","","","","","","","","","","","","","","","",null,"","","","","","",null,0,"","",0,"","",0,"00:00:00",0,null,0,0,null,{"$error":"#VALUE!"},{"$error":"#VALUE!"},{"$error":"#VALUE!"},{"$error":"#VALUE!"},{"$error":"#VALUE!"},0,{"$error":"#VALUE!"}]
["","","","","","","","","","","","","","","","","",null,"","","","","","",null,0,"","",0,"","",0,"00:00:00",0,null,0,0,null,{"$error":"#VALUE!"},{"$error":"#VALUE!"},{"$error":"#VALUE!"},{"$error":"#VALUE!"},{"$error":"#VALUE!"},0,{"$error":"#VALUE!"}]
["","","","","","","","","","","","","","","","","",null,"","","","","","",null,0,"","",0,"","",0,"00:00:00",0,null,0,0,null,{"$error":"#VALUE!"},{"$error":"#VALUE!"},{"$error":"#VALUE!"},{"$error":"#VALUE!"},{"$error":"#VALUE!"},0,{"$error":"#VALUE!"}]
["","","","","","","","","","","","","","","","","",null,"","","","","","",null,0,"","",0,"","",0,"00:00:00",0,null,0,0,null,{"$error":"#VALUE!"},{"$error":"#VALUE!"},{"$error":"#VALUE!"},{"$error":"#VALUE!"},{"$error":"#VALUE!"},0,{"$error":"#VALUE!"}]
["","","","","","","","","","","","","","","","","",null,"","","","","","",null,0,"","",0,"","",0,"00:00:00",0,null,0,0,null,{"$error":"#VALUE!"},{"$error":"#VALUE!"},{"$error":"#VALUE!"},{"$error":"#VALUE!"},{"$error":"#VALUE!"},0,{"$error":"#VALUE!"}]
["","","","","","","","","","","","","","","","","",null,"","","","","","",null,0,"","",0,"","",0,"00:00:00",0,null,0,0,null,{"$error":"#VALUE!"},{"$error":"#VALUE!"},{"$error":"#VALUE!"},{"$error":"#VALUE!"},{"$error":"#VALUE!"},0,{"$error":"#VALUE!"}]
["","","","","","","","","","","","","","","","","",null,"","","","","","",null,0,"","",0,"","",0,"00:00:00",0,null,0,0,null,{"$error":"#VALUE!"},{"$error":"#VALUE!"},{"$error":"#VALUE!"},{"$error":"#VALUE!"},{"$error":"#VALUE!"},0,{"$error":"#VALUE!"}]
["","","","","","","","","","","","","","","","","",null,"","","","","","",null,0,"","",0,"","",0,"00:00:00",0,null,0,0,null,{"$error":"#VALUE!"},{"$error":"#VALUE!"},{"$error":"#VALUE!"},{"$error":"#VALUE!"},{"$error":"#VALUE!"},0,{"$error":"#VALUE!"}]
["","","","","","","","","","","","","","","","","",null,"","","","","","",null,0,"","",0,"","",0,"00:00:00",0,null,0,0,null,{"$error":"#VALUE!"},{"$error":"#VALUE!"},{"$error":"#VALUE!"},{"$error":"#VALUE!"},{"$error":"#VALUE!"},0,{"$error":"#VALUE!"}]
["","","","","","","","","","","","","","","","","",null,"","","","","","",null,0,"","",0,"","",0,"00:00:00",0,null,0,0,null,{"$error":"#VALUE!"},{"$error":"#VALUE!"},{"$error":"#VALUE!"},{"$error":"#VALUE!"},{"$error":"#VALUE!"},0,{"$error":"#VALUE!"}]
["","","","","","","","","","","","","","","","","",null,"","","","","","",null,0,"","",0,"","",0,"00:00:00",0,null,0,0,null,{"$error":"#VALUE!"},{"$error":"#VALUE!"},{"$error":"#VALUE!"},{"$error":"#VALUE!"},{"$error":"#VALUE!"},0,{"$error":"#VALUE!"}]
["","","","","","","","","","","","","","","","","",null,"","","","","","",null,0,"","",0,"","",0,"00:00:00",0,null,0,0,null,{"$error":"#VALUE!"},{"$error":"#VALUE!"},{"$error":"#VALUE!"},{"$error":"#VALUE!"},{"$error":"#VALUE!"},0,{"$error":"#VALUE!"}]
["","","","","","","","","","","","","","","","","",null,"","","","","","",null,0,"","",0,"","",0,"00:00:00",0,null,0,0,null,{"$error":"#VALUE!"},{"$error":"#VALUE!"},{"$error":"#VALUE!"},{"$error":"#VALUE!"},{"$error":"#VALUE!"},0,{"$error":"#VALUE!"}]
["","","","","","","","","","","","","","","","","",null,"","","","","","",null,0,"","",0,"","",0,"00:00:00",0,null,0,0,null,{"$error":"#VALUE!"},{"$error":"#VALUE!"},{"$error":"#VALUE!"},{"$error":"#VALUE!"},{"$error":"#VALUE!"},0,{"$error":"#VALUE!"}]
["","","","","","","","","","","","","","","","","",null,"","","","","","",null,0,"","",0,"","",0,"00:00:00",0,null,0,0,null,{"$error":"#VALUE!"},{"$error":"#VALUE!"},{"$error":"#VALUE!"},{"$error":"#VALUE!"},{"$error":"#VALUE!"},0,{"$error":"#VALUE!"}]
["","","","","","","","","","","","","","","","","",null,"","","","","","",null,0,"","",0,"","",0,"00:00:00",0,null,0,0,null,{"$error":"#VALUE!"},{"$error":"#VALUE!"},{"$error":"#VALUE!"},{"$error":"#VALUE!"},{"$error":"#VALUE!"},0,{"$error":"#VALUE!"}]
["","","","","","","","","","","","","","","","","",null,"","","","","","",null,0,"","",0,"","",0,"00:00:00",0,null,0,0,null,{"$error":"#VALUE!"},{"$error":"#VALUE!"},{"$error":"#VALUE!"},{"$error":"#VALUE!"},{"$error":"#VALUE!"},0,{"$error":"#VALUE!"}]
["","","","","","","","","","","","","","","","","",null,"","","","","","",null,0,"","",0,"","",0,"00:00:00",0,null,0,0,null,{"$error":"#VALUE!"},{"$error":"#VALUE!"},{"$error":"#VALUE!"},{"$error":"#VALUE!"},{"$error":"#VALUE!"},0,{"$error":"#VALUE!"}]
["","","","","","","","","","","","","","","","","",null,"","","","","","",null,0,"","",0,"","",0,"00:00:00",0,null,0,0,null,{"$error":"#VALUE!"},{"$error":"#VALUE!"},{"$error":"#VALUE!"},{"$error":"#VALUE!"},{"$error":"#VALUE!"},0,{"$error":"#VALUE!"}]
["","","","","","","","","","","","","","","","","",null,"","","","","","",null,0,"","",0,"","",0,"00:00:00",0,null,0,0,null,{"$error":"#VALUE!"},{"$error":"#VALUE!"},{"$error":"#VALUE!"},{"$error":"#VALUE!"},{"$error":"#VALUE!"},0,{"$error":"#VALUE!"}]
["","","","","","","","","","","","","","","","","",null,"","","","","","",null,0,"","",0,"","",0,"00:00:00",0,null,0,0,null,{"$error":"#VALUE!"},{"$error":"#VALUE!"},{"$error":"#VALUE!"},{"$error":"#VALUE!"},{"$error":"#VALUE!"},0,{"$error":"#VALUE!"}]
["","","","","","","","","","","","","","","","","",null,"","","","","","",null,0,"","",0,"","",0,"00:00:00",0,null,0,0,null,{"$error":"#VALUE!"},{"$error":"#VALUE!"},{"$error":"#VALUE!"},{"$error":"#VALUE!"},{"$error":"#VALUE!"},0,{"$error":"#VALUE!"}]
["","","","","","","","","","","","","","","","","",null,"","","","","","",null,0,"","",0,"","",0,"00:00:00",0,null,0,0,null,{"$error":"#VALUE!"},{"$error":"#VALUE!"},{"$error":"#VALUE!"},{"$error":"#VALUE!"},{"$error":"#VALUE!"},0,{"$error":"#VALUE!"}]
["","","","","","","","","","","","","","","","","",null,"","","","","","",null,0,"","",0,"","",0,"00:00:00",0,null,0,0,null,{"$error":"#VALUE!"},{"$error":"#VALUE!"},{"$error":"#VALUE!"},{"$error":"#VALUE!"},{"$error":"#VALUE!"},0,{"$error":"#VALUE!"}]
["","","","","","","","","","","","","","","","","",null,"","","","","","",null,0,"","",0,"","",0,"00:00:00",0,null,0,0,null,{"$error":"#VALUE!"},{"$error":"#VALUE!"},{"$error":"#VALUE!"},{"$error":"#VALUE!"},{"$error":"#VALUE!"},0,{"$error":"#VALUE!"}]
["","","","","","","","","","","","","","","","","",null,"","","","","","",null,0,"","",0,"","",0,"00:00:00",0,null,0,0,null,{"$error":"#VALUE!"},{"$error":"#VALUE!"},{"$error":"#VALUE!"},{"$error":"#VALUE!"},{"$error":"#VALUE!"},0,{"$error":"#VALUE!"}]
["","","","","","","","","","","","","","","","","",null,"","","","","","",null,0,"","",0,"","",0,"00:00:00",0,null,0,0,null,{"$error":"#VALUE!"},{"$error":"#VALUE!"},{"$error":"#VALUE!"},{"$error":"#VALUE!"},{"$error":"#VALUE!"},0,{"$error":"#VALUE!"}]
["","","","","","","","","","","","","","","","","",null,"","","","","","",null,0,"","",0,"","",0,"00:00:00",0,null,0,0,null,{"$error":"#VALUE!"},{"$error":"#VALUE!"},{"$error":"#VALUE!"},{"$error":"#VALUE!"},{"$error":"#VALUE!"},0,{"$error":"#VALUE!"}]
["","","","","","","","","","","","","","","","","",null,"","","","","","",null,0,"","",0,"","",0,"00:00:00",0,null,0,0,null,{"$error":"#VALUE!"},{"$error":"#VALUE!"},{"$error":"#VALUE!"},{"$error":"#VALUE!"},{"$error":"#VALUE!"},0,{"$error":"#VALUE!"}]
["","","","","","","","","","","","","","","","","",null,"","","","","","",null,0,"","",0,"","",0,"00:00:00",0,null,0,0,null,{"$error":"#VALUE!"},{"$error":"#VALUE!"},{"$error":"#VALUE!"},{"$error":"#VALUE!"},{"$error":"#VALUE!"},0,{"$error":"#VALUE!"}]
["","","","","","","","","","","","","","","","","",null,"","","","","","",null,0,"","",0,"","",0,"00:00:00",0,null,0,0,null,{"$error":"#VALUE!"},{"$error":"#VALUE!"},{"$error":"#VALUE!"},{"$error":"#VALUE!"},{"$error":"#VALUE!"},0,{"$error":"#VALUE!"}]
["","","","","","","","","","","","","","","","","",null,"","","","","","",null,0,"","",0,"","",0,"00:00:00",0,null,0,0,null,{"$error":"#VALUE!"},{"$error":"#VALUE!"},{"$error":"#VALUE!"},{"$error":"#VALUE!"},{"$error":"#VALUE!"},0,{"$error":"#VALUE!"}]
["","","","","","","","","","","","","","","","","",null,"","","","","","",null,0,"","",0,"","",0,"00:00:00",0,null,0,0,null,{"$error":"#VALUE!"},{"$error":"#VALUE!"},{"$error":"#VALUE!"},{"$error":"#VALUE!"},{"$error":"#VALUE!"},0,{"$error":"#VALUE!"}]
["","","","","","","","","","","","","","","","","",null,"","","","","","",null,0,"","",0,"","",0,"00:00:00",0,null,0,0,null,{"$error":"#VALUE!"},{"$error":"#VALUE!"},{"$error":"#VALUE!"},{"$error":"#VALUE!"},{"$error":"#VALUE!"},0,{"$error":"#VALUE!"}]
["","","","","","","","","","","","","","","","","",null,"","","","","","",null,0,"","",0,"","",0,"00:00:00",0,null,0,0,null,{"$error":"#VALUE!"},{"$error":"#VALUE!"},{"$error":"#VALUE!"},{"$error":"#VALUE!"},{"$error":"#VALUE!"},0,{"$error":"#VALUE!"}]
["","","","","","","","","","","","","","","","","",null,"","","","","","",null,0,"","",0,"","",0,"00:00:00",0,null,0,0,null,{"$error":"#VALUE!"},{"$error":"#VALUE!"},{"$error":"#VALUE!"},{"$error":"#VALUE!"},{"$error":"#VALUE!"},0,{"$error":"#VALUE!"}]
["","","","","","","","","","","","","","","","","",null,"","","","","","",null,0,"","",0,"","",0,"00:00:00",0,null,0,0,null,{"$error":"#VALUE!"},{"$error":"#VALUE!"},{"$error":"#VALUE!"},{"$error":"#VALUE!"},{"$error":"#VALUE!"},0,{"$error":"#VALUE!"}]
["","","","","","","","","","","","","","","","","",null,"","","","","","",null,0,"","",0,"","",0,"00:00:00",0,null,0,0,null,{"$error":"#VALUE!"},{"$error":"#VALUE!"},{"$error":"#VALUE!"},{"$error":"#VALUE!"},{"$error":"#VALUE!"},0,{"$error":"#VALUE!"}]
["","","","","","","","","","","","","","","","","",null,"","","","","","",null,0,"","",0,"","",0,"00:00:00",0,null,0,0,null,{"$error":"#VALUE!"},{"$error":"#VALUE!"},{"$error":"#VALUE!"},{"$error":"#VALUE!"},{"$error":"#VALUE!"},0,{"$error":"#VALUE!"}]
["","","",{"$f":"IF(B225=\"\",\"\",IF(OR(MONTH(C225)=$H$18,MONTH(C225)=$H$19),\"D\",\"\"))","v":""},"","","","","","",{"$f":"IF(B225=\"\",\"\",IF((IF(ISERROR(MATCH(MONTH(C225),$H$18:$H$19,0))=FALSE,$J$24 + $Q$29,0) + $J$24+$Q$29+$S$27)-L225<0,0.01,IF(ISERROR(MATCH(MONTH(C225),$H$18:$H$19,0))=FALSE,$J$24 + $Q$29,0)+ ($J$24+$Q$29+$S$27)-L225)- R225 -S225-Q225)","v":""},{"$f":"IF(B225=\"\",\"\",IF($J$24+$Q$29<ROUND(ROUND(J225*(((1+(H225/100))^(I225/G225))-1),4),2),$J$24+$Q$29 +-0.01,IF(ROUND(ROUND(J225*(((1+(H225/100))^(I225/G225))-1),4),2)>$J$24,$J$24+ -0.01,ROUND(ROUND(J225*(((1+(H225/100))^(I225/G225))-1),4),2))))","v":""},{"$f":"IF(B225=\"\",\"\",IF(ISERROR(MATCH(MONTH(C225),$H$18:$H$19,0))=FALSE,$J$23,0)  + $J$23)","v":""},{"$f":"IF(B225=\"\",\"\",L225+M225)","v":""},{"$f":"IF(B225=\"\",\"\",K225+N225)","v":""},{"$f":"IF(B225=\"\",\"\",$J$27)","v":""},"",null,"",{"$f":"IF(B225=\"\",\"\",Q225+R225+S225)","v":""},{"$f":"IF(B225=\"\",\"\",$J$28)","v":""},"",{"$f":"IF(B225=\"\",\"\",(ROUND(J225-K225,2)))","v":""},{"$f":"IF(B225=\"\",\"\",IF(ROUND(ROUND(J225*(((1+(H225/100))^(I225/G225))-1),4),2) - $J$24<0,0,ROUND(ROUND(J225*(((1+(H225/100))^(I225/G225))-1),4),2) - $J$24))","v":""},null,{"$f":"SUM(K225:M225)","v":0},"",{"$f":"+Q225","v":""},0,"",{"$f":"IFERROR(AA225+K225 + P225 + U225+AB225 + M225 + AC225 + AD225,\"\")","v":""},0,"00:00:00",0,null,0,0,null,{"$error":"#VALUE!"},{"$f":"(1/((1+($J$8/100))^(AM225/$Q$9))*1) * IF(D225=\"D\",2,1)","v":{"$error":"#VALUE!"}},{"$error":"#VALUE!"},{"$error":"#VALUE!"},{"$f":"(((1+($J$8/100))^((K225)/$Q$9))-1)*AO225","v":{"$error":"#VALUE!"}},{"$f":"IF(D225=\"D\",$K$23,0)+ $K$23","v":0},{"$error":"#VALUE!"}]
["",{"$f":"IF(A226=\"\",\"\",IF(A226<=$H$22,0,1))","v":""},{"$f":"IF(B226=\"\",\"\",IF(OR(MONTH(EDATE($Q$6,E226))=$H$16,MONTH(EDATE($Q$6,E226))=$H$17),IF(ABS($H$17-$H$16)=1,EDATE($Q$6,E226+2),EDATE($Q$6,E226+1)),EDATE($Q$6,E226)))","v":""},"","","","",{"$f":"IF(B226=\"\",\"\",$H$10)","v":""},"","","","","","","","","",null,{"$f":"IF(B226=\"\",\"\",IF(E226-E225>1,ROUNDDOWN($J226*$H$9/30*(DATE(YEAR($C226),MONTH($C226)-1,DAY($C226))-C225),2),0))","v":""},"","",{"$f":"IF(B226=\"\",\"\",O226+P226+Q226+R226+S226+U226)","v":""},"","",null,0,{"$f":"+L226","v":""},"",0,"","",{"$f":"IFERROR(IF(D226=\"D\",$J$24*2,$J$24)+Q226,0)","v":0},"00:00:00",0,null,{"$f":"+IFERROR(AE226-V226,0)","v":0},{"$f":"+IFERROR(AA226-L226,0)","v":0},null,{"$f":"I226 + AM225","v":{"$error":"#VALUE!"}},{"$error":"#VALUE!"},{"$error":"#VALUE!"},{"$f":"AR226-AQ226","v":{"$error":"#VALUE!"}},{"$error":"#VALUE!"},0,{"$f":"AO226-AP226","v":{"$error":"#VALUE!"}}]
[{"$f":"+IF(A226>=$H$14,\"\",A226+1)","v":""},"","","",{"$f":"+IF(B227=\"\",\"\",IF(OR(MONTH(DATE(YEAR(C226)+0.0833333333333333,MONTH(C226)+1,DAY(C226)))=$H$16,MONTH(DATE(YEAR(C226)+0.5,MONTH(C226)+1,DAY(C226)))=$H$17),IF(ABS($H$17-$H$16)=1,E226+1,E226+2),E226+1))","v":""},{"$f":"+IF(B227=\"\",\"\",F226+1)","v":""},{"$f":"IF(B227=\"\",\"\",$Q$9)","v":""},"",{"$f":"IF(B227=\"\",\"\",C227-C226)","v":""},{"$f":"IF(B227=\"\",\"\",W226)","v":""},"","","","","","",{"$f":"IF(B227=\"\",\"\",ROUND($H$9*J227/30*$I227,2)-S227)","v":""},null,"","","","","","",null,0,"","",0,"","",0,"00:00:00",0,null,0,0,null,{"$error":"#VALUE!"},{"$error":"#VALUE!"},{"$f":"AS226","v":{"$error":"#VALUE!"}},{"$error":"#VALUE!"},{"$error":"#VALUE!"},0,{"$error":"#VALUE!"}]
["","","","","","","","","","","","","","","","","",null,"","","","","","",null,0,"","",0,"","",0,"00:00:00",0,null,0,0,null,{"$error":"#VALUE!"},{"$error":"#VALUE!"},{"$error":"#VALUE!"},{"$error":"#VALUE!"},{"$error":"#VALUE!"},0,{"$error":"#VALUE!"}]
["","","","","","","","","","","","","","","","","",null,"","","","","","",null,0,"","",0,"","",0,"00:00:00",0,null,0,0,null,{"$error":"#VALUE!"},{"$error":"#VALUE!"},{"$error":"#VALUE!"},{"$error":"#VALUE!"},{"$error":"#VALUE!"},0,{"$error":"#VALUE!"}]
["","","","","","","","","","","","","","","","","",null,"","","","","","",null,0,"","",0,"","",0,"00:00:00",0,null,0,0,null,{"$error":"#VALUE!"},{"$error":"#VALUE!"},{"$error":"#VALUE!"},{"$error":"#VALUE!"},{"$error":"#VALUE!"},0,{"$error":"#VALUE!"}]
["","","","","","","","","","","","","","","","","",null,"","","","","","",null,0,"","",0,"","",0,"00:00:00",0,null,0,0,null,{"$error":"#VALUE!"},{"$error":"#VALUE!"},{"$error":"#VALUE!"},{"$error":"#VALUE!"},{"$error":"#VALUE!"},0,{"$error":"#VALUE!"}]
["","","","","","","","","","","","","","","","","",null,"","","","","","",null,0,"","",0,"","",0,"00:00:00",0,null,0,0,null,{"$error":"#VALUE!"},{"$error":"#VALUE!"},{"$error":"#VALUE!"},{"$error":"#VALUE!"},{"$error":"#VALUE!"},0,{"$error":"#VALUE!"}]
["","","","","","","","","","","","","","","","","",null,"","","","","","",null,0,"","",0,"","",0,"00:00:00",0,null,0,0,null,{"$error":"#VALUE!"},{"$error":"#VALUE!"},{"$error":"#VALUE!"},{"$error":"#VALUE!"},{"$error":"#VALUE!"},0,{"$error":"#VALUE!"}]
["","","","","","","","","","","","","","","","","",null,"","","","","","",null,0,"","",0,"","",0,"00:00:00",0,null,0,0,null,{"$error":"#VALUE!"},{"$error":"#VALUE!"},{"$error":"#VALUE!"},{"$error":"#VALUE!"},{"$error":"#VALUE!"},0,{"$error":"#VALUE!"}]
["","","","","","","","","","","","","","","","","",null,"","","","","","",null,0,"","",0,"","",0,"00:00:00",0,null,0,0,null,{"$error":"#VALUE!"},{"$error":"#VALUE!"},{"$error":"#VALUE!"},{"$error":"#VALUE!"},{"$error":"#VALUE!"},0,{"$error":"#VALUE!"}]
["","","","","","","","","","","","","","","","","",null,"","","","","","",null,0,"","",0,"","",0,"00:00:00",0,null,0,0,null,{"$error":"#VALUE!"},{"$error":"#VALUE!"},{"$error":"#VALUE!"},{"$error":"#VALUE!"},{"$error":"#VALUE!"},0,{"$error":"#VALUE!"}]
["","","","","","","","","","","","","","","","","",null,"","","","","","",null,0,"","",0,"","",0,"00:00:00",0,null,0,0,null,{"$error":"#VALUE!"},{"$error":"#VALUE!"},{"$error":"#VALUE!"},{"$error":"#VALUE!"},{"$error":"#VALUE!"},0,{"$error":"#VALUE!"}]
["","","","","","","","","","","","","","","","","",null,"","","","","","",null,0,"","",0,"","",0,{"$f":"+IF(C238=\"\",0,C238)","v":"00:00:00"},{"$f":"+IF(AE238=\"\",0,AE238)","v":0},null,0,0,null,{"$error":"#VALUE!"},{"$error":"#VALUE!"},{"$error":"#VALUE!"},{"$error":"#VALUE!"},{"$error":"#VALUE!"},0,{"$error":"#VALUE!"}]
["","","","","","","","","","","","","","","","","",null,"","","","","","",null,0,"","",0,"","",0,"00:00:00",0,null,0,0,null,{"$error":"#VALUE!"},{"$error":"#VALUE!"},{"$error":"#VALUE!"},{"$error":"#VALUE!"},{"$error":"#VALUE!"},0,{"$error":"#VALUE!"}]
["","","","","","","","","","","","","","","","","",null,"","","","","","",null,0,"","",0,"","",0,"00:00:00",0,null,0,0,null,{"$error":"#VALUE!"},{"$error":"#VALUE!"},{"$error":"#VALUE!"},{"$error":"#VALUE!"},{"$error":"#VALUE!"},0,{"$error":"#VALUE!"}]
["","","","","","","","","","","","","","","","","",null,"","","","","","",null,0,"","",0,"","",0,"00:00:00",0,null,0,0,null,{"$error":"#VALUE!"},{"$error":"#VALUE!"},{"$error":"#VALUE!"},{"$error":"#VALUE!"},{"$error":"#VALUE!"},0,{"$error":"#VALUE!"}]
["","","","","","","","","","","","","","","","","",null,"","","","","","",null,0,"","",0,"","",0,"00:00:00",0,null,0,0,null,{"$error":"#VALUE!"},{"$error":"#VALUE!"},{"$error":"#VALUE!"},{"$error":"#VALUE!"},{"$error":"#VALUE!"},0,{"$error":"#VALUE!"}]
["","","","","","","","","","","","","","","","","",null,"","","","","","",null,0,"","",0,"","",0,"00:00:00",0,null,0,0,null,{"$error":"#VALUE!"},{"$error":"#VALUE!"},{"$error":"#VALUE!"},{"$error":"#VALUE!"},{"$error":"#VALUE!"},0,{"$error":"#VALUE!"}]
["","","","","","","","","","","","","","","","","",null,"","","","","","",null,0,"","",0,"","",0,"00:00:00",0,null,0,0,null,{"$error":"#VALUE!"},{"$error":"#VALUE!"},{"$error":"#VALUE!"},{"$error":"#VALUE!"},{"$error":"#VALUE!"},0,{"$error":"#VALUE!"}]
["","","","","","","","","","","","","","","","","",null,"","","","","","",null,0,"","",0,"","",0,"00:00:00",0,null,0,0,null,{"$error":"#VALUE!"},{"$error":"#VALUE!"},{"$error":"#VALUE!"},{"$error":"#VALUE!"},{"$error":"#VALUE!"},0,{"$error":"#VALUE!"}]
["","","","","","","","","","","","","","","","","",null,"","","","","","",null,0,"","",0,"","",0,"00:00:00",0,null,0,0,null,{"$error":"#VALUE!"},{"$error":"#VALUE!"},{"$error":"#VALUE!"},{"$error":"#VALUE!"},{"$error":"#VALUE!"},0,{"$error":"#VALUE!"}]
["","","","","","","","","","","","","","","","","",null,"","","","","","",null,0,"","",0,"","",0,"00:00:00",0,null,0,0,null,{"$error":"#VALUE!"},{"$error":"#VALUE!"},{"$error":"#VALUE!"},{"$error":"#VALUE!"},{"$error":"#VALUE!"},0,{"$error":"#VALUE!"}]
["","","","","","","","","","","","","","","","","",null,"","","","","","",null,0,"","",0,"","",0,"00:00:00",0,null,0,0,null,{"$error":"#VALUE!"},{"$error":"#VALUE!"},{"$error":"#VALUE!"},{"$error":"#VALUE!"},{"$error":"#VALUE!"},0,{"$error":"#VALUE!"}]
["","","","","","","","","","","","","","","","","",null,"","","","","","",null,0,"","",0,"","",0,"00:00:00",0,null,0,0,null,{"$error":"#VALUE!"},{"$error":"#VALUE!"},{"$error":"#VALUE!"},{"$error":"#VALUE!"},{"$error":"#VALUE!"},0,{"$error":"#VALUE!"}]
["","","","","","","","","","","","","","","","","",null,"","","","","","",null,0,"","",0,"","",0,"00:00:00",0,null,0,0,null,{"$error":"#VALUE!"},{"$error":"#VALUE!"},{"$error":"#VALUE!"},{"$error":"#VALUE!"},{"$error":"#VALUE!"},0,{"$error":"#VALUE!"}]
["","","","","","","","","","","","","","","","","",null,"","","","","","",null,0,"","",0,"","",0,"00:00:00",0,null,0,0,null,{"$error":"#VALUE!"},{"$error":"#VALUE!"},{"$error":"#VALUE!"},{"$error":"#VALUE!"},{"$error":"#VALUE!"},0,{"$error":"#VALUE!"}]
["","","","","","","","","","","","","","","","","",null,"","","","","","",null,0,"","",0,"","",0,"00:00:00",0,null,0,0,null,{"$error":"#VALUE!"},{"$error":"#VALUE!"},{"$error":"#VALUE!"},{"$error":"#VALUE!"},{"$error":"#VALUE!"},0,{"$error":"#VALUE!"}]
["","","","","","","","","","","","","","","","","",null,"","","","","","",null,0,"","",0,"","",0,"00:00:00",0,null,0,0,null,{"$error":"#VALUE!"},{"$error":"#VALUE!"},{"$error":"#VALUE!"},{"$error":"#VALUE!"},{"$error":"#VALUE!"},0,{"$error":"#VALUE!"}]
["","","","","","","","","","","","","","","","","",null,"","","","","","",null,0,"","",0,"","",0,"00:00:00",0,null,0,0,null,{"$error":"#VALUE!"},{"$error":"#VALUE!"},{"$error":"#VALUE!"},{"$error":"#VALUE!"},{"$error":"#VALUE!"},0,{"$error":"#VALUE!"}]
["","","","","","","","","","","","","","","","","",null,"","","","","","",null,0,"","",0,"","",0,"00:00:00",0,null,0,0,null,{"$error":"#VALUE!"},{"$error":"#VALUE!"},{"$error":"#VALUE!"},{"$error":"#VALUE!"},{"$error":"#VALUE!"},0,{"$error":"#VALUE!"}]
["","","","","","","","","","","","","","","","","",null,"","","","","","",null,0,"","",0,"","",0,"00:00:00",0,null,0,0,null,{"$error":"#VALUE!"},{"$error":"#VALUE!"},{"$error":"#VALUE!"},{"$error":"#VALUE!"},{"$error":"#VALUE!"},0,{"$error":"#VALUE!"}]
["","","","","","","","","","","","","","","","","",null,"","","","","","",null,0,"","",0,"","",0,"00:00:00",0,null,0,0,null,{"$error":"#VALUE!"},{"$error":"#VALUE!"},{"$error":"#VALUE!"},{"$error":"#VALUE!"},{"$error":"#VALUE!"},0,{"$error":"#VALUE!"}]
["","","","","","","","","","","","","","","","","",null,"","","","","","",null,0,"","",0,"","",0,"00:00:00",0,null,0,0,null,{"$error":"#VALUE!"},{"$error":"#VALUE!"},{"$error":"#VALUE!"},{"$error":"#VALUE!"},{"$error":"#VALUE!"},0,{"$error":"#VALUE!"}]
["","","","","","","","","","","","","","","","","",null,"","","","","","",null,0,"","",0,"","",0,"00:00:00",0,null,0,0,null,{"$error":"#VALUE!"},{"$error":"#VALUE!"},{"$error":"#VALUE!"},{"$error":"#VALUE!"},{"$error":"#VALUE!"},0,{"$error":"#VALUE!"}]
["","","","","","","","","","","","","","","","","",null,"","","","","","",null,0,"","",0,"","",0,"00:00:00",0,null,0,0,null,{"$error":"#VALUE!"},{"$error":"#VALUE!"},{"$error":"#VALUE!"},{"$error":"#VALUE!"},{"$error":"#VALUE!"},0,{"$error":"#VALUE!"}]
["","","","","","","","","","","","","","","","","",null,"","","","","","",null,0,"","",0,"","",0,"00:00:00",0,null,0,0,null,{"$error":"#VALUE!"},{"$error":"#VALUE!"},{"$error":"#VALUE!"},{"$error":"#VALUE!"},{"$error":"#VALUE!"},0,{"$error":"#VALUE!"}]
["","","","","","","","","","","","","","","","","",null,"","","","","","",null,0,"","",0,"","",0,"00:00:00",0,null,0,0,null,{"$error":"#VALUE!"},{"$error":"#VALUE!"},{"$error":"#VALUE!"},{"$error":"#VALUE!"},{"$error":"#VALUE!"},0,{"$error":"#VALUE!"}]
["","","","","","","","","","","","","","","","","",null,"","","","","","",null,0,"","",0,"","",0,"00:00:00",0,null,0,0,null,{"$error":"#VALUE!"},{"$error":"#VALUE!"},{"$error":"#VALUE!"},{"$error":"#VALUE!"},{"$error":"#VALUE!"},0,{"$error":"#VALUE!"}]
["","","","","","","","","","","","","","","","","",null,"","","","","","",null,0,"","",0,"","",0,"00:00:00",0,null,0,0,null,{"$error":"#VALUE!"},{"$error":"#VALUE!"},{"$error":"#VALUE!"},{"$error":"#VALUE!"},{"$error":"#VALUE!"},0,{"$error":"#VALUE!"}]
["","","","","","","","","","","","","","","","","",null,"","","","","","",null,0,"","",0,"","",0,"00:00:00",0,null,0,0,null,{"$error":"#VALUE!"},{"$error":"#VALUE!"},{"$error":"#VALUE!"},{"$error":"#VALUE!"},{"$error":"#VALUE!"},0,{"$error":"#VALUE!"}]
["","","","","","","","","","","","","","","","","",null,"","","","","","",null,0,"","",0,"","",0,"00:00:00",0,null,0,0,null,{"$error":"#VALUE!"},{"$error":"#VALUE!"},{"$error":"#VALUE!"},{"$error":"#VALUE!"},{"$error":"#VALUE!"},0,{"$error":"#VALUE!"}]
["","","","","","","","","","","","","","","","","",null,"","","","","","",null,0,"","",0,"","",0,"00:00:00",0,null,0,0,null,{"$error":"#VALUE!"},{"$error":"#VALUE!"},{"$error":"#VALUE!"},{"$error":"#VALUE!"},{"$error":"#VALUE!"},0,{"$error":"#VALUE!"}]
["","","","","","","","","","","","","","","","","",null,"","","","","","",null,0,"","",0,"","",0,"00:00:00",0,null,0,0,null,{"$error":"#VALUE!"},{"$error":"#VALUE!"},{"$error":"#VALUE!"},{"$error":"#VALUE!"},{"$error":"#VALUE!"},0,{"$error":"#VALUE!"}]
["","","","","","","","","","","","","","","","","",null,"","","","","","",null,0,"","",0,"","",0,"00:00:00",0,null,0,0,null,{"$error":"#VALUE!"},{"$error":"#VALUE!"},{"$error":"#VALUE!"},{"$error":"#VALUE!"},{"$error":"#VALUE!"},0,{"$error":"#VALUE!"}]
["","","","","","","","","","","","","","","","","",null,"","","","","","",null,0,"","",0,"","",0,"00:00:00",0,null,0,0,null,{"$error":"#VALUE!"},{"$error":"#VALUE!"},{"$error":"#VALUE!"},{"$error":"#VALUE!"},{"$error":"#VALUE!"},0,{"$error":"#VALUE!"}]
["","","","","","","","","","","","","","","","","",null,"","","","","","",null,0,"","",0,"","",0,"00:00:00",0,null,0,0,null,{"$error":"#VALUE!"},{"$error":"#VALUE!"},{"$error":"#VALUE!"},{"$error":"#VALUE!"},{"$error":"#VALUE!"},0,{"$error":"#VALUE!"}]
["","","","","","","","","","","","","","","","","",null,"","","","","","",null,0,"","",0,"","",0,"00:00:00",0,null,0,0,null,{"$error":"#VALUE!"},{"$error":"#VALUE!"},{"$error":"#VALUE!"},{"$error":"#VALUE!"},{"$error":"#VALUE!"},0,{"$error":"#VALUE!"}]
[]
[null,null,"Totales",null,null,null,null,null,null,null,{"$f":"+SUM(K33:K272)","v":50000.000000000036},{"$f":"+SUM(L33:L272)","v":11285.640000000001},{"$f":"+SUM(M33:M272)","v":0},{"$f":"+SUM(N33:N272)","v":11285.640000000001},61285.639999999985,0,0,0,0,0,0,61285.639999999985,null,{"$f":"+SUM(X33:X272)","v":0},0,61285.639999999985,11285.640000000001,0,null,null,{"$f":"+SUM(AE33:AE272)","v":61285.639999999985},null,null,null,null,{"$f":"+AE274-V274","v":0},{"$f":"+AA274-L274","v":0}]
[null,null,"Validador"]

{"sheet":"Calculos PLD","index":4,"n_rows":386,"n_cols":7,"rows_kept":386,"cut":false,"hidden":true,"merged":[[0,0,0,6]]}
["Factores utilizados en Meses de No Pago para cálculo del valor cuota"]
[]
["N° de Cuota","Equivalente","Fecha","Mes","Marca Cuota No Pago","Factor (10)","Acumulado"]
[1,{"$f":"IF(E4<>\"C\",IF(ISERROR(1+B3)=TRUE,1,1+B3),IF(ISNUMBER(B3),B3,1))","v":1},{"$f":"Simulador!Q7","v":"2025-07-10"},{"$f":"MONTH(C4)","v":7},{"$f":"IF(ISERROR(MATCH(D4,Simulador!$H$16:$H$17,0))=FALSE,\"C\",IF(ISERROR(MATCH(D4,Simulador!$H$18:$H$19,0))=FALSE,\"D\",\"\"))","v":""},{"$f":"IF(E4=\"C\",0,IF(E4 =\"D\",ROUND(1/((1+Simulador!$Q$13)^A4),9) * 2,ROUND(1/((1+Simulador!$Q$13)^A4),9)))","v":0.99144268000000002},{"$f":"ROUND(F4,9)","v":0.99144268000000002}]
[{"$f":"A4+1","v":2},{"$f":"IF(E5<>\"C\",IF(ISERROR(1+B4)=TRUE,1,1+B4),IF(ISNUMBER(B4),B4,1))","v":2},{"$f":"DATE(YEAR(C4) + 1/12,MONTH(C4)+1,DAY(C4))","v":"2025-08-10"},8,{"$f":"IF(ISERROR(MATCH(D5,Simulador!$H$16:$H$17,0))=FALSE,\"C\",IF(ISERROR(MATCH(D5,Simulador!$H$18:$H$19,0))=FALSE,\"D\",\"\"))","v":""},{"$f":"IF(E5=\"C\",0,IF(E5 =\"D\",ROUND(1/((1+Simulador!$Q$13)^A5),9) * 2,ROUND(1/((1+Simulador!$Q$13)^A5),9)))","v":0.98295858700000005},{"$f":"G4+ROUND(F5,9)","v":1.9744012670000002}]
[3,3,"2025-09-10",9,{"$f":"IF(ISERROR(MATCH(D6,Simulador!$H$16:$H$17,0))=FALSE,\"C\",IF(ISERROR(MATCH(D6,Simulador!$H$18:$H$19,0))=FALSE,\"D\",\"\"))","v":""},{"$f":"IF(E6=\"C\",0,IF(E6 =\"D\",ROUND(1/((1+Simulador!$Q$13)^A6),9) * 2,ROUND(1/((1+Simulador!$Q$13)^A6),9)))","v":0.974547096},{"$f":"G5+ROUND(F6,9)","v":2.9489483630000004}]
[4,4,"2025-10-10",10,{"$f":"IF(ISERROR(MATCH(D7,Simulador!$H$16:$H$17,0))=FALSE,\"C\",IF(ISERROR(MATCH(D7,Simulador!$H$18:$H$19,0))=FALSE,\"D\",\"\"))","v":""},{"$f":"IF(E7=\"C\",0,IF(E7 =\"D\",ROUND(1/((1+Simulador!$Q$13)^A7),9) * 2,ROUND(1/((1+Simulador!$Q$13)^A7),9)))","v":0.96620758399999995},3.9151559470000006]
[5,5,"2025-11-10",11,{"$f":"IF(ISERROR(MATCH(D8,Simulador!$H$16:$H$17,0))=FALSE,\"C\",IF(ISERROR(MATCH(D8,Simulador!$H$18:$H$19,0))=FALSE,\"D\",\"\"))","v":""},{"$f":"IF(E8=\"C\",0,IF(E8 =\"D\",ROUND(1/((1+Simulador!$Q$13)^A8),9) * 2,ROUND(1/((1+Simulador!$Q$13)^A8),9)))","v":0.95793943699999995},4.8730953840000009]
[6,6,"2025-12-10",12,{"$f":"IF(ISERROR(MATCH(D9,Simulador!$H$16:$H$17,0))=FALSE,\"C\",IF(ISERROR(MATCH(D9,Simulador!$H$18:$H$19,0))=FALSE,\"D\",\"\"))","v":""},{"$f":"IF(E9=\"C\",0,IF(E9 =\"D\",ROUND(1/((1+Simulador!$Q$13)^A9),9) * 2,ROUND(1/((1+Simulador!$Q$13)^A9),9)))","v":0.94974204200000001},5.8228374260000013]
[7,7,"2026-01-10",1,{"$f":"IF(ISERROR(MATCH(D10,Simulador!$H$16:$H$17,0))=FALSE,\"C\",IF(ISERROR(MATCH(D10,Simulador!$H$18:$H$19,0))=FALSE,\"D\",\"\"))","v":""},{"$f":"IF(E10=\"C\",0,IF(E10 =\"D\",ROUND(1/((1+Simulador!$Q$13)^A10),9) * 2,ROUND(1/((1+Simulador!$Q$13)^A10),9)))","v":0.941614795},6.7644522210000009]
[8,8,"2026-02-10",2,{"$f":"IF(ISERROR(MATCH(D11,Simulador!$H$16:$H$17,0))=FALSE,\"C\",IF(ISERROR(MATCH(D11,Simulador!$H$18:$H$19,0))=FALSE,\"D\",\"\"))","v":""},{"$f":"IF(E11=\"C\",0,IF(E11 =\"D\",ROUND(1/((1+Simulador!$Q$13)^A11),9) * 2,ROUND(1/((1+Simulador!$Q$13)^A11),9)))","v":0.93355709600000003},7.6980093170000012]
[9,9,"2026-03-10",3,{"$f":"IF(ISERROR(MATCH(D12,Simulador!$H$16:$H$17,0))=FALSE,\"C\",IF(ISERROR(MATCH(D12,Simulador!$H$18:$H$19,0))=FALSE,\"D\",\"\"))","v":""},{"$f":"IF(E12=\"C\",0,IF(E12 =\"D\",ROUND(1/((1+Simulador!$Q$13)^A12),9) * 2,ROUND(1/((1+Simulador!$Q$13)^A12),9)))","v":0.92556834899999996},8.623577666000001]
[10,10,"2026-04-10",4,{"$f":"IF(ISERROR(MATCH(D13,Simulador!$H$16:$H$17,0))=FALSE,\"C\",IF(ISERROR(MATCH(D13,Simulador!$H$18:$H$19,0))=FALSE,\"D\",\"\"))","v":""},{"$f":"IF(E13=\"C\",0,IF(E13 =\"D\",ROUND(1/((1+Simulador!$Q$13)^A13),9) * 2,ROUND(1/((1+Simulador!$Q$13)^A13),9)))","v":0.91764796400000004},9.5412256300000013]
[11,11,"2026-05-10",5,{"$f":"IF(ISERROR(MATCH(D14,Simulador!$H$16:$H$17,0))=FALSE,\"C\",IF(ISERROR(MATCH(D14,Simulador!$H$18:$H$19,0))=FALSE,\"D\",\"\"))","v":""},{"$f":"IF(E14=\"C\",0,IF(E14 =\"D\",ROUND(1/((1+Simulador!$Q$13)^A14),9) * 2,ROUND(1/((1+Simulador!$Q$13)^A14),9)))","v":0.90979535700000003},10.451020987000001]
[12,12,"2026-06-10",6,{"$f":"IF(ISERROR(MATCH(D15,Simulador!$H$16:$H$17,0))=FALSE,\"C\",IF(ISERROR(MATCH(D15,Simulador!$H$18:$H$19,0))=FALSE,\"D\",\"\"))","v":""},{"$f":"IF(E15=\"C\",0,IF(E15 =\"D\",ROUND(1/((1+Simulador!$Q$13)^A15),9) * 2,ROUND(1/((1+Simulador!$Q$13)^A15),9)))","v":0.90200994599999995},11.353030933000001]
[13,13,"2026-07-10",7,{"$f":"IF(ISERROR(MATCH(D16,Simulador!$H$16:$H$17,0))=FALSE,\"C\",IF(ISERROR(MATCH(D16,Simulador!$H$18:$H$19,0))=FALSE,\"D\",\"\"))","v":""},{"$f":"IF(E16=\"C\",0,IF(E16 =\"D\",ROUND(1/((1+Simulador!$Q$13)^A16),9) * 2,ROUND(1/((1+Simulador!$Q$13)^A16),9)))","v":0.894291159},12.247322092000001]
[14,14,"2026-08-10",8,{"$f":"IF(ISERROR(MATCH(D17,Simulador!$H$16:$H$17,0))=FALSE,\"C\",IF(ISERROR(MATCH(D17,Simulador!$H$18:$H$19,0))=FALSE,\"D\",\"\"))","v":""},{"$f":"IF(E17=\"C\",0,IF(E17 =\"D\",ROUND(1/((1+Simulador!$Q$13)^A17),9) * 2,ROUND(1/((1+Simulador!$Q$13)^A17),9)))","v":0.88663842299999995},13.133960515000002]
[15,15,"2026-09-10",9,{"$f":"IF(ISERROR(MATCH(D18,Simulador!$H$16:$H$17,0))=FALSE,\"C\",IF(ISERROR(MATCH(D18,Simulador!$H$18:$H$19,0))=FALSE,\"D\",\"\"))","v":""},{"$f":"IF(E18=\"C\",0,IF(E18 =\"D\",ROUND(1/((1+Simulador!$Q$13)^A18),9) * 2,ROUND(1/((1+Simulador!$Q$13)^A18),9)))","v":0.87905117399999999},14.013011689000002]
[16,16,"2026-10-10",10,{"$f":"IF(ISERROR(MATCH(D19,Simulador!$H$16:$H$17,0))=FALSE,\"C\",IF(ISERROR(MATCH(D19,Simulador!$H$18:$H$19,0))=FALSE,\"D\",\"\"))","v":""},{"$f":"IF(E19=\"C\",0,IF(E19 =\"D\",ROUND(1/((1+Simulador!$Q$13)^A19),9) * 2,ROUND(1/((1+Simulador!$Q$13)^A19),9)))","v":0.87152885099999999},14.884540540000003]
[17,17,"2026-11-10",11,{"$f":"IF(ISERROR(MATCH(D20,Simulador!$H$16:$H$17,0))=FALSE,\"C\",IF(ISERROR(MATCH(D20,Simulador!$H$18:$H$19,0))=FALSE,\"D\",\"\"))","v":""},{"$f":"IF(E20=\"C\",0,IF(E20 =\"D\",ROUND(1/((1+Simulador!$Q$13)^A20),9) * 2,ROUND(1/((1+Simulador!$Q$13)^A20),9)))","v":0.86407089999999998},15.748611440000003]
[18,18,"2026-12-10",12,{"$f":"IF(ISERROR(MATCH(D21,Simulador!$H$16:$H$17,0))=FALSE,\"C\",IF(ISERROR(MATCH(D21,Simulador!$H$18:$H$19,0))=FALSE,\"D\",\"\"))","v":""},{"$f":"IF(E21=\"C\",0,IF(E21 =\"D\",ROUND(1/((1+Simulador!$Q$13)^A21),9) * 2,ROUND(1/((1+Simulador!$Q$13)^A21),9)))","v":0.856676769},16.605288209000005]
[19,19,"2027-01-10",1,{"$f":"IF(ISERROR(MATCH(D22,Simulador!$H$16:$H$17,0))=FALSE,\"C\",IF(ISERROR(MATCH(D22,Simulador!$H$18:$H$19,0))=FALSE,\"D\",\"\"))","v":""},{"$f":"IF(E22=\"C\",0,IF(E22 =\"D\",ROUND(1/((1+Simulador!$Q$13)^A22),9) * 2,ROUND(1/((1+Simulador!$Q$13)^A22),9)))","v":0.84934591100000001},17.454634120000005]
[20,20,"2027-02-10",2,{"$f":"IF(ISERROR(MATCH(D23,Simulador!$H$16:$H$17,0))=FALSE,\"C\",IF(ISERROR(MATCH(D23,Simulador!$H$18:$H$19,0))=FALSE,\"D\",\"\"))","v":""},{"$f":"IF(E23=\"C\",0,IF(E23 =\"D\",ROUND(1/((1+Simulador!$Q$13)^A23),9) * 2,ROUND(1/((1+Simulador!$Q$13)^A23),9)))","v":0.84207778600000005},18.296711906000006]
[21,21,"2027-03-10",3,{"$f":"IF(ISERROR(MATCH(D24,Simulador!$H$16:$H$17,0))=FALSE,\"C\",IF(ISERROR(MATCH(D24,Simulador!$H$18:$H$19,0))=FALSE,\"D\",\"\"))","v":""},{"$f":"IF(E24=\"C\",0,IF(E24 =\"D\",ROUND(1/((1+Simulador!$Q$13)^A24),9) * 2,ROUND(1/((1+Simulador!$Q$13)^A24),9)))","v":0.83487185699999999},19.131583763000005]
[22,22,"2027-04-10",4,{"$f":"IF(ISERROR(MATCH(D25,Simulador!$H$16:$H$17,0))=FALSE,\"C\",IF(ISERROR(MATCH(D25,Simulador!$H$18:$H$19,0))=FALSE,\"D\",\"\"))","v":""},{"$f":"IF(E25=\"C\",0,IF(E25 =\"D\",ROUND(1/((1+Simulador!$Q$13)^A25),9) * 2,ROUND(1/((1+Simulador!$Q$13)^A25),9)))","v":0.82772759100000004},19.959311354000004]
[23,23,"2027-05-10",5,{"$f":"IF(ISERROR(MATCH(D26,Simulador!$H$16:$H$17,0))=FALSE,\"C\",IF(ISERROR(MATCH(D26,Simulador!$H$18:$H$19,0))=FALSE,\"D\",\"\"))","v":""},{"$f":"IF(E26=\"C\",0,IF(E26 =\"D\",ROUND(1/((1+Simulador!$Q$13)^A26),9) * 2,ROUND(1/((1+Simulador!$Q$13)^A26),9)))","v":0.82064446099999999},20.779955815000005]
[24,24,"2027-06-10",6,{"$f":"IF(ISERROR(MATCH(D27,Simulador!$H$16:$H$17,0))=FALSE,\"C\",IF(ISERROR(MATCH(D27,Simulador!$H$18:$H$19,0))=FALSE,\"D\",\"\"))","v":""},{"$f":"IF(E27=\"C\",0,IF(E27 =\"D\",ROUND(1/((1+Simulador!$Q$13)^A27),9) * 2,ROUND(1/((1+Simulador!$Q$13)^A27),9)))","v":0.81362194399999999},21.593577759000006]
[25,25,"2027-07-10",7,{"$f":"IF(ISERROR(MATCH(D28,Simulador!$H$16:$H$17,0))=FALSE,\"C\",IF(ISERROR(MATCH(D28,Simulador!$H$18:$H$19,0))=FALSE,\"D\",\"\"))","v":""},{"$f":"IF(E28=\"C\",0,IF(E28 =\"D\",ROUND(1/((1+Simulador!$Q$13)^A28),9) * 2,ROUND(1/((1+Simulador!$Q$13)^A28),9)))","v":0.80665951999999996},22.400237279000006]
[26,26,"2027-08-10",8,{"$f":"IF(ISERROR(MATCH(D29,Simulador!$H$16:$H$17,0))=FALSE,\"C\",IF(ISERROR(MATCH(D29,Simulador!$H$18:$H$19,0))=FALSE,\"D\",\"\"))","v":""},{"$f":"IF(E29=\"C\",0,IF(E29 =\"D\",ROUND(1/((1+Simulador!$Q$13)^A29),9) * 2,ROUND(1/((1+Simulador!$Q$13)^A29),9)))","v":0.799756676},23.199993955000007]
[27,27,"2027-09-10",9,{"$f":"IF(ISERROR(MATCH(D30,Simulador!$H$16:$H$17,0))=FALSE,\"C\",IF(ISERROR(MATCH(D30,Simulador!$H$18:$H$19,0))=FALSE,\"D\",\"\"))","v":""},{"$f":"IF(E30=\"C\",0,IF(E30 =\"D\",ROUND(1/((1+Simulador!$Q$13)^A30),9) * 2,ROUND(1/((1+Simulador!$Q$13)^A30),9)))","v":0.79291290199999998},23.992906857000008]
[28,28,"2027-10-10",10,{"$f":"IF(ISERROR(MATCH(D31,Simulador!$H$16:$H$17,0))=FALSE,\"C\",IF(ISERROR(MATCH(D31,Simulador!$H$18:$H$19,0))=FALSE,\"D\",\"\"))","v":""},{"$f":"IF(E31=\"C\",0,IF(E31 =\"D\",ROUND(1/((1+Simulador!$Q$13)^A31),9) * 2,ROUND(1/((1+Simulador!$Q$13)^A31),9)))","v":0.78612769299999996},24.779034550000009]
[29,29,"2027-11-10",11,{"$f":"IF(ISERROR(MATCH(D32,Simulador!$H$16:$H$17,0))=FALSE,\"C\",IF(ISERROR(MATCH(D32,Simulador!$H$18:$H$19,0))=FALSE,\"D\",\"\"))","v":""},{"$f":"IF(E32=\"C\",0,IF(E32 =\"D\",ROUND(1/((1+Simulador!$Q$13)^A32),9) * 2,ROUND(1/((1+Simulador!$Q$13)^A32),9)))","v":0.77940054599999997},25.558435096000011]
[30,30,"2027-12-10",12,{"$f":"IF(ISERROR(MATCH(D33,Simulador!$H$16:$H$17,0))=FALSE,\"C\",IF(ISERROR(MATCH(D33,Simulador!$H$18:$H$19,0))=FALSE,\"D\",\"\"))","v":""},{"$f":"IF(E33=\"C\",0,IF(E33 =\"D\",ROUND(1/((1+Simulador!$Q$13)^A33),9) * 2,ROUND(1/((1+Simulador!$Q$13)^A33),9)))","v":0.77273096600000002},26.331166062000012]
[31,31,"2028-01-10",1,{"$f":"IF(ISERROR(MATCH(D34,Simulador!$H$16:$H$17,0))=FALSE,\"C\",IF(ISERROR(MATCH(D34,Simulador!$H$18:$H$19,0))=FALSE,\"D\",\"\"))","v":""},{"$f":"IF(E34=\"C\",0,IF(E34 =\"D\",ROUND(1/((1+Simulador!$Q$13)^A34),9) * 2,ROUND(1/((1+Simulador!$Q$13)^A34),9)))","v":0.76611845999999995},27.097284522000013]
[32,32,"2028-02-10",2,{"$f":"IF(ISERROR(MATCH(D35,Simulador!$H$16:$H$17,0))=FALSE,\"C\",IF(ISERROR(MATCH(D35,Simulador!$H$18:$H$19,0))=FALSE,\"D\",\"\"))","v":""},{"$f":"IF(E35=\"C\",0,IF(E35 =\"D\",ROUND(1/((1+Simulador!$Q$13)^A35),9) * 2,ROUND(1/((1+Simulador!$Q$13)^A35),9)))","v":0.75956253900000004},27.856847061000014]
[33,33,"2028-03-10",3,{"$f":"IF(ISERROR(MATCH(D36,Simulador!$H$16:$H$17,0))=FALSE,\"C\",IF(ISERROR(MATCH(D36,Simulador!$H$18:$H$19,0))=FALSE,\"D\",\"\"))","v":""},{"$f":"IF(E36=\"C\",0,IF(E36 =\"D\",ROUND(1/((1+Simulador!$Q$13)^A36),9) * 2,ROUND(1/((1+Simulador!$Q$13)^A36),9)))","v":0.75306271899999999},28.609909780000013]
[34,34,"2028-04-10",4,{"$f":"IF(ISERROR(MATCH(D37,Simulador!$H$16:$H$17,0))=FALSE,\"C\",IF(ISERROR(MATCH(D37,Simulador!$H$18:$H$19,0))=FALSE,\"D\",\"\"))","v":""},{"$f":"IF(E37=\"C\",0,IF(E37 =\"D\",ROUND(1/((1+Simulador!$Q$13)^A37),9) * 2,ROUND(1/((1+Simulador!$Q$13)^A37),9)))","v":0.74661851999999995},29.356528300000011]
[35,35,"2028-05-10",5,{"$f":"IF(ISERROR(MATCH(D38,Simulador!$H$16:$H$17,0))=FALSE,\"C\",IF(ISERROR(MATCH(D38,Simulador!$H$18:$H$19,0))=FALSE,\"D\",\"\"))","v":""},{"$f":"IF(E38=\"C\",0,IF(E38 =\"D\",ROUND(1/((1+Simulador!$Q$13)^A38),9) * 2,ROUND(1/((1+Simulador!$Q$13)^A38),9)))","v":0.74022946599999995},30.09675776600001]
[36,36,"2028-06-10",6,{"$f":"IF(ISERROR(MATCH(D39,Simulador!$H$16:$H$17,0))=FALSE,\"C\",IF(ISERROR(MATCH(D39,Simulador!$H$18:$H$19,0))=FALSE,\"D\",\"\"))","v":""},{"$f":"IF(E39=\"C\",0,IF(E39 =\"D\",ROUND(1/((1+Simulador!$Q$13)^A39),9) * 2,ROUND(1/((1+Simulador!$Q$13)^A39),9)))","v":0.73389508599999997},30.830652852000011]
[37,37,"2028-07-10",7,{"$f":"IF(ISERROR(MATCH(D40,Simulador!$H$16:$H$17,0))=FALSE,\"C\",IF(ISERROR(MATCH(D40,Simulador!$H$18:$H$19,0))=FALSE,\"D\",\"\"))","v":""},{"$f":"IF(E40=\"C\",0,IF(E40 =\"D\",ROUND(1/((1+Simulador!$Q$13)^A40),9) * 2,ROUND(1/((1+Simulador!$Q$13)^A40),9)))","v":0.72761491},31.55826776200001]
[38,38,"2028-08-10",8,{"$f":"IF(ISERROR(MATCH(D41,Simulador!$H$16:$H$17,0))=FALSE,\"C\",IF(ISERROR(MATCH(D41,Simulador!$H$18:$H$19,0))=FALSE,\"D\",\"\"))","v":""},{"$f":"IF(E41=\"C\",0,IF(E41 =\"D\",ROUND(1/((1+Simulador!$Q$13)^A41),9) * 2,ROUND(1/((1+Simulador!$Q$13)^A41),9)))","v":0.72138847699999997},32.279656239000012]
[39,39,"2028-09-10",9,{"$f":"IF(ISERROR(MATCH(D42,Simulador!$H$16:$H$17,0))=FALSE,\"C\",IF(ISERROR(MATCH(D42,Simulador!$H$18:$H$19,0))=FALSE,\"D\",\"\"))","v":""},{"$f":"IF(E42=\"C\",0,IF(E42 =\"D\",ROUND(1/((1+Simulador!$Q$13)^A42),9) * 2,ROUND(1/((1+Simulador!$Q$13)^A42),9)))","v":0.71521532399999999},32.994871563000011]
[40,40,"2028-10-10",10,{"$f":"IF(ISERROR(MATCH(D43,Simulador!$H$16:$H$17,0))=FALSE,\"C\",IF(ISERROR(MATCH(D43,Simulador!$H$18:$H$19,0))=FALSE,\"D\",\"\"))","v":""},{"$f":"IF(E43=\"C\",0,IF(E43 =\"D\",ROUND(1/((1+Simulador!$Q$13)^A43),9) * 2,ROUND(1/((1+Simulador!$Q$13)^A43),9)))","v":0.70909499799999998},33.703966561000009]
[41,41,"2028-11-10",11,{"$f":"IF(ISERROR(MATCH(D44,Simulador!$H$16:$H$17,0))=FALSE,\"C\",IF(ISERROR(MATCH(D44,Simulador!$H$18:$H$19,0))=FALSE,\"D\",\"\"))","v":""},{"$f":"IF(E44=\"C\",0,IF(E44 =\"D\",ROUND(1/((1+Simulador!$Q$13)^A44),9) * 2,ROUND(1/((1+Simulador!$Q$13)^A44),9)))","v":0.70302704500000002},34.406993606000007]
[42,42,"2028-12-10",12,{"$f":"IF(ISERROR(MATCH(D45,Simulador!$H$16:$H$17,0))=FALSE,\"C\",IF(ISERROR(MATCH(D45,Simulador!$H$18:$H$19,0))=FALSE,\"D\",\"\"))","v":""},{"$f":"IF(E45=\"C\",0,IF(E45 =\"D\",ROUND(1/((1+Simulador!$Q$13)^A45),9) * 2,ROUND(1/((1+Simulador!$Q$13)^A45),9)))","v":0.69701101700000001},35.104004623000009]
[43,43,"2029-01-10",1,{"$f":"IF(ISERROR(MATCH(D46,Simulador!$H$16:$H$17,0))=FALSE,\"C\",IF(ISERROR(MATCH(D46,Simulador!$H$18:$H$19,0))=FALSE,\"D\",\"\"))","v":""},{"$f":"IF(E46=\"C\",0,IF(E46 =\"D\",ROUND(1/((1+Simulador!$Q$13)^A46),9) * 2,ROUND(1/((1+Simulador!$Q$13)^A46),9)))","v":0.69104647100000005},35.795051094000009]
[44,44,"2029-02-10",2,{"$f":"IF(ISERROR(MATCH(D47,Simulador!$H$16:$H$17,0))=FALSE,\"C\",IF(ISERROR(MATCH(D47,Simulador!$H$18:$H$19,0))=FALSE,\"D\",\"\"))","v":""},{"$f":"IF(E47=\"C\",0,IF(E47 =\"D\",ROUND(1/((1+Simulador!$Q$13)^A47),9) * 2,ROUND(1/((1+Simulador!$Q$13)^A47),9)))","v":0.68513296499999998},36.48018405900001]
[45,45,"2029-03-10",3,{"$f":"IF(ISERROR(MATCH(D48,Simulador!$H$16:$H$17,0))=FALSE,\"C\",IF(ISERROR(MATCH(D48,Simulador!$H$18:$H$19,0))=FALSE,\"D\",\"\"))","v":""},{"$f":"IF(E48=\"C\",0,IF(E48 =\"D\",ROUND(1/((1+Simulador!$Q$13)^A48),9) * 2,ROUND(1/((1+Simulador!$Q$13)^A48),9)))","v":0.67927006300000004},37.159454122000007]
[46,46,"2029-04-10",4,{"$f":"IF(ISERROR(MATCH(D49,Simulador!$H$16:$H$17,0))=FALSE,\"C\",IF(ISERROR(MATCH(D49,Simulador!$H$18:$H$19,0))=FALSE,\"D\",\"\"))","v":""},{"$f":"IF(E49=\"C\",0,IF(E49 =\"D\",ROUND(1/((1+Simulador!$Q$13)^A49),9) * 2,ROUND(1/((1+Simulador!$Q$13)^A49),9)))","v":0.67345733100000005},37.832911453000008]
[47,47,"2029-05-10",5,{"$f":"IF(ISERROR(MATCH(D50,Simulador!$H$16:$H$17,0))=FALSE,\"C\",IF(ISERROR(MATCH(D50,Simulador!$H$18:$H$19,0))=FALSE,\"D\",\"\"))","v":""},{"$f":"IF(E50=\"C\",0,IF(E50 =\"D\",ROUND(1/((1+Simulador!$Q$13)^A50),9) * 2,ROUND(1/((1+Simulador!$Q$13)^A50),9)))","v":0.66769434100000002},38.500605794000009]
[48,48,"2029-06-10",6,{"$f":"IF(ISERROR(MATCH(D51,Simulador!$H$16:$H$17,0))=FALSE,\"C\",IF(ISERROR(MATCH(D51,Simulador!$H$18:$H$19,0))=FALSE,\"D\",\"\"))","v":""},{"$f":"IF(E51=\"C\",0,IF(E51 =\"D\",ROUND(1/((1+Simulador!$Q$13)^A51),9) * 2,ROUND(1/((1+Simulador!$Q$13)^A51),9)))","v":0.66198066700000002},39.162586461000011]
[49,49,"2029-07-10",7,{"$f":"IF(ISERROR(MATCH(D52,Simulador!$H$16:$H$17,0))=FALSE,\"C\",IF(ISERROR(MATCH(D52,Simulador!$H$18:$H$19,0))=FALSE,\"D\",\"\"))","v":""},{"$f":"IF(E52=\"C\",0,IF(E52 =\"D\",ROUND(1/((1+Simulador!$Q$13)^A52),9) * 2,ROUND(1/((1+Simulador!$Q$13)^A52),9)))","v":0.65631588600000001},39.818902347000012]
[50,50,"2029-08-10",8,{"$f":"IF(ISERROR(MATCH(D53,Simulador!$H$16:$H$17,0))=FALSE,\"C\",IF(ISERROR(MATCH(D53,Simulador!$H$18:$H$19,0))=FALSE,\"D\",\"\"))","v":""},{"$f":"IF(E53=\"C\",0,IF(E53 =\"D\",ROUND(1/((1+Simulador!$Q$13)^A53),9) * 2,ROUND(1/((1+Simulador!$Q$13)^A53),9)))","v":0.65069958100000003},40.46960192800001]
[51,51,"2029-09-10",9,{"$f":"IF(ISERROR(MATCH(D54,Simulador!$H$16:$H$17,0))=FALSE,\"C\",IF(ISERROR(MATCH(D54,Simulador!$H$18:$H$19,0))=FALSE,\"D\",\"\"))","v":""},{"$f":"IF(E54=\"C\",0,IF(E54 =\"D\",ROUND(1/((1+Simulador!$Q$13)^A54),9) * 2,ROUND(1/((1+Simulador!$Q$13)^A54),9)))","v":0.64513133700000003},41.114733265000012]
[52,52,"2029-10-10",10,{"$f":"IF(ISERROR(MATCH(D55,Simulador!$H$16:$H$17,0))=FALSE,\"C\",IF(ISERROR(MATCH(D55,Simulador!$H$18:$H$19,0))=FALSE,\"D\",\"\"))","v":""},{"$f":"IF(E55=\"C\",0,IF(E55 =\"D\",ROUND(1/((1+Simulador!$Q$13)^A55),9) * 2,ROUND(1/((1+Simulador!$Q$13)^A55),9)))","v":0.63961074100000004},41.754344006000011]
[53,53,"2029-11-10",11,{"$f":"IF(ISERROR(MATCH(D56,Simulador!$H$16:$H$17,0))=FALSE,\"C\",IF(ISERROR(MATCH(D56,Simulador!$H$18:$H$19,0))=FALSE,\"D\",\"\"))","v":""},{"$f":"IF(E56=\"C\",0,IF(E56 =\"D\",ROUND(1/((1+Simulador!$Q$13)^A56),9) * 2,ROUND(1/((1+Simulador!$Q$13)^A56),9)))","v":0.634137387},42.388481393000013]
[54,54,"2029-12-10",12,{"$f":"IF(ISERROR(MATCH(D57,Simulador!$H$16:$H$17,0))=FALSE,\"C\",IF(ISERROR(MATCH(D57,Simulador!$H$18:$H$19,0))=FALSE,\"D\",\"\"))","v":""},{"$f":"IF(E57=\"C\",0,IF(E57 =\"D\",ROUND(1/((1+Simulador!$Q$13)^A57),9) * 2,ROUND(1/((1+Simulador!$Q$13)^A57),9)))","v":0.62871087000000003},43.017192263000013]
[55,55,"2030-01-10",1,{"$f":"IF(ISERROR(MATCH(D58,Simulador!$H$16:$H$17,0))=FALSE,\"C\",IF(ISERROR(MATCH(D58,Simulador!$H$18:$H$19,0))=FALSE,\"D\",\"\"))","v":""},{"$f":"IF(E58=\"C\",0,IF(E58 =\"D\",ROUND(1/((1+Simulador!$Q$13)^A58),9) * 2,ROUND(1/((1+Simulador!$Q$13)^A58),9)))","v":0.62333079000000002},43.64052305300001]
[56,56,"2030-02-10",2,{"$f":"IF(ISERROR(MATCH(D59,Simulador!$H$16:$H$17,0))=FALSE,\"C\",IF(ISERROR(MATCH(D59,Simulador!$H$18:$H$19,0))=FALSE,\"D\",\"\"))","v":""},{"$f":"IF(E59=\"C\",0,IF(E59 =\"D\",ROUND(1/((1+Simulador!$Q$13)^A59),9) * 2,ROUND(1/((1+Simulador!$Q$13)^A59),9)))","v":0.61799674900000001},44.258519802000009]
[57,57,"2030-03-10",3,{"$f":"IF(ISERROR(MATCH(D60,Simulador!$H$16:$H$17,0))=FALSE,\"C\",IF(ISERROR(MATCH(D60,Simulador!$H$18:$H$19,0))=FALSE,\"D\",\"\"))","v":""},{"$f":"IF(E60=\"C\",0,IF(E60 =\"D\",ROUND(1/((1+Simulador!$Q$13)^A60),9) * 2,ROUND(1/((1+Simulador!$Q$13)^A60),9)))","v":0.61270835300000004},44.871228155000011]
[58,58,"2030-04-10",4,{"$f":"IF(ISERROR(MATCH(D61,Simulador!$H$16:$H$17,0))=FALSE,\"C\",IF(ISERROR(MATCH(D61,Simulador!$H$18:$H$19,0))=FALSE,\"D\",\"\"))","v":""},{"$f":"IF(E61=\"C\",0,IF(E61 =\"D\",ROUND(1/((1+Simulador!$Q$13)^A61),9) * 2,ROUND(1/((1+Simulador!$Q$13)^A61),9)))","v":0.60746521099999995},45.478693366000009]
[59,59,"2030-05-10",5,{"$f":"IF(ISERROR(MATCH(D62,Simulador!$H$16:$H$17,0))=FALSE,\"C\",IF(ISERROR(MATCH(D62,Simulador!$H$18:$H$19,0))=FALSE,\"D\",\"\"))","v":""},{"$f":"IF(E62=\"C\",0,IF(E62 =\"D\",ROUND(1/((1+Simulador!$Q$13)^A62),9) * 2,ROUND(1/((1+Simulador!$Q$13)^A62),9)))","v":0.602266937},46.080960303000012]
[60,60,"2030-06-10",6,{"$f":"IF(ISERROR(MATCH(D63,Simulador!$H$16:$H$17,0))=FALSE,\"C\",IF(ISERROR(MATCH(D63,Simulador!$H$18:$H$19,0))=FALSE,\"D\",\"\"))","v":""},{"$f":"IF(E63=\"C\",0,IF(E63 =\"D\",ROUND(1/((1+Simulador!$Q$13)^A63),9) * 2,ROUND(1/((1+Simulador!$Q$13)^A63),9)))","v":0.59711314599999998},46.67807344900001]
[61,61,"2030-07-10",7,{"$f":"IF(ISERROR(MATCH(D64,Simulador!$H$16:$H$17,0))=FALSE,\"C\",IF(ISERROR(MATCH(D64,Simulador!$H$18:$H$19,0))=FALSE,\"D\",\"\"))","v":""},{"$f":"IF(E64=\"C\",0,IF(E64 =\"D\",ROUND(1/((1+Simulador!$Q$13)^A64),9) * 2,ROUND(1/((1+Simulador!$Q$13)^A64),9)))","v":0.59200345799999998},47.270076907000011]
[62,62,"2030-08-10",8,{"$f":"IF(ISERROR(MATCH(D65,Simulador!$H$16:$H$17,0))=FALSE,\"C\",IF(ISERROR(MATCH(D65,Simulador!$H$18:$H$19,0))=FALSE,\"D\",\"\"))","v":""},{"$f":"IF(E65=\"C\",0,IF(E65 =\"D\",ROUND(1/((1+Simulador!$Q$13)^A65),9) * 2,ROUND(1/((1+Simulador!$Q$13)^A65),9)))","v":0.58693749399999995},47.857014401000008]
[63,63,"2030-09-10",9,{"$f":"IF(ISERROR(MATCH(D66,Simulador!$H$16:$H$17,0))=FALSE,\"C\",IF(ISERROR(MATCH(D66,Simulador!$H$18:$H$19,0))=FALSE,\"D\",\"\"))","v":""},{"$f":"IF(E66=\"C\",0,IF(E66 =\"D\",ROUND(1/((1+Simulador!$Q$13)^A66),9) * 2,ROUND(1/((1+Simulador!$Q$13)^A66),9)))","v":0.58191488199999997},48.438929283000007]
[64,64,"2030-10-10",10,{"$f":"IF(ISERROR(MATCH(D67,Simulador!$H$16:$H$17,0))=FALSE,\"C\",IF(ISERROR(MATCH(D67,Simulador!$H$18:$H$19,0))=FALSE,\"D\",\"\"))","v":""},{"$f":"IF(E67=\"C\",0,IF(E67 =\"D\",ROUND(1/((1+Simulador!$Q$13)^A67),9) * 2,ROUND(1/((1+Simulador!$Q$13)^A67),9)))","v":0.57693525000000001},49.015864533000006]
[65,65,"2030-11-10",{"$f":"MONTH(C68)","v":11},{"$f":"IF(ISERROR(MATCH(D68,Simulador!$H$16:$H$17,0))=FALSE,\"C\",IF(ISERROR(MATCH(D68,Simulador!$H$18:$H$19,0))=FALSE,\"D\",\"\"))","v":""},{"$f":"IF(E68=\"C\",0,IF(E68 =\"D\",ROUND(1/((1+Simulador!$Q$13)^A68),9) * 2,ROUND(1/((1+Simulador!$Q$13)^A68),9)))","v":0.57199823100000002},49.587862764000008]
[{"$f":"A68+1","v":66},{"$f":"IF(E69<>\"C\",IF(ISERROR(1+B68)=TRUE,1,1+B68),IF(ISNUMBER(B68),B68,1))","v":66},{"$f":"DATE(YEAR(C68) + 1/12,MONTH(C68)+1,DAY(C68))","v":"2030-12-10"},12,{"$f":"IF(ISERROR(MATCH(D69,Simulador!$H$16:$H$17,0))=FALSE,\"C\",IF(ISERROR(MATCH(D69,Simulador!$H$18:$H$19,0))=FALSE,\"D\",\"\"))","v":""},{"$f":"IF(E69=\"C\",0,IF(E69 =\"D\",ROUND(1/((1+Simulador!$Q$13)^A69),9) * 2,ROUND(1/((1+Simulador!$Q$13)^A69),9)))","v":0.56710345900000003},50.15496622300001]
[67,67,"2031-01-10",1,{"$f":"IF(ISERROR(MATCH(D70,Simulador!$H$16:$H$17,0))=FALSE,\"C\",IF(ISERROR(MATCH(D70,Simulador!$H$18:$H$19,0))=FALSE,\"D\",\"\"))","v":""},{"$f":"IF(E70=\"C\",0,IF(E70 =\"D\",ROUND(1/((1+Simulador!$Q$13)^A70),9) * 2,ROUND(1/((1+Simulador!$Q$13)^A70),9)))","v":0.56225057300000003},{"$f":"G69+ROUND(F70,9)","v":50.71721679600001}]
[68,68,"2031-02-10",2,{"$f":"IF(ISERROR(MATCH(D71,Simulador!$H$16:$H$17,0))=FALSE,\"C\",IF(ISERROR(MATCH(D71,Simulador!$H$18:$H$19,0))=FALSE,\"D\",\"\"))","v":""},{"$f":"IF(E71=\"C\",0,IF(E71 =\"D\",ROUND(1/((1+Simulador!$Q$13)^A71),9) * 2,ROUND(1/((1+Simulador!$Q$13)^A71),9)))","v":0.55743921500000004},51.274656011000012]
[69,69,"2031-03-10",3,{"$f":"IF(ISERROR(MATCH(D72,Simulador!$H$16:$H$17,0))=FALSE,\"C\",IF(ISERROR(MATCH(D72,Simulador!$H$18:$H$19,0))=FALSE,\"D\",\"\"))","v":""},{"$f":"IF(E72=\"C\",0,IF(E72 =\"D\",ROUND(1/((1+Simulador!$Q$13)^A72),9) * 2,ROUND(1/((1+Simulador!$Q$13)^A72),9)))","v":0.55266902900000003},51.827325040000012]
[70,70,"2031-04-10",4,{"$f":"IF(ISERROR(MATCH(D73,Simulador!$H$16:$H$17,0))=FALSE,\"C\",IF(ISERROR(MATCH(D73,Simulador!$H$18:$H$19,0))=FALSE,\"D\",\"\"))","v":""},{"$f":"IF(E73=\"C\",0,IF(E73 =\"D\",ROUND(1/((1+Simulador!$Q$13)^A73),9) * 2,ROUND(1/((1+Simulador!$Q$13)^A73),9)))","v":0.54793966299999997},52.375264703000013]
[71,71,"2031-05-10",5,{"$f":"IF(ISERROR(MATCH(D74,Simulador!$H$16:$H$17,0))=FALSE,\"C\",IF(ISERROR(MATCH(D74,Simulador!$H$18:$H$19,0))=FALSE,\"D\",\"\"))","v":""},{"$f":"IF(E74=\"C\",0,IF(E74 =\"D\",ROUND(1/((1+Simulador!$Q$13)^A74),9) * 2,ROUND(1/((1+Simulador!$Q$13)^A74),9)))","v":0.54325076800000005},52.918515471000013]
[72,72,"2031-06-10",6,{"$f":"IF(ISERROR(MATCH(D75,Simulador!$H$16:$H$17,0))=FALSE,\"C\",IF(ISERROR(MATCH(D75,Simulador!$H$18:$H$19,0))=FALSE,\"D\",\"\"))","v":""},{"$f":"IF(E75=\"C\",0,IF(E75 =\"D\",ROUND(1/((1+Simulador!$Q$13)^A75),9) * 2,ROUND(1/((1+Simulador!$Q$13)^A75),9)))","v":0.538601997},53.457117468000014]
[73,73,"2031-07-10",7,{"$f":"IF(ISERROR(MATCH(D76,Simulador!$H$16:$H$17,0))=FALSE,\"C\",IF(ISERROR(MATCH(D76,Simulador!$H$18:$H$19,0))=FALSE,\"D\",\"\"))","v":""},{"$f":"IF(E76=\"C\",0,IF(E76 =\"D\",ROUND(1/((1+Simulador!$Q$13)^A76),9) * 2,ROUND(1/((1+Simulador!$Q$13)^A76),9)))","v":0.53399300699999996},53.991110475000013]
[74,74,"2031-08-10",8,{"$f":"IF(ISERROR(MATCH(D77,Simulador!$H$16:$H$17,0))=FALSE,\"C\",IF(ISERROR(MATCH(D77,Simulador!$H$18:$H$19,0))=FALSE,\"D\",\"\"))","v":""},{"$f":"IF(E77=\"C\",0,IF(E77 =\"D\",ROUND(1/((1+Simulador!$Q$13)^A77),9) * 2,ROUND(1/((1+Simulador!$Q$13)^A77),9)))","v":0.52942345800000001},54.52053393300001]
[75,75,"2031-09-10",9,{"$f":"IF(ISERROR(MATCH(D78,Simulador!$H$16:$H$17,0))=FALSE,\"C\",IF(ISERROR(MATCH(D78,Simulador!$H$18:$H$19,0))=FALSE,\"D\",\"\"))","v":""},{"$f":"IF(E78=\"C\",0,IF(E78 =\"D\",ROUND(1/((1+Simulador!$Q$13)^A78),9) * 2,ROUND(1/((1+Simulador!$Q$13)^A78),9)))","v":0.52489301200000005},55.04542694500001]
[76,76,"2031-10-10",10,{"$f":"IF(ISERROR(MATCH(D79,Simulador!$H$16:$H$17,0))=FALSE,\"C\",IF(ISERROR(MATCH(D79,Simulador!$H$18:$H$19,0))=FALSE,\"D\",\"\"))","v":""},{"$f":"IF(E79=\"C\",0,IF(E79 =\"D\",ROUND(1/((1+Simulador!$Q$13)^A79),9) * 2,ROUND(1/((1+Simulador!$Q$13)^A79),9)))","v":0.52040133399999999},55.565828279000009]
[77,77,"2031-11-10",11,{"$f":"IF(ISERROR(MATCH(D80,Simulador!$H$16:$H$17,0))=FALSE,\"C\",IF(ISERROR(MATCH(D80,Simulador!$H$18:$H$19,0))=FALSE,\"D\",\"\"))","v":""},{"$f":"IF(E80=\"C\",0,IF(E80 =\"D\",ROUND(1/((1+Simulador!$Q$13)^A80),9) * 2,ROUND(1/((1+Simulador!$Q$13)^A80),9)))","v":0.515948093},56.081776372000007]
[78,78,"2031-12-10",12,{"$f":"IF(ISERROR(MATCH(D81,Simulador!$H$16:$H$17,0))=FALSE,\"C\",IF(ISERROR(MATCH(D81,Simulador!$H$18:$H$19,0))=FALSE,\"D\",\"\"))","v":""},{"$f":"IF(E81=\"C\",0,IF(E81 =\"D\",ROUND(1/((1+Simulador!$Q$13)^A81),9) * 2,ROUND(1/((1+Simulador!$Q$13)^A81),9)))","v":0.51153296000000004},56.593309332000004]
[79,79,"2032-01-10",1,{"$f":"IF(ISERROR(MATCH(D82,Simulador!$H$16:$H$17,0))=FALSE,\"C\",IF(ISERROR(MATCH(D82,Simulador!$H$18:$H$19,0))=FALSE,\"D\",\"\"))","v":""},{"$f":"IF(E82=\"C\",0,IF(E82 =\"D\",ROUND(1/((1+Simulador!$Q$13)^A82),9) * 2,ROUND(1/((1+Simulador!$Q$13)^A82),9)))","v":0.50715560900000001},57.100464941000006]
[80,80,"2032-02-10",2,{"$f":"IF(ISERROR(MATCH(D83,Simulador!$H$16:$H$17,0))=FALSE,\"C\",IF(ISERROR(MATCH(D83,Simulador!$H$18:$H$19,0))=FALSE,\"D\",\"\"))","v":""},{"$f":"IF(E83=\"C\",0,IF(E83 =\"D\",ROUND(1/((1+Simulador!$Q$13)^A83),9) * 2,ROUND(1/((1+Simulador!$Q$13)^A83),9)))","v":0.50281571599999997},57.603280657000006]
[81,81,"2032-03-10",3,{"$f":"IF(ISERROR(MATCH(D84,Simulador!$H$16:$H$17,0))=FALSE,\"C\",IF(ISERROR(MATCH(D84,Simulador!$H$18:$H$19,0))=FALSE,\"D\",\"\"))","v":""},{"$f":"IF(E84=\"C\",0,IF(E84 =\"D\",ROUND(1/((1+Simulador!$Q$13)^A84),9) * 2,ROUND(1/((1+Simulador!$Q$13)^A84),9)))","v":0.49851296099999998},58.101793618000009]
[82,82,"2032-04-10",4,{"$f":"IF(ISERROR(MATCH(D85,Simulador!$H$16:$H$17,0))=FALSE,\"C\",IF(ISERROR(MATCH(D85,Simulador!$H$18:$H$19,0))=FALSE,\"D\",\"\"))","v":""},{"$f":"IF(E85=\"C\",0,IF(E85 =\"D\",ROUND(1/((1+Simulador!$Q$13)^A85),9) * 2,ROUND(1/((1+Simulador!$Q$13)^A85),9)))","v":0.49424702599999998},58.596040644000006]
[83,83,"2032-05-10",5,{"$f":"IF(ISERROR(MATCH(D86,Simulador!$H$16:$H$17,0))=FALSE,\"C\",IF(ISERROR(MATCH(D86,Simulador!$H$18:$H$19,0))=FALSE,\"D\",\"\"))","v":""},{"$f":"IF(E86=\"C\",0,IF(E86 =\"D\",ROUND(1/((1+Simulador!$Q$13)^A86),9) * 2,ROUND(1/((1+Simulador!$Q$13)^A86),9)))","v":0.490017596},59.086058240000007]
[84,84,"2032-06-10",6,{"$f":"IF(ISERROR(MATCH(D87,Simulador!$H$16:$H$17,0))=FALSE,\"C\",IF(ISERROR(MATCH(D87,Simulador!$H$18:$H$19,0))=FALSE,\"D\",\"\"))","v":""},{"$f":"IF(E87=\"C\",0,IF(E87 =\"D\",ROUND(1/((1+Simulador!$Q$13)^A87),9) * 2,ROUND(1/((1+Simulador!$Q$13)^A87),9)))","v":0.48582435800000001},59.571882598000009]
[85,85,"2032-07-10",7,{"$f":"IF(ISERROR(MATCH(D88,Simulador!$H$16:$H$17,0))=FALSE,\"C\",IF(ISERROR(MATCH(D88,Simulador!$H$18:$H$19,0))=FALSE,\"D\",\"\"))","v":""},{"$f":"IF(E88=\"C\",0,IF(E88 =\"D\",ROUND(1/((1+Simulador!$Q$13)^A88),9) * 2,ROUND(1/((1+Simulador!$Q$13)^A88),9)))","v":0.48166700400000001},60.053549602000011]
[86,86,"2032-08-10",8,{"$f":"IF(ISERROR(MATCH(D89,Simulador!$H$16:$H$17,0))=FALSE,\"C\",IF(ISERROR(MATCH(D89,Simulador!$H$18:$H$19,0))=FALSE,\"D\",\"\"))","v":""},{"$f":"IF(E89=\"C\",0,IF(E89 =\"D\",ROUND(1/((1+Simulador!$Q$13)^A89),9) * 2,ROUND(1/((1+Simulador!$Q$13)^A89),9)))","v":0.47754522500000002},60.531094827000011]
[87,87,"2032-09-10",9,{"$f":"IF(ISERROR(MATCH(D90,Simulador!$H$16:$H$17,0))=FALSE,\"C\",IF(ISERROR(MATCH(D90,Simulador!$H$18:$H$19,0))=FALSE,\"D\",\"\"))","v":""},{"$f":"IF(E90=\"C\",0,IF(E90 =\"D\",ROUND(1/((1+Simulador!$Q$13)^A90),9) * 2,ROUND(1/((1+Simulador!$Q$13)^A90),9)))","v":0.473458718},61.004553545000014]
[88,88,"2032-10-10",10,{"$f":"IF(ISERROR(MATCH(D91,Simulador!$H$16:$H$17,0))=FALSE,\"C\",IF(ISERROR(MATCH(D91,Simulador!$H$18:$H$19,0))=FALSE,\"D\",\"\"))","v":""},{"$f":"IF(E91=\"C\",0,IF(E91 =\"D\",ROUND(1/((1+Simulador!$Q$13)^A91),9) * 2,ROUND(1/((1+Simulador!$Q$13)^A91),9)))","v":0.46940717999999998},61.473960725000012]
[89,89,"2032-11-10",11,{"$f":"IF(ISERROR(MATCH(D92,Simulador!$H$16:$H$17,0))=FALSE,\"C\",IF(ISERROR(MATCH(D92,Simulador!$H$18:$H$19,0))=FALSE,\"D\",\"\"))","v":""},{"$f":"IF(E92=\"C\",0,IF(E92 =\"D\",ROUND(1/((1+Simulador!$Q$13)^A92),9) * 2,ROUND(1/((1+Simulador!$Q$13)^A92),9)))","v":0.46539031199999997},61.939351037000009]
[90,90,"2032-12-10",12,{"$f":"IF(ISERROR(MATCH(D93,Simulador!$H$16:$H$17,0))=FALSE,\"C\",IF(ISERROR(MATCH(D93,Simulador!$H$18:$H$19,0))=FALSE,\"D\",\"\"))","v":""},{"$f":"IF(E93=\"C\",0,IF(E93 =\"D\",ROUND(1/((1+Simulador!$Q$13)^A93),9) * 2,ROUND(1/((1+Simulador!$Q$13)^A93),9)))","v":0.46140781800000003},62.400758855000007]
[91,91,"2033-01-10",1,{"$f":"IF(ISERROR(MATCH(D94,Simulador!$H$16:$H$17,0))=FALSE,\"C\",IF(ISERROR(MATCH(D94,Simulador!$H$18:$H$19,0))=FALSE,\"D\",\"\"))","v":""},{"$f":"IF(E94=\"C\",0,IF(E94 =\"D\",ROUND(1/((1+Simulador!$Q$13)^A94),9) * 2,ROUND(1/((1+Simulador!$Q$13)^A94),9)))","v":0.45745940400000001},62.858218259000004]
[92,92,"2033-02-10",2,{"$f":"IF(ISERROR(MATCH(D95,Simulador!$H$16:$H$17,0))=FALSE,\"C\",IF(ISERROR(MATCH(D95,Simulador!$H$18:$H$19,0))=FALSE,\"D\",\"\"))","v":""},{"$f":"IF(E95=\"C\",0,IF(E95 =\"D\",ROUND(1/((1+Simulador!$Q$13)^A95),9) * 2,ROUND(1/((1+Simulador!$Q$13)^A95),9)))","v":0.45354477700000001},63.311763036000002]
[93,93,"2033-03-10",3,{"$f":"IF(ISERROR(MATCH(D96,Simulador!$H$16:$H$17,0))=FALSE,\"C\",IF(ISERROR(MATCH(D96,Simulador!$H$18:$H$19,0))=FALSE,\"D\",\"\"))","v":""},{"$f":"IF(E96=\"C\",0,IF(E96 =\"D\",ROUND(1/((1+Simulador!$Q$13)^A96),9) * 2,ROUND(1/((1+Simulador!$Q$13)^A96),9)))","v":0.449663649},63.761426685000004]
[94,94,"2033-04-10",4,{"$f":"IF(ISERROR(MATCH(D97,Simulador!$H$16:$H$17,0))=FALSE,\"C\",IF(ISERROR(MATCH(D97,Simulador!$H$18:$H$19,0))=FALSE,\"D\",\"\"))","v":""},{"$f":"IF(E97=\"C\",0,IF(E97 =\"D\",ROUND(1/((1+Simulador!$Q$13)^A97),9) * 2,ROUND(1/((1+Simulador!$Q$13)^A97),9)))","v":0.44581573299999999},64.207242418000007]
[95,95,"2033-05-10",5,{"$f":"IF(ISERROR(MATCH(D98,Simulador!$H$16:$H$17,0))=FALSE,\"C\",IF(ISERROR(MATCH(D98,Simulador!$H$18:$H$19,0))=FALSE,\"D\",\"\"))","v":""},{"$f":"IF(E98=\"C\",0,IF(E98 =\"D\",ROUND(1/((1+Simulador!$Q$13)^A98),9) * 2,ROUND(1/((1+Simulador!$Q$13)^A98),9)))","v":0.44200074499999997},64.649243163000008]
[96,96,"2033-06-10",6,{"$f":"IF(ISERROR(MATCH(D99,Simulador!$H$16:$H$17,0))=FALSE,\"C\",IF(ISERROR(MATCH(D99,Simulador!$H$18:$H$19,0))=FALSE,\"D\",\"\"))","v":""},{"$f":"IF(E99=\"C\",0,IF(E99 =\"D\",ROUND(1/((1+Simulador!$Q$13)^A99),9) * 2,ROUND(1/((1+Simulador!$Q$13)^A99),9)))","v":0.43821840299999998},65.087461566000002]
[97,97,"2033-07-10",7,{"$f":"IF(ISERROR(MATCH(D100,Simulador!$H$16:$H$17,0))=FALSE,\"C\",IF(ISERROR(MATCH(D100,Simulador!$H$18:$H$19,0))=FALSE,\"D\",\"\"))","v":""},{"$f":"IF(E100=\"C\",0,IF(E100 =\"D\",ROUND(1/((1+Simulador!$Q$13)^A100),9) * 2,ROUND(1/((1+Simulador!$Q$13)^A100),9)))","v":0.43446842800000002},65.521929994000004]
[98,98,"2033-08-10",8,{"$f":"IF(ISERROR(MATCH(D101,Simulador!$H$16:$H$17,0))=FALSE,\"C\",IF(ISERROR(MATCH(D101,Simulador!$H$18:$H$19,0))=FALSE,\"D\",\"\"))","v":""},{"$f":"IF(E101=\"C\",0,IF(E101 =\"D\",ROUND(1/((1+Simulador!$Q$13)^A101),9) * 2,ROUND(1/((1+Simulador!$Q$13)^A101),9)))","v":0.43075054299999999},65.952680537000006]
[99,99,"2033-09-10",9,{"$f":"IF(ISERROR(MATCH(D102,Simulador!$H$16:$H$17,0))=FALSE,\"C\",IF(ISERROR(MATCH(D102,Simulador!$H$18:$H$19,0))=FALSE,\"D\",\"\"))","v":""},{"$f":"IF(E102=\"C\",0,IF(E102 =\"D\",ROUND(1/((1+Simulador!$Q$13)^A102),9) * 2,ROUND(1/((1+Simulador!$Q$13)^A102),9)))","v":0.42706447199999997},66.379745009000004]
[100,100,"2033-10-10",10,{"$f":"IF(ISERROR(MATCH(D103,Simulador!$H$16:$H$17,0))=FALSE,\"C\",IF(ISERROR(MATCH(D103,Simulador!$H$18:$H$19,0))=FALSE,\"D\",\"\"))","v":""},{"$f":"IF(E103=\"C\",0,IF(E103 =\"D\",ROUND(1/((1+Simulador!$Q$13)^A103),9) * 2,ROUND(1/((1+Simulador!$Q$13)^A103),9)))","v":0.42340994500000001},66.803154954000007]
[101,101,"2033-11-10",11,{"$f":"IF(ISERROR(MATCH(D104,Simulador!$H$16:$H$17,0))=FALSE,\"C\",IF(ISERROR(MATCH(D104,Simulador!$H$18:$H$19,0))=FALSE,\"D\",\"\"))","v":""},{"$f":"IF(E104=\"C\",0,IF(E104 =\"D\",ROUND(1/((1+Simulador!$Q$13)^A104),9) * 2,ROUND(1/((1+Simulador!$Q$13)^A104),9)))","v":0.41978669099999999},67.222941645000006]
[102,102,"2033-12-10",12,{"$f":"IF(ISERROR(MATCH(D105,Simulador!$H$16:$H$17,0))=FALSE,\"C\",IF(ISERROR(MATCH(D105,Simulador!$H$18:$H$19,0))=FALSE,\"D\",\"\"))","v":""},{"$f":"IF(E105=\"C\",0,IF(E105 =\"D\",ROUND(1/((1+Simulador!$Q$13)^A105),9) * 2,ROUND(1/((1+Simulador!$Q$13)^A105),9)))","v":0.41619444100000003},67.639136086000008]
[103,103,"2034-01-10",1,{"$f":"IF(ISERROR(MATCH(D106,Simulador!$H$16:$H$17,0))=FALSE,\"C\",IF(ISERROR(MATCH(D106,Simulador!$H$18:$H$19,0))=FALSE,\"D\",\"\"))","v":""},{"$f":"IF(E106=\"C\",0,IF(E106 =\"D\",ROUND(1/((1+Simulador!$Q$13)^A106),9) * 2,ROUND(1/((1+Simulador!$Q$13)^A106),9)))","v":0.41263293200000001},68.051769018000002]
[104,104,"2034-02-10",2,{"$f":"IF(ISERROR(MATCH(D107,Simulador!$H$16:$H$17,0))=FALSE,\"C\",IF(ISERROR(MATCH(D107,Simulador!$H$18:$H$19,0))=FALSE,\"D\",\"\"))","v":""},{"$f":"IF(E107=\"C\",0,IF(E107 =\"D\",ROUND(1/((1+Simulador!$Q$13)^A107),9) * 2,ROUND(1/((1+Simulador!$Q$13)^A107),9)))","v":0.40910190000000002},68.460870917999998]
[105,105,"2034-03-10",3,{"$f":"IF(ISERROR(MATCH(D108,Simulador!$H$16:$H$17,0))=FALSE,\"C\",IF(ISERROR(MATCH(D108,Simulador!$H$18:$H$19,0))=FALSE,\"D\",\"\"))","v":""},{"$f":"IF(E108=\"C\",0,IF(E108 =\"D\",ROUND(1/((1+Simulador!$Q$13)^A108),9) * 2,ROUND(1/((1+Simulador!$Q$13)^A108),9)))","v":0.405601084},68.866472001999995]
[106,106,"2034-04-10",4,{"$f":"IF(ISERROR(MATCH(D109,Simulador!$H$16:$H$17,0))=FALSE,\"C\",IF(ISERROR(MATCH(D109,Simulador!$H$18:$H$19,0))=FALSE,\"D\",\"\"))","v":""},{"$f":"IF(E109=\"C\",0,IF(E109 =\"D\",ROUND(1/((1+Simulador!$Q$13)^A109),9) * 2,ROUND(1/((1+Simulador!$Q$13)^A109),9)))","v":0.40213022599999998},69.268602227999992]
[107,107,"2034-05-10",5,{"$f":"IF(ISERROR(MATCH(D110,Simulador!$H$16:$H$17,0))=FALSE,\"C\",IF(ISERROR(MATCH(D110,Simulador!$H$18:$H$19,0))=FALSE,\"D\",\"\"))","v":""},{"$f":"IF(E110=\"C\",0,IF(E110 =\"D\",ROUND(1/((1+Simulador!$Q$13)^A110),9) * 2,ROUND(1/((1+Simulador!$Q$13)^A110),9)))","v":0.39868906900000001},69.667291296999991]
[108,108,"2034-06-10",6,{"$f":"IF(ISERROR(MATCH(D111,Simulador!$H$16:$H$17,0))=FALSE,\"C\",IF(ISERROR(MATCH(D111,Simulador!$H$18:$H$19,0))=FALSE,\"D\",\"\"))","v":""},{"$f":"IF(E111=\"C\",0,IF(E111 =\"D\",ROUND(1/((1+Simulador!$Q$13)^A111),9) * 2,ROUND(1/((1+Simulador!$Q$13)^A111),9)))","v":0.39527735899999999},70.062568655999996]
[109,109,"2034-07-10",7,{"$f":"IF(ISERROR(MATCH(D112,Simulador!$H$16:$H$17,0))=FALSE,\"C\",IF(ISERROR(MATCH(D112,Simulador!$H$18:$H$19,0))=FALSE,\"D\",\"\"))","v":""},{"$f":"IF(E112=\"C\",0,IF(E112 =\"D\",ROUND(1/((1+Simulador!$Q$13)^A112),9) * 2,ROUND(1/((1+Simulador!$Q$13)^A112),9)))","v":0.39189484400000002},70.454463500000003]
[110,110,"2034-08-10",8,{"$f":"IF(ISERROR(MATCH(D113,Simulador!$H$16:$H$17,0))=FALSE,\"C\",IF(ISERROR(MATCH(D113,Simulador!$H$18:$H$19,0))=FALSE,\"D\",\"\"))","v":""},{"$f":"IF(E113=\"C\",0,IF(E113 =\"D\",ROUND(1/((1+Simulador!$Q$13)^A113),9) * 2,ROUND(1/((1+Simulador!$Q$13)^A113),9)))","v":0.38854127399999999},70.843004774000008]
[111,111,"2034-09-10",9,{"$f":"IF(ISERROR(MATCH(D114,Simulador!$H$16:$H$17,0))=FALSE,\"C\",IF(ISERROR(MATCH(D114,Simulador!$H$18:$H$19,0))=FALSE,\"D\",\"\"))","v":""},{"$f":"IF(E114=\"C\",0,IF(E114 =\"D\",ROUND(1/((1+Simulador!$Q$13)^A114),9) * 2,ROUND(1/((1+Simulador!$Q$13)^A114),9)))","v":0.38521640200000001},71.228221176000005]
[112,112,"2034-10-10",10,{"$f":"IF(ISERROR(MATCH(D115,Simulador!$H$16:$H$17,0))=FALSE,\"C\",IF(ISERROR(MATCH(D115,Simulador!$H$18:$H$19,0))=FALSE,\"D\",\"\"))","v":""},{"$f":"IF(E115=\"C\",0,IF(E115 =\"D\",ROUND(1/((1+Simulador!$Q$13)^A115),9) * 2,ROUND(1/((1+Simulador!$Q$13)^A115),9)))","v":0.38191998199999999},71.610141158000005]
[113,113,"2034-11-10",11,{"$f":"IF(ISERROR(MATCH(D116,Simulador!$H$16:$H$17,0))=FALSE,\"C\",IF(ISERROR(MATCH(D116,Simulador!$H$18:$H$19,0))=FALSE,\"D\",\"\"))","v":""},{"$f":"IF(E116=\"C\",0,IF(E116 =\"D\",ROUND(1/((1+Simulador!$Q$13)^A116),9) * 2,ROUND(1/((1+Simulador!$Q$13)^A116),9)))","v":0.37865177},71.988792928000009]
[114,114,"2034-12-10",12,{"$f":"IF(ISERROR(MATCH(D117,Simulador!$H$16:$H$17,0))=FALSE,\"C\",IF(ISERROR(MATCH(D117,Simulador!$H$18:$H$19,0))=FALSE,\"D\",\"\"))","v":""},{"$f":"IF(E117=\"C\",0,IF(E117 =\"D\",ROUND(1/((1+Simulador!$Q$13)^A117),9) * 2,ROUND(1/((1+Simulador!$Q$13)^A117),9)))","v":0.375411526},72.364204454000003]
[115,115,"2035-01-10",1,{"$f":"IF(ISERROR(MATCH(D118,Simulador!$H$16:$H$17,0))=FALSE,\"C\",IF(ISERROR(MATCH(D118,Simulador!$H$18:$H$19,0))=FALSE,\"D\",\"\"))","v":""},{"$f":"IF(E118=\"C\",0,IF(E118 =\"D\",ROUND(1/((1+Simulador!$Q$13)^A118),9) * 2,ROUND(1/((1+Simulador!$Q$13)^A118),9)))","v":0.37219900900000003},72.736403463000002]
[116,116,"2035-02-10",2,{"$f":"IF(ISERROR(MATCH(D119,Simulador!$H$16:$H$17,0))=FALSE,\"C\",IF(ISERROR(MATCH(D119,Simulador!$H$18:$H$19,0))=FALSE,\"D\",\"\"))","v":""},{"$f":"IF(E119=\"C\",0,IF(E119 =\"D\",ROUND(1/((1+Simulador!$Q$13)^A119),9) * 2,ROUND(1/((1+Simulador!$Q$13)^A119),9)))","v":0.36901398299999999},73.105417446000004]
[117,117,"2035-03-10",3,{"$f":"IF(ISERROR(MATCH(D120,Simulador!$H$16:$H$17,0))=FALSE,\"C\",IF(ISERROR(MATCH(D120,Simulador!$H$18:$H$19,0))=FALSE,\"D\",\"\"))","v":""},{"$f":"IF(E120=\"C\",0,IF(E120 =\"D\",ROUND(1/((1+Simulador!$Q$13)^A120),9) * 2,ROUND(1/((1+Simulador!$Q$13)^A120),9)))","v":0.36585621200000001},73.471273658000001]
[118,118,"2035-04-10",4,{"$f":"IF(ISERROR(MATCH(D121,Simulador!$H$16:$H$17,0))=FALSE,\"C\",IF(ISERROR(MATCH(D121,Simulador!$H$18:$H$19,0))=FALSE,\"D\",\"\"))","v":""},{"$f":"IF(E121=\"C\",0,IF(E121 =\"D\",ROUND(1/((1+Simulador!$Q$13)^A121),9) * 2,ROUND(1/((1+Simulador!$Q$13)^A121),9)))","v":0.36272546300000003},73.833999121000005]
[119,119,"2035-05-10",5,{"$f":"IF(ISERROR(MATCH(D122,Simulador!$H$16:$H$17,0))=FALSE,\"C\",IF(ISERROR(MATCH(D122,Simulador!$H$18:$H$19,0))=FALSE,\"D\",\"\"))","v":""},{"$f":"IF(E122=\"C\",0,IF(E122 =\"D\",ROUND(1/((1+Simulador!$Q$13)^A122),9) * 2,ROUND(1/((1+Simulador!$Q$13)^A122),9)))","v":0.35962150599999998},74.193620627000001]
[120,120,"2035-06-10",6,{"$f":"IF(ISERROR(MATCH(D123,Simulador!$H$16:$H$17,0))=FALSE,\"C\",IF(ISERROR(MATCH(D123,Simulador!$H$18:$H$19,0))=FALSE,\"D\",\"\"))","v":""},{"$f":"IF(E123=\"C\",0,IF(E123 =\"D\",ROUND(1/((1+Simulador!$Q$13)^A123),9) * 2,ROUND(1/((1+Simulador!$Q$13)^A123),9)))","v":0.356544109},74.550164735999999]
[121,121,"2035-07-10",7,{"$f":"IF(ISERROR(MATCH(D124,Simulador!$H$16:$H$17,0))=FALSE,\"C\",IF(ISERROR(MATCH(D124,Simulador!$H$18:$H$19,0))=FALSE,\"D\",\"\"))","v":""},{"$f":"IF(E124=\"C\",0,IF(E124 =\"D\",ROUND(1/((1+Simulador!$Q$13)^A124),9) * 2,ROUND(1/((1+Simulador!$Q$13)^A124),9)))","v":0.353493047},74.903657783]
[122,122,"2035-08-10",8,{"$f":"IF(ISERROR(MATCH(D125,Simulador!$H$16:$H$17,0))=FALSE,\"C\",IF(ISERROR(MATCH(D125,Simulador!$H$18:$H$19,0))=FALSE,\"D\",\"\"))","v":""},{"$f":"IF(E125=\"C\",0,IF(E125 =\"D\",ROUND(1/((1+Simulador!$Q$13)^A125),9) * 2,ROUND(1/((1+Simulador!$Q$13)^A125),9)))","v":0.35046809400000001},75.254125877000007]
[123,123,"2035-09-10",9,{"$f":"IF(ISERROR(MATCH(D126,Simulador!$H$16:$H$17,0))=FALSE,\"C\",IF(ISERROR(MATCH(D126,Simulador!$H$18:$H$19,0))=FALSE,\"D\",\"\"))","v":""},{"$f":"IF(E126=\"C\",0,IF(E126 =\"D\",ROUND(1/((1+Simulador!$Q$13)^A126),9) * 2,ROUND(1/((1+Simulador!$Q$13)^A126),9)))","v":0.34746902600000001},75.601594903000006]
[124,124,"2035-10-10",10,{"$f":"IF(ISERROR(MATCH(D127,Simulador!$H$16:$H$17,0))=FALSE,\"C\",IF(ISERROR(MATCH(D127,Simulador!$H$18:$H$19,0))=FALSE,\"D\",\"\"))","v":""},{"$f":"IF(E127=\"C\",0,IF(E127 =\"D\",ROUND(1/((1+Simulador!$Q$13)^A127),9) * 2,ROUND(1/((1+Simulador!$Q$13)^A127),9)))","v":0.344495622},75.946090525000002]
[125,125,"2035-11-10",11,{"$f":"IF(ISERROR(MATCH(D128,Simulador!$H$16:$H$17,0))=FALSE,\"C\",IF(ISERROR(MATCH(D128,Simulador!$H$18:$H$19,0))=FALSE,\"D\",\"\"))","v":""},{"$f":"IF(E128=\"C\",0,IF(E128 =\"D\",ROUND(1/((1+Simulador!$Q$13)^A128),9) * 2,ROUND(1/((1+Simulador!$Q$13)^A128),9)))","v":0.341547663},76.287638188000003]
[126,126,"2035-12-10",12,{"$f":"IF(ISERROR(MATCH(D129,Simulador!$H$16:$H$17,0))=FALSE,\"C\",IF(ISERROR(MATCH(D129,Simulador!$H$18:$H$19,0))=FALSE,\"D\",\"\"))","v":""},{"$f":"IF(E129=\"C\",0,IF(E129 =\"D\",ROUND(1/((1+Simulador!$Q$13)^A129),9) * 2,ROUND(1/((1+Simulador!$Q$13)^A129),9)))","v":0.33862492999999999},76.626263117999997]
[127,127,"2036-01-10",1,{"$f":"IF(ISERROR(MATCH(D130,Simulador!$H$16:$H$17,0))=FALSE,\"C\",IF(ISERROR(MATCH(D130,Simulador!$H$18:$H$19,0))=FALSE,\"D\",\"\"))","v":""},{"$f":"IF(E130=\"C\",0,IF(E130 =\"D\",ROUND(1/((1+Simulador!$Q$13)^A130),9) * 2,ROUND(1/((1+Simulador!$Q$13)^A130),9)))","v":0.335727208},76.961990325999992]
[128,128,"2036-02-10",2,{"$f":"IF(ISERROR(MATCH(D131,Simulador!$H$16:$H$17,0))=FALSE,\"C\",IF(ISERROR(MATCH(D131,Simulador!$H$18:$H$19,0))=FALSE,\"D\",\"\"))","v":""},{"$f":"IF(E131=\"C\",0,IF(E131 =\"D\",ROUND(1/((1+Simulador!$Q$13)^A131),9) * 2,ROUND(1/((1+Simulador!$Q$13)^A131),9)))","v":0.33285428299999997},77.294844608999995]
[129,129,"2036-03-10",{"$f":"MONTH(C132)","v":3},{"$f":"IF(ISERROR(MATCH(D132,Simulador!$H$16:$H$17,0))=FALSE,\"C\",IF(ISERROR(MATCH(D132,Simulador!$H$18:$H$19,0))=FALSE,\"D\",\"\"))","v":""},{"$f":"IF(E132=\"C\",0,IF(E132 =\"D\",ROUND(1/((1+Simulador!$Q$13)^A132),9) * 2,ROUND(1/((1+Simulador!$Q$13)^A132),9)))","v":0.330005942},77.624850550999994]
[{"$f":"A132+1","v":130},{"$f":"IF(E133<>\"C\",IF(ISERROR(1+B132)=TRUE,1,1+B132),IF(ISNUMBER(B132),B132,1))","v":130},{"$f":"DATE(YEAR(C132) + 1/12,MONTH(C132)+1,DAY(C132))","v":"2036-04-10"},4,{"$f":"IF(ISERROR(MATCH(D133,Simulador!$H$16:$H$17,0))=FALSE,\"C\",IF(ISERROR(MATCH(D133,Simulador!$H$18:$H$19,0))=FALSE,\"D\",\"\"))","v":""},{"$f":"IF(E133=\"C\",0,IF(E133 =\"D\",ROUND(1/((1+Simulador!$Q$13)^A133),9) * 2,ROUND(1/((1+Simulador!$Q$13)^A133),9)))","v":0.32718197599999999},77.952032527]
[131,131,"2036-05-10",5,{"$f":"IF(ISERROR(MATCH(D134,Simulador!$H$16:$H$17,0))=FALSE,\"C\",IF(ISERROR(MATCH(D134,Simulador!$H$18:$H$19,0))=FALSE,\"D\",\"\"))","v":""},{"$f":"IF(E134=\"C\",0,IF(E134 =\"D\",ROUND(1/((1+Simulador!$Q$13)^A134),9) * 2,ROUND(1/((1+Simulador!$Q$13)^A134),9)))","v":0.32438217499999999},{"$f":"G133+ROUND(F134,9)","v":78.276414701999997}]
[132,132,"2036-06-10",6,{"$f":"IF(ISERROR(MATCH(D135,Simulador!$H$16:$H$17,0))=FALSE,\"C\",IF(ISERROR(MATCH(D135,Simulador!$H$18:$H$19,0))=FALSE,\"D\",\"\"))","v":""},{"$f":"IF(E135=\"C\",0,IF(E135 =\"D\",ROUND(1/((1+Simulador!$Q$13)^A135),9) * 2,ROUND(1/((1+Simulador!$Q$13)^A135),9)))","v":0.32160633300000002},78.598021035000002]
[133,133,"2036-07-10",7,{"$f":"IF(ISERROR(MATCH(D136,Simulador!$H$16:$H$17,0))=FALSE,\"C\",IF(ISERROR(MATCH(D136,Simulador!$H$18:$H$19,0))=FALSE,\"D\",\"\"))","v":""},{"$f":"IF(E136=\"C\",0,IF(E136 =\"D\",ROUND(1/((1+Simulador!$Q$13)^A136),9) * 2,ROUND(1/((1+Simulador!$Q$13)^A136),9)))","v":0.31885424400000001},78.916875278999996]
[134,134,"2036-08-10",8,{"$f":"IF(ISERROR(MATCH(D137,Simulador!$H$16:$H$17,0))=FALSE,\"C\",IF(ISERROR(MATCH(D137,Simulador!$H$18:$H$19,0))=FALSE,\"D\",\"\"))","v":""},{"$f":"IF(E137=\"C\",0,IF(E137 =\"D\",ROUND(1/((1+Simulador!$Q$13)^A137),9) * 2,ROUND(1/((1+Simulador!$Q$13)^A137),9)))","v":0.31612570699999998},79.233000985999993]
[135,135,"2036-09-10",9,{"$f":"IF(ISERROR(MATCH(D138,Simulador!$H$16:$H$17,0))=FALSE,\"C\",IF(ISERROR(MATCH(D138,Simulador!$H$18:$H$19,0))=FALSE,\"D\",\"\"))","v":""},{"$f":"IF(E138=\"C\",0,IF(E138 =\"D\",ROUND(1/((1+Simulador!$Q$13)^A138),9) * 2,ROUND(1/((1+Simulador!$Q$13)^A138),9)))","v":0.31342051799999998},79.546421503999994]
[136,136,"2036-10-10",10,{"$f":"IF(ISERROR(MATCH(D139,Simulador!$H$16:$H$17,0))=FALSE,\"C\",IF(ISERROR(MATCH(D139,Simulador!$H$18:$H$19,0))=FALSE,\"D\",\"\"))","v":""},{"$f":"IF(E139=\"C\",0,IF(E139 =\"D\",ROUND(1/((1+Simulador!$Q$13)^A139),9) * 2,ROUND(1/((1+Simulador!$Q$13)^A139),9)))","v":0.31073847799999998},79.857159981999999]
[137,137,"2036-11-10",11,{"$f":"IF(ISERROR(MATCH(D140,Simulador!$H$16:$H$17,0))=FALSE,\"C\",IF(ISERROR(MATCH(D140,Simulador!$H$18:$H$19,0))=FALSE,\"D\",\"\"))","v":""},{"$f":"IF(E140=\"C\",0,IF(E140 =\"D\",ROUND(1/((1+Simulador!$Q$13)^A140),9) * 2,ROUND(1/((1+Simulador!$Q$13)^A140),9)))","v":0.30807938899999998},80.165239370999998]
[138,138,"2036-12-10",12,{"$f":"IF(ISERROR(MATCH(D141,Simulador!$H$16:$H$17,0))=FALSE,\"C\",IF(ISERROR(MATCH(D141,Simulador!$H$18:$H$19,0))=FALSE,\"D\",\"\"))","v":""},{"$f":"IF(E141=\"C\",0,IF(E141 =\"D\",ROUND(1/((1+Simulador!$Q$13)^A141),9) * 2,ROUND(1/((1+Simulador!$Q$13)^A141),9)))","v":0.30544305500000002},80.470682425999996]
[139,139,"2037-01-10",1,{"$f":"IF(ISERROR(MATCH(D142,Simulador!$H$16:$H$17,0))=FALSE,\"C\",IF(ISERROR(MATCH(D142,Simulador!$H$18:$H$19,0))=FALSE,\"D\",\"\"))","v":""},{"$f":"IF(E142=\"C\",0,IF(E142 =\"D\",ROUND(1/((1+Simulador!$Q$13)^A142),9) * 2,ROUND(1/((1+Simulador!$Q$13)^A142),9)))","v":0.30282928100000001},80.773511706999997]
[140,140,"2037-02-10",2,{"$f":"IF(ISERROR(MATCH(D143,Simulador!$H$16:$H$17,0))=FALSE,\"C\",IF(ISERROR(MATCH(D143,Simulador!$H$18:$H$19,0))=FALSE,\"D\",\"\"))","v":""},{"$f":"IF(E143=\"C\",0,IF(E143 =\"D\",ROUND(1/((1+Simulador!$Q$13)^A143),9) * 2,ROUND(1/((1+Simulador!$Q$13)^A143),9)))","v":0.30023787400000002},81.073749581000001]
[141,141,"2037-03-10",3,{"$f":"IF(ISERROR(MATCH(D144,Simulador!$H$16:$H$17,0))=FALSE,\"C\",IF(ISERROR(MATCH(D144,Simulador!$H$18:$H$19,0))=FALSE,\"D\",\"\"))","v":""},{"$f":"IF(E144=\"C\",0,IF(E144 =\"D\",ROUND(1/((1+Simulador!$Q$13)^A144),9) * 2,ROUND(1/((1+Simulador!$Q$13)^A144),9)))","v":0.29766864199999998},81.371418223000006]
[142,142,"2037-04-10",4,{"$f":"IF(ISERROR(MATCH(D145,Simulador!$H$16:$H$17,0))=FALSE,\"C\",IF(ISERROR(MATCH(D145,Simulador!$H$18:$H$19,0))=FALSE,\"D\",\"\"))","v":""},{"$f":"IF(E145=\"C\",0,IF(E145 =\"D\",ROUND(1/((1+Simulador!$Q$13)^A145),9) * 2,ROUND(1/((1+Simulador!$Q$13)^A145),9)))","v":0.29512139700000001},81.666539620000009]
[143,143,"2037-05-10",5,{"$f":"IF(ISERROR(MATCH(D146,Simulador!$H$16:$H$17,0))=FALSE,\"C\",IF(ISERROR(MATCH(D146,Simulador!$H$18:$H$19,0))=FALSE,\"D\",\"\"))","v":""},{"$f":"IF(E146=\"C\",0,IF(E146 =\"D\",ROUND(1/((1+Simulador!$Q$13)^A146),9) * 2,ROUND(1/((1+Simulador!$Q$13)^A146),9)))","v":0.29259594799999999},81.959135568000008]
[144,144,"2037-06-10",6,{"$f":"IF(ISERROR(MATCH(D147,Simulador!$H$16:$H$17,0))=FALSE,\"C\",IF(ISERROR(MATCH(D147,Simulador!$H$18:$H$19,0))=FALSE,\"D\",\"\"))","v":""},{"$f":"IF(E147=\"C\",0,IF(E147 =\"D\",ROUND(1/((1+Simulador!$Q$13)^A147),9) * 2,ROUND(1/((1+Simulador!$Q$13)^A147),9)))","v":0.29009211099999999},82.249227679000015]
[145,145,"2037-07-10",7,{"$f":"IF(ISERROR(MATCH(D148,Simulador!$H$16:$H$17,0))=FALSE,\"C\",IF(ISERROR(MATCH(D148,Simulador!$H$18:$H$19,0))=FALSE,\"D\",\"\"))","v":""},{"$f":"IF(E148=\"C\",0,IF(E148 =\"D\",ROUND(1/((1+Simulador!$Q$13)^A148),9) * 2,ROUND(1/((1+Simulador!$Q$13)^A148),9)))","v":0.28760970000000002},82.536837379000019]
[146,146,"2037-08-10",8,{"$f":"IF(ISERROR(MATCH(D149,Simulador!$H$16:$H$17,0))=FALSE,\"C\",IF(ISERROR(MATCH(D149,Simulador!$H$18:$H$19,0))=FALSE,\"D\",\"\"))","v":""},{"$f":"IF(E149=\"C\",0,IF(E149 =\"D\",ROUND(1/((1+Simulador!$Q$13)^A149),9) * 2,ROUND(1/((1+Simulador!$Q$13)^A149),9)))","v":0.28514853200000001},82.821985911000013]
[147,147,"2037-09-10",9,{"$f":"IF(ISERROR(MATCH(D150,Simulador!$H$16:$H$17,0))=FALSE,\"C\",IF(ISERROR(MATCH(D150,Simulador!$H$18:$H$19,0))=FALSE,\"D\",\"\"))","v":""},{"$f":"IF(E150=\"C\",0,IF(E150 =\"D\",ROUND(1/((1+Simulador!$Q$13)^A150),9) * 2,ROUND(1/((1+Simulador!$Q$13)^A150),9)))","v":0.28270842400000001},83.104694335000019]
[148,148,"2037-10-10",10,{"$f":"IF(ISERROR(MATCH(D151,Simulador!$H$16:$H$17,0))=FALSE,\"C\",IF(ISERROR(MATCH(D151,Simulador!$H$18:$H$19,0))=FALSE,\"D\",\"\"))","v":""},{"$f":"IF(E151=\"C\",0,IF(E151 =\"D\",ROUND(1/((1+Simulador!$Q$13)^A151),9) * 2,ROUND(1/((1+Simulador!$Q$13)^A151),9)))","v":0.28028919800000002},83.384983533000025]
[149,149,"2037-11-10",11,{"$f":"IF(ISERROR(MATCH(D152,Simulador!$H$16:$H$17,0))=FALSE,\"C\",IF(ISERROR(MATCH(D152,Simulador!$H$18:$H$19,0))=FALSE,\"D\",\"\"))","v":""},{"$f":"IF(E152=\"C\",0,IF(E152 =\"D\",ROUND(1/((1+Simulador!$Q$13)^A152),9) * 2,ROUND(1/((1+Simulador!$Q$13)^A152),9)))","v":0.27789067299999998},83.662874206000026]
[150,150,"2037-12-10",12,{"$f":"IF(ISERROR(MATCH(D153,Simulador!$H$16:$H$17,0))=FALSE,\"C\",IF(ISERROR(MATCH(D153,Simulador!$H$18:$H$19,0))=FALSE,\"D\",\"\"))","v":""},{"$f":"IF(E153=\"C\",0,IF(E153 =\"D\",ROUND(1/((1+Simulador!$Q$13)^A153),9) * 2,ROUND(1/((1+Simulador!$Q$13)^A153),9)))","v":0.27551267400000001},83.938386880000024]
[151,151,"2038-01-10",1,{"$f":"IF(ISERROR(MATCH(D154,Simulador!$H$16:$H$17,0))=FALSE,\"C\",IF(ISERROR(MATCH(D154,Simulador!$H$18:$H$19,0))=FALSE,\"D\",\"\"))","v":""},{"$f":"IF(E154=\"C\",0,IF(E154 =\"D\",ROUND(1/((1+Simulador!$Q$13)^A154),9) * 2,ROUND(1/((1+Simulador!$Q$13)^A154),9)))","v":0.27315502400000002},84.211541904000029]
[152,152,"2038-02-10",2,{"$f":"IF(ISERROR(MATCH(D155,Simulador!$H$16:$H$17,0))=FALSE,\"C\",IF(ISERROR(MATCH(D155,Simulador!$H$18:$H$19,0))=FALSE,\"D\",\"\"))","v":""},{"$f":"IF(E155=\"C\",0,IF(E155 =\"D\",ROUND(1/((1+Simulador!$Q$13)^A155),9) * 2,ROUND(1/((1+Simulador!$Q$13)^A155),9)))","v":0.27081754899999999},84.482359453000029]
[153,153,"2038-03-10",3,{"$f":"IF(ISERROR(MATCH(D156,Simulador!$H$16:$H$17,0))=FALSE,\"C\",IF(ISERROR(MATCH(D156,Simulador!$H$18:$H$19,0))=FALSE,\"D\",\"\"))","v":""},{"$f":"IF(E156=\"C\",0,IF(E156 =\"D\",ROUND(1/((1+Simulador!$Q$13)^A156),9) * 2,ROUND(1/((1+Simulador!$Q$13)^A156),9)))","v":0.26850007599999998},84.750859529000024]
[154,154,"2038-04-10",4,{"$f":"IF(ISERROR(MATCH(D157,Simulador!$H$16:$H$17,0))=FALSE,\"C\",IF(ISERROR(MATCH(D157,Simulador!$H$18:$H$19,0))=FALSE,\"D\",\"\"))","v":""},{"$f":"IF(E157=\"C\",0,IF(E157 =\"D\",ROUND(1/((1+Simulador!$Q$13)^A157),9) * 2,ROUND(1/((1+Simulador!$Q$13)^A157),9)))","v":0.26620243500000002},85.017061964000021]
[155,155,"2038-05-10",5,{"$f":"IF(ISERROR(MATCH(D158,Simulador!$H$16:$H$17,0))=FALSE,\"C\",IF(ISERROR(MATCH(D158,Simulador!$H$18:$H$19,0))=FALSE,\"D\",\"\"))","v":""},{"$f":"IF(E158=\"C\",0,IF(E158 =\"D\",ROUND(1/((1+Simulador!$Q$13)^A158),9) * 2,ROUND(1/((1+Simulador!$Q$13)^A158),9)))","v":0.26392445599999997},85.280986420000019]
[156,156,"2038-06-10",6,{"$f":"IF(ISERROR(MATCH(D159,Simulador!$H$16:$H$17,0))=FALSE,\"C\",IF(ISERROR(MATCH(D159,Simulador!$H$18:$H$19,0))=FALSE,\"D\",\"\"))","v":""},{"$f":"IF(E159=\"C\",0,IF(E159 =\"D\",ROUND(1/((1+Simulador!$Q$13)^A159),9) * 2,ROUND(1/((1+Simulador!$Q$13)^A159),9)))","v":0.26166597000000003},85.542652390000015]
[157,157,"2038-07-10",7,{"$f":"IF(ISERROR(MATCH(D160,Simulador!$H$16:$H$17,0))=FALSE,\"C\",IF(ISERROR(MATCH(D160,Simulador!$H$18:$H$19,0))=FALSE,\"D\",\"\"))","v":""},{"$f":"IF(E160=\"C\",0,IF(E160 =\"D\",ROUND(1/((1+Simulador!$Q$13)^A160),9) * 2,ROUND(1/((1+Simulador!$Q$13)^A160),9)))","v":0.25942681000000001},85.802079200000009]
[158,158,"2038-08-10",8,{"$f":"IF(ISERROR(MATCH(D161,Simulador!$H$16:$H$17,0))=FALSE,\"C\",IF(ISERROR(MATCH(D161,Simulador!$H$18:$H$19,0))=FALSE,\"D\",\"\"))","v":""},{"$f":"IF(E161=\"C\",0,IF(E161 =\"D\",ROUND(1/((1+Simulador!$Q$13)^A161),9) * 2,ROUND(1/((1+Simulador!$Q$13)^A161),9)))","v":0.25720681200000001},86.059286012000015]
[159,159,"2038-09-10",9,{"$f":"IF(ISERROR(MATCH(D162,Simulador!$H$16:$H$17,0))=FALSE,\"C\",IF(ISERROR(MATCH(D162,Simulador!$H$18:$H$19,0))=FALSE,\"D\",\"\"))","v":""},{"$f":"IF(E162=\"C\",0,IF(E162 =\"D\",ROUND(1/((1+Simulador!$Q$13)^A162),9) * 2,ROUND(1/((1+Simulador!$Q$13)^A162),9)))","v":0.25500581100000003},86.314291823000019]
[160,160,"2038-10-10",10,{"$f":"IF(ISERROR(MATCH(D163,Simulador!$H$16:$H$17,0))=FALSE,\"C\",IF(ISERROR(MATCH(D163,Simulador!$H$18:$H$19,0))=FALSE,\"D\",\"\"))","v":""},{"$f":"IF(E163=\"C\",0,IF(E163 =\"D\",ROUND(1/((1+Simulador!$Q$13)^A163),9) * 2,ROUND(1/((1+Simulador!$Q$13)^A163),9)))","v":0.25282364400000001},86.567115467000022]
[161,161,"2038-11-10",11,{"$f":"IF(ISERROR(MATCH(D164,Simulador!$H$16:$H$17,0))=FALSE,\"C\",IF(ISERROR(MATCH(D164,Simulador!$H$18:$H$19,0))=FALSE,\"D\",\"\"))","v":""},{"$f":"IF(E164=\"C\",0,IF(E164 =\"D\",ROUND(1/((1+Simulador!$Q$13)^A164),9) * 2,ROUND(1/((1+Simulador!$Q$13)^A164),9)))","v":0.250660151},86.817775618000027]
[162,162,"2038-12-10",12,{"$f":"IF(ISERROR(MATCH(D165,Simulador!$H$16:$H$17,0))=FALSE,\"C\",IF(ISERROR(MATCH(D165,Simulador!$H$18:$H$19,0))=FALSE,\"D\",\"\"))","v":""},{"$f":"IF(E165=\"C\",0,IF(E165 =\"D\",ROUND(1/((1+Simulador!$Q$13)^A165),9) * 2,ROUND(1/((1+Simulador!$Q$13)^A165),9)))","v":0.24851517200000001},87.066290790000025]
[163,163,"2039-01-10",1,{"$f":"IF(ISERROR(MATCH(D166,Simulador!$H$16:$H$17,0))=FALSE,\"C\",IF(ISERROR(MATCH(D166,Simulador!$H$18:$H$19,0))=FALSE,\"D\",\"\"))","v":""},{"$f":"IF(E166=\"C\",0,IF(E166 =\"D\",ROUND(1/((1+Simulador!$Q$13)^A166),9) * 2,ROUND(1/((1+Simulador!$Q$13)^A166),9)))","v":0.24638854800000001},87.312679338000024]
[164,164,"2039-02-10",2,{"$f":"IF(ISERROR(MATCH(D167,Simulador!$H$16:$H$17,0))=FALSE,\"C\",IF(ISERROR(MATCH(D167,Simulador!$H$18:$H$19,0))=FALSE,\"D\",\"\"))","v":""},{"$f":"IF(E167=\"C\",0,IF(E167 =\"D\",ROUND(1/((1+Simulador!$Q$13)^A167),9) * 2,ROUND(1/((1+Simulador!$Q$13)^A167),9)))","v":0.24428012299999999},87.556959461000019]
[165,165,"2039-03-10",3,{"$f":"IF(ISERROR(MATCH(D168,Simulador!$H$16:$H$17,0))=FALSE,\"C\",IF(ISERROR(MATCH(D168,Simulador!$H$18:$H$19,0))=FALSE,\"D\",\"\"))","v":""},{"$f":"IF(E168=\"C\",0,IF(E168 =\"D\",ROUND(1/((1+Simulador!$Q$13)^A168),9) * 2,ROUND(1/((1+Simulador!$Q$13)^A168),9)))","v":0.24218973899999999},87.799149200000016]
[166,166,"2039-04-10",4,{"$f":"IF(ISERROR(MATCH(D169,Simulador!$H$16:$H$17,0))=FALSE,\"C\",IF(ISERROR(MATCH(D169,Simulador!$H$18:$H$19,0))=FALSE,\"D\",\"\"))","v":""},{"$f":"IF(E169=\"C\",0,IF(E169 =\"D\",ROUND(1/((1+Simulador!$Q$13)^A169),9) * 2,ROUND(1/((1+Simulador!$Q$13)^A169),9)))","v":0.24011724400000001},88.03926644400002]
[167,167,"2039-05-10",5,{"$f":"IF(ISERROR(MATCH(D170,Simulador!$H$16:$H$17,0))=FALSE,\"C\",IF(ISERROR(MATCH(D170,Simulador!$H$18:$H$19,0))=FALSE,\"D\",\"\"))","v":""},{"$f":"IF(E170=\"C\",0,IF(E170 =\"D\",ROUND(1/((1+Simulador!$Q$13)^A170),9) * 2,ROUND(1/((1+Simulador!$Q$13)^A170),9)))","v":0.23806248399999999},88.277328928000017]
[168,168,"2039-06-10",6,{"$f":"IF(ISERROR(MATCH(D171,Simulador!$H$16:$H$17,0))=FALSE,\"C\",IF(ISERROR(MATCH(D171,Simulador!$H$18:$H$19,0))=FALSE,\"D\",\"\"))","v":""},{"$f":"IF(E171=\"C\",0,IF(E171 =\"D\",ROUND(1/((1+Simulador!$Q$13)^A171),9) * 2,ROUND(1/((1+Simulador!$Q$13)^A171),9)))","v":0.23602530699999999},88.513354235000023]
[169,169,"2039-07-10",7,{"$f":"IF(ISERROR(MATCH(D172,Simulador!$H$16:$H$17,0))=FALSE,\"C\",IF(ISERROR(MATCH(D172,Simulador!$H$18:$H$19,0))=FALSE,\"D\",\"\"))","v":""},{"$f":"IF(E172=\"C\",0,IF(E172 =\"D\",ROUND(1/((1+Simulador!$Q$13)^A172),9) * 2,ROUND(1/((1+Simulador!$Q$13)^A172),9)))","v":0.234005563},88.747359798000019]
[170,170,"2039-08-10",8,{"$f":"IF(ISERROR(MATCH(D173,Simulador!$H$16:$H$17,0))=FALSE,\"C\",IF(ISERROR(MATCH(D173,Simulador!$H$18:$H$19,0))=FALSE,\"D\",\"\"))","v":""},{"$f":"IF(E173=\"C\",0,IF(E173 =\"D\",ROUND(1/((1+Simulador!$Q$13)^A173),9) * 2,ROUND(1/((1+Simulador!$Q$13)^A173),9)))","v":0.23200310199999999},88.979362900000012]
[171,171,"2039-09-10",9,{"$f":"IF(ISERROR(MATCH(D174,Simulador!$H$16:$H$17,0))=FALSE,\"C\",IF(ISERROR(MATCH(D174,Simulador!$H$18:$H$19,0))=FALSE,\"D\",\"\"))","v":""},{"$f":"IF(E174=\"C\",0,IF(E174 =\"D\",ROUND(1/((1+Simulador!$Q$13)^A174),9) * 2,ROUND(1/((1+Simulador!$Q$13)^A174),9)))","v":0.23001777800000001},89.209380678000016]
[172,172,"2039-10-10",10,{"$f":"IF(ISERROR(MATCH(D175,Simulador!$H$16:$H$17,0))=FALSE,\"C\",IF(ISERROR(MATCH(D175,Simulador!$H$18:$H$19,0))=FALSE,\"D\",\"\"))","v":""},{"$f":"IF(E175=\"C\",0,IF(E175 =\"D\",ROUND(1/((1+Simulador!$Q$13)^A175),9) * 2,ROUND(1/((1+Simulador!$Q$13)^A175),9)))","v":0.22804944199999999},89.437430120000016]
[173,173,"2039-11-10",11,{"$f":"IF(ISERROR(MATCH(D176,Simulador!$H$16:$H$17,0))=FALSE,\"C\",IF(ISERROR(MATCH(D176,Simulador!$H$18:$H$19,0))=FALSE,\"D\",\"\"))","v":""},{"$f":"IF(E176=\"C\",0,IF(E176 =\"D\",ROUND(1/((1+Simulador!$Q$13)^A176),9) * 2,ROUND(1/((1+Simulador!$Q$13)^A176),9)))","v":0.22609794999999999},89.663528070000012]
[174,174,"2039-12-10",12,{"$f":"IF(ISERROR(MATCH(D177,Simulador!$H$16:$H$17,0))=FALSE,\"C\",IF(ISERROR(MATCH(D177,Simulador!$H$18:$H$19,0))=FALSE,\"D\",\"\"))","v":""},{"$f":"IF(E177=\"C\",0,IF(E177 =\"D\",ROUND(1/((1+Simulador!$Q$13)^A177),9) * 2,ROUND(1/((1+Simulador!$Q$13)^A177),9)))","v":0.224163157},89.887691227000019]
[175,175,"2040-01-10",1,{"$f":"IF(ISERROR(MATCH(D178,Simulador!$H$16:$H$17,0))=FALSE,\"C\",IF(ISERROR(MATCH(D178,Simulador!$H$18:$H$19,0))=FALSE,\"D\",\"\"))","v":""},{"$f":"IF(E178=\"C\",0,IF(E178 =\"D\",ROUND(1/((1+Simulador!$Q$13)^A178),9) * 2,ROUND(1/((1+Simulador!$Q$13)^A178),9)))","v":0.22224492100000001},90.109936148000017]
[176,176,"2040-02-10",2,{"$f":"IF(ISERROR(MATCH(D179,Simulador!$H$16:$H$17,0))=FALSE,\"C\",IF(ISERROR(MATCH(D179,Simulador!$H$18:$H$19,0))=FALSE,\"D\",\"\"))","v":""},{"$f":"IF(E179=\"C\",0,IF(E179 =\"D\",ROUND(1/((1+Simulador!$Q$13)^A179),9) * 2,ROUND(1/((1+Simulador!$Q$13)^A179),9)))","v":0.22034309999999999},90.330279248000011]
[177,177,"2040-03-10",3,{"$f":"IF(ISERROR(MATCH(D180,Simulador!$H$16:$H$17,0))=FALSE,\"C\",IF(ISERROR(MATCH(D180,Simulador!$H$18:$H$19,0))=FALSE,\"D\",\"\"))","v":""},{"$f":"IF(E180=\"C\",0,IF(E180 =\"D\",ROUND(1/((1+Simulador!$Q$13)^A180),9) * 2,ROUND(1/((1+Simulador!$Q$13)^A180),9)))","v":0.218457554},90.548736802000008]
[178,178,"2040-04-10",4,{"$f":"IF(ISERROR(MATCH(D181,Simulador!$H$16:$H$17,0))=FALSE,\"C\",IF(ISERROR(MATCH(D181,Simulador!$H$18:$H$19,0))=FALSE,\"D\",\"\"))","v":""},{"$f":"IF(E181=\"C\",0,IF(E181 =\"D\",ROUND(1/((1+Simulador!$Q$13)^A181),9) * 2,ROUND(1/((1+Simulador!$Q$13)^A181),9)))","v":0.21658814300000001},90.765324945000003]
[179,179,"2040-05-10",5,{"$f":"IF(ISERROR(MATCH(D182,Simulador!$H$16:$H$17,0))=FALSE,\"C\",IF(ISERROR(MATCH(D182,Simulador!$H$18:$H$19,0))=FALSE,\"D\",\"\"))","v":""},{"$f":"IF(E182=\"C\",0,IF(E182 =\"D\",ROUND(1/((1+Simulador!$Q$13)^A182),9) * 2,ROUND(1/((1+Simulador!$Q$13)^A182),9)))","v":0.21473472900000001},90.980059674000003]
[180,180,"2040-06-10",6,{"$f":"IF(ISERROR(MATCH(D183,Simulador!$H$16:$H$17,0))=FALSE,\"C\",IF(ISERROR(MATCH(D183,Simulador!$H$18:$H$19,0))=FALSE,\"D\",\"\"))","v":""},{"$f":"IF(E183=\"C\",0,IF(E183 =\"D\",ROUND(1/((1+Simulador!$Q$13)^A183),9) * 2,ROUND(1/((1+Simulador!$Q$13)^A183),9)))","v":0.21289717499999999},91.192956848999998]
[181,181,"2040-07-10",7,{"$f":"IF(ISERROR(MATCH(D184,Simulador!$H$16:$H$17,0))=FALSE,\"C\",IF(ISERROR(MATCH(D184,Simulador!$H$18:$H$19,0))=FALSE,\"D\",\"\"))","v":""},{"$f":"IF(E184=\"C\",0,IF(E184 =\"D\",ROUND(1/((1+Simulador!$Q$13)^A184),9) * 2,ROUND(1/((1+Simulador!$Q$13)^A184),9)))","v":0.211075345},91.404032193999996]
[182,182,"2040-08-10",8,{"$f":"IF(ISERROR(MATCH(D185,Simulador!$H$16:$H$17,0))=FALSE,\"C\",IF(ISERROR(MATCH(D185,Simulador!$H$18:$H$19,0))=FALSE,\"D\",\"\"))","v":""},{"$f":"IF(E185=\"C\",0,IF(E185 =\"D\",ROUND(1/((1+Simulador!$Q$13)^A185),9) * 2,ROUND(1/((1+Simulador!$Q$13)^A185),9)))","v":0.20926910600000001},91.613301299999989]
[183,183,"2040-09-10",9,{"$f":"IF(ISERROR(MATCH(D186,Simulador!$H$16:$H$17,0))=FALSE,\"C\",IF(ISERROR(MATCH(D186,Simulador!$H$18:$H$19,0))=FALSE,\"D\",\"\"))","v":""},{"$f":"IF(E186=\"C\",0,IF(E186 =\"D\",ROUND(1/((1+Simulador!$Q$13)^A186),9) * 2,ROUND(1/((1+Simulador!$Q$13)^A186),9)))","v":0.20747832299999999},91.820779622999993]
[184,184,"2040-10-10",10,{"$f":"IF(ISERROR(MATCH(D187,Simulador!$H$16:$H$17,0))=FALSE,\"C\",IF(ISERROR(MATCH(D187,Simulador!$H$18:$H$19,0))=FALSE,\"D\",\"\"))","v":""},{"$f":"IF(E187=\"C\",0,IF(E187 =\"D\",ROUND(1/((1+Simulador!$Q$13)^A187),9) * 2,ROUND(1/((1+Simulador!$Q$13)^A187),9)))","v":0.20570286500000001},92.026482487999999]
[185,185,"2040-11-10",11,{"$f":"IF(ISERROR(MATCH(D188,Simulador!$H$16:$H$17,0))=FALSE,\"C\",IF(ISERROR(MATCH(D188,Simulador!$H$18:$H$19,0))=FALSE,\"D\",\"\"))","v":""},{"$f":"IF(E188=\"C\",0,IF(E188 =\"D\",ROUND(1/((1+Simulador!$Q$13)^A188),9) * 2,ROUND(1/((1+Simulador!$Q$13)^A188),9)))","v":0.2039426},92.230425088000004]
[186,186,"2040-12-10",12,{"$f":"IF(ISERROR(MATCH(D189,Simulador!$H$16:$H$17,0))=FALSE,\"C\",IF(ISERROR(MATCH(D189,Simulador!$H$18:$H$19,0))=FALSE,\"D\",\"\"))","v":""},{"$f":"IF(E189=\"C\",0,IF(E189 =\"D\",ROUND(1/((1+Simulador!$Q$13)^A189),9) * 2,ROUND(1/((1+Simulador!$Q$13)^A189),9)))","v":0.202197397},92.43262248500001]
[187,187,"2041-01-10",1,{"$f":"IF(ISERROR(MATCH(D190,Simulador!$H$16:$H$17,0))=FALSE,\"C\",IF(ISERROR(MATCH(D190,Simulador!$H$18:$H$19,0))=FALSE,\"D\",\"\"))","v":""},{"$f":"IF(E190=\"C\",0,IF(E190 =\"D\",ROUND(1/((1+Simulador!$Q$13)^A190),9) * 2,ROUND(1/((1+Simulador!$Q$13)^A190),9)))","v":0.20046712999999999},92.633089615000017]
[188,188,"2041-02-10",2,{"$f":"IF(ISERROR(MATCH(D191,Simulador!$H$16:$H$17,0))=FALSE,\"C\",IF(ISERROR(MATCH(D191,Simulador!$H$18:$H$19,0))=FALSE,\"D\",\"\"))","v":""},{"$f":"IF(E191=\"C\",0,IF(E191 =\"D\",ROUND(1/((1+Simulador!$Q$13)^A191),9) * 2,ROUND(1/((1+Simulador!$Q$13)^A191),9)))","v":0.19875166799999999},92.831841283000017]
[189,189,"2041-03-10",3,{"$f":"IF(ISERROR(MATCH(D192,Simulador!$H$16:$H$17,0))=FALSE,\"C\",IF(ISERROR(MATCH(D192,Simulador!$H$18:$H$19,0))=FALSE,\"D\",\"\"))","v":""},{"$f":"IF(E192=\"C\",0,IF(E192 =\"D\",ROUND(1/((1+Simulador!$Q$13)^A192),9) * 2,ROUND(1/((1+Simulador!$Q$13)^A192),9)))","v":0.19705088600000001},93.028892169000017]
[190,190,"2041-04-10",4,{"$f":"IF(ISERROR(MATCH(D193,Simulador!$H$16:$H$17,0))=FALSE,\"C\",IF(ISERROR(MATCH(D193,Simulador!$H$18:$H$19,0))=FALSE,\"D\",\"\"))","v":""},{"$f":"IF(E193=\"C\",0,IF(E193 =\"D\",ROUND(1/((1+Simulador!$Q$13)^A193),9) * 2,ROUND(1/((1+Simulador!$Q$13)^A193),9)))","v":0.195364659},93.224256828000023]
[191,191,"2041-05-10",5,{"$f":"IF(ISERROR(MATCH(D194,Simulador!$H$16:$H$17,0))=FALSE,\"C\",IF(ISERROR(MATCH(D194,Simulador!$H$18:$H$19,0))=FALSE,\"D\",\"\"))","v":""},{"$f":"IF(E194=\"C\",0,IF(E194 =\"D\",ROUND(1/((1+Simulador!$Q$13)^A194),9) * 2,ROUND(1/((1+Simulador!$Q$13)^A194),9)))","v":0.19369286099999999},93.417949689000025]
[192,192,"2041-06-10",6,{"$f":"IF(ISERROR(MATCH(D195,Simulador!$H$16:$H$17,0))=FALSE,\"C\",IF(ISERROR(MATCH(D195,Simulador!$H$18:$H$19,0))=FALSE,\"D\",\"\"))","v":""},{"$f":"IF(E195=\"C\",0,IF(E195 =\"D\",ROUND(1/((1+Simulador!$Q$13)^A195),9) * 2,ROUND(1/((1+Simulador!$Q$13)^A195),9)))","v":0.19203536900000001},93.609985058000021]
[193,193,"2041-07-10",{"$f":"MONTH(C196)","v":7},{"$f":"IF(ISERROR(MATCH(D196,Simulador!$H$16:$H$17,0))=FALSE,\"C\",IF(ISERROR(MATCH(D196,Simulador!$H$18:$H$19,0))=FALSE,\"D\",\"\"))","v":""},{"$f":"IF(E196=\"C\",0,IF(E196 =\"D\",ROUND(1/((1+Simulador!$Q$13)^A196),9) * 2,ROUND(1/((1+Simulador!$Q$13)^A196),9)))","v":0.190392061},93.800377119000018]
[{"$f":"A196+1","v":194},{"$f":"IF(E197<>\"C\",IF(ISERROR(1+B196)=TRUE,1,1+B196),IF(ISNUMBER(B196),B196,1))","v":194},{"$f":"DATE(YEAR(C196) + 1/12,MONTH(C196)+1,DAY(C196))","v":"2041-08-10"},8,{"$f":"IF(ISERROR(MATCH(D197,Simulador!$H$16:$H$17,0))=FALSE,\"C\",IF(ISERROR(MATCH(D197,Simulador!$H$18:$H$19,0))=FALSE,\"D\",\"\"))","v":""},{"$f":"IF(E197=\"C\",0,IF(E197 =\"D\",ROUND(1/((1+Simulador!$Q$13)^A197),9) * 2,ROUND(1/((1+Simulador!$Q$13)^A197),9)))","v":0.188762815},93.989139934000022]
[195,195,"2041-09-10",9,{"$f":"IF(ISERROR(MATCH(D198,Simulador!$H$16:$H$17,0))=FALSE,\"C\",IF(ISERROR(MATCH(D198,Simulador!$H$18:$H$19,0))=FALSE,\"D\",\"\"))","v":""},{"$f":"IF(E198=\"C\",0,IF(E198 =\"D\",ROUND(1/((1+Simulador!$Q$13)^A198),9) * 2,ROUND(1/((1+Simulador!$Q$13)^A198),9)))","v":0.18714751099999999},{"$f":"G197+ROUND(F198,9)","v":94.176287445000028}]
[196,196,"2041-10-10",10,{"$f":"IF(ISERROR(MATCH(D199,Simulador!$H$16:$H$17,0))=FALSE,\"C\",IF(ISERROR(MATCH(D199,Simulador!$H$18:$H$19,0))=FALSE,\"D\",\"\"))","v":""},{"$f":"IF(E199=\"C\",0,IF(E199 =\"D\",ROUND(1/((1+Simulador!$Q$13)^A199),9) * 2,ROUND(1/((1+Simulador!$Q$13)^A199),9)))","v":0.18554603},94.361833475000026]
[197,197,"2041-11-10",11,{"$f":"IF(ISERROR(MATCH(D200,Simulador!$H$16:$H$17,0))=FALSE,\"C\",IF(ISERROR(MATCH(D200,Simulador!$H$18:$H$19,0))=FALSE,\"D\",\"\"))","v":""},{"$f":"IF(E200=\"C\",0,IF(E200 =\"D\",ROUND(1/((1+Simulador!$Q$13)^A200),9) * 2,ROUND(1/((1+Simulador!$Q$13)^A200),9)))","v":0.18395825299999999},94.545791728000026]
[198,198,"2041-12-10",12,{"$f":"IF(ISERROR(MATCH(D201,Simulador!$H$16:$H$17,0))=FALSE,\"C\",IF(ISERROR(MATCH(D201,Simulador!$H$18:$H$19,0))=FALSE,\"D\",\"\"))","v":""},{"$f":"IF(E201=\"C\",0,IF(E201 =\"D\",ROUND(1/((1+Simulador!$Q$13)^A201),9) * 2,ROUND(1/((1+Simulador!$Q$13)^A201),9)))","v":0.18238406400000001},94.72817579200003]
[199,199,"2042-01-10",1,{"$f":"IF(ISERROR(MATCH(D202,Simulador!$H$16:$H$17,0))=FALSE,\"C\",IF(ISERROR(MATCH(D202,Simulador!$H$18:$H$19,0))=FALSE,\"D\",\"\"))","v":""},{"$f":"IF(E202=\"C\",0,IF(E202 =\"D\",ROUND(1/((1+Simulador!$Q$13)^A202),9) * 2,ROUND(1/((1+Simulador!$Q$13)^A202),9)))","v":0.180823345},94.908999137000023]
[200,200,"2042-02-10",2,{"$f":"IF(ISERROR(MATCH(D203,Simulador!$H$16:$H$17,0))=FALSE,\"C\",IF(ISERROR(MATCH(D203,Simulador!$H$18:$H$19,0))=FALSE,\"D\",\"\"))","v":""},{"$f":"IF(E203=\"C\",0,IF(E203 =\"D\",ROUND(1/((1+Simulador!$Q$13)^A203),9) * 2,ROUND(1/((1+Simulador!$Q$13)^A203),9)))","v":0.179275982},95.088275119000016]
[201,201,"2042-03-10",3,{"$f":"IF(ISERROR(MATCH(D204,Simulador!$H$16:$H$17,0))=FALSE,\"C\",IF(ISERROR(MATCH(D204,Simulador!$H$18:$H$19,0))=FALSE,\"D\",\"\"))","v":""},{"$f":"IF(E204=\"C\",0,IF(E204 =\"D\",ROUND(1/((1+Simulador!$Q$13)^A204),9) * 2,ROUND(1/((1+Simulador!$Q$13)^A204),9)))","v":0.17774186},95.266016979000014]
[202,202,"2042-04-10",4,{"$f":"IF(ISERROR(MATCH(D205,Simulador!$H$16:$H$17,0))=FALSE,\"C\",IF(ISERROR(MATCH(D205,Simulador!$H$18:$H$19,0))=FALSE,\"D\",\"\"))","v":""},{"$f":"IF(E205=\"C\",0,IF(E205 =\"D\",ROUND(1/((1+Simulador!$Q$13)^A205),9) * 2,ROUND(1/((1+Simulador!$Q$13)^A205),9)))","v":0.176220866},95.442237845000008]
[203,203,"2042-05-10",5,{"$f":"IF(ISERROR(MATCH(D206,Simulador!$H$16:$H$17,0))=FALSE,\"C\",IF(ISERROR(MATCH(D206,Simulador!$H$18:$H$19,0))=FALSE,\"D\",\"\"))","v":""},{"$f":"IF(E206=\"C\",0,IF(E206 =\"D\",ROUND(1/((1+Simulador!$Q$13)^A206),9) * 2,ROUND(1/((1+Simulador!$Q$13)^A206),9)))","v":0.17471288700000001},95.616950732000006]
[204,204,"2042-06-10",6,{"$f":"IF(ISERROR(MATCH(D207,Simulador!$H$16:$H$17,0))=FALSE,\"C\",IF(ISERROR(MATCH(D207,Simulador!$H$18:$H$19,0))=FALSE,\"D\",\"\"))","v":""},{"$f":"IF(E207=\"C\",0,IF(E207 =\"D\",ROUND(1/((1+Simulador!$Q$13)^A207),9) * 2,ROUND(1/((1+Simulador!$Q$13)^A207),9)))","v":0.173217813},95.790168545]
[205,205,"2042-07-10",7,{"$f":"IF(ISERROR(MATCH(D208,Simulador!$H$16:$H$17,0))=FALSE,\"C\",IF(ISERROR(MATCH(D208,Simulador!$H$18:$H$19,0))=FALSE,\"D\",\"\"))","v":""},{"$f":"IF(E208=\"C\",0,IF(E208 =\"D\",ROUND(1/((1+Simulador!$Q$13)^A208),9) * 2,ROUND(1/((1+Simulador!$Q$13)^A208),9)))","v":0.171735533},95.961904078000003]
[206,206,"2042-08-10",8,{"$f":"IF(ISERROR(MATCH(D209,Simulador!$H$16:$H$17,0))=FALSE,\"C\",IF(ISERROR(MATCH(D209,Simulador!$H$18:$H$19,0))=FALSE,\"D\",\"\"))","v":""},{"$f":"IF(E209=\"C\",0,IF(E209 =\"D\",ROUND(1/((1+Simulador!$Q$13)^A209),9) * 2,ROUND(1/((1+Simulador!$Q$13)^A209),9)))","v":0.17026593700000001},96.132170015]
[207,207,"2042-09-10",9,{"$f":"IF(ISERROR(MATCH(D210,Simulador!$H$16:$H$17,0))=FALSE,\"C\",IF(ISERROR(MATCH(D210,Simulador!$H$18:$H$19,0))=FALSE,\"D\",\"\"))","v":""},{"$f":"IF(E210=\"C\",0,IF(E210 =\"D\",ROUND(1/((1+Simulador!$Q$13)^A210),9) * 2,ROUND(1/((1+Simulador!$Q$13)^A210),9)))","v":0.168808917},96.300978932000007]
[208,208,"2042-10-10",10,{"$f":"IF(ISERROR(MATCH(D211,Simulador!$H$16:$H$17,0))=FALSE,\"C\",IF(ISERROR(MATCH(D211,Simulador!$H$18:$H$19,0))=FALSE,\"D\",\"\"))","v":""},{"$f":"IF(E211=\"C\",0,IF(E211 =\"D\",ROUND(1/((1+Simulador!$Q$13)^A211),9) * 2,ROUND(1/((1+Simulador!$Q$13)^A211),9)))","v":0.16736436499999999},96.468343297000004]
[209,209,"2042-11-10",11,{"$f":"IF(ISERROR(MATCH(D212,Simulador!$H$16:$H$17,0))=FALSE,\"C\",IF(ISERROR(MATCH(D212,Simulador!$H$18:$H$19,0))=FALSE,\"D\",\"\"))","v":""},{"$f":"IF(E212=\"C\",0,IF(E212 =\"D\",ROUND(1/((1+Simulador!$Q$13)^A212),9) * 2,ROUND(1/((1+Simulador!$Q$13)^A212),9)))","v":0.16593217399999999},96.634275471000009]
[210,210,"2042-12-10",12,{"$f":"IF(ISERROR(MATCH(D213,Simulador!$H$16:$H$17,0))=FALSE,\"C\",IF(ISERROR(MATCH(D213,Simulador!$H$18:$H$19,0))=FALSE,\"D\",\"\"))","v":""},{"$f":"IF(E213=\"C\",0,IF(E213 =\"D\",ROUND(1/((1+Simulador!$Q$13)^A213),9) * 2,ROUND(1/((1+Simulador!$Q$13)^A213),9)))","v":0.164512239},96.798787710000013]
[211,211,"2043-01-10",1,{"$f":"IF(ISERROR(MATCH(D214,Simulador!$H$16:$H$17,0))=FALSE,\"C\",IF(ISERROR(MATCH(D214,Simulador!$H$18:$H$19,0))=FALSE,\"D\",\"\"))","v":""},{"$f":"IF(E214=\"C\",0,IF(E214 =\"D\",ROUND(1/((1+Simulador!$Q$13)^A214),9) * 2,ROUND(1/((1+Simulador!$Q$13)^A214),9)))","v":0.16310445600000001},96.961892166000013]
[212,212,"2043-02-10",2,{"$f":"IF(ISERROR(MATCH(D215,Simulador!$H$16:$H$17,0))=FALSE,\"C\",IF(ISERROR(MATCH(D215,Simulador!$H$18:$H$19,0))=FALSE,\"D\",\"\"))","v":""},{"$f":"IF(E215=\"C\",0,IF(E215 =\"D\",ROUND(1/((1+Simulador!$Q$13)^A215),9) * 2,ROUND(1/((1+Simulador!$Q$13)^A215),9)))","v":0.161708719},97.123600885000016]
[213,213,"2043-03-10",3,{"$f":"IF(ISERROR(MATCH(D216,Simulador!$H$16:$H$17,0))=FALSE,\"C\",IF(ISERROR(MATCH(D216,Simulador!$H$18:$H$19,0))=FALSE,\"D\",\"\"))","v":""},{"$f":"IF(E216=\"C\",0,IF(E216 =\"D\",ROUND(1/((1+Simulador!$Q$13)^A216),9) * 2,ROUND(1/((1+Simulador!$Q$13)^A216),9)))","v":0.16032492500000001},97.283925810000014]
[214,214,"2043-04-10",4,{"$f":"IF(ISERROR(MATCH(D217,Simulador!$H$16:$H$17,0))=FALSE,\"C\",IF(ISERROR(MATCH(D217,Simulador!$H$18:$H$19,0))=FALSE,\"D\",\"\"))","v":""},{"$f":"IF(E217=\"C\",0,IF(E217 =\"D\",ROUND(1/((1+Simulador!$Q$13)^A217),9) * 2,ROUND(1/((1+Simulador!$Q$13)^A217),9)))","v":0.158952973},97.442878783000012]
[215,215,"2043-05-10",5,{"$f":"IF(ISERROR(MATCH(D218,Simulador!$H$16:$H$17,0))=FALSE,\"C\",IF(ISERROR(MATCH(D218,Simulador!$H$18:$H$19,0))=FALSE,\"D\",\"\"))","v":""},{"$f":"IF(E218=\"C\",0,IF(E218 =\"D\",ROUND(1/((1+Simulador!$Q$13)^A218),9) * 2,ROUND(1/((1+Simulador!$Q$13)^A218),9)))","v":0.157592762},97.600471545000005]
[216,216,"2043-06-10",6,{"$f":"IF(ISERROR(MATCH(D219,Simulador!$H$16:$H$17,0))=FALSE,\"C\",IF(ISERROR(MATCH(D219,Simulador!$H$18:$H$19,0))=FALSE,\"D\",\"\"))","v":""},{"$f":"IF(E219=\"C\",0,IF(E219 =\"D\",ROUND(1/((1+Simulador!$Q$13)^A219),9) * 2,ROUND(1/((1+Simulador!$Q$13)^A219),9)))","v":0.15624419000000001},97.756715735]
[217,217,"2043-07-10",7,{"$f":"IF(ISERROR(MATCH(D220,Simulador!$H$16:$H$17,0))=FALSE,\"C\",IF(ISERROR(MATCH(D220,Simulador!$H$18:$H$19,0))=FALSE,\"D\",\"\"))","v":""},{"$f":"IF(E220=\"C\",0,IF(E220 =\"D\",ROUND(1/((1+Simulador!$Q$13)^A220),9) * 2,ROUND(1/((1+Simulador!$Q$13)^A220),9)))","v":0.15490715899999999},97.911622894000004]
[218,218,"2043-08-10",8,{"$f":"IF(ISERROR(MATCH(D221,Simulador!$H$16:$H$17,0))=FALSE,\"C\",IF(ISERROR(MATCH(D221,Simulador!$H$18:$H$19,0))=FALSE,\"D\",\"\"))","v":""},{"$f":"IF(E221=\"C\",0,IF(E221 =\"D\",ROUND(1/((1+Simulador!$Q$13)^A221),9) * 2,ROUND(1/((1+Simulador!$Q$13)^A221),9)))","v":0.153581569},98.065204463000001]
[219,219,"2043-09-10",9,{"$f":"IF(ISERROR(MATCH(D222,Simulador!$H$16:$H$17,0))=FALSE,\"C\",IF(ISERROR(MATCH(D222,Simulador!$H$18:$H$19,0))=FALSE,\"D\",\"\"))","v":""},{"$f":"IF(E222=\"C\",0,IF(E222 =\"D\",ROUND(1/((1+Simulador!$Q$13)^A222),9) * 2,ROUND(1/((1+Simulador!$Q$13)^A222),9)))","v":0.15226732200000001},98.217471785000001]
[220,220,"2043-10-10",10,{"$f":"IF(ISERROR(MATCH(D223,Simulador!$H$16:$H$17,0))=FALSE,\"C\",IF(ISERROR(MATCH(D223,Simulador!$H$18:$H$19,0))=FALSE,\"D\",\"\"))","v":""},{"$f":"IF(E223=\"C\",0,IF(E223 =\"D\",ROUND(1/((1+Simulador!$Q$13)^A223),9) * 2,ROUND(1/((1+Simulador!$Q$13)^A223),9)))","v":0.15096432200000001},98.368436106999994]
[221,221,"2043-11-10",11,{"$f":"IF(ISERROR(MATCH(D224,Simulador!$H$16:$H$17,0))=FALSE,\"C\",IF(ISERROR(MATCH(D224,Simulador!$H$18:$H$19,0))=FALSE,\"D\",\"\"))","v":""},{"$f":"IF(E224=\"C\",0,IF(E224 =\"D\",ROUND(1/((1+Simulador!$Q$13)^A224),9) * 2,ROUND(1/((1+Simulador!$Q$13)^A224),9)))","v":0.149672472},98.518108579]
[222,222,"2043-12-10",12,{"$f":"IF(ISERROR(MATCH(D225,Simulador!$H$16:$H$17,0))=FALSE,\"C\",IF(ISERROR(MATCH(D225,Simulador!$H$18:$H$19,0))=FALSE,\"D\",\"\"))","v":""},{"$f":"IF(E225=\"C\",0,IF(E225 =\"D\",ROUND(1/((1+Simulador!$Q$13)^A225),9) * 2,ROUND(1/((1+Simulador!$Q$13)^A225),9)))","v":0.148391676},98.666500255000003]
[223,223,"2044-01-10",1,{"$f":"IF(ISERROR(MATCH(D226,Simulador!$H$16:$H$17,0))=FALSE,\"C\",IF(ISERROR(MATCH(D226,Simulador!$H$18:$H$19,0))=FALSE,\"D\",\"\"))","v":""},{"$f":"IF(E226=\"C\",0,IF(E226 =\"D\",ROUND(1/((1+Simulador!$Q$13)^A226),9) * 2,ROUND(1/((1+Simulador!$Q$13)^A226),9)))","v":0.147121841},98.813622096000003]
[224,224,"2044-02-10",2,{"$f":"IF(ISERROR(MATCH(D227,Simulador!$H$16:$H$17,0))=FALSE,\"C\",IF(ISERROR(MATCH(D227,Simulador!$H$18:$H$19,0))=FALSE,\"D\",\"\"))","v":""},{"$f":"IF(E227=\"C\",0,IF(E227 =\"D\",ROUND(1/((1+Simulador!$Q$13)^A227),9) * 2,ROUND(1/((1+Simulador!$Q$13)^A227),9)))","v":0.145862873},98.959484969000002]
[225,225,"2044-03-10",3,{"$f":"IF(ISERROR(MATCH(D228,Simulador!$H$16:$H$17,0))=FALSE,\"C\",IF(ISERROR(MATCH(D228,Simulador!$H$18:$H$19,0))=FALSE,\"D\",\"\"))","v":""},{"$f":"IF(E228=\"C\",0,IF(E228 =\"D\",ROUND(1/((1+Simulador!$Q$13)^A228),9) * 2,ROUND(1/((1+Simulador!$Q$13)^A228),9)))","v":0.144614677},99.104099646000009]
[226,226,"2044-04-10",4,{"$f":"IF(ISERROR(MATCH(D229,Simulador!$H$16:$H$17,0))=FALSE,\"C\",IF(ISERROR(MATCH(D229,Simulador!$H$18:$H$19,0))=FALSE,\"D\",\"\"))","v":""},{"$f":"IF(E229=\"C\",0,IF(E229 =\"D\",ROUND(1/((1+Simulador!$Q$13)^A229),9) * 2,ROUND(1/((1+Simulador!$Q$13)^A229),9)))","v":0.143377163},99.247476809000005]
[227,227,"2044-05-10",5,{"$f":"IF(ISERROR(MATCH(D230,Simulador!$H$16:$H$17,0))=FALSE,\"C\",IF(ISERROR(MATCH(D230,Simulador!$H$18:$H$19,0))=FALSE,\"D\",\"\"))","v":""},{"$f":"IF(E230=\"C\",0,IF(E230 =\"D\",ROUND(1/((1+Simulador!$Q$13)^A230),9) * 2,ROUND(1/((1+Simulador!$Q$13)^A230),9)))","v":0.14215023900000001},99.389627048000008]
[228,228,"2044-06-10",6,{"$f":"IF(ISERROR(MATCH(D231,Simulador!$H$16:$H$17,0))=FALSE,\"C\",IF(ISERROR(MATCH(D231,Simulador!$H$18:$H$19,0))=FALSE,\"D\",\"\"))","v":""},{"$f":"IF(E231=\"C\",0,IF(E231 =\"D\",ROUND(1/((1+Simulador!$Q$13)^A231),9) * 2,ROUND(1/((1+Simulador!$Q$13)^A231),9)))","v":0.14093381399999999},99.530560862000002]
[229,229,"2044-07-10",7,{"$f":"IF(ISERROR(MATCH(D232,Simulador!$H$16:$H$17,0))=FALSE,\"C\",IF(ISERROR(MATCH(D232,Simulador!$H$18:$H$19,0))=FALSE,\"D\",\"\"))","v":""},{"$f":"IF(E232=\"C\",0,IF(E232 =\"D\",ROUND(1/((1+Simulador!$Q$13)^A232),9) * 2,ROUND(1/((1+Simulador!$Q$13)^A232),9)))","v":0.13972779799999999},99.670288659999997]
[230,230,"2044-08-10",8,{"$f":"IF(ISERROR(MATCH(D233,Simulador!$H$16:$H$17,0))=FALSE,\"C\",IF(ISERROR(MATCH(D233,Simulador!$H$18:$H$19,0))=FALSE,\"D\",\"\"))","v":""},{"$f":"IF(E233=\"C\",0,IF(E233 =\"D\",ROUND(1/((1+Simulador!$Q$13)^A233),9) * 2,ROUND(1/((1+Simulador!$Q$13)^A233),9)))","v":0.13853210199999999},99.808820761999996]
[231,231,"2044-09-10",9,{"$f":"IF(ISERROR(MATCH(D234,Simulador!$H$16:$H$17,0))=FALSE,\"C\",IF(ISERROR(MATCH(D234,Simulador!$H$18:$H$19,0))=FALSE,\"D\",\"\"))","v":""},{"$f":"IF(E234=\"C\",0,IF(E234 =\"D\",ROUND(1/((1+Simulador!$Q$13)^A234),9) * 2,ROUND(1/((1+Simulador!$Q$13)^A234),9)))","v":0.13734663899999999},99.946167400999997]
[232,232,"2044-10-10",10,{"$f":"IF(ISERROR(MATCH(D235,Simulador!$H$16:$H$17,0))=FALSE,\"C\",IF(ISERROR(MATCH(D235,Simulador!$H$18:$H$19,0))=FALSE,\"D\",\"\"))","v":""},{"$f":"IF(E235=\"C\",0,IF(E235 =\"D\",ROUND(1/((1+Simulador!$Q$13)^A235),9) * 2,ROUND(1/((1+Simulador!$Q$13)^A235),9)))","v":0.13617132000000001},100.082338721]
[233,233,"2044-11-10",11,{"$f":"IF(ISERROR(MATCH(D236,Simulador!$H$16:$H$17,0))=FALSE,\"C\",IF(ISERROR(MATCH(D236,Simulador!$H$18:$H$19,0))=FALSE,\"D\",\"\"))","v":""},{"$f":"IF(E236=\"C\",0,IF(E236 =\"D\",ROUND(1/((1+Simulador!$Q$13)^A236),9) * 2,ROUND(1/((1+Simulador!$Q$13)^A236),9)))","v":0.13500605800000001},100.217344779]
[234,234,"2044-12-10",12,{"$f":"IF(ISERROR(MATCH(D237,Simulador!$H$16:$H$17,0))=FALSE,\"C\",IF(ISERROR(MATCH(D237,Simulador!$H$18:$H$19,0))=FALSE,\"D\",\"\"))","v":""},{"$f":"IF(E237=\"C\",0,IF(E237 =\"D\",ROUND(1/((1+Simulador!$Q$13)^A237),9) * 2,ROUND(1/((1+Simulador!$Q$13)^A237),9)))","v":0.13385076800000001},100.351195547]
[235,235,"2045-01-10",1,{"$f":"IF(ISERROR(MATCH(D238,Simulador!$H$16:$H$17,0))=FALSE,\"C\",IF(ISERROR(MATCH(D238,Simulador!$H$18:$H$19,0))=FALSE,\"D\",\"\"))","v":""},{"$f":"IF(E238=\"C\",0,IF(E238 =\"D\",ROUND(1/((1+Simulador!$Q$13)^A238),9) * 2,ROUND(1/((1+Simulador!$Q$13)^A238),9)))","v":0.13270536399999999},100.48390091100001]
[236,236,"2045-02-10",2,{"$f":"IF(ISERROR(MATCH(D239,Simulador!$H$16:$H$17,0))=FALSE,\"C\",IF(ISERROR(MATCH(D239,Simulador!$H$18:$H$19,0))=FALSE,\"D\",\"\"))","v":""},{"$f":"IF(E239=\"C\",0,IF(E239 =\"D\",ROUND(1/((1+Simulador!$Q$13)^A239),9) * 2,ROUND(1/((1+Simulador!$Q$13)^A239),9)))","v":0.13156976200000001},100.615470673]
[237,237,"2045-03-10",3,{"$f":"IF(ISERROR(MATCH(D240,Simulador!$H$16:$H$17,0))=FALSE,\"C\",IF(ISERROR(MATCH(D240,Simulador!$H$18:$H$19,0))=FALSE,\"D\",\"\"))","v":""},{"$f":"IF(E240=\"C\",0,IF(E240 =\"D\",ROUND(1/((1+Simulador!$Q$13)^A240),9) * 2,ROUND(1/((1+Simulador!$Q$13)^A240),9)))","v":0.13044387700000001},100.74591455000001]
[238,238,"2045-04-10",4,{"$f":"IF(ISERROR(MATCH(D241,Simulador!$H$16:$H$17,0))=FALSE,\"C\",IF(ISERROR(MATCH(D241,Simulador!$H$18:$H$19,0))=FALSE,\"D\",\"\"))","v":""},{"$f":"IF(E241=\"C\",0,IF(E241 =\"D\",ROUND(1/((1+Simulador!$Q$13)^A241),9) * 2,ROUND(1/((1+Simulador!$Q$13)^A241),9)))","v":0.129327627},100.875242177]
[239,239,"2045-05-10",5,{"$f":"IF(ISERROR(MATCH(D242,Simulador!$H$16:$H$17,0))=FALSE,\"C\",IF(ISERROR(MATCH(D242,Simulador!$H$18:$H$19,0))=FALSE,\"D\",\"\"))","v":""},{"$f":"IF(E242=\"C\",0,IF(E242 =\"D\",ROUND(1/((1+Simulador!$Q$13)^A242),9) * 2,ROUND(1/((1+Simulador!$Q$13)^A242),9)))","v":0.12822092900000001},101.003463106]
[240,240,"2045-06-10",6,{"$f":"IF(ISERROR(MATCH(D243,Simulador!$H$16:$H$17,0))=FALSE,\"C\",IF(ISERROR(MATCH(D243,Simulador!$H$18:$H$19,0))=FALSE,\"D\",\"\"))","v":""},{"$f":"IF(E243=\"C\",0,IF(E243 =\"D\",ROUND(1/((1+Simulador!$Q$13)^A243),9) * 2,ROUND(1/((1+Simulador!$Q$13)^A243),9)))","v":0.12712370200000001},101.130586808]
[241,241,"2045-07-10",7,{"$f":"IF(ISERROR(MATCH(D244,Simulador!$H$16:$H$17,0))=FALSE,\"C\",IF(ISERROR(MATCH(D244,Simulador!$H$18:$H$19,0))=FALSE,\"D\",\"\"))","v":""},{"$f":"IF(E244=\"C\",0,IF(E244 =\"D\",ROUND(1/((1+Simulador!$Q$13)^A244),9) * 2,ROUND(1/((1+Simulador!$Q$13)^A244),9)))","v":0.126035864},101.25662267200001]
[242,242,"2045-08-10",8,{"$f":"IF(ISERROR(MATCH(D245,Simulador!$H$16:$H$17,0))=FALSE,\"C\",IF(ISERROR(MATCH(D245,Simulador!$H$18:$H$19,0))=FALSE,\"D\",\"\"))","v":""},{"$f":"IF(E245=\"C\",0,IF(E245 =\"D\",ROUND(1/((1+Simulador!$Q$13)^A245),9) * 2,ROUND(1/((1+Simulador!$Q$13)^A245),9)))","v":0.124957334},101.38158000600001]
[243,243,"2045-09-10",9,{"$f":"IF(ISERROR(MATCH(D246,Simulador!$H$16:$H$17,0))=FALSE,\"C\",IF(ISERROR(MATCH(D246,Simulador!$H$18:$H$19,0))=FALSE,\"D\",\"\"))","v":""},{"$f":"IF(E246=\"C\",0,IF(E246 =\"D\",ROUND(1/((1+Simulador!$Q$13)^A246),9) * 2,ROUND(1/((1+Simulador!$Q$13)^A246),9)))","v":0.12388803399999999},101.50546804000001]
[244,244,"2045-10-10",10,{"$f":"IF(ISERROR(MATCH(D247,Simulador!$H$16:$H$17,0))=FALSE,\"C\",IF(ISERROR(MATCH(D247,Simulador!$H$18:$H$19,0))=FALSE,\"D\",\"\"))","v":""},{"$f":"IF(E247=\"C\",0,IF(E247 =\"D\",ROUND(1/((1+Simulador!$Q$13)^A247),9) * 2,ROUND(1/((1+Simulador!$Q$13)^A247),9)))","v":0.122827885},101.62829592500002]
[245,245,"2045-11-10",11,{"$f":"IF(ISERROR(MATCH(D248,Simulador!$H$16:$H$17,0))=FALSE,\"C\",IF(ISERROR(MATCH(D248,Simulador!$H$18:$H$19,0))=FALSE,\"D\",\"\"))","v":""},{"$f":"IF(E248=\"C\",0,IF(E248 =\"D\",ROUND(1/((1+Simulador!$Q$13)^A248),9) * 2,ROUND(1/((1+Simulador!$Q$13)^A248),9)))","v":0.121776807},101.75007273200002]
[246,246,"2045-12-10",12,{"$f":"IF(ISERROR(MATCH(D249,Simulador!$H$16:$H$17,0))=FALSE,\"C\",IF(ISERROR(MATCH(D249,Simulador!$H$18:$H$19,0))=FALSE,\"D\",\"\"))","v":""},{"$f":"IF(E249=\"C\",0,IF(E249 =\"D\",ROUND(1/((1+Simulador!$Q$13)^A249),9) * 2,ROUND(1/((1+Simulador!$Q$13)^A249),9)))","v":0.120734724},101.87080745600002]
[247,247,"2046-01-10",1,{"$f":"IF(ISERROR(MATCH(D250,Simulador!$H$16:$H$17,0))=FALSE,\"C\",IF(ISERROR(MATCH(D250,Simulador!$H$18:$H$19,0))=FALSE,\"D\",\"\"))","v":""},{"$f":"IF(E250=\"C\",0,IF(E250 =\"D\",ROUND(1/((1+Simulador!$Q$13)^A250),9) * 2,ROUND(1/((1+Simulador!$Q$13)^A250),9)))","v":0.119701558},101.99050901400003]
[248,248,"2046-02-10",2,{"$f":"IF(ISERROR(MATCH(D251,Simulador!$H$16:$H$17,0))=FALSE,\"C\",IF(ISERROR(MATCH(D251,Simulador!$H$18:$H$19,0))=FALSE,\"D\",\"\"))","v":""},{"$f":"IF(E251=\"C\",0,IF(E251 =\"D\",ROUND(1/((1+Simulador!$Q$13)^A251),9) * 2,ROUND(1/((1+Simulador!$Q$13)^A251),9)))","v":0.11867723400000001},102.10918624800003]
[249,249,"2046-03-10",3,{"$f":"IF(ISERROR(MATCH(D252,Simulador!$H$16:$H$17,0))=FALSE,\"C\",IF(ISERROR(MATCH(D252,Simulador!$H$18:$H$19,0))=FALSE,\"D\",\"\"))","v":""},{"$f":"IF(E252=\"C\",0,IF(E252 =\"D\",ROUND(1/((1+Simulador!$Q$13)^A252),9) * 2,ROUND(1/((1+Simulador!$Q$13)^A252),9)))","v":0.11766167499999999},102.22684792300002]
[250,250,"2046-04-10",4,{"$f":"IF(ISERROR(MATCH(D253,Simulador!$H$16:$H$17,0))=FALSE,\"C\",IF(ISERROR(MATCH(D253,Simulador!$H$18:$H$19,0))=FALSE,\"D\",\"\"))","v":""},{"$f":"IF(E253=\"C\",0,IF(E253 =\"D\",ROUND(1/((1+Simulador!$Q$13)^A253),9) * 2,ROUND(1/((1+Simulador!$Q$13)^A253),9)))","v":0.116654806},102.34350272900002]
[251,251,"2046-05-10",5,{"$f":"IF(ISERROR(MATCH(D254,Simulador!$H$16:$H$17,0))=FALSE,\"C\",IF(ISERROR(MATCH(D254,Simulador!$H$18:$H$19,0))=FALSE,\"D\",\"\"))","v":""},{"$f":"IF(E254=\"C\",0,IF(E254 =\"D\",ROUND(1/((1+Simulador!$Q$13)^A254),9) * 2,ROUND(1/((1+Simulador!$Q$13)^A254),9)))","v":0.11565655399999999},102.45915928300002]
[252,252,"2046-06-10",6,{"$f":"IF(ISERROR(MATCH(D255,Simulador!$H$16:$H$17,0))=FALSE,\"C\",IF(ISERROR(MATCH(D255,Simulador!$H$18:$H$19,0))=FALSE,\"D\",\"\"))","v":""},{"$f":"IF(E255=\"C\",0,IF(E255 =\"D\",ROUND(1/((1+Simulador!$Q$13)^A255),9) * 2,ROUND(1/((1+Simulador!$Q$13)^A255),9)))","v":0.114666843},102.57382612600001]
[253,253,"2046-07-10",7,{"$f":"IF(ISERROR(MATCH(D256,Simulador!$H$16:$H$17,0))=FALSE,\"C\",IF(ISERROR(MATCH(D256,Simulador!$H$18:$H$19,0))=FALSE,\"D\",\"\"))","v":""},{"$f":"IF(E256=\"C\",0,IF(E256 =\"D\",ROUND(1/((1+Simulador!$Q$13)^A256),9) * 2,ROUND(1/((1+Simulador!$Q$13)^A256),9)))","v":0.113685603},102.68751172900001]
[254,254,"2046-08-10",8,{"$f":"IF(ISERROR(MATCH(D257,Simulador!$H$16:$H$17,0))=FALSE,\"C\",IF(ISERROR(MATCH(D257,Simulador!$H$18:$H$19,0))=FALSE,\"D\",\"\"))","v":""},{"$f":"IF(E257=\"C\",0,IF(E257 =\"D\",ROUND(1/((1+Simulador!$Q$13)^A257),9) * 2,ROUND(1/((1+Simulador!$Q$13)^A257),9)))","v":0.112712758},102.80022448700001]
[255,255,"2046-09-10",9,{"$f":"IF(ISERROR(MATCH(D258,Simulador!$H$16:$H$17,0))=FALSE,\"C\",IF(ISERROR(MATCH(D258,Simulador!$H$18:$H$19,0))=FALSE,\"D\",\"\"))","v":""},{"$f":"IF(E258=\"C\",0,IF(E258 =\"D\",ROUND(1/((1+Simulador!$Q$13)^A258),9) * 2,ROUND(1/((1+Simulador!$Q$13)^A258),9)))","v":0.111748239},102.911972726]
[256,256,"2046-10-10",10,{"$f":"IF(ISERROR(MATCH(D259,Simulador!$H$16:$H$17,0))=FALSE,\"C\",IF(ISERROR(MATCH(D259,Simulador!$H$18:$H$19,0))=FALSE,\"D\",\"\"))","v":""},{"$f":"IF(E259=\"C\",0,IF(E259 =\"D\",ROUND(1/((1+Simulador!$Q$13)^A259),9) * 2,ROUND(1/((1+Simulador!$Q$13)^A259),9)))","v":0.110791974},103.0227647]
[257,257,"2046-11-10",{"$f":"MONTH(C260)","v":11},{"$f":"IF(ISERROR(MATCH(D260,Simulador!$H$16:$H$17,0))=FALSE,\"C\",IF(ISERROR(MATCH(D260,Simulador!$H$18:$H$19,0))=FALSE,\"D\",\"\"))","v":""},{"$f":"IF(E260=\"C\",0,IF(E260 =\"D\",ROUND(1/((1+Simulador!$Q$13)^A260),9) * 2,ROUND(1/((1+Simulador!$Q$13)^A260),9)))","v":0.109843891},103.13260859099999]
[{"$f":"A260+1","v":258},{"$f":"IF(E261<>\"C\",IF(ISERROR(1+B260)=TRUE,1,1+B260),IF(ISNUMBER(B260),B260,1))","v":258},{"$f":"DATE(YEAR(C260) + 1/12,MONTH(C260)+1,DAY(C260))","v":"2046-12-10"},12,{"$f":"IF(ISERROR(MATCH(D261,Simulador!$H$16:$H$17,0))=FALSE,\"C\",IF(ISERROR(MATCH(D261,Simulador!$H$18:$H$19,0))=FALSE,\"D\",\"\"))","v":""},{"$f":"IF(E261=\"C\",0,IF(E261 =\"D\",ROUND(1/((1+Simulador!$Q$13)^A261),9) * 2,ROUND(1/((1+Simulador!$Q$13)^A261),9)))","v":0.108903922},103.24151251299999]
[259,259,"2047-01-10",1,{"$f":"IF(ISERROR(MATCH(D262,Simulador!$H$16:$H$17,0))=FALSE,\"C\",IF(ISERROR(MATCH(D262,Simulador!$H$18:$H$19,0))=FALSE,\"D\",\"\"))","v":""},{"$f":"IF(E262=\"C\",0,IF(E262 =\"D\",ROUND(1/((1+Simulador!$Q$13)^A262),9) * 2,ROUND(1/((1+Simulador!$Q$13)^A262),9)))","v":0.107971996},{"$f":"G261+ROUND(F262,9)","v":103.34948450899999}]
[260,260,"2047-02-10",2,{"$f":"IF(ISERROR(MATCH(D263,Simulador!$H$16:$H$17,0))=FALSE,\"C\",IF(ISERROR(MATCH(D263,Simulador!$H$18:$H$19,0))=FALSE,\"D\",\"\"))","v":""},{"$f":"IF(E263=\"C\",0,IF(E263 =\"D\",ROUND(1/((1+Simulador!$Q$13)^A263),9) * 2,ROUND(1/((1+Simulador!$Q$13)^A263),9)))","v":0.10704804499999999},103.45653255399999]
[261,261,"2047-03-10",3,{"$f":"IF(ISERROR(MATCH(D264,Simulador!$H$16:$H$17,0))=FALSE,\"C\",IF(ISERROR(MATCH(D264,Simulador!$H$18:$H$19,0))=FALSE,\"D\",\"\"))","v":""},{"$f":"IF(E264=\"C\",0,IF(E264 =\"D\",ROUND(1/((1+Simulador!$Q$13)^A264),9) * 2,ROUND(1/((1+Simulador!$Q$13)^A264),9)))","v":0.106132001},103.562664555]
[262,262,"2047-04-10",4,{"$f":"IF(ISERROR(MATCH(D265,Simulador!$H$16:$H$17,0))=FALSE,\"C\",IF(ISERROR(MATCH(D265,Simulador!$H$18:$H$19,0))=FALSE,\"D\",\"\"))","v":""},{"$f":"IF(E265=\"C\",0,IF(E265 =\"D\",ROUND(1/((1+Simulador!$Q$13)^A265),9) * 2,ROUND(1/((1+Simulador!$Q$13)^A265),9)))","v":0.10522379499999999},103.66788835]
[263,263,"2047-05-10",5,{"$f":"IF(ISERROR(MATCH(D266,Simulador!$H$16:$H$17,0))=FALSE,\"C\",IF(ISERROR(MATCH(D266,Simulador!$H$18:$H$19,0))=FALSE,\"D\",\"\"))","v":""},{"$f":"IF(E266=\"C\",0,IF(E266 =\"D\",ROUND(1/((1+Simulador!$Q$13)^A266),9) * 2,ROUND(1/((1+Simulador!$Q$13)^A266),9)))","v":0.104323362},103.772211712]
[264,264,"2047-06-10",6,{"$f":"IF(ISERROR(MATCH(D267,Simulador!$H$16:$H$17,0))=FALSE,\"C\",IF(ISERROR(MATCH(D267,Simulador!$H$18:$H$19,0))=FALSE,\"D\",\"\"))","v":""},{"$f":"IF(E267=\"C\",0,IF(E267 =\"D\",ROUND(1/((1+Simulador!$Q$13)^A267),9) * 2,ROUND(1/((1+Simulador!$Q$13)^A267),9)))","v":0.10343063299999999},103.875642345]
[265,265,"2047-07-10",7,{"$f":"IF(ISERROR(MATCH(D268,Simulador!$H$16:$H$17,0))=FALSE,\"C\",IF(ISERROR(MATCH(D268,Simulador!$H$18:$H$19,0))=FALSE,\"D\",\"\"))","v":""},{"$f":"IF(E268=\"C\",0,IF(E268 =\"D\",ROUND(1/((1+Simulador!$Q$13)^A268),9) * 2,ROUND(1/((1+Simulador!$Q$13)^A268),9)))","v":0.102545544},103.978187889]
[266,266,"2047-08-10",8,{"$f":"IF(ISERROR(MATCH(D269,Simulador!$H$16:$H$17,0))=FALSE,\"C\",IF(ISERROR(MATCH(D269,Simulador!$H$18:$H$19,0))=FALSE,\"D\",\"\"))","v":""},{"$f":"IF(E269=\"C\",0,IF(E269 =\"D\",ROUND(1/((1+Simulador!$Q$13)^A269),9) * 2,ROUND(1/((1+Simulador!$Q$13)^A269),9)))","v":0.10166802899999999},104.07985591799999]
[267,267,"2047-09-10",9,{"$f":"IF(ISERROR(MATCH(D270,Simulador!$H$16:$H$17,0))=FALSE,\"C\",IF(ISERROR(MATCH(D270,Simulador!$H$18:$H$19,0))=FALSE,\"D\",\"\"))","v":""},{"$f":"IF(E270=\"C\",0,IF(E270 =\"D\",ROUND(1/((1+Simulador!$Q$13)^A270),9) * 2,ROUND(1/((1+Simulador!$Q$13)^A270),9)))","v":0.100798023},104.18065394099999]
[268,268,"2047-10-10",10,{"$f":"IF(ISERROR(MATCH(D271,Simulador!$H$16:$H$17,0))=FALSE,\"C\",IF(ISERROR(MATCH(D271,Simulador!$H$18:$H$19,0))=FALSE,\"D\",\"\"))","v":""},{"$f":"IF(E271=\"C\",0,IF(E271 =\"D\",ROUND(1/((1+Simulador!$Q$13)^A271),9) * 2,ROUND(1/((1+Simulador!$Q$13)^A271),9)))","v":9.9935462000000003E-2},104.28058940299999]
[269,269,"2047-11-10",11,{"$f":"IF(ISERROR(MATCH(D272,Simulador!$H$16:$H$17,0))=FALSE,\"C\",IF(ISERROR(MATCH(D272,Simulador!$H$18:$H$19,0))=FALSE,\"D\",\"\"))","v":""},{"$f":"IF(E272=\"C\",0,IF(E272 =\"D\",ROUND(1/((1+Simulador!$Q$13)^A272),9) * 2,ROUND(1/((1+Simulador!$Q$13)^A272),9)))","v":9.9080283000000005E-2},104.379669686]
[270,270,"2047-12-10",12,{"$f":"IF(ISERROR(MATCH(D273,Simulador!$H$16:$H$17,0))=FALSE,\"C\",IF(ISERROR(MATCH(D273,Simulador!$H$18:$H$19,0))=FALSE,\"D\",\"\"))","v":""},{"$f":"IF(E273=\"C\",0,IF(E273 =\"D\",ROUND(1/((1+Simulador!$Q$13)^A273),9) * 2,ROUND(1/((1+Simulador!$Q$13)^A273),9)))","v":9.8232421E-2},104.47790210700001]
[271,271,"2048-01-10",1,{"$f":"IF(ISERROR(MATCH(D274,Simulador!$H$16:$H$17,0))=FALSE,\"C\",IF(ISERROR(MATCH(D274,Simulador!$H$18:$H$19,0))=FALSE,\"D\",\"\"))","v":""},{"$f":"IF(E274=\"C\",0,IF(E274 =\"D\",ROUND(1/((1+Simulador!$Q$13)^A274),9) * 2,ROUND(1/((1+Simulador!$Q$13)^A274),9)))","v":9.7391815000000007E-2},104.575293922]
[272,272,"2048-02-10",2,{"$f":"IF(ISERROR(MATCH(D275,Simulador!$H$16:$H$17,0))=FALSE,\"C\",IF(ISERROR(MATCH(D275,Simulador!$H$18:$H$19,0))=FALSE,\"D\",\"\"))","v":""},{"$f":"IF(E275=\"C\",0,IF(E275 =\"D\",ROUND(1/((1+Simulador!$Q$13)^A275),9) * 2,ROUND(1/((1+Simulador!$Q$13)^A275),9)))","v":9.6558402000000002E-2},104.671852324]
[273,273,"2048-03-10",3,{"$f":"IF(ISERROR(MATCH(D276,Simulador!$H$16:$H$17,0))=FALSE,\"C\",IF(ISERROR(MATCH(D276,Simulador!$H$18:$H$19,0))=FALSE,\"D\",\"\"))","v":""},{"$f":"IF(E276=\"C\",0,IF(E276 =\"D\",ROUND(1/((1+Simulador!$Q$13)^A276),9) * 2,ROUND(1/((1+Simulador!$Q$13)^A276),9)))","v":9.5732120000000004E-2},104.76758444399999]
[274,274,"2048-04-10",4,{"$f":"IF(ISERROR(MATCH(D277,Simulador!$H$16:$H$17,0))=FALSE,\"C\",IF(ISERROR(MATCH(D277,Simulador!$H$18:$H$19,0))=FALSE,\"D\",\"\"))","v":""},{"$f":"IF(E277=\"C\",0,IF(E277 =\"D\",ROUND(1/((1+Simulador!$Q$13)^A277),9) * 2,ROUND(1/((1+Simulador!$Q$13)^A277),9)))","v":9.4912910000000003E-2},104.862497354]
[275,275,"2048-05-10",5,{"$f":"IF(ISERROR(MATCH(D278,Simulador!$H$16:$H$17,0))=FALSE,\"C\",IF(ISERROR(MATCH(D278,Simulador!$H$18:$H$19,0))=FALSE,\"D\",\"\"))","v":""},{"$f":"IF(E278=\"C\",0,IF(E278 =\"D\",ROUND(1/((1+Simulador!$Q$13)^A278),9) * 2,ROUND(1/((1+Simulador!$Q$13)^A278),9)))","v":9.4100710000000004E-2},104.956598064]
[276,276,"2048-06-10",6,{"$f":"IF(ISERROR(MATCH(D279,Simulador!$H$16:$H$17,0))=FALSE,\"C\",IF(ISERROR(MATCH(D279,Simulador!$H$18:$H$19,0))=FALSE,\"D\",\"\"))","v":""},{"$f":"IF(E279=\"C\",0,IF(E279 =\"D\",ROUND(1/((1+Simulador!$Q$13)^A279),9) * 2,ROUND(1/((1+Simulador!$Q$13)^A279),9)))","v":9.3295459999999997E-2},105.049893524]
[277,277,"2048-07-10",7,{"$f":"IF(ISERROR(MATCH(D280,Simulador!$H$16:$H$17,0))=FALSE,\"C\",IF(ISERROR(MATCH(D280,Simulador!$H$18:$H$19,0))=FALSE,\"D\",\"\"))","v":""},{"$f":"IF(E280=\"C\",0,IF(E280 =\"D\",ROUND(1/((1+Simulador!$Q$13)^A280),9) * 2,ROUND(1/((1+Simulador!$Q$13)^A280),9)))","v":9.2497100999999998E-2},105.142390625]
[278,278,"2048-08-10",8,{"$f":"IF(ISERROR(MATCH(D281,Simulador!$H$16:$H$17,0))=FALSE,\"C\",IF(ISERROR(MATCH(D281,Simulador!$H$18:$H$19,0))=FALSE,\"D\",\"\"))","v":""},{"$f":"IF(E281=\"C\",0,IF(E281 =\"D\",ROUND(1/((1+Simulador!$Q$13)^A281),9) * 2,ROUND(1/((1+Simulador!$Q$13)^A281),9)))","v":9.1705573999999998E-2},105.23409619900001]
[279,279,"2048-09-10",9,{"$f":"IF(ISERROR(MATCH(D282,Simulador!$H$16:$H$17,0))=FALSE,\"C\",IF(ISERROR(MATCH(D282,Simulador!$H$18:$H$19,0))=FALSE,\"D\",\"\"))","v":""},{"$f":"IF(E282=\"C\",0,IF(E282 =\"D\",ROUND(1/((1+Simulador!$Q$13)^A282),9) * 2,ROUND(1/((1+Simulador!$Q$13)^A282),9)))","v":9.0920819999999999E-2},105.325017019]
[280,280,"2048-10-10",10,{"$f":"IF(ISERROR(MATCH(D283,Simulador!$H$16:$H$17,0))=FALSE,\"C\",IF(ISERROR(MATCH(D283,Simulador!$H$18:$H$19,0))=FALSE,\"D\",\"\"))","v":""},{"$f":"IF(E283=\"C\",0,IF(E283 =\"D\",ROUND(1/((1+Simulador!$Q$13)^A283),9) * 2,ROUND(1/((1+Simulador!$Q$13)^A283),9)))","v":9.0142781000000005E-2},105.4151598]
[281,281,"2048-11-10",11,{"$f":"IF(ISERROR(MATCH(D284,Simulador!$H$16:$H$17,0))=FALSE,\"C\",IF(ISERROR(MATCH(D284,Simulador!$H$18:$H$19,0))=FALSE,\"D\",\"\"))","v":""},{"$f":"IF(E284=\"C\",0,IF(E284 =\"D\",ROUND(1/((1+Simulador!$Q$13)^A284),9) * 2,ROUND(1/((1+Simulador!$Q$13)^A284),9)))","v":8.9371400000000004E-2},105.5045312]
[282,282,"2048-12-10",12,{"$f":"IF(ISERROR(MATCH(D285,Simulador!$H$16:$H$17,0))=FALSE,\"C\",IF(ISERROR(MATCH(D285,Simulador!$H$18:$H$19,0))=FALSE,\"D\",\"\"))","v":""},{"$f":"IF(E285=\"C\",0,IF(E285 =\"D\",ROUND(1/((1+Simulador!$Q$13)^A285),9) * 2,ROUND(1/((1+Simulador!$Q$13)^A285),9)))","v":8.8606620999999997E-2},105.593137821]
[283,283,"2049-01-10",1,{"$f":"IF(ISERROR(MATCH(D286,Simulador!$H$16:$H$17,0))=FALSE,\"C\",IF(ISERROR(MATCH(D286,Simulador!$H$18:$H$19,0))=FALSE,\"D\",\"\"))","v":""},{"$f":"IF(E286=\"C\",0,IF(E286 =\"D\",ROUND(1/((1+Simulador!$Q$13)^A286),9) * 2,ROUND(1/((1+Simulador!$Q$13)^A286),9)))","v":8.7848385000000001E-2},105.680986206]
[284,284,"2049-02-10",2,{"$f":"IF(ISERROR(MATCH(D287,Simulador!$H$16:$H$17,0))=FALSE,\"C\",IF(ISERROR(MATCH(D287,Simulador!$H$18:$H$19,0))=FALSE,\"D\",\"\"))","v":""},{"$f":"IF(E287=\"C\",0,IF(E287 =\"D\",ROUND(1/((1+Simulador!$Q$13)^A287),9) * 2,ROUND(1/((1+Simulador!$Q$13)^A287),9)))","v":8.7096639000000003E-2},105.768082845]
[285,285,"2049-03-10",3,{"$f":"IF(ISERROR(MATCH(D288,Simulador!$H$16:$H$17,0))=FALSE,\"C\",IF(ISERROR(MATCH(D288,Simulador!$H$18:$H$19,0))=FALSE,\"D\",\"\"))","v":""},{"$f":"IF(E288=\"C\",0,IF(E288 =\"D\",ROUND(1/((1+Simulador!$Q$13)^A288),9) * 2,ROUND(1/((1+Simulador!$Q$13)^A288),9)))","v":8.6351325000000007E-2},105.85443416999999]
[286,286,"2049-04-10",4,{"$f":"IF(ISERROR(MATCH(D289,Simulador!$H$16:$H$17,0))=FALSE,\"C\",IF(ISERROR(MATCH(D289,Simulador!$H$18:$H$19,0))=FALSE,\"D\",\"\"))","v":""},{"$f":"IF(E289=\"C\",0,IF(E289 =\"D\",ROUND(1/((1+Simulador!$Q$13)^A289),9) * 2,ROUND(1/((1+Simulador!$Q$13)^A289),9)))","v":8.5612388999999997E-2},105.940046559]
[287,287,"2049-05-10",5,{"$f":"IF(ISERROR(MATCH(D290,Simulador!$H$16:$H$17,0))=FALSE,\"C\",IF(ISERROR(MATCH(D290,Simulador!$H$18:$H$19,0))=FALSE,\"D\",\"\"))","v":""},{"$f":"IF(E290=\"C\",0,IF(E290 =\"D\",ROUND(1/((1+Simulador!$Q$13)^A290),9) * 2,ROUND(1/((1+Simulador!$Q$13)^A290),9)))","v":8.4879776000000004E-2},106.02492633499999]
[288,288,"2049-06-10",6,{"$f":"IF(ISERROR(MATCH(D291,Simulador!$H$16:$H$17,0))=FALSE,\"C\",IF(ISERROR(MATCH(D291,Simulador!$H$18:$H$19,0))=FALSE,\"D\",\"\"))","v":""},{"$f":"IF(E291=\"C\",0,IF(E291 =\"D\",ROUND(1/((1+Simulador!$Q$13)^A291),9) * 2,ROUND(1/((1+Simulador!$Q$13)^A291),9)))","v":8.4153433E-2},106.10907976799999]
[289,289,"2049-07-10",7,{"$f":"IF(ISERROR(MATCH(D292,Simulador!$H$16:$H$17,0))=FALSE,\"C\",IF(ISERROR(MATCH(D292,Simulador!$H$18:$H$19,0))=FALSE,\"D\",\"\"))","v":""},{"$f":"IF(E292=\"C\",0,IF(E292 =\"D\",ROUND(1/((1+Simulador!$Q$13)^A292),9) * 2,ROUND(1/((1+Simulador!$Q$13)^A292),9)))","v":8.3433304999999999E-2},106.19251307299999]
[290,290,"2049-08-10",8,{"$f":"IF(ISERROR(MATCH(D293,Simulador!$H$16:$H$17,0))=FALSE,\"C\",IF(ISERROR(MATCH(D293,Simulador!$H$18:$H$19,0))=FALSE,\"D\",\"\"))","v":""},{"$f":"IF(E293=\"C\",0,IF(E293 =\"D\",ROUND(1/((1+Simulador!$Q$13)^A293),9) * 2,ROUND(1/((1+Simulador!$Q$13)^A293),9)))","v":8.2719339000000003E-2},106.27523241199998]
[291,291,"2049-09-10",9,{"$f":"IF(ISERROR(MATCH(D294,Simulador!$H$16:$H$17,0))=FALSE,\"C\",IF(ISERROR(MATCH(D294,Simulador!$H$18:$H$19,0))=FALSE,\"D\",\"\"))","v":""},{"$f":"IF(E294=\"C\",0,IF(E294 =\"D\",ROUND(1/((1+Simulador!$Q$13)^A294),9) * 2,ROUND(1/((1+Simulador!$Q$13)^A294),9)))","v":8.2011483999999996E-2},106.35724389599999]
[292,292,"2049-10-10",10,{"$f":"IF(ISERROR(MATCH(D295,Simulador!$H$16:$H$17,0))=FALSE,\"C\",IF(ISERROR(MATCH(D295,Simulador!$H$18:$H$19,0))=FALSE,\"D\",\"\"))","v":""},{"$f":"IF(E295=\"C\",0,IF(E295 =\"D\",ROUND(1/((1+Simulador!$Q$13)^A295),9) * 2,ROUND(1/((1+Simulador!$Q$13)^A295),9)))","v":8.1309685000000007E-2},106.43855358099998]
[293,293,"2049-11-10",11,{"$f":"IF(ISERROR(MATCH(D296,Simulador!$H$16:$H$17,0))=FALSE,\"C\",IF(ISERROR(MATCH(D296,Simulador!$H$18:$H$19,0))=FALSE,\"D\",\"\"))","v":""},{"$f":"IF(E296=\"C\",0,IF(E296 =\"D\",ROUND(1/((1+Simulador!$Q$13)^A296),9) * 2,ROUND(1/((1+Simulador!$Q$13)^A296),9)))","v":8.0613892000000006E-2},106.51916747299998]
[294,294,"2049-12-10",12,{"$f":"IF(ISERROR(MATCH(D297,Simulador!$H$16:$H$17,0))=FALSE,\"C\",IF(ISERROR(MATCH(D297,Simulador!$H$18:$H$19,0))=FALSE,\"D\",\"\"))","v":""},{"$f":"IF(E297=\"C\",0,IF(E297 =\"D\",ROUND(1/((1+Simulador!$Q$13)^A297),9) * 2,ROUND(1/((1+Simulador!$Q$13)^A297),9)))","v":7.9924052999999995E-2},106.59909152599998]
[295,295,"2050-01-10",1,{"$f":"IF(ISERROR(MATCH(D298,Simulador!$H$16:$H$17,0))=FALSE,\"C\",IF(ISERROR(MATCH(D298,Simulador!$H$18:$H$19,0))=FALSE,\"D\",\"\"))","v":""},{"$f":"IF(E298=\"C\",0,IF(E298 =\"D\",ROUND(1/((1+Simulador!$Q$13)^A298),9) * 2,ROUND(1/((1+Simulador!$Q$13)^A298),9)))","v":7.9240116999999999E-2},106.67833164299998]
[296,296,"2050-02-10",2,{"$f":"IF(ISERROR(MATCH(D299,Simulador!$H$16:$H$17,0))=FALSE,\"C\",IF(ISERROR(MATCH(D299,Simulador!$H$18:$H$19,0))=FALSE,\"D\",\"\"))","v":""},{"$f":"IF(E299=\"C\",0,IF(E299 =\"D\",ROUND(1/((1+Simulador!$Q$13)^A299),9) * 2,ROUND(1/((1+Simulador!$Q$13)^A299),9)))","v":7.8562034000000003E-2},106.75689367699998]
[297,297,"2050-03-10",3,{"$f":"IF(ISERROR(MATCH(D300,Simulador!$H$16:$H$17,0))=FALSE,\"C\",IF(ISERROR(MATCH(D300,Simulador!$H$18:$H$19,0))=FALSE,\"D\",\"\"))","v":""},{"$f":"IF(E300=\"C\",0,IF(E300 =\"D\",ROUND(1/((1+Simulador!$Q$13)^A300),9) * 2,ROUND(1/((1+Simulador!$Q$13)^A300),9)))","v":7.7889754000000005E-2},106.83478343099998]
[298,298,"2050-04-10",4,{"$f":"IF(ISERROR(MATCH(D301,Simulador!$H$16:$H$17,0))=FALSE,\"C\",IF(ISERROR(MATCH(D301,Simulador!$H$18:$H$19,0))=FALSE,\"D\",\"\"))","v":""},{"$f":"IF(E301=\"C\",0,IF(E301 =\"D\",ROUND(1/((1+Simulador!$Q$13)^A301),9) * 2,ROUND(1/((1+Simulador!$Q$13)^A301),9)))","v":7.7223226000000006E-2},106.91200665699998]
[299,299,"2050-05-10",5,{"$f":"IF(ISERROR(MATCH(D302,Simulador!$H$16:$H$17,0))=FALSE,\"C\",IF(ISERROR(MATCH(D302,Simulador!$H$18:$H$19,0))=FALSE,\"D\",\"\"))","v":""},{"$f":"IF(E302=\"C\",0,IF(E302 =\"D\",ROUND(1/((1+Simulador!$Q$13)^A302),9) * 2,ROUND(1/((1+Simulador!$Q$13)^A302),9)))","v":7.6562402000000002E-2},106.98856905899997]
[300,300,"2050-06-10",6,{"$f":"IF(ISERROR(MATCH(D303,Simulador!$H$16:$H$17,0))=FALSE,\"C\",IF(ISERROR(MATCH(D303,Simulador!$H$18:$H$19,0))=FALSE,\"D\",\"\"))","v":""},{"$f":"IF(E303=\"C\",0,IF(E303 =\"D\",ROUND(1/((1+Simulador!$Q$13)^A303),9) * 2,ROUND(1/((1+Simulador!$Q$13)^A303),9)))","v":7.5907233000000005E-2},107.06447629199997]
[301,301,"2050-07-10",7,{"$f":"IF(ISERROR(MATCH(D304,Simulador!$H$16:$H$17,0))=FALSE,\"C\",IF(ISERROR(MATCH(D304,Simulador!$H$18:$H$19,0))=FALSE,\"D\",\"\"))","v":""},{"$f":"IF(E304=\"C\",0,IF(E304 =\"D\",ROUND(1/((1+Simulador!$Q$13)^A304),9) * 2,ROUND(1/((1+Simulador!$Q$13)^A304),9)))","v":7.5257670999999998E-2},107.13973396299997]
[302,302,"2050-08-10",8,{"$f":"IF(ISERROR(MATCH(D305,Simulador!$H$16:$H$17,0))=FALSE,\"C\",IF(ISERROR(MATCH(D305,Simulador!$H$18:$H$19,0))=FALSE,\"D\",\"\"))","v":""},{"$f":"IF(E305=\"C\",0,IF(E305 =\"D\",ROUND(1/((1+Simulador!$Q$13)^A305),9) * 2,ROUND(1/((1+Simulador!$Q$13)^A305),9)))","v":7.4613666999999995E-2},107.21434762999996]
[303,303,"2050-09-10",9,{"$f":"IF(ISERROR(MATCH(D306,Simulador!$H$16:$H$17,0))=FALSE,\"C\",IF(ISERROR(MATCH(D306,Simulador!$H$18:$H$19,0))=FALSE,\"D\",\"\"))","v":""},{"$f":"IF(E306=\"C\",0,IF(E306 =\"D\",ROUND(1/((1+Simulador!$Q$13)^A306),9) * 2,ROUND(1/((1+Simulador!$Q$13)^A306),9)))","v":7.3975174000000005E-2},107.28832280399996]
[304,304,"2050-10-10",10,{"$f":"IF(ISERROR(MATCH(D307,Simulador!$H$16:$H$17,0))=FALSE,\"C\",IF(ISERROR(MATCH(D307,Simulador!$H$18:$H$19,0))=FALSE,\"D\",\"\"))","v":""},{"$f":"IF(E307=\"C\",0,IF(E307 =\"D\",ROUND(1/((1+Simulador!$Q$13)^A307),9) * 2,ROUND(1/((1+Simulador!$Q$13)^A307),9)))","v":7.3342144999999997E-2},107.36166494899996]
[305,305,"2050-11-10",11,{"$f":"IF(ISERROR(MATCH(D308,Simulador!$H$16:$H$17,0))=FALSE,\"C\",IF(ISERROR(MATCH(D308,Simulador!$H$18:$H$19,0))=FALSE,\"D\",\"\"))","v":""},{"$f":"IF(E308=\"C\",0,IF(E308 =\"D\",ROUND(1/((1+Simulador!$Q$13)^A308),9) * 2,ROUND(1/((1+Simulador!$Q$13)^A308),9)))","v":7.2714531999999998E-2},107.43437948099997]
[306,306,"2050-12-10",12,{"$f":"IF(ISERROR(MATCH(D309,Simulador!$H$16:$H$17,0))=FALSE,\"C\",IF(ISERROR(MATCH(D309,Simulador!$H$18:$H$19,0))=FALSE,\"D\",\"\"))","v":""},{"$f":"IF(E309=\"C\",0,IF(E309 =\"D\",ROUND(1/((1+Simulador!$Q$13)^A309),9) * 2,ROUND(1/((1+Simulador!$Q$13)^A309),9)))","v":7.2092291000000003E-2},107.50647177199997]
[307,307,"2051-01-10",1,{"$f":"IF(ISERROR(MATCH(D310,Simulador!$H$16:$H$17,0))=FALSE,\"C\",IF(ISERROR(MATCH(D310,Simulador!$H$18:$H$19,0))=FALSE,\"D\",\"\"))","v":""},{"$f":"IF(E310=\"C\",0,IF(E310 =\"D\",ROUND(1/((1+Simulador!$Q$13)^A310),9) * 2,ROUND(1/((1+Simulador!$Q$13)^A310),9)))","v":7.1475373999999994E-2},107.57794714599997]
[308,308,"2051-02-10",2,{"$f":"IF(ISERROR(MATCH(D311,Simulador!$H$16:$H$17,0))=FALSE,\"C\",IF(ISERROR(MATCH(D311,Simulador!$H$18:$H$19,0))=FALSE,\"D\",\"\"))","v":""},{"$f":"IF(E311=\"C\",0,IF(E311 =\"D\",ROUND(1/((1+Simulador!$Q$13)^A311),9) * 2,ROUND(1/((1+Simulador!$Q$13)^A311),9)))","v":7.0863735999999997E-2},107.64881088199998]
[309,309,"2051-03-10",3,{"$f":"IF(ISERROR(MATCH(D312,Simulador!$H$16:$H$17,0))=FALSE,\"C\",IF(ISERROR(MATCH(D312,Simulador!$H$18:$H$19,0))=FALSE,\"D\",\"\"))","v":""},{"$f":"IF(E312=\"C\",0,IF(E312 =\"D\",ROUND(1/((1+Simulador!$Q$13)^A312),9) * 2,ROUND(1/((1+Simulador!$Q$13)^A312),9)))","v":7.0257333000000005E-2},107.71906821499998]
[310,310,"2051-04-10",4,{"$f":"IF(ISERROR(MATCH(D313,Simulador!$H$16:$H$17,0))=FALSE,\"C\",IF(ISERROR(MATCH(D313,Simulador!$H$18:$H$19,0))=FALSE,\"D\",\"\"))","v":""},{"$f":"IF(E313=\"C\",0,IF(E313 =\"D\",ROUND(1/((1+Simulador!$Q$13)^A313),9) * 2,ROUND(1/((1+Simulador!$Q$13)^A313),9)))","v":6.9656118000000003E-2},107.78872433299998]
[311,311,"2051-05-10",5,{"$f":"IF(ISERROR(MATCH(D314,Simulador!$H$16:$H$17,0))=FALSE,\"C\",IF(ISERROR(MATCH(D314,Simulador!$H$18:$H$19,0))=FALSE,\"D\",\"\"))","v":""},{"$f":"IF(E314=\"C\",0,IF(E314 =\"D\",ROUND(1/((1+Simulador!$Q$13)^A314),9) * 2,ROUND(1/((1+Simulador!$Q$13)^A314),9)))","v":6.9060048999999998E-2},107.85778438199998]
[312,312,"2051-06-10",6,{"$f":"IF(ISERROR(MATCH(D315,Simulador!$H$16:$H$17,0))=FALSE,\"C\",IF(ISERROR(MATCH(D315,Simulador!$H$18:$H$19,0))=FALSE,\"D\",\"\"))","v":""},{"$f":"IF(E315=\"C\",0,IF(E315 =\"D\",ROUND(1/((1+Simulador!$Q$13)^A315),9) * 2,ROUND(1/((1+Simulador!$Q$13)^A315),9)))","v":6.8469080000000002E-2},107.92625346199998]
[313,313,"2051-07-10",7,{"$f":"IF(ISERROR(MATCH(D316,Simulador!$H$16:$H$17,0))=FALSE,\"C\",IF(ISERROR(MATCH(D316,Simulador!$H$18:$H$19,0))=FALSE,\"D\",\"\"))","v":""},{"$f":"IF(E316=\"C\",0,IF(E316 =\"D\",ROUND(1/((1+Simulador!$Q$13)^A316),9) * 2,ROUND(1/((1+Simulador!$Q$13)^A316),9)))","v":6.7883167999999994E-2},107.99413662999997]
[314,314,"2051-08-10",8,{"$f":"IF(ISERROR(MATCH(D317,Simulador!$H$16:$H$17,0))=FALSE,\"C\",IF(ISERROR(MATCH(D317,Simulador!$H$18:$H$19,0))=FALSE,\"D\",\"\"))","v":""},{"$f":"IF(E317=\"C\",0,IF(E317 =\"D\",ROUND(1/((1+Simulador!$Q$13)^A317),9) * 2,ROUND(1/((1+Simulador!$Q$13)^A317),9)))","v":6.7302269999999997E-2},108.06143889999997]
[315,315,"2051-09-10",9,{"$f":"IF(ISERROR(MATCH(D318,Simulador!$H$16:$H$17,0))=FALSE,\"C\",IF(ISERROR(MATCH(D318,Simulador!$H$18:$H$19,0))=FALSE,\"D\",\"\"))","v":""},{"$f":"IF(E318=\"C\",0,IF(E318 =\"D\",ROUND(1/((1+Simulador!$Q$13)^A318),9) * 2,ROUND(1/((1+Simulador!$Q$13)^A318),9)))","v":6.6726342999999994E-2},108.12816524299997]
[316,316,"2051-10-10",10,{"$f":"IF(ISERROR(MATCH(D319,Simulador!$H$16:$H$17,0))=FALSE,\"C\",IF(ISERROR(MATCH(D319,Simulador!$H$18:$H$19,0))=FALSE,\"D\",\"\"))","v":""},{"$f":"IF(E319=\"C\",0,IF(E319 =\"D\",ROUND(1/((1+Simulador!$Q$13)^A319),9) * 2,ROUND(1/((1+Simulador!$Q$13)^A319),9)))","v":6.6155344000000005E-2},108.19432058699996]
[317,317,"2051-11-10",11,{"$f":"IF(ISERROR(MATCH(D320,Simulador!$H$16:$H$17,0))=FALSE,\"C\",IF(ISERROR(MATCH(D320,Simulador!$H$18:$H$19,0))=FALSE,\"D\",\"\"))","v":""},{"$f":"IF(E320=\"C\",0,IF(E320 =\"D\",ROUND(1/((1+Simulador!$Q$13)^A320),9) * 2,ROUND(1/((1+Simulador!$Q$13)^A320),9)))","v":6.5589231999999997E-2},108.25990981899996]
[318,318,"2051-12-10",12,{"$f":"IF(ISERROR(MATCH(D321,Simulador!$H$16:$H$17,0))=FALSE,\"C\",IF(ISERROR(MATCH(D321,Simulador!$H$18:$H$19,0))=FALSE,\"D\",\"\"))","v":""},{"$f":"IF(E321=\"C\",0,IF(E321 =\"D\",ROUND(1/((1+Simulador!$Q$13)^A321),9) * 2,ROUND(1/((1+Simulador!$Q$13)^A321),9)))","v":6.5027962999999994E-2},108.32493778199996]
[319,319,"2052-01-10",1,{"$f":"IF(ISERROR(MATCH(D322,Simulador!$H$16:$H$17,0))=FALSE,\"C\",IF(ISERROR(MATCH(D322,Simulador!$H$18:$H$19,0))=FALSE,\"D\",\"\"))","v":""},{"$f":"IF(E322=\"C\",0,IF(E322 =\"D\",ROUND(1/((1+Simulador!$Q$13)^A322),9) * 2,ROUND(1/((1+Simulador!$Q$13)^A322),9)))","v":6.4471498000000002E-2},108.38940927999997]
[320,320,"2052-02-10",2,{"$f":"IF(ISERROR(MATCH(D323,Simulador!$H$16:$H$17,0))=FALSE,\"C\",IF(ISERROR(MATCH(D323,Simulador!$H$18:$H$19,0))=FALSE,\"D\",\"\"))","v":""},{"$f":"IF(E323=\"C\",0,IF(E323 =\"D\",ROUND(1/((1+Simulador!$Q$13)^A323),9) * 2,ROUND(1/((1+Simulador!$Q$13)^A323),9)))","v":6.3919795000000001E-2},108.45332907499997]
[321,321,"2052-03-10",{"$f":"MONTH(C324)","v":3},{"$f":"IF(ISERROR(MATCH(D324,Simulador!$H$16:$H$17,0))=FALSE,\"C\",IF(ISERROR(MATCH(D324,Simulador!$H$18:$H$19,0))=FALSE,\"D\",\"\"))","v":""},{"$f":"IF(E324=\"C\",0,IF(E324 =\"D\",ROUND(1/((1+Simulador!$Q$13)^A324),9) * 2,ROUND(1/((1+Simulador!$Q$13)^A324),9)))","v":6.3372813E-2},108.51670188799997]
[{"$f":"A324+1","v":322},{"$f":"IF(E325<>\"C\",IF(ISERROR(1+B324)=TRUE,1,1+B324),IF(ISNUMBER(B324),B324,1))","v":322},{"$f":"DATE(YEAR(C324) + 1/12,MONTH(C324)+1,DAY(C324))","v":"2052-04-10"},4,{"$f":"IF(ISERROR(MATCH(D325,Simulador!$H$16:$H$17,0))=FALSE,\"C\",IF(ISERROR(MATCH(D325,Simulador!$H$18:$H$19,0))=FALSE,\"D\",\"\"))","v":""},{"$f":"IF(E325=\"C\",0,IF(E325 =\"D\",ROUND(1/((1+Simulador!$Q$13)^A325),9) * 2,ROUND(1/((1+Simulador!$Q$13)^A325),9)))","v":6.2830512000000005E-2},108.57953239999998]
[323,323,"2052-05-10",5,{"$f":"IF(ISERROR(MATCH(D326,Simulador!$H$16:$H$17,0))=FALSE,\"C\",IF(ISERROR(MATCH(D326,Simulador!$H$18:$H$19,0))=FALSE,\"D\",\"\"))","v":""},{"$f":"IF(E326=\"C\",0,IF(E326 =\"D\",ROUND(1/((1+Simulador!$Q$13)^A326),9) * 2,ROUND(1/((1+Simulador!$Q$13)^A326),9)))","v":6.2292851000000003E-2},{"$f":"G325+ROUND(F326,9)","v":108.64182525099997}]
[324,324,"2052-06-10",6,{"$f":"IF(ISERROR(MATCH(D327,Simulador!$H$16:$H$17,0))=FALSE,\"C\",IF(ISERROR(MATCH(D327,Simulador!$H$18:$H$19,0))=FALSE,\"D\",\"\"))","v":""},{"$f":"IF(E327=\"C\",0,IF(E327 =\"D\",ROUND(1/((1+Simulador!$Q$13)^A327),9) * 2,ROUND(1/((1+Simulador!$Q$13)^A327),9)))","v":6.1759791000000001E-2},108.70358504199997]
[325,325,"2052-07-10",7,{"$f":"IF(ISERROR(MATCH(D328,Simulador!$H$16:$H$17,0))=FALSE,\"C\",IF(ISERROR(MATCH(D328,Simulador!$H$18:$H$19,0))=FALSE,\"D\",\"\"))","v":""},{"$f":"IF(E328=\"C\",0,IF(E328 =\"D\",ROUND(1/((1+Simulador!$Q$13)^A328),9) * 2,ROUND(1/((1+Simulador!$Q$13)^A328),9)))","v":6.1231292999999999E-2},108.76481633499998]
[326,326,"2052-08-10",8,{"$f":"IF(ISERROR(MATCH(D329,Simulador!$H$16:$H$17,0))=FALSE,\"C\",IF(ISERROR(MATCH(D329,Simulador!$H$18:$H$19,0))=FALSE,\"D\",\"\"))","v":""},{"$f":"IF(E329=\"C\",0,IF(E329 =\"D\",ROUND(1/((1+Simulador!$Q$13)^A329),9) * 2,ROUND(1/((1+Simulador!$Q$13)^A329),9)))","v":6.0707316999999997E-2},108.82552365199997]
[327,327,"2052-09-10",9,{"$f":"IF(ISERROR(MATCH(D330,Simulador!$H$16:$H$17,0))=FALSE,\"C\",IF(ISERROR(MATCH(D330,Simulador!$H$18:$H$19,0))=FALSE,\"D\",\"\"))","v":""},{"$f":"IF(E330=\"C\",0,IF(E330 =\"D\",ROUND(1/((1+Simulador!$Q$13)^A330),9) * 2,ROUND(1/((1+Simulador!$Q$13)^A330),9)))","v":6.0187825E-2},108.88571147699997]
[328,328,"2052-10-10",10,{"$f":"IF(ISERROR(MATCH(D331,Simulador!$H$16:$H$17,0))=FALSE,\"C\",IF(ISERROR(MATCH(D331,Simulador!$H$18:$H$19,0))=FALSE,\"D\",\"\"))","v":""},{"$f":"IF(E331=\"C\",0,IF(E331 =\"D\",ROUND(1/((1+Simulador!$Q$13)^A331),9) * 2,ROUND(1/((1+Simulador!$Q$13)^A331),9)))","v":5.9672778000000003E-2},108.94538425499998]
[329,329,"2052-11-10",11,{"$f":"IF(ISERROR(MATCH(D332,Simulador!$H$16:$H$17,0))=FALSE,\"C\",IF(ISERROR(MATCH(D332,Simulador!$H$18:$H$19,0))=FALSE,\"D\",\"\"))","v":""},{"$f":"IF(E332=\"C\",0,IF(E332 =\"D\",ROUND(1/((1+Simulador!$Q$13)^A332),9) * 2,ROUND(1/((1+Simulador!$Q$13)^A332),9)))","v":5.9162139000000002E-2},109.00454639399997]
[330,330,"2052-12-10",12,{"$f":"IF(ISERROR(MATCH(D333,Simulador!$H$16:$H$17,0))=FALSE,\"C\",IF(ISERROR(MATCH(D333,Simulador!$H$18:$H$19,0))=FALSE,\"D\",\"\"))","v":""},{"$f":"IF(E333=\"C\",0,IF(E333 =\"D\",ROUND(1/((1+Simulador!$Q$13)^A333),9) * 2,ROUND(1/((1+Simulador!$Q$13)^A333),9)))","v":5.8655869999999999E-2},109.06320226399997]
[331,331,"2053-01-10",1,{"$f":"IF(ISERROR(MATCH(D334,Simulador!$H$16:$H$17,0))=FALSE,\"C\",IF(ISERROR(MATCH(D334,Simulador!$H$18:$H$19,0))=FALSE,\"D\",\"\"))","v":""},{"$f":"IF(E334=\"C\",0,IF(E334 =\"D\",ROUND(1/((1+Simulador!$Q$13)^A334),9) * 2,ROUND(1/((1+Simulador!$Q$13)^A334),9)))","v":5.8153932999999998E-2},109.12135619699997]
[332,332,"2053-02-10",2,{"$f":"IF(ISERROR(MATCH(D335,Simulador!$H$16:$H$17,0))=FALSE,\"C\",IF(ISERROR(MATCH(D335,Simulador!$H$18:$H$19,0))=FALSE,\"D\",\"\"))","v":""},{"$f":"IF(E335=\"C\",0,IF(E335 =\"D\",ROUND(1/((1+Simulador!$Q$13)^A335),9) * 2,ROUND(1/((1+Simulador!$Q$13)^A335),9)))","v":5.7656290999999998E-2},109.17901248799997]
[333,333,"2053-03-10",3,{"$f":"IF(ISERROR(MATCH(D336,Simulador!$H$16:$H$17,0))=FALSE,\"C\",IF(ISERROR(MATCH(D336,Simulador!$H$18:$H$19,0))=FALSE,\"D\",\"\"))","v":""},{"$f":"IF(E336=\"C\",0,IF(E336 =\"D\",ROUND(1/((1+Simulador!$Q$13)^A336),9) * 2,ROUND(1/((1+Simulador!$Q$13)^A336),9)))","v":5.7162907999999998E-2},109.23617539599996]
[334,334,"2053-04-10",4,{"$f":"IF(ISERROR(MATCH(D337,Simulador!$H$16:$H$17,0))=FALSE,\"C\",IF(ISERROR(MATCH(D337,Simulador!$H$18:$H$19,0))=FALSE,\"D\",\"\"))","v":""},{"$f":"IF(E337=\"C\",0,IF(E337 =\"D\",ROUND(1/((1+Simulador!$Q$13)^A337),9) * 2,ROUND(1/((1+Simulador!$Q$13)^A337),9)))","v":5.6673745999999997E-2},109.29284914199997]
[335,335,"2053-05-10",5,{"$f":"IF(ISERROR(MATCH(D338,Simulador!$H$16:$H$17,0))=FALSE,\"C\",IF(ISERROR(MATCH(D338,Simulador!$H$18:$H$19,0))=FALSE,\"D\",\"\"))","v":""},{"$f":"IF(E338=\"C\",0,IF(E338 =\"D\",ROUND(1/((1+Simulador!$Q$13)^A338),9) * 2,ROUND(1/((1+Simulador!$Q$13)^A338),9)))","v":5.6188770999999998E-2},109.34903791299996]
[336,336,"2053-06-10",6,{"$f":"IF(ISERROR(MATCH(D339,Simulador!$H$16:$H$17,0))=FALSE,\"C\",IF(ISERROR(MATCH(D339,Simulador!$H$18:$H$19,0))=FALSE,\"D\",\"\"))","v":""},{"$f":"IF(E339=\"C\",0,IF(E339 =\"D\",ROUND(1/((1+Simulador!$Q$13)^A339),9) * 2,ROUND(1/((1+Simulador!$Q$13)^A339),9)))","v":5.5707946000000001E-2},109.40474585899996]
[337,337,"2053-07-10",7,{"$f":"IF(ISERROR(MATCH(D340,Simulador!$H$16:$H$17,0))=FALSE,\"C\",IF(ISERROR(MATCH(D340,Simulador!$H$18:$H$19,0))=FALSE,\"D\",\"\"))","v":""},{"$f":"IF(E340=\"C\",0,IF(E340 =\"D\",ROUND(1/((1+Simulador!$Q$13)^A340),9) * 2,ROUND(1/((1+Simulador!$Q$13)^A340),9)))","v":5.5231234999999997E-2},109.45997709399995]
[338,338,"2053-08-10",8,{"$f":"IF(ISERROR(MATCH(D341,Simulador!$H$16:$H$17,0))=FALSE,\"C\",IF(ISERROR(MATCH(D341,Simulador!$H$18:$H$19,0))=FALSE,\"D\",\"\"))","v":""},{"$f":"IF(E341=\"C\",0,IF(E341 =\"D\",ROUND(1/((1+Simulador!$Q$13)^A341),9) * 2,ROUND(1/((1+Simulador!$Q$13)^A341),9)))","v":5.4758604000000002E-2},109.51473569799995]
[339,339,"2053-09-10",9,{"$f":"IF(ISERROR(MATCH(D342,Simulador!$H$16:$H$17,0))=FALSE,\"C\",IF(ISERROR(MATCH(D342,Simulador!$H$18:$H$19,0))=FALSE,\"D\",\"\"))","v":""},{"$f":"IF(E342=\"C\",0,IF(E342 =\"D\",ROUND(1/((1+Simulador!$Q$13)^A342),9) * 2,ROUND(1/((1+Simulador!$Q$13)^A342),9)))","v":5.4290017000000003E-2},109.56902571499995]
[340,340,"2053-10-10",10,{"$f":"IF(ISERROR(MATCH(D343,Simulador!$H$16:$H$17,0))=FALSE,\"C\",IF(ISERROR(MATCH(D343,Simulador!$H$18:$H$19,0))=FALSE,\"D\",\"\"))","v":""},{"$f":"IF(E343=\"C\",0,IF(E343 =\"D\",ROUND(1/((1+Simulador!$Q$13)^A343),9) * 2,ROUND(1/((1+Simulador!$Q$13)^A343),9)))","v":5.3825440000000002E-2},109.62285115499995]
[341,341,"2053-11-10",11,{"$f":"IF(ISERROR(MATCH(D344,Simulador!$H$16:$H$17,0))=FALSE,\"C\",IF(ISERROR(MATCH(D344,Simulador!$H$18:$H$19,0))=FALSE,\"D\",\"\"))","v":""},{"$f":"IF(E344=\"C\",0,IF(E344 =\"D\",ROUND(1/((1+Simulador!$Q$13)^A344),9) * 2,ROUND(1/((1+Simulador!$Q$13)^A344),9)))","v":5.3364837999999998E-2},109.67621599299994]
[342,342,"2053-12-10",12,{"$f":"IF(ISERROR(MATCH(D345,Simulador!$H$16:$H$17,0))=FALSE,\"C\",IF(ISERROR(MATCH(D345,Simulador!$H$18:$H$19,0))=FALSE,\"D\",\"\"))","v":""},{"$f":"IF(E345=\"C\",0,IF(E345 =\"D\",ROUND(1/((1+Simulador!$Q$13)^A345),9) * 2,ROUND(1/((1+Simulador!$Q$13)^A345),9)))","v":5.2908178E-2},109.72912417099994]
[343,343,"2054-01-10",1,{"$f":"IF(ISERROR(MATCH(D346,Simulador!$H$16:$H$17,0))=FALSE,\"C\",IF(ISERROR(MATCH(D346,Simulador!$H$18:$H$19,0))=FALSE,\"D\",\"\"))","v":""},{"$f":"IF(E346=\"C\",0,IF(E346 =\"D\",ROUND(1/((1+Simulador!$Q$13)^A346),9) * 2,ROUND(1/((1+Simulador!$Q$13)^A346),9)))","v":5.2455425999999999E-2},109.78157959699993]
[344,344,"2054-02-10",2,{"$f":"IF(ISERROR(MATCH(D347,Simulador!$H$16:$H$17,0))=FALSE,\"C\",IF(ISERROR(MATCH(D347,Simulador!$H$18:$H$19,0))=FALSE,\"D\",\"\"))","v":""},{"$f":"IF(E347=\"C\",0,IF(E347 =\"D\",ROUND(1/((1+Simulador!$Q$13)^A347),9) * 2,ROUND(1/((1+Simulador!$Q$13)^A347),9)))","v":5.2006548E-2},109.83358614499993]
[345,345,"2054-03-10",3,{"$f":"IF(ISERROR(MATCH(D348,Simulador!$H$16:$H$17,0))=FALSE,\"C\",IF(ISERROR(MATCH(D348,Simulador!$H$18:$H$19,0))=FALSE,\"D\",\"\"))","v":""},{"$f":"IF(E348=\"C\",0,IF(E348 =\"D\",ROUND(1/((1+Simulador!$Q$13)^A348),9) * 2,ROUND(1/((1+Simulador!$Q$13)^A348),9)))","v":5.1561510999999997E-2},109.88514765599993]
[346,346,"2054-04-10",4,{"$f":"IF(ISERROR(MATCH(D349,Simulador!$H$16:$H$17,0))=FALSE,\"C\",IF(ISERROR(MATCH(D349,Simulador!$H$18:$H$19,0))=FALSE,\"D\",\"\"))","v":""},{"$f":"IF(E349=\"C\",0,IF(E349 =\"D\",ROUND(1/((1+Simulador!$Q$13)^A349),9) * 2,ROUND(1/((1+Simulador!$Q$13)^A349),9)))","v":5.1120283000000002E-2},109.93626793899993]
[347,347,"2054-05-10",5,{"$f":"IF(ISERROR(MATCH(D350,Simulador!$H$16:$H$17,0))=FALSE,\"C\",IF(ISERROR(MATCH(D350,Simulador!$H$18:$H$19,0))=FALSE,\"D\",\"\"))","v":""},{"$f":"IF(E350=\"C\",0,IF(E350 =\"D\",ROUND(1/((1+Simulador!$Q$13)^A350),9) * 2,ROUND(1/((1+Simulador!$Q$13)^A350),9)))","v":5.0682829999999998E-2},109.98695076899993]
[348,348,"2054-06-10",6,{"$f":"IF(ISERROR(MATCH(D351,Simulador!$H$16:$H$17,0))=FALSE,\"C\",IF(ISERROR(MATCH(D351,Simulador!$H$18:$H$19,0))=FALSE,\"D\",\"\"))","v":""},{"$f":"IF(E351=\"C\",0,IF(E351 =\"D\",ROUND(1/((1+Simulador!$Q$13)^A351),9) * 2,ROUND(1/((1+Simulador!$Q$13)^A351),9)))","v":5.0249121000000001E-2},110.03719988999993]
[349,349,"2054-07-10",7,{"$f":"IF(ISERROR(MATCH(D352,Simulador!$H$16:$H$17,0))=FALSE,\"C\",IF(ISERROR(MATCH(D352,Simulador!$H$18:$H$19,0))=FALSE,\"D\",\"\"))","v":""},{"$f":"IF(E352=\"C\",0,IF(E352 =\"D\",ROUND(1/((1+Simulador!$Q$13)^A352),9) * 2,ROUND(1/((1+Simulador!$Q$13)^A352),9)))","v":4.9819123E-2},110.08701901299993]
[350,350,"2054-08-10",8,{"$f":"IF(ISERROR(MATCH(D353,Simulador!$H$16:$H$17,0))=FALSE,\"C\",IF(ISERROR(MATCH(D353,Simulador!$H$18:$H$19,0))=FALSE,\"D\",\"\"))","v":""},{"$f":"IF(E353=\"C\",0,IF(E353 =\"D\",ROUND(1/((1+Simulador!$Q$13)^A353),9) * 2,ROUND(1/((1+Simulador!$Q$13)^A353),9)))","v":4.9392804999999998E-2},110.13641181799993]
[351,351,"2054-09-10",9,{"$f":"IF(ISERROR(MATCH(D354,Simulador!$H$16:$H$17,0))=FALSE,\"C\",IF(ISERROR(MATCH(D354,Simulador!$H$18:$H$19,0))=FALSE,\"D\",\"\"))","v":""},{"$f":"IF(E354=\"C\",0,IF(E354 =\"D\",ROUND(1/((1+Simulador!$Q$13)^A354),9) * 2,ROUND(1/((1+Simulador!$Q$13)^A354),9)))","v":4.8970134999999998E-2},110.18538195299993]
[352,352,"2054-10-10",10,{"$f":"IF(ISERROR(MATCH(D355,Simulador!$H$16:$H$17,0))=FALSE,\"C\",IF(ISERROR(MATCH(D355,Simulador!$H$18:$H$19,0))=FALSE,\"D\",\"\"))","v":""},{"$f":"IF(E355=\"C\",0,IF(E355 =\"D\",ROUND(1/((1+Simulador!$Q$13)^A355),9) * 2,ROUND(1/((1+Simulador!$Q$13)^A355),9)))","v":4.8551082000000002E-2},110.23393303499994]
[353,353,"2054-11-10",11,{"$f":"IF(ISERROR(MATCH(D356,Simulador!$H$16:$H$17,0))=FALSE,\"C\",IF(ISERROR(MATCH(D356,Simulador!$H$18:$H$19,0))=FALSE,\"D\",\"\"))","v":""},{"$f":"IF(E356=\"C\",0,IF(E356 =\"D\",ROUND(1/((1+Simulador!$Q$13)^A356),9) * 2,ROUND(1/((1+Simulador!$Q$13)^A356),9)))","v":4.8135615E-2},110.28206864999994]
[354,354,"2054-12-10",12,{"$f":"IF(ISERROR(MATCH(D357,Simulador!$H$16:$H$17,0))=FALSE,\"C\",IF(ISERROR(MATCH(D357,Simulador!$H$18:$H$19,0))=FALSE,\"D\",\"\"))","v":""},{"$f":"IF(E357=\"C\",0,IF(E357 =\"D\",ROUND(1/((1+Simulador!$Q$13)^A357),9) * 2,ROUND(1/((1+Simulador!$Q$13)^A357),9)))","v":4.7723702999999999E-2},110.32979235299995]
[355,355,"2055-01-10",1,{"$f":"IF(ISERROR(MATCH(D358,Simulador!$H$16:$H$17,0))=FALSE,\"C\",IF(ISERROR(MATCH(D358,Simulador!$H$18:$H$19,0))=FALSE,\"D\",\"\"))","v":""},{"$f":"IF(E358=\"C\",0,IF(E358 =\"D\",ROUND(1/((1+Simulador!$Q$13)^A358),9) * 2,ROUND(1/((1+Simulador!$Q$13)^A358),9)))","v":4.7315316000000003E-2},110.37710766899994]
[356,356,"2055-02-10",2,{"$f":"IF(ISERROR(MATCH(D359,Simulador!$H$16:$H$17,0))=FALSE,\"C\",IF(ISERROR(MATCH(D359,Simulador!$H$18:$H$19,0))=FALSE,\"D\",\"\"))","v":""},{"$f":"IF(E359=\"C\",0,IF(E359 =\"D\",ROUND(1/((1+Simulador!$Q$13)^A359),9) * 2,ROUND(1/((1+Simulador!$Q$13)^A359),9)))","v":4.6910423999999999E-2},110.42401809299994]
[357,357,"2055-03-10",3,{"$f":"IF(ISERROR(MATCH(D360,Simulador!$H$16:$H$17,0))=FALSE,\"C\",IF(ISERROR(MATCH(D360,Simulador!$H$18:$H$19,0))=FALSE,\"D\",\"\"))","v":""},{"$f":"IF(E360=\"C\",0,IF(E360 =\"D\",ROUND(1/((1+Simulador!$Q$13)^A360),9) * 2,ROUND(1/((1+Simulador!$Q$13)^A360),9)))","v":4.6508995999999997E-2},110.47052708899994]
[358,358,"2055-04-10",4,{"$f":"IF(ISERROR(MATCH(D361,Simulador!$H$16:$H$17,0))=FALSE,\"C\",IF(ISERROR(MATCH(D361,Simulador!$H$18:$H$19,0))=FALSE,\"D\",\"\"))","v":""},{"$f":"IF(E361=\"C\",0,IF(E361 =\"D\",ROUND(1/((1+Simulador!$Q$13)^A361),9) * 2,ROUND(1/((1+Simulador!$Q$13)^A361),9)))","v":4.6111003999999997E-2},110.51663809299994]
[359,359,"2055-05-10",5,{"$f":"IF(ISERROR(MATCH(D362,Simulador!$H$16:$H$17,0))=FALSE,\"C\",IF(ISERROR(MATCH(D362,Simulador!$H$18:$H$19,0))=FALSE,\"D\",\"\"))","v":""},{"$f":"IF(E362=\"C\",0,IF(E362 =\"D\",ROUND(1/((1+Simulador!$Q$13)^A362),9) * 2,ROUND(1/((1+Simulador!$Q$13)^A362),9)))","v":4.5716417000000002E-2},110.56235450999993]
[360,360,"2055-06-10",6,{"$f":"IF(ISERROR(MATCH(D363,Simulador!$H$16:$H$17,0))=FALSE,\"C\",IF(ISERROR(MATCH(D363,Simulador!$H$18:$H$19,0))=FALSE,\"D\",\"\"))","v":""},{"$f":"IF(E363=\"C\",0,IF(E363 =\"D\",ROUND(1/((1+Simulador!$Q$13)^A363),9) * 2,ROUND(1/((1+Simulador!$Q$13)^A363),9)))","v":4.5325206999999999E-2},110.60767971699994]
[361,361,"2055-07-10",7,{"$f":"IF(ISERROR(MATCH(D364,Simulador!$H$16:$H$17,0))=FALSE,\"C\",IF(ISERROR(MATCH(D364,Simulador!$H$18:$H$19,0))=FALSE,\"D\",\"\"))","v":""},{"$f":"IF(E364=\"C\",0,IF(E364 =\"D\",ROUND(1/((1+Simulador!$Q$13)^A364),9) * 2,ROUND(1/((1+Simulador!$Q$13)^A364),9)))","v":4.4937344999999997E-2},110.65261706199993]
[362,362,"2055-08-10",8,{"$f":"IF(ISERROR(MATCH(D365,Simulador!$H$16:$H$17,0))=FALSE,\"C\",IF(ISERROR(MATCH(D365,Simulador!$H$18:$H$19,0))=FALSE,\"D\",\"\"))","v":""},{"$f":"IF(E365=\"C\",0,IF(E365 =\"D\",ROUND(1/((1+Simulador!$Q$13)^A365),9) * 2,ROUND(1/((1+Simulador!$Q$13)^A365),9)))","v":4.4552801000000003E-2},110.69716986299993]
[363,363,"2055-09-10",9,{"$f":"IF(ISERROR(MATCH(D366,Simulador!$H$16:$H$17,0))=FALSE,\"C\",IF(ISERROR(MATCH(D366,Simulador!$H$18:$H$19,0))=FALSE,\"D\",\"\"))","v":""},{"$f":"IF(E366=\"C\",0,IF(E366 =\"D\",ROUND(1/((1+Simulador!$Q$13)^A366),9) * 2,ROUND(1/((1+Simulador!$Q$13)^A366),9)))","v":4.4171548999999997E-2},110.74134141199993]
[364,364,"2055-10-10",10,{"$f":"IF(ISERROR(MATCH(D367,Simulador!$H$16:$H$17,0))=FALSE,\"C\",IF(ISERROR(MATCH(D367,Simulador!$H$18:$H$19,0))=FALSE,\"D\",\"\"))","v":""},{"$f":"IF(E367=\"C\",0,IF(E367 =\"D\",ROUND(1/((1+Simulador!$Q$13)^A367),9) * 2,ROUND(1/((1+Simulador!$Q$13)^A367),9)))","v":4.3793559000000003E-2},110.78513497099992]
[365,365,"2055-11-10",11,{"$f":"IF(ISERROR(MATCH(D368,Simulador!$H$16:$H$17,0))=FALSE,\"C\",IF(ISERROR(MATCH(D368,Simulador!$H$18:$H$19,0))=FALSE,\"D\",\"\"))","v":""},{"$f":"IF(E368=\"C\",0,IF(E368 =\"D\",ROUND(1/((1+Simulador!$Q$13)^A368),9) * 2,ROUND(1/((1+Simulador!$Q$13)^A368),9)))","v":4.3418802999999999E-2},110.82855377399991]
[366,366,"2055-12-10",12,{"$f":"IF(ISERROR(MATCH(D369,Simulador!$H$16:$H$17,0))=FALSE,\"C\",IF(ISERROR(MATCH(D369,Simulador!$H$18:$H$19,0))=FALSE,\"D\",\"\"))","v":""},{"$f":"IF(E369=\"C\",0,IF(E369 =\"D\",ROUND(1/((1+Simulador!$Q$13)^A369),9) * 2,ROUND(1/((1+Simulador!$Q$13)^A369),9)))","v":4.3047255E-2},110.87160102899992]
[367,367,"2056-01-10",1,{"$f":"IF(ISERROR(MATCH(D370,Simulador!$H$16:$H$17,0))=FALSE,\"C\",IF(ISERROR(MATCH(D370,Simulador!$H$18:$H$19,0))=FALSE,\"D\",\"\"))","v":""},{"$f":"IF(E370=\"C\",0,IF(E370 =\"D\",ROUND(1/((1+Simulador!$Q$13)^A370),9) * 2,ROUND(1/((1+Simulador!$Q$13)^A370),9)))","v":4.2678885E-2},110.91427991399992]
[368,368,"2056-02-10",2,{"$f":"IF(ISERROR(MATCH(D371,Simulador!$H$16:$H$17,0))=FALSE,\"C\",IF(ISERROR(MATCH(D371,Simulador!$H$18:$H$19,0))=FALSE,\"D\",\"\"))","v":""},{"$f":"IF(E371=\"C\",0,IF(E371 =\"D\",ROUND(1/((1+Simulador!$Q$13)^A371),9) * 2,ROUND(1/((1+Simulador!$Q$13)^A371),9)))","v":4.2313668999999998E-2},110.95659358299991]
[369,369,"2056-03-10",3,{"$f":"IF(ISERROR(MATCH(D372,Simulador!$H$16:$H$17,0))=FALSE,\"C\",IF(ISERROR(MATCH(D372,Simulador!$H$18:$H$19,0))=FALSE,\"D\",\"\"))","v":""},{"$f":"IF(E372=\"C\",0,IF(E372 =\"D\",ROUND(1/((1+Simulador!$Q$13)^A372),9) * 2,ROUND(1/((1+Simulador!$Q$13)^A372),9)))","v":4.1951576999999997E-2},110.99854515999992]
[370,370,"2056-04-10",4,{"$f":"IF(ISERROR(MATCH(D373,Simulador!$H$16:$H$17,0))=FALSE,\"C\",IF(ISERROR(MATCH(D373,Simulador!$H$18:$H$19,0))=FALSE,\"D\",\"\"))","v":""},{"$f":"IF(E373=\"C\",0,IF(E373 =\"D\",ROUND(1/((1+Simulador!$Q$13)^A373),9) * 2,ROUND(1/((1+Simulador!$Q$13)^A373),9)))","v":4.1592584000000002E-2},111.04013774399992]
[371,371,"2056-05-10",5,{"$f":"IF(ISERROR(MATCH(D374,Simulador!$H$16:$H$17,0))=FALSE,\"C\",IF(ISERROR(MATCH(D374,Simulador!$H$18:$H$19,0))=FALSE,\"D\",\"\"))","v":""},{"$f":"IF(E374=\"C\",0,IF(E374 =\"D\",ROUND(1/((1+Simulador!$Q$13)^A374),9) * 2,ROUND(1/((1+Simulador!$Q$13)^A374),9)))","v":4.1236663E-2},111.08137440699993]
[372,372,"2056-06-10",6,{"$f":"IF(ISERROR(MATCH(D375,Simulador!$H$16:$H$17,0))=FALSE,\"C\",IF(ISERROR(MATCH(D375,Simulador!$H$18:$H$19,0))=FALSE,\"D\",\"\"))","v":""},{"$f":"IF(E375=\"C\",0,IF(E375 =\"D\",ROUND(1/((1+Simulador!$Q$13)^A375),9) * 2,ROUND(1/((1+Simulador!$Q$13)^A375),9)))","v":4.0883787999999997E-2},111.12225819499993]
[373,373,"2056-07-10",7,{"$f":"IF(ISERROR(MATCH(D376,Simulador!$H$16:$H$17,0))=FALSE,\"C\",IF(ISERROR(MATCH(D376,Simulador!$H$18:$H$19,0))=FALSE,\"D\",\"\"))","v":""},{"$f":"IF(E376=\"C\",0,IF(E376 =\"D\",ROUND(1/((1+Simulador!$Q$13)^A376),9) * 2,ROUND(1/((1+Simulador!$Q$13)^A376),9)))","v":4.0533932000000002E-2},111.16279212699993]
[374,374,"2056-08-10",8,{"$f":"IF(ISERROR(MATCH(D377,Simulador!$H$16:$H$17,0))=FALSE,\"C\",IF(ISERROR(MATCH(D377,Simulador!$H$18:$H$19,0))=FALSE,\"D\",\"\"))","v":""},{"$f":"IF(E377=\"C\",0,IF(E377 =\"D\",ROUND(1/((1+Simulador!$Q$13)^A377),9) * 2,ROUND(1/((1+Simulador!$Q$13)^A377),9)))","v":4.0187069999999998E-2},111.20297919699993]
[375,375,"2056-09-10",9,{"$f":"IF(ISERROR(MATCH(D378,Simulador!$H$16:$H$17,0))=FALSE,\"C\",IF(ISERROR(MATCH(D378,Simulador!$H$18:$H$19,0))=FALSE,\"D\",\"\"))","v":""},{"$f":"IF(E378=\"C\",0,IF(E378 =\"D\",ROUND(1/((1+Simulador!$Q$13)^A378),9) * 2,ROUND(1/((1+Simulador!$Q$13)^A378),9)))","v":3.9843176000000001E-2},111.24282237299994]
[376,376,"2056-10-10",10,{"$f":"IF(ISERROR(MATCH(D379,Simulador!$H$16:$H$17,0))=FALSE,\"C\",IF(ISERROR(MATCH(D379,Simulador!$H$18:$H$19,0))=FALSE,\"D\",\"\"))","v":""},{"$f":"IF(E379=\"C\",0,IF(E379 =\"D\",ROUND(1/((1+Simulador!$Q$13)^A379),9) * 2,ROUND(1/((1+Simulador!$Q$13)^A379),9)))","v":3.9502226000000001E-2},111.28232459899994]
[377,377,"2056-11-10",11,{"$f":"IF(ISERROR(MATCH(D380,Simulador!$H$16:$H$17,0))=FALSE,\"C\",IF(ISERROR(MATCH(D380,Simulador!$H$18:$H$19,0))=FALSE,\"D\",\"\"))","v":""},{"$f":"IF(E380=\"C\",0,IF(E380 =\"D\",ROUND(1/((1+Simulador!$Q$13)^A380),9) * 2,ROUND(1/((1+Simulador!$Q$13)^A380),9)))","v":3.9164192E-2},111.32148879099994]
[378,378,"2056-12-10",12,{"$f":"IF(ISERROR(MATCH(D381,Simulador!$H$16:$H$17,0))=FALSE,\"C\",IF(ISERROR(MATCH(D381,Simulador!$H$18:$H$19,0))=FALSE,\"D\",\"\"))","v":""},{"$f":"IF(E381=\"C\",0,IF(E381 =\"D\",ROUND(1/((1+Simulador!$Q$13)^A381),9) * 2,ROUND(1/((1+Simulador!$Q$13)^A381),9)))","v":3.8829052000000003E-2},111.36031784299993]
[379,379,"2057-01-10",1,{"$f":"IF(ISERROR(MATCH(D382,Simulador!$H$16:$H$17,0))=FALSE,\"C\",IF(ISERROR(MATCH(D382,Simulador!$H$18:$H$19,0))=FALSE,\"D\",\"\"))","v":""},{"$f":"IF(E382=\"C\",0,IF(E382 =\"D\",ROUND(1/((1+Simulador!$Q$13)^A382),9) * 2,ROUND(1/((1+Simulador!$Q$13)^A382),9)))","v":3.8496779000000002E-2},111.39881462199993]
[380,380,"2057-02-10",2,{"$f":"IF(ISERROR(MATCH(D383,Simulador!$H$16:$H$17,0))=FALSE,\"C\",IF(ISERROR(MATCH(D383,Simulador!$H$18:$H$19,0))=FALSE,\"D\",\"\"))","v":""},{"$f":"IF(E383=\"C\",0,IF(E383 =\"D\",ROUND(1/((1+Simulador!$Q$13)^A383),9) * 2,ROUND(1/((1+Simulador!$Q$13)^A383),9)))","v":3.8167350000000003E-2},111.43698197199993]
[381,381,"2057-03-10",3,{"$f":"IF(ISERROR(MATCH(D384,Simulador!$H$16:$H$17,0))=FALSE,\"C\",IF(ISERROR(MATCH(D384,Simulador!$H$18:$H$19,0))=FALSE,\"D\",\"\"))","v":""},{"$f":"IF(E384=\"C\",0,IF(E384 =\"D\",ROUND(1/((1+Simulador!$Q$13)^A384),9) * 2,ROUND(1/((1+Simulador!$Q$13)^A384),9)))","v":3.7840739999999998E-2},111.47482271199992]
[382,382,"2057-04-10",4,{"$f":"IF(ISERROR(MATCH(D385,Simulador!$H$16:$H$17,0))=FALSE,\"C\",IF(ISERROR(MATCH(D385,Simulador!$H$18:$H$19,0))=FALSE,\"D\",\"\"))","v":""},{"$f":"IF(E385=\"C\",0,IF(E385 =\"D\",ROUND(1/((1+Simulador!$Q$13)^A385),9) * 2,ROUND(1/((1+Simulador!$Q$13)^A385),9)))","v":3.7516924E-2},111.51233963599992]
[383,383,"2057-05-10",5,{"$f":"IF(ISERROR(MATCH(D386,Simulador!$H$16:$H$17,0))=FALSE,\"C\",IF(ISERROR(MATCH(D386,Simulador!$H$18:$H$19,0))=FALSE,\"D\",\"\"))","v":""},{"$f":"IF(E386=\"C\",0,IF(E386 =\"D\",ROUND(1/((1+Simulador!$Q$13)^A386),9) * 2,ROUND(1/((1+Simulador!$Q$13)^A386),9)))","v":3.7195880000000001E-2},111.54953551599992]