{"text_format":"1","workbook":"xlsx","n_sheets":5,"sheets":["Calculos","Hoja1","Hoja1 (2)","Simulador","Calculos PLD"],"not_rendered":{"charts":0,"images":2,"macros":1,"external_links":0,"defined_names":0,"comments":1,"pivot_tables":0},"unopened":[],"bounds":{"document_bytes":16777216,"sheet_cells":100000,"rows_first":2000,"rows_last":500,"rows_between":2000,"halvings":0,"cell_chars":16384,"cell_head_chars":4096},"cells_cut":0,"cells_raw":0,"read":"whole","date_system":"1900"}

{"sheet":"Calculos","index":0,"n_rows":386,"n_cols":7,"rows_kept":386,"cut":false,"hidden":true,"merged":[[0,0,0,6]]}
["Factores utilizados en Meses de No Pago para cálculo del valor cuota"]
[]
["N° de Cuota","Equivalente","Fecha","Mes","Marca Cuota No Pago","Factor (10)","Acumulado"]
[1,{"$f":"IF(E4<>\"C\",IF(ISERROR(1+B3)=TRUE,1,1+B3),IF(ISNUMBER(B3),B3,1))","v":1},{"$f":"+#REF!","v":{"$error":"#REF!"}},{"$f":"MONTH(C4)","v":{"$error":"#REF!"}},{"$f":"IF(ISERROR(MATCH(D4,#REF!,0))=FALSE,\"C\",IF(ISERROR(MATCH(D4,#REF!,0))=FALSE,\"D\",\"\"))","v":""},{"$f":"IF(E4=\"C\",0,IF(E4 =\"D\",ROUND(1/((1+#REF!)^A4),9) * 2,ROUND(1/((1+#REF!)^A4),9)))","v":{"$error":"#REF!"}},{"$f":"ROUND(F4,9)","v":{"$error":"#REF!"}}]
[{"$f":"A4+1","v":2},{"$f":"IF(E5<>\"C\",IF(ISERROR(1+B4)=TRUE,1,1+B4),IF(ISNUMBER(B4),B4,1))","v":2},{"$f":"DATE(YEAR(C4) + 1/12,MONTH(C4)+1,DAY(C4))","v":{"$error":"#REF!"}},{"$error":"#REF!"},{"$f":"IF(ISERROR(MATCH(D5,#REF!,0))=FALSE,\"C\",IF(ISERROR(MATCH(D5,#REF!,0))=FALSE,\"D\",\"\"))","v":""},{"$f":"IF(E5=\"C\",0,IF(E5 =\"D\",ROUND(1/((1+#REF!)^A5),9) * 2,ROUND(1/((1+#REF!)^A5),9)))","v":{"$error":"#REF!"}},{"$f":"G4+ROUND(F5,9)","v":{"$error":"#REF!"}}]
[3,3,{"$error":"#REF!"},{"$error":"#REF!"},{"$f":"IF(ISERROR(MATCH(D6,#REF!,0))=FALSE,\"C\",IF(ISERROR(MATCH(D6,#REF!,0))=FALSE,\"D\",\"\"))","v":""},{"$f":"IF(E6=\"C\",0,IF(E6 =\"D\",ROUND(1/((1+#REF!)^A6),9) * 2,ROUND(1/((1+#REF!)^A6),9)))","v":{"$error":"#REF!"}},{"$f":"G5+ROUND(F6,9)","v":{"$error":"#REF!"}}]
[4,4,{"$error":"#REF!"},{"$error":"#REF!"},{"$f":"IF(ISERROR(MATCH(D7,#REF!,0))=FALSE,\"C\",IF(ISERROR(MATCH(D7,#REF!,0))=FALSE,\"D\",\"\"))","v":""},{"$f":"IF(E7=\"C\",0,IF(E7 =\"D\",ROUND(1/((1+#REF!)^A7),9) * 2,ROUND(1/((1+#REF!)^A7),9)))","v":{"$error":"#REF!"}},{"$error":"#REF!"}]
[5,5,{"$error":"#REF!"},{"$error":"#REF!"},{"$f":"IF(ISERROR(MATCH(D8,#REF!,0))=FALSE,\"C\",IF(ISERROR(MATCH(D8,#REF!,0))=FALSE,\"D\",\"\"))","v":""},{"$f":"IF(E8=\"C\",0,IF(E8 =\"D\",ROUND(1/((1+#REF!)^A8),9) * 2,ROUND(1/((1+#REF!)^A8),9)))","v":{"$error":"#REF!"}},{"$error":"#REF!"}]
[6,6,{"$error":"#REF!"},{"$error":"#REF!"},{"$f":"IF(ISERROR(MATCH(D9,#REF!,0))=FALSE,\"C\",IF(ISERROR(MATCH(D9,#REF!,0))=FALSE,\"D\",\"\"))","v":""},{"$f":"IF(E9=\"C\",0,IF(E9 =\"D\",ROUND(1/((1+#REF!)^A9),9) * 2,ROUND(1/((1+#REF!)^A9),9)))","v":{"$error":"#REF!"}},{"$error":"#REF!"}]
[7,7,{"$error":"#REF!"},{"$error":"#REF!"},{"$f":"IF(ISERROR(MATCH(D10,#REF!,0))=FALSE,\"C\",IF(ISERROR(MATCH(D10,#REF!,0))=FALSE,\"D\",\"\"))","v":""},{"$f":"IF(E10=\"C\",0,IF(E10 =\"D\",ROUND(1/((1+#REF!)^A10),9) * 2,ROUND(1/((1+#REF!)^A10),9)))","v":{"$error":"#REF!"}},{"$error":"#REF!"}]
[8,8,{"$error":"#REF!"},{"$error":"#REF!"},{"$f":"IF(ISERROR(MATCH(D11,#REF!,0))=FALSE,\"C\",IF(ISERROR(MATCH(D11,#REF!,0))=FALSE,\"D\",\"\"))","v":""},{"$f":"IF(E11=\"C\",0,IF(E11 =\"D\",ROUND(1/((1+#REF!)^A11),9) * 2,ROUND(1/((1+#REF!)^A11),9)))","v":{"$error":"#REF!"}},{"$error":"#REF!"}]
[9,9,{"$error":"#REF!"},{"$error":"#REF!"},{"$f":"IF(ISERROR(MATCH(D12,#REF!,0))=FALSE,\"C\",IF(ISERROR(MATCH(D12,#REF!,0))=FALSE,\"D\",\"\"))","v":""},{"$f":"IF(E12=\"C\",0,IF(E12 =\"D\",ROUND(1/((1+#REF!)^A12),9) * 2,ROUND(1/((1+#REF!)^A12),9)))","v":{"$error":"#REF!"}},{"$error":"#REF!"}]
[10,10,{"$error":"#REF!"},{"$error":"#REF!"},{"$f":"IF(ISERROR(MATCH(D13,#REF!,0))=FALSE,\"C\",IF(ISERROR(MATCH(D13,#REF!,0))=FALSE,\"D\",\"\"))","v":""},{"$f":"IF(E13=\"C\",0,IF(E13 =\"D\",ROUND(1/((1+#REF!)^A13),9) * 2,ROUND(1/((1+#REF!)^A13),9)))","v":{"$error":"#REF!"}},{"$error":"#REF!"}]
[11,11,{"$error":"#REF!"},{"$error":"#REF!"},{"$f":"IF(ISERROR(MATCH(D14,#REF!,0))=FALSE,\"C\",IF(ISERROR(MATCH(D14,#REF!,0))=FALSE,\"D\",\"\"))","v":""},{"$f":"IF(E14=\"C\",0,IF(E14 =\"D\",ROUND(1/((1+#REF!)^A14),9) * 2,ROUND(1/((1+#REF!)^A14),9)))","v":{"$error":"#REF!"}},{"$error":"#REF!"}]
[12,12,{"$error":"#REF!"},{"$error":"#REF!"},{"$f":"IF(ISERROR(MATCH(D15,#REF!,0))=FALSE,\"C\",IF(ISERROR(MATCH(D15,#REF!,0))=FALSE,\"D\",\"\"))","v":""},{"$f":"IF(E15=\"C\",0,IF(E15 =\"D\",ROUND(1/((1+#REF!)^A15),9) * 2,ROUND(1/((1+#REF!)^A15),9)))","v":{"$error":"#REF!"}},{"$error":"#REF!"}]
[13,13,{"$error":"#REF!"},{"$error":"#REF!"},{"$f":"IF(ISERROR(MATCH(D16,#REF!,0))=FALSE,\"C\",IF(ISERROR(MATCH(D16,#REF!,0))=FALSE,\"D\",\"\"))","v":""},{"$f":"IF(E16=\"C\",0,IF(E16 =\"D\",ROUND(1/((1+#REF!)^A16),9) * 2,ROUND(1/((1+#REF!)^A16),9)))","v":{"$error":"#REF!"}},{"$error":"#REF!"}]
[14,14,{"$error":"#REF!"},{"$error":"#REF!"},{"$f":"IF(ISERROR(MATCH(D17,#REF!,0))=FALSE,\"C\",IF(ISERROR(MATCH(D17,#REF!,0))=FALSE,\"D\",\"\"))","v":""},{"$f":"IF(E17=\"C\",0,IF(E17 =\"D\",ROUND(1/((1+#REF!)^A17),9) * 2,ROUND(1/((1+#REF!)^A17),9)))","v":{"$error":"#REF!"}},{"$error":"#REF!"}]
[15,15,{"$error":"#REF!"},{"$error":"#REF!"},{"$f":"IF(ISERROR(MATCH(D18,#REF!,0))=FALSE,\"C\",IF(ISERROR(MATCH(D18,#REF!,0))=FALSE,\"D\",\"\"))","v":""},{"$f":"IF(E18=\"C\",0,IF(E18 =\"D\",ROUND(1/((1+#REF!)^A18),9) * 2,ROUND(1/((1+#REF!)^A18),9)))","v":{"$error":"#REF!"}},{"$error":"#REF!"}]
[16,16,{"$error":"#REF!"},{"$error":"#REF!"},{"$f":"IF(ISERROR(MATCH(D19,#REF!,0))=FALSE,\"C\",IF(ISERROR(MATCH(D19,#REF!,0))=FALSE,\"D\",\"\"))","v":""},{"$f":"IF(E19=\"C\",0,IF(E19 =\"D\",ROUND(1/((1+#REF!)^A19),9) * 2,ROUND(1/((1+#REF!)^A19),9)))","v":{"$error":"#REF!"}},{"$error":"#REF!"}]
[17,17,{"$error":"#REF!"},{"$error":"#REF!"},{"$f":"IF(ISERROR(MATCH(D20,#REF!,0))=FALSE,\"C\",IF(ISERROR(MATCH(D20,#REF!,0))=FALSE,\"D\",\"\"))","v":""},{"$f":"IF(E20=\"C\",0,IF(E20 =\"D\",ROUND(1/((1+#REF!)^A20),9) * 2,ROUND(1/((1+#REF!)^A20),9)))","v":{"$error":"#REF!"}},{"$error":"#REF!"}]
[18,18,{"$error":"#REF!"},{"$error":"#REF!"},{"$f":"IF(ISERROR(MATCH(D21,#REF!,0))=FALSE,\"C\",IF(ISERROR(MATCH(D21,#REF!,0))=FALSE,\"D\",\"\"))","v":""},{"$f":"IF(E21=\"C\",0,IF(E21 =\"D\",ROUND(1/((1+#REF!)^A21),9) * 2,ROUND(1/((1+#REF!)^A21),9)))","v":{"$error":"#REF!"}},{"$error":"#REF!"}]
[19,19,{"$error":"#REF!"},{"$error":"#REF!"},{"$f":"IF(ISERROR(MATCH(D22,#REF!,0))=FALSE,\"C\",IF(ISERROR(MATCH(D22,#REF!,0))=FALSE,\"D\",\"\"))","v":""},{"$f":"IF(E22=\"C\",0,IF(E22 =\"D\",ROUND(1/((1+#REF!)^A22),9) * 2,ROUND(1/((1+#REF!)^A22),9)))","v":{"$error":"#REF!"}},{"$error":"#REF!"}]
[20,20,{"$error":"#REF!"},{"$error":"#REF!"},{"$f":"IF(ISERROR(MATCH(D23,#REF!,0))=FALSE,\"C\",IF(ISERROR(MATCH(D23,#REF!,0))=FALSE,\"D\",\"\"))","v":""},{"$f":"IF(E23=\"C\",0,IF(E23 =\"D\",ROUND(1/((1+#REF!)^A23),9) * 2,ROUND(1/((1+#REF!)^A23),9)))","v":{"$error":"#REF!"}},{"$error":"#REF!"}]
[21,21,{"$error":"#REF!"},{"$error":"#REF!"},{"$f":"IF(ISERROR(MATCH(D24,#REF!,0))=FALSE,\"C\",IF(ISERROR(MATCH(D24,#REF!,0))=FALSE,\"D\",\"\"))","v":""},{"$f":"IF(E24=\"C\",0,IF(E24 =\"D\",ROUND(1/((1+#REF!)^A24),9) * 2,ROUND(1/((1+#REF!)^A24),9)))","v":{"$error":"#REF!"}},{"$error":"#REF!"}]
[22,22,{"$error":"#REF!"},{"$error":"#REF!"},{"$f":"IF(ISERROR(MATCH(D25,#REF!,0))=FALSE,\"C\",IF(ISERROR(MATCH(D25,#REF!,0))=FALSE,\"D\",\"\"))","v":""},{"$f":"IF(E25=\"C\",0,IF(E25 =\"D\",ROUND(1/((1+#REF!)^A25),9) * 2,ROUND(1/((1+#REF!)^A25),9)))","v":{"$error":"#REF!"}},{"$error":"#REF!"}]
[23,23,{"$error":"#REF!"},{"$error":"#REF!"},{"$f":"IF(ISERROR(MATCH(D26,#REF!,0))=FALSE,\"C\",IF(ISERROR(MATCH(D26,#REF!,0))=FALSE,\"D\",\"\"))","v":""},{"$f":"IF(E26=\"C\",0,IF(E26 =\"D\",ROUND(1/((1+#REF!)^A26),9) * 2,ROUND(1/((1+#REF!)^A26),9)))","v":{"$error":"#REF!"}},{"$error":"#REF!"}]
[24,24,{"$error":"#REF!"},{"$error":"#REF!"},{"$f":"IF(ISERROR(MATCH(D27,#REF!,0))=FALSE,\"C\",IF(ISERROR(MATCH(D27,#REF!,0))=FALSE,\"D\",\"\"))","v":""},{"$f":"IF(E27=\"C\",0,IF(E27 =\"D\",ROUND(1/((1+#REF!)^A27),9) * 2,ROUND(1/((1+#REF!)^A27),9)))","v":{"$error":"#REF!"}},{"$error":"#REF!"}]
[25,25,{"$error":"#REF!"},{"$error":"#REF!"},{"$f":"IF(ISERROR(MATCH(D28,#REF!,0))=FALSE,\"C\",IF(ISERROR(MATCH(D28,#REF!,0))=FALSE,\"D\",\"\"))","v":""},{"$f":"IF(E28=\"C\",0,IF(E28 =\"D\",ROUND(1/((1+#REF!)^A28),9) * 2,ROUND(1/((1+#REF!)^A28),9)))","v":{"$error":"#REF!"}},{"$error":"#REF!"}]
[26,26,{"$error":"#REF!"},{"$error":"#REF!"},{"$f":"IF(ISERROR(MATCH(D29,#REF!,0))=FALSE,\"C\",IF(ISERROR(MATCH(D29,#REF!,0))=FALSE,\"D\",\"\"))","v":""},{"$f":"IF(E29=\"C\",0,IF(E29 =\"D\",ROUND(1/((1+#REF!)^A29),9) * 2,ROUND(1/((1+#REF!)^A29),9)))","v":{"$error":"#REF!"}},{"$error":"#REF!"}]
[27,27,{"$error":"#REF!"},{"$error":"#REF!"},{"$f":"IF(ISERROR(MATCH(D30,#REF!,0))=FALSE,\"C\",IF(ISERROR(MATCH(D30,#REF!,0))=FALSE,\"D\",\"\"))","v":""},{"$f":"IF(E30=\"C\",0,IF(E30 =\"D\",ROUND(1/((1+#REF!)^A30),9) * 2,ROUND(1/((1+#REF!)^A30),9)))","v":{"$error":"#REF!"}},{"$error":"#REF!"}]
[28,28,{"$error":"#REF!"},{"$error":"#REF!"},{"$f":"IF(ISERROR(MATCH(D31,#REF!,0))=FALSE,\"C\",IF(ISERROR(MATCH(D31,#REF!,0))=FALSE,\"D\",\"\"))","v":""},{"$f":"IF(E31=\"C\",0,IF(E31 =\"D\",ROUND(1/((1+#REF!)^A31),9) * 2,ROUND(1/((1+#REF!)^A31),9)))","v":{"$error":"#REF!"}},{"$error":"#REF!"}]
[29,29,{"$error":"#REF!"},{"$error":"#REF!"},{"$f":"IF(ISERROR(MATCH(D32,#REF!,0))=FALSE,\"C\",IF(ISERROR(MATCH(D32,#REF!,0))=FALSE,\"D\",\"\"))","v":""},{"$f":"IF(E32=\"C\",0,IF(E32 =\"D\",ROUND(1/((1+#REF!)^A32),9) * 2,ROUND(1/((1+#REF!)^A32),9)))","v":{"$error":"#REF!"}},{"$error":"#REF!"}]
[30,30,{"$error":"#REF!"},{"$error":"#REF!"},{"$f":"IF(ISERROR(MATCH(D33,#REF!,0))=FALSE,\"C\",IF(ISERROR(MATCH(D33,#REF!,0))=FALSE,\"D\",\"\"))","v":""},{"$f":"IF(E33=\"C\",0,IF(E33 =\"D\",ROUND(1/((1+#REF!)^A33),9) * 2,ROUND(1/((1+#REF!)^A33),9)))","v":{"$error":"#REF!"}},{"$error":"#REF!"}]
[31,31,{"$error":"#REF!"},{"$error":"#REF!"},{"$f":"IF(ISERROR(MATCH(D34,#REF!,0))=FALSE,\"C\",IF(ISERROR(MATCH(D34,#REF!,0))=FALSE,\"D\",\"\"))","v":""},{"$f":"IF(E34=\"C\",0,IF(E34 =\"D\",ROUND(1/((1+#REF!)^A34),9) * 2,ROUND(1/((1+#REF!)^A34),9)))","v":{"$error":"#REF!"}},{"$error":"#REF!"}]
[32,32,{"$error":"#REF!"},{"$error":"#REF!"},{"$f":"IF(ISERROR(MATCH(D35,#REF!,0))=FALSE,\"C\",IF(ISERROR(MATCH(D35,#REF!,0))=FALSE,\"D\",\"\"))","v":""},{"$f":"IF(E35=\"C\",0,IF(E35 =\"D\",ROUND(1/((1+#REF!)^A35),9) * 2,ROUND(1/((1+#REF!)^A35),9)))","v":{"$error":"#REF!"}},{"$error":"#REF!"}]
[33,33,{"$error":"#REF!"},{"$error":"#REF!"},{"$f":"IF(ISERROR(MATCH(D36,#REF!,0))=FALSE,\"C\",IF(ISERROR(MATCH(D36,#REF!,0))=FALSE,\"D\",\"\"))","v":""},{"$f":"IF(E36=\"C\",0,IF(E36 =\"D\",ROUND(1/((1+#REF!)^A36),9) * 2,ROUND(1/((1+#REF!)^A36),9)))","v":{"$error":"#REF!"}},{"$error":"#REF!"}]
[34,34,{"$error":"#REF!"},{"$error":"#REF!"},{"$f":"IF(ISERROR(MATCH(D37,#REF!,0))=FALSE,\"C\",IF(ISERROR(MATCH(D37,#REF!,0))=FALSE,\"D\",\"\"))","v":""},{"$f":"IF(E37=\"C\",0,IF(E37 =\"D\",ROUND(1/((1+#REF!)^A37),9) * 2,ROUND(1/((1+#REF!)^A37),9)))","v":{"$error":"#REF!"}},{"$error":"#REF!"}]
[35,35,{"$error":"#REF!"},{"$error":"#REF!"},{"$f":"IF(ISERROR(MATCH(D38,#REF!,0))=FALSE,\"C\",IF(ISERROR(MATCH(D38,#REF!,0))=FALSE,\"D\",\"\"))","v":""},{"$f":"IF(E38=\"C\",0,IF(E38 =\"D\",ROUND(1/((1+#REF!)^A38),9) * 2,ROUND(1/((1+#REF!)^A38),9)))","v":{"$error":"#REF!"}},{"$error":"#REF!"}]
[36,36,{"$error":"#REF!"},{"$error":"#REF!"},{"$f":"IF(ISERROR(MATCH(D39,#REF!,0))=FALSE,\"C\",IF(ISERROR(MATCH(D39,#REF!,0))=FALSE,\"D\",\"\"))","v":""},{"$f":"IF(E39=\"C\",0,IF(E39 =\"D\",ROUND(1/((1+#REF!)^A39),9) * 2,ROUND(1/((1+#REF!)^A39),9)))","v":{"$error":"#REF!"}},{"$error":"#REF!"}]
[37,37,{"$error":"#REF!"},{"$error":"#REF!"},{"$f":"IF(ISERROR(MATCH(D40,#REF!,0))=FALSE,\"C\",IF(ISERROR(MATCH(D40,#REF!,0))=FALSE,\"D\",\"\"))","v":""},{"$f":"IF(E40=\"C\",0,IF(E40 =\"D\",ROUND(1/((1+#REF!)^A40),9) * 2,ROUND(1/((1+#REF!)^A40),9)))","v":{"$error":"#REF!"}},{"$error":"#REF!"}]
[38,38,{"$error":"#REF!"},{"$error":"#REF!"},{"$f":"IF(ISERROR(MATCH(D41,#REF!,0))=FALSE,\"C\",IF(ISERROR(MATCH(D41,#REF!,0))=FALSE,\"D\",\"\"))","v":""},{"$f":"IF(E41=\"C\",0,IF(E41 =\"D\",ROUND(1/((1+#REF!)^A41),9) * 2,ROUND(1/((1+#REF!)^A41),9)))","v":{"$error":"#REF!"}},{"$error":"#REF!"}]
[39,39,{"$error":"#REF!"},{"$error":"#REF!"},{"$f":"IF(ISERROR(MATCH(D42,#REF!,0))=FALSE,\"C\",IF(ISERROR(MATCH(D42,#REF!,0))=FALSE,\"D\",\"\"))","v":""},{"$f":"IF(E42=\"C\",0,IF(E42 =\"D\",ROUND(1/((1+#REF!)^A42),9) * 2,ROUND(1/((1+#REF!)^A42),9)))","v":{"$error":"#REF!"}},{"$error":"#REF!"}]
[40,40,{"$error":"#REF!"},{"$error":"#REF!"},{"$f":"IF(ISERROR(MATCH(D43,#REF!,0))=FALSE,\"C\",IF(ISERROR(MATCH(D43,#REF!,0))=FALSE,\"D\",\"\"))","v":""},{"$f":"IF(E43=\"C\",0,IF(E43 =\"D\",ROUND(1/((1+#REF!)^A43),9) * 2,ROUND(1/((1+#REF!)^A43),9)))","v":{"$error":"#REF!"}},{"$error":"#REF!"}]
[41,41,{"$error":"#REF!"},{"$error":"#REF!"},{"$f":"IF(ISERROR(MATCH(D44,#REF!,0))=FALSE,\"C\",IF(ISERROR(MATCH(D44,#REF!,0))=FALSE,\"D\",\"\"))","v":""},{"$f":"IF(E44=\"C\",0,IF(E44 =\"D\",ROUND(1/((1+#REF!)^A44),9) * 2,ROUND(1/((1+#REF!)^A44),9)))","v":{"$error":"#REF!"}},{"$error":"#REF!"}]
[42,42,{"$error":"#REF!"},{"$error":"#REF!"},{"$f":"IF(ISERROR(MATCH(D45,#REF!,0))=FALSE,\"C\",IF(ISERROR(MATCH(D45,#REF!,0))=FALSE,\"D\",\"\"))","v":""},{"$f":"IF(E45=\"C\",0,IF(E45 =\"D\",ROUND(1/((1+#REF!)^A45),9) * 2,ROUND(1/((1+#REF!)^A45),9)))","v":{"$error":"#REF!"}},{"$error":"#REF!"}]
[43,43,{"$error":"#REF!"},{"$error":"#REF!"},{"$f":"IF(ISERROR(MATCH(D46,#REF!,0))=FALSE,\"C\",IF(ISERROR(MATCH(D46,#REF!,0))=FALSE,\"D\",\"\"))","v":""},{"$f":"IF(E46=\"C\",0,IF(E46 =\"D\",ROUND(1/((1+#REF!)^A46),9) * 2,ROUND(1/((1+#REF!)^A46),9)))","v":{"$error":"#REF!"}},{"$error":"#REF!"}]
[44,44,{"$error":"#REF!"},{"$error":"#REF!"},{"$f":"IF(ISERROR(MATCH(D47,#REF!,0))=FALSE,\"C\",IF(ISERROR(MATCH(D47,#REF!,0))=FALSE,\"D\",\"\"))","v":""},{"$f":"IF(E47=\"C\",0,IF(E47 =\"D\",ROUND(1/((1+#REF!)^A47),9) * 2,ROUND(1/((1+#REF!)^A47),9)))","v":{"$error":"#REF!"}},{"$error":"#REF!"}]
[45,45,{"$error":"#REF!"},{"$error":"#REF!"},{"$f":"IF(ISERROR(MATCH(D48,#REF!,0))=FALSE,\"C\",IF(ISERROR(MATCH(D48,#REF!,0))=FALSE,\"D\",\"\"))","v":""},{"$f":"IF(E48=\"C\",0,IF(E48 =\"D\",ROUND(1/((1+#REF!)^A48),9) * 2,ROUND(1/((1+#REF!)^A48),9)))","v":{"$error":"#REF!"}},{"$error":"#REF!"}]
[46,46,{"$error":"#REF!"},{"$error":"#REF!"},{"$f":"IF(ISERROR(MATCH(D49,#REF!,0))=FALSE,\"C\",IF(ISERROR(MATCH(D49,#REF!,0))=FALSE,\"D\",\"\"))","v":""},{"$f":"IF(E49=\"C\",0,IF(E49 =\"D\",ROUND(1/((1+#REF!)^A49),9) * 2,ROUND(1/((1+#REF!)^A49),9)))","v":{"$error":"#REF!"}},{"$error":"#REF!"}]
[47,47,{"$error":"#REF!"},{"$error":"#REF!"},{"$f":"IF(ISERROR(MATCH(D50,#REF!,0))=FALSE,\"C\",IF(ISERROR(MATCH(D50,#REF!,0))=FALSE,\"D\",\"\"))","v":""},{"$f":"IF(E50=\"C\",0,IF(E50 =\"D\",ROUND(1/((1+#REF!)^A50),9) * 2,ROUND(1/((1+#REF!)^A50),9)))","v":{"$error":"#REF!"}},{"$error":"#REF!"}]
[48,48,{"$error":"#REF!"},{"$error":"#REF!"},{"$f":"IF(ISERROR(MATCH(D51,#REF!,0))=FALSE,\"C\",IF(ISERROR(MATCH(D51,#REF!,0))=FALSE,\"D\",\"\"))","v":""},{"$f":"IF(E51=\"C\",0,IF(E51 =\"D\",ROUND(1/((1+#REF!)^A51),9) * 2,ROUND(1/((1+#REF!)^A51),9)))","v":{"$error":"#REF!"}},{"$error":"#REF!"}]
[49,49,{"$error":"#REF!"},{"$error":"#REF!"},{"$f":"IF(ISERROR(MATCH(D52,#REF!,0))=FALSE,\"C\",IF(ISERROR(MATCH(D52,#REF!,0))=FALSE,\"D\",\"\"))","v":""},{"$f":"IF(E52=\"C\",0,IF(E52 =\"D\",ROUND(1/((1+#REF!)^A52),9) * 2,ROUND(1/((1+#REF!)^A52),9)))","v":{"$error":"#REF!"}},{"$error":"#REF!"}]
[50,50,{"$error":"#REF!"},{"$error":"#REF!"},{"$f":"IF(ISERROR(MATCH(D53,#REF!,0))=FALSE,\"C\",IF(ISERROR(MATCH(D53,#REF!,0))=FALSE,\"D\",\"\"))","v":""},{"$f":"IF(E53=\"C\",0,IF(E53 =\"D\",ROUND(1/((1+#REF!)^A53),9) * 2,ROUND(1/((1+#REF!)^A53),9)))","v":{"$error":"#REF!"}},{"$error":"#REF!"}]
[51,51,{"$error":"#REF!"},{"$error":"#REF!"},{"$f":"IF(ISERROR(MATCH(D54,#REF!,0))=FALSE,\"C\",IF(ISERROR(MATCH(D54,#REF!,0))=FALSE,\"D\",\"\"))","v":""},{"$f":"IF(E54=\"C\",0,IF(E54 =\"D\",ROUND(1/((1+#REF!)^A54),9) * 2,ROUND(1/((1+#REF!)^A54),9)))","v":{"$error":"#REF!"}},{"$error":"#REF!"}]
[52,52,{"$error":"#REF!"},{"$error":"#REF!"},{"$f":"IF(ISERROR(MATCH(D55,#REF!,0))=FALSE,\"C\",IF(ISERROR(MATCH(D55,#REF!,0))=FALSE,\"D\",\"\"))","v":""},{"$f":"IF(E55=\"C\",0,IF(E55 =\"D\",ROUND(1/((1+#REF!)^A55),9) * 2,ROUND(1/((1+#REF!)^A55),9)))","v":{"$error":"#REF!"}},{"$error":"#REF!"}]
[53,53,{"$error":"#REF!"},{"$error":"#REF!"},{"$f":"IF(ISERROR(MATCH(D56,#REF!,0))=FALSE,\"C\",IF(ISERROR(MATCH(D56,#REF!,0))=FALSE,\"D\",\"\"))","v":""},{"$f":"IF(E56=\"C\",0,IF(E56 =\"D\",ROUND(1/((1+#REF!)^A56),9) * 2,ROUND(1/((1+#REF!)^A56),9)))","v":{"$error":"#REF!"}},{"$error":"#REF!"}]
[54,54,{"$error":"#REF!"},{"$error":"#REF!"},{"$f":"IF(ISERROR(MATCH(D57,#REF!,0))=FALSE,\"C\",IF(ISERROR(MATCH(D57,#REF!,0))=FALSE,\"D\",\"\"))","v":""},{"$f":"IF(E57=\"C\",0,IF(E57 =\"D\",ROUND(1/((1+#REF!)^A57),9) * 2,ROUND(1/((1+#REF!)^A57),9)))","v":{"$error":"#REF!"}},{"$error":"#REF!"}]
[55,55,{"$error":"#REF!"},{"$error":"#REF!"},{"$f":"IF(ISERROR(MATCH(D58,#REF!,0))=FALSE,\"C\",IF(ISERROR(MATCH(D58,#REF!,0))=FALSE,\"D\",\"\"))","v":""},{"$f":"IF(E58=\"C\",0,IF(E58 =\"D\",ROUND(1/((1+#REF!)^A58),9) * 2,ROUND(1/((1+#REF!)^A58),9)))","v":{"$error":"#REF!"}},{"$error":"#REF!"}]
[56,56,{"$error":"#REF!"},{"$error":"#REF!"},{"$f":"IF(ISERROR(MATCH(D59,#REF!,0))=FALSE,\"C\",IF(ISERROR(MATCH(D59,#REF!,0))=FALSE,\"D\",\"\"))","v":""},{"$f":"IF(E59=\"C\",0,IF(E59 =\"D\",ROUND(1/((1+#REF!)^A59),9) * 2,ROUND(1/((1+#REF!)^A59),9)))","v":{"$error":"#REF!"}},{"$error":"#REF!"}]
[57,57,{"$error":"#REF!"},{"$error":"#REF!"},{"$f":"IF(ISERROR(MATCH(D60,#REF!,0))=FALSE,\"C\",IF(ISERROR(MATCH(D60,#REF!,0))=FALSE,\"D\",\"\"))","v":""},{"$f":"IF(E60=\"C\",0,IF(E60 =\"D\",ROUND(1/((1+#REF!)^A60),9) * 2,ROUND(1/((1+#REF!)^A60),9)))","v":{"$error":"#REF!"}},{"$error":"#REF!"}]
[58,58,{"$error":"#REF!"},{"$error":"#REF!"},{"$f":"IF(ISERROR(MATCH(D61,#REF!,0))=FALSE,\"C\",IF(ISERROR(MATCH(D61,#REF!,0))=FALSE,\"D\",\"\"))","v":""},{"$f":"IF(E61=\"C\",0,IF(E61 =\"D\",ROUND(1/((1+#REF!)^A61),9) * 2,ROUND(1/((1+#REF!)^A61),9)))","v":{"$error":"#REF!"}},{"$error":"#REF!"}]
[59,59,{"$error":"#REF!"},{"$error":"#REF!"},{"$f":"IF(ISERROR(MATCH(D62,#REF!,0))=FALSE,\"C\",IF(ISERROR(MATCH(D62,#REF!,0))=FALSE,\"D\",\"\"))","v":""},{"$f":"IF(E62=\"C\",0,IF(E62 =\"D\",ROUND(1/((1+#REF!)^A62),9) * 2,ROUND(1/((1+#REF!)^A62),9)))","v":{"$error":"#REF!"}},{"$error":"#REF!"}]
[60,60,{"$error":"#REF!"},{"$error":"#REF!"},{"$f":"IF(ISERROR(MATCH(D63,#REF!,0))=FALSE,\"C\",IF(ISERROR(MATCH(D63,#REF!,0))=FALSE,\"D\",\"\"))","v":""},{"$f":"IF(E63=\"C\",0,IF(E63 =\"D\",ROUND(1/((1+#REF!)^A63),9) * 2,ROUND(1/((1+#REF!)^A63),9)))","v":{"$error":"#REF!"}},{"$error":"#REF!"}]
[61,61,{"$error":"#REF!"},{"$error":"#REF!"},{"$f":"IF(ISERROR(MATCH(D64,#REF!,0))=FALSE,\"C\",IF(ISERROR(MATCH(D64,#REF!,0))=FALSE,\"D\",\"\"))","v":""},{"$f":"IF(E64=\"C\",0,IF(E64 =\"D\",ROUND(1/((1+#REF!)^A64),9) * 2,ROUND(1/((1+#REF!)^A64),9)))","v":{"$error":"#REF!"}},{"$error":"#REF!"}]
[62,62,{"$error":"#REF!"},{"$error":"#REF!"},{"$f":"IF(ISERROR(MATCH(D65,#REF!,0))=FALSE,\"C\",IF(ISERROR(MATCH(D65,#REF!,0))=FALSE,\"D\",\"\"))","v":""},{"$f":"IF(E65=\"C\",0,IF(E65 =\"D\",ROUND(1/((1+#REF!)^A65),9) * 2,ROUND(1/((1+#REF!)^A65),9)))","v":{"$error":"#REF!"}},{"$error":"#REF!"}]
[63,63,{"$error":"#REF!"},{"$error":"#REF!"},{"$f":"IF(ISERROR(MATCH(D66,#REF!,0))=FALSE,\"C\",IF(ISERROR(MATCH(D66,#REF!,0))=FALSE,\"D\",\"\"))","v":""},{"$f":"IF(E66=\"C\",0,IF(E66 =\"D\",ROUND(1/((1+#REF!)^A66),9) * 2,ROUND(1/((1+#REF!)^A66),9)))","v":{"$error":"#REF!"}},{"$error":"#REF!"}]
[64,64,{"$error":"#REF!"},{"$error":"#REF!"},{"$f":"IF(ISERROR(MATCH(D67,#REF!,0))=FALSE,\"C\",IF(ISERROR(MATCH(D67,#REF!,0))=FALSE,\"D\",\"\"))","v":""},{"$f":"IF(E67=\"C\",0,IF(E67 =\"D\",ROUND(1/((1+#REF!)^A67),9) * 2,ROUND(1/((1+#REF!)^A67),9)))","v":{"$error":"#REF!"}},{"$error":"#REF!"}]
[65,65,{"$error":"#REF!"},{"$f":"MONTH(C68)","v":{"$error":"#REF!"}},{"$f":"IF(ISERROR(MATCH(D68,#REF!,0))=FALSE,\"C\",IF(ISERROR(MATCH(D68,#REF!,0))=FALSE,\"D\",\"\"))","v":""},{"$f":"IF(E68=\"C\",0,IF(E68 =\"D\",ROUND(1/((1+#REF!)^A68),9) * 2,ROUND(1/((1+#REF!)^A68),9)))","v":{"$error":"#REF!"}},{"$error":"#REF!"}]
[{"$f":"A68+1","v":66},{"$f":"IF(E69<>\"C\",IF(ISERROR(1+B68)=TRUE,1,1+B68),IF(ISNUMBER(B68),B68,1))","v":66},{"$f":"DATE(YEAR(C68) + 1/12,MONTH(C68)+1,DAY(C68))","v":{"$error":"#REF!"}},{"$error":"#REF!"},{"$f":"IF(ISERROR(MATCH(D69,#REF!,0))=FALSE,\"C\",IF(ISERROR(MATCH(D69,#REF!,0))=FALSE,\"D\",\"\"))","v":""},{"$f":"IF(E69=\"C\",0,IF(E69 =\"D\",ROUND(1/((1+#REF!)^A69),9) * 2,ROUND(1/((1+#REF!)^A69),9)))","v":{"$error":"#REF!"}},{"$error":"#REF!"}]
[67,67,{"$error":"#REF!"},{"$error":"#REF!"},{"$f":"IF(ISERROR(MATCH(D70,#REF!,0))=FALSE,\"C\",IF(ISERROR(MATCH(D70,#REF!,0))=FALSE,\"D\",\"\"))","v":""},{"$f":"IF(E70=\"C\",0,IF(E70 =\"D\",ROUND(1/((1+#REF!)^A70),9) * 2,ROUND(1/((1+#REF!)^A70),9)))","v":{"$error":"#REF!"}},{"$f":"G69+ROUND(F70,9)","v":{"$error":"#REF!"}}]
[68,68,{"$error":"#REF!"},{"$error":"#REF!"},{"$f":"IF(ISERROR(MATCH(D71,#REF!,0))=FALSE,\"C\",IF(ISERROR(MATCH(D71,#REF!,0))=FALSE,\"D\",\"\"))","v":""},{"$f":"IF(E71=\"C\",0,IF(E71 =\"D\",ROUND(1/((1+#REF!)^A71),9) * 2,ROUND(1/((1+#REF!)^A71),9)))","v":{"$error":"#REF!"}},{"$error":"#REF!"}]
[69,69,{"$error":"#REF!"},{"$error":"#REF!"},{"$f":"IF(ISERROR(MATCH(D72,#REF!,0))=FALSE,\"C\",IF(ISERROR(MATCH(D72,#REF!,0))=FALSE,\"D\",\"\"))","v":""},{"$f":"IF(E72=\"C\",0,IF(E72 =\"D\",ROUND(1/((1+#REF!)^A72),9) * 2,ROUND(1/((1+#REF!)^A72),9)))","v":{"$error":"#REF!"}},{"$error":"#REF!"}]
[70,70,{"$error":"#REF!"},{"$error":"#REF!"},{"$f":"IF(ISERROR(MATCH(D73,#REF!,0))=FALSE,\"C\",IF(ISERROR(MATCH(D73,#REF!,0))=FALSE,\"D\",\"\"))","v":""},{"$f":"IF(E73=\"C\",0,IF(E73 =\"D\",ROUND(1/((1+#REF!)^A73),9) * 2,ROUND(1/((1+#REF!)^A73),9)))","v":{"$error":"#REF!"}},{"$error":"#REF!"}]
[71,71,{"$error":"#REF!"},{"$error":"#REF!"},{"$f":"IF(ISERROR(MATCH(D74,#REF!,0))=FALSE,\"C\",IF(ISERROR(MATCH(D74,#REF!,0))=FALSE,\"D\",\"\"))","v":""},{"$f":"IF(E74=\"C\",0,IF(E74 =\"D\",ROUND(1/((1+#REF!)^A74),9) * 2,ROUND(1/((1+#REF!)^A74),9)))","v":{"$error":"#REF!"}},{"$error":"#REF!"}]
[72,72,{"$error":"#REF!"},{"$error":"#REF!"},{"$f":"IF(ISERROR(MATCH(D75,#REF!,0))=FALSE,\"C\",IF(ISERROR(MATCH(D75,#REF!,0))=FALSE,\"D\",\"\"))","v":""},{"$f":"IF(E75=\"C\",0,IF(E75 =\"D\",ROUND(1/((1+#REF!)^A75),9) * 2,ROUND(1/((1+#REF!)^A75),9)))","v":{"$error":"#REF!"}},{"$error":"#REF!"}]
[73,73,{"$error":"#REF!"},{"$error":"#REF!"},{"$f":"IF(ISERROR(MATCH(D76,#REF!,0))=FALSE,\"C\",IF(ISERROR(MATCH(D76,#REF!,0))=FALSE,\"D\",\"\"))","v":""},{"$f":"IF(E76=\"C\",0,IF(E76 =\"D\",ROUND(1/((1+#REF!)^A76),9) * 2,ROUND(1/((1+#REF!)^A76),9)))","v":{"$error":"#REF!"}},{"$error":"#REF!"}]
[74,74,{"$error":"#REF!"},{"$error":"#REF!"},{"$f":"IF(ISERROR(MATCH(D77,#REF!,0))=FALSE,\"C\",IF(ISERROR(MATCH(D77,#REF!,0))=FALSE,\"D\",\"\"))","v":""},{"$f":"IF(E77=\"C\",0,IF(E77 =\"D\",ROUND(1/((1+#REF!)^A77),9) * 2,ROUND(1/((1+#REF!)^A77),9)))","v":{"$error":"#REF!"}},{"$error":"#REF!"}]
[75,75,{"$error":"#REF!"},{"$error":"#REF!"},{"$f":"IF(ISERROR(MATCH(D78,#REF!,0))=FALSE,\"C\",IF(ISERROR(MATCH(D78,#REF!,0))=FALSE,\"D\",\"\"))","v":""},{"$f":"IF(E78=\"C\",0,IF(E78 =\"D\",ROUND(1/((1+#REF!)^A78),9) * 2,ROUND(1/((1+#REF!)^A78),9)))","v":{"$error":"#REF!"}},{"$error":"#REF!"}]
[76,76,{"$error":"#REF!"},{"$error":"#REF!"},{"$f":"IF(ISERROR(MATCH(D79,#REF!,0))=FALSE,\"C\",IF(ISERROR(MATCH(D79,#REF!,0))=FALSE,\"D\",\"\"))","v":""},{"$f":"IF(E79=\"C\",0,IF(E79 =\"D\",ROUND(1/((1+#REF!)^A79),9) * 2,ROUND(1/((1+#REF!)^A79),9)))","v":{"$error":"#REF!"}},{"$error":"#REF!"}]
[77,77,{"$error":"#REF!"},{"$error":"#REF!"},{"$f":"IF(ISERROR(MATCH(D80,#REF!,0))=FALSE,\"C\",IF(ISERROR(MATCH(D80,#REF!,0))=FALSE,\"D\",\"\"))","v":""},{"$f":"IF(E80=\"C\",0,IF(E80 =\"D\",ROUND(1/((1+#REF!)^A80),9) * 2,ROUND(1/((1+#REF!)^A80),9)))","v":{"$error":"#REF!"}},{"$error":"#REF!"}]
[78,78,{"$error":"#REF!"},{"$error":"#REF!"},{"$f":"IF(ISERROR(MATCH(D81,#REF!,0))=FALSE,\"C\",IF(ISERROR(MATCH(D81,#REF!,0))=FALSE,\"D\",\"\"))","v":""},{"$f":"IF(E81=\"C\",0,IF(E81 =\"D\",ROUND(1/((1+#REF!)^A81),9) * 2,ROUND(1/((1+#REF!)^A81),9)))","v":{"$error":"#REF!"}},{"$error":"#REF!"}]
[79,79,{"$error":"#REF!"},{"$error":"#REF!"},{"$f":"IF(ISERROR(MATCH(D82,#REF!,0))=FALSE,\"C\",IF(ISERROR(MATCH(D82,#REF!,0))=FALSE,\"D\",\"\"))","v":""},{"$f":"IF(E82=\"C\",0,IF(E82 =\"D\",ROUND(1/((1+#REF!)^A82),9) * 2,ROUND(1/((1+#REF!)^A82),9)))","v":{"$error":"#REF!"}},{"$error":"#REF!"}]
[80,80,{"$error":"#REF!"},{"$error":"#REF!"},{"$f":"IF(ISERROR(MATCH(D83,#REF!,0))=FALSE,\"C\",IF(ISERROR(MATCH(D83,#REF!,0))=FALSE,\"D\",\"\"))","v":""},{"$f":"IF(E83=\"C\",0,IF(E83 =\"D\",ROUND(1/((1+#REF!)^A83),9) * 2,ROUND(1/((1+#REF!)^A83),9)))","v":{"$error":"#REF!"}},{"$error":"#REF!"}]
[81,81,{"$error":"#REF!"},{"$error":"#REF!"},{"$f":"IF(ISERROR(MATCH(D84,#REF!,0))=FALSE,\"C\",IF(ISERROR(MATCH(D84,#REF!,0))=FALSE,\"D\",\"\"))","v":""},{"$f":"IF(E84=\"C\",0,IF(E84 =\"D\",ROUND(1/((1+#REF!)^A84),9) * 2,ROUND(1/((1+#REF!)^A84),9)))","v":{"$error":"#REF!"}},{"$error":"#REF!"}]
[82,82,{"$error":"#REF!"},{"$error":"#REF!"},{"$f":"IF(ISERROR(MATCH(D85,#REF!,0))=FALSE,\"C\",IF(ISERROR(MATCH(D85,#REF!,0))=FALSE,\"D\",\"\"))","v":""},{"$f":"IF(E85=\"C\",0,IF(E85 =\"D\",ROUND(1/((1+#REF!)^A85),9) * 2,ROUND(1/((1+#REF!)^A85),9)))","v":{"$error":"#REF!"}},{"$error":"#REF!"}]
[83,83,{"$error":"#REF!"},{"$error":"#REF!"},{"$f":"IF(ISERROR(MATCH(D86,#REF!,0))=FALSE,\"C\",IF(ISERROR(MATCH(D86,#REF!,0))=FALSE,\"D\",\"\"))","v":""},{"$f":"IF(E86=\"C\",0,IF(E86 =\"D\",ROUND(1/((1+#REF!)^A86),9) * 2,ROUND(1/((1+#REF!)^A86),9)))","v":{"$error":"#REF!"}},{"$error":"#REF!"}]
[84,84,{"$error":"#REF!"},{"$error":"#REF!"},{"$f":"IF(ISERROR(MATCH(D87,#REF!,0))=FALSE,\"C\",IF(ISERROR(MATCH(D87,#REF!,0))=FALSE,\"D\",\"\"))","v":""},{"$f":"IF(E87=\"C\",0,IF(E87 =\"D\",ROUND(1/((1+#REF!)^A87),9) * 2,ROUND(1/((1+#REF!)^A87),9)))","v":{"$error":"#REF!"}},{"$error":"#REF!"}]
[85,85,{"$error":"#REF!"},{"$error":"#REF!"},{"$f":"IF(ISERROR(MATCH(D88,#REF!,0))=FALSE,\"C\",IF(ISERROR(MATCH(D88,#REF!,0))=FALSE,\"D\",\"\"))","v":""},{"$f":"IF(E88=\"C\",0,IF(E88 =\"D\",ROUND(1/((1+#REF!)^A88),9) * 2,ROUND(1/((1+#REF!)^A88),9)))","v":{"$error":"#REF!"}},{"$error":"#REF!"}]
[86,86,{"$error":"#REF!"},{"$error":"#REF!"},{"$f":"IF(ISERROR(MATCH(D89,#REF!,0))=FALSE,\"C\",IF(ISERROR(MATCH(D89,#REF!,0))=FALSE,\"D\",\"\"))","v":""},{"$f":"IF(E89=\"C\",0,IF(E89 =\"D\",ROUND(1/((1+#REF!)^A89),9) * 2,ROUND(1/((1+#REF!)^A89),9)))","v":{"$error":"#REF!"}},{"$error":"#REF!"}]
[87,87,{"$error":"#REF!"},{"$error":"#REF!"},{"$f":"IF(ISERROR(MATCH(D90,#REF!,0))=FALSE,\"C\",IF(ISERROR(MATCH(D90,#REF!,0))=FALSE,\"D\",\"\"))","v":""},{"$f":"IF(E90=\"C\",0,IF(E90 =\"D\",ROUND(1/((1+#REF!)^A90),9) * 2,ROUND(1/((1+#REF!)^A90),9)))","v":{"$error":"#REF!"}},{"$error":"#REF!"}]
[88,88,{"$error":"#REF!"},{"$error":"#REF!"},{"$f":"IF(ISERROR(MATCH(D91,#REF!,0))=FALSE,\"C\",IF(ISERROR(MATCH(D91,#REF!,0))=FALSE,\"D\",\"\"))","v":""},{"$f":"IF(E91=\"C\",0,IF(E91 =\"D\",ROUND(1/((1+#REF!)^A91),9) * 2,ROUND(1/((1+#REF!)^A91),9)))","v":{"$error":"#REF!"}},{"$error":"#REF!"}]
[89,89,{"$error":"#REF!"},{"$error":"#REF!"},{"$f":"IF(ISERROR(MATCH(D92,#REF!,0))=FALSE,\"C\",IF(ISERROR(MATCH(D92,#REF!,0))=FALSE,\"D\",\"\"))","v":""},{"$f":"IF(E92=\"C\",0,IF(E92 =\"D\",ROUND(1/((1+#REF!)^A92),9) * 2,ROUND(1/((1+#REF!)^A92),9)))","v":{"$error":"#REF!"}},{"$error":"#REF!"}]
[90,90,{"$error":"#REF!"},{"$error":"#REF!"},{"$f":"IF(ISERROR(MATCH(D93,#REF!,0))=FALSE,\"C\",IF(ISERROR(MATCH(D93,#REF!,0))=FALSE,\"D\",\"\"))","v":""},{"$f":"IF(E93=\"C\",0,IF(E93 =\"D\",ROUND(1/((1+#REF!)^A93),9) * 2,ROUND(1/((1+#REF!)^A93),9)))","v":{"$error":"#REF!"}},{"$error":"#REF!"}]
[91,91,{"$error":"#REF!"},{"$error":"#REF!"},{"$f":"IF(ISERROR(MATCH(D94,#REF!,0))=FALSE,\"C\",IF(ISERROR(MATCH(D94,#REF!,0))=FALSE,\"D\",\"\"))","v":""},{"$f":"IF(E94=\"C\",0,IF(E94 =\"D\",ROUND(1/((1+#REF!)^A94),9) * 2,ROUND(1/((1+#REF!)^A94),9)))","v":{"$error":"#REF!"}},{"$error":"#REF!"}]
[92,92,{"$error":"#REF!"},{"$error":"#REF!"},{"$f":"IF(ISERROR(MATCH(D95,#REF!,0))=FALSE,\"C\",IF(ISERROR(MATCH(D95,#REF!,0))=FALSE,\"D\",\"\"))","v":""},{"$f":"IF(E95=\"C\",0,IF(E95 =\"D\",ROUND(1/((1+#REF!)^A95),9) * 2,ROUND(1/((1+#REF!)^A95),9)))","v":{"$error":"#REF!"}},{"$error":"#REF!"}]
[93,93,{"$error":"#REF!"},{"$error":"#REF!"},{"$f":"IF(ISERROR(MATCH(D96,#REF!,0))=FALSE,\"C\",IF(ISERROR(MATCH(D96,#REF!,0))=FALSE,\"D\",\"\"))","v":""},{"$f":"IF(E96=\"C\",0,IF(E96 =\"D\",ROUND(1/((1+#REF!)^A96),9) * 2,ROUND(1/((1+#REF!)^A96),9)))","v":{"$error":"#REF!"}},{"$error":"#REF!"}]
[94,94,{"$error":"#REF!"},{"$error":"#REF!"},{"$f":"IF(ISERROR(MATCH(D97,#REF!,0))=FALSE,\"C\",IF(ISERROR(MATCH(D97,#REF!,0))=FALSE,\"D\",\"\"))","v":""},{"$f":"IF(E97=\"C\",0,IF(E97 =\"D\",ROUND(1/((1+#REF!)^A97),9) * 2,ROUND(1/((1+#REF!)^A97),9)))","v":{"$error":"#REF!"}},{"$error":"#REF!"}]
[95,95,{"$error":"#REF!"},{"$error":"#REF!"},{"$f":"IF(ISERROR(MATCH(D98,#REF!,0))=FALSE,\"C\",IF(ISERROR(MATCH(D98,#REF!,0))=FALSE,\"D\",\"\"))","v":""},{"$f":"IF(E98=\"C\",0,IF(E98 =\"D\",ROUND(1/((1+#REF!)^A98),9) * 2,ROUND(1/((1+#REF!)^A98),9)))","v":{"$error":"#REF!"}},{"$error":"#REF!"}]
[96,96,{"$error":"#REF!"},{"$error":"#REF!"},{"$f":"IF(ISERROR(MATCH(D99,#REF!,0))=FALSE,\"C\",IF(ISERROR(MATCH(D99,#REF!,0))=FALSE,\"D\",\"\"))","v":""},{"$f":"IF(E99=\"C\",0,IF(E99 =\"D\",ROUND(1/((1+#REF!)^A99),9) * 2,ROUND(1/((1+#REF!)^A99),9)))","v":{"$error":"#REF!"}},{"$error":"#REF!"}]
[97,{"$f":"IF(E100<>\"C\",IF(ISERROR(1+B99)=TRUE,1,1+B99),IF(ISNUMBER(B99),B99,1))","v":97},{"$error":"#REF!"},{"$f":"MONTH(C100)","v":{"$error":"#REF!"}},{"$f":"IF(ISERROR(MATCH(D100,#REF!,0))=FALSE,\"C\",IF(ISERROR(MATCH(D100,#REF!,0))=FALSE,\"D\",\"\"))","v":""},{"$f":"IF(E100=\"C\",0,IF(E100 =\"D\",ROUND(1/((1+#REF!)^A100),9) * 2,ROUND(1/((1+#REF!)^A100),9)))","v":{"$error":"#REF!"}},{"$f":"G99+ROUND(F100,9)","v":{"$error":"#REF!"}}]
[98,98,{"$error":"#REF!"},{"$error":"#REF!"},{"$f":"IF(ISERROR(MATCH(D101,#REF!,0))=FALSE,\"C\",IF(ISERROR(MATCH(D101,#REF!,0))=FALSE,\"D\",\"\"))","v":""},{"$f":"IF(E101=\"C\",0,IF(E101 =\"D\",ROUND(1/((1+#REF!)^A101),9) * 2,ROUND(1/((1+#REF!)^A101),9)))","v":{"$error":"#REF!"}},{"$error":"#REF!"}]
[99,99,{"$error":"#REF!"},{"$error":"#REF!"},{"$f":"IF(ISERROR(MATCH(D102,#REF!,0))=FALSE,\"C\",IF(ISERROR(MATCH(D102,#REF!,0))=FALSE,\"D\",\"\"))","v":""},{"$f":"IF(E102=\"C\",0,IF(E102 =\"D\",ROUND(1/((1+#REF!)^A102),9) * 2,ROUND(1/((1+#REF!)^A102),9)))","v":{"$error":"#REF!"}},{"$error":"#REF!"}]
[100,100,{"$error":"#REF!"},{"$error":"#REF!"},{"$f":"IF(ISERROR(MATCH(D103,#REF!,0))=FALSE,\"C\",IF(ISERROR(MATCH(D103,#REF!,0))=FALSE,\"D\",\"\"))","v":""},{"$f":"IF(E103=\"C\",0,IF(E103 =\"D\",ROUND(1/((1+#REF!)^A103),9) * 2,ROUND(1/((1+#REF!)^A103),9)))","v":{"$error":"#REF!"}},{"$error":"#REF!"}]
[101,101,{"$error":"#REF!"},{"$error":"#REF!"},{"$f":"IF(ISERROR(MATCH(D104,#REF!,0))=FALSE,\"C\",IF(ISERROR(MATCH(D104,#REF!,0))=FALSE,\"D\",\"\"))","v":""},{"$f":"IF(E104=\"C\",0,IF(E104 =\"D\",ROUND(1/((1+#REF!)^A104),9) * 2,ROUND(1/((1+#REF!)^A104),9)))","v":{"$error":"#REF!"}},{"$error":"#REF!"}]
[102,102,{"$error":"#REF!"},{"$error":"#REF!"},{"$f":"IF(ISERROR(MATCH(D105,#REF!,0))=FALSE,\"C\",IF(ISERROR(MATCH(D105,#REF!,0))=FALSE,\"D\",\"\"))","v":""},{"$f":"IF(E105=\"C\",0,IF(E105 =\"D\",ROUND(1/((1+#REF!)^A105),9) * 2,ROUND(1/((1+#REF!)^A105),9)))","v":{"$error":"#REF!"}},{"$error":"#REF!"}]
[103,103,{"$error":"#REF!"},{"$error":"#REF!"},{"$f":"IF(ISERROR(MATCH(D106,#REF!,0))=FALSE,\"C\",IF(ISERROR(MATCH(D106,#REF!,0))=FALSE,\"D\",\"\"))","v":""},{"$f":"IF(E106=\"C\",0,IF(E106 =\"D\",ROUND(1/((1+#REF!)^A106),9) * 2,ROUND(1/((1+#REF!)^A106),9)))","v":{"$error":"#REF!"}},{"$error":"#REF!"}]
[104,104,{"$error":"#REF!"},{"$error":"#REF!"},{"$f":"IF(ISERROR(MATCH(D107,#REF!,0))=FALSE,\"C\",IF(ISERROR(MATCH(D107,#REF!,0))=FALSE,\"D\",\"\"))","v":""},{"$f":"IF(E107=\"C\",0,IF(E107 =\"D\",ROUND(1/((1+#REF!)^A107),9) * 2,ROUND(1/((1+#REF!)^A107),9)))","v":{"$error":"#REF!"}},{"$error":"#REF!"}]
[105,105,{"$error":"#REF!"},{"$error":"#REF!"},{"$f":"IF(ISERROR(MATCH(D108,#REF!,0))=FALSE,\"C\",IF(ISERROR(MATCH(D108,#REF!,0))=FALSE,\"D\",\"\"))","v":""},{"$f":"IF(E108=\"C\",0,IF(E108 =\"D\",ROUND(1/((1+#REF!)^A108),9) * 2,ROUND(1/((1+#REF!)^A108),9)))","v":{"$error":"#REF!"}},{"$error":"#REF!"}]
[106,106,{"$error":"#REF!"},{"$error":"#REF!"},{"$f":"IF(ISERROR(MATCH(D109,#REF!,0))=FALSE,\"C\",IF(ISERROR(MATCH(D109,#REF!,0))=FALSE,\"D\",\"\"))","v":""},{"$f":"IF(E109=\"C\",0,IF(E109 =\"D\",ROUND(1/((1+#REF!)^A109),9) * 2,ROUND(1/((1+#REF!)^A109),9)))","v":{"$error":"#REF!"}},{"$error":"#REF!"}]
[107,107,{"$error":"#REF!"},{"$error":"#REF!"},{"$f":"IF(ISERROR(MATCH(D110,#REF!,0))=FALSE,\"C\",IF(ISERROR(MATCH(D110,#REF!,0))=FALSE,\"D\",\"\"))","v":""},{"$f":"IF(E110=\"C\",0,IF(E110 =\"D\",ROUND(1/((1+#REF!)^A110),9) * 2,ROUND(1/((1+#REF!)^A110),9)))","v":{"$error":"#REF!"}},{"$error":"#REF!"}]
[108,108,{"$error":"#REF!"},{"$error":"#REF!"},{"$f":"IF(ISERROR(MATCH(D111,#REF!,0))=FALSE,\"C\",IF(ISERROR(MATCH(D111,#REF!,0))=FALSE,\"D\",\"\"))","v":""},{"$f":"IF(E111=\"C\",0,IF(E111 =\"D\",ROUND(1/((1+#REF!)^A111),9) * 2,ROUND(1/((1+#REF!)^A111),9)))","v":{"$error":"#REF!"}},{"$error":"#REF!"}]
[109,109,{"$error":"#REF!"},{"$error":"#REF!"},{"$f":"IF(ISERROR(MATCH(D112,#REF!,0))=FALSE,\"C\",IF(ISERROR(MATCH(D112,#REF!,0))=FALSE,\"D\",\"\"))","v":""},{"$f":"IF(E112=\"C\",0,IF(E112 =\"D\",ROUND(1/((1+#REF!)^A112),9) * 2,ROUND(1/((1+#REF!)^A112),9)))","v":{"$error":"#REF!"}},{"$error":"#REF!"}]
[110,110,{"$error":"#REF!"},{"$error":"#REF!"},{"$f":"IF(ISERROR(MATCH(D113,#REF!,0))=FALSE,\"C\",IF(ISERROR(MATCH(D113,#REF!,0))=FALSE,\"D\",\"\"))","v":""},{"$f":"IF(E113=\"C\",0,IF(E113 =\"D\",ROUND(1/((1+#REF!)^A113),9) * 2,ROUND(1/((1+#REF!)^A113),9)))","v":{"$error":"#REF!"}},{"$error":"#REF!"}]
[111,111,{"$error":"#REF!"},{"$error":"#REF!"},{"$f":"IF(ISERROR(MATCH(D114,#REF!,0))=FALSE,\"C\",IF(ISERROR(MATCH(D114,#REF!,0))=FALSE,\"D\",\"\"))","v":""},{"$f":"IF(E114=\"C\",0,IF(E114 =\"D\",ROUND(1/((1+#REF!)^A114),9) * 2,ROUND(1/((1+#REF!)^A114),9)))","v":{"$error":"#REF!"}},{"$error":"#REF!"}]
[112,112,{"$error":"#REF!"},{"$error":"#REF!"},{"$f":"IF(ISERROR(MATCH(D115,#REF!,0))=FALSE,\"C\",IF(ISERROR(MATCH(D115,#REF!,0))=FALSE,\"D\",\"\"))","v":""},{"$f":"IF(E115=\"C\",0,IF(E115 =\"D\",ROUND(1/((1+#REF!)^A115),9) * 2,ROUND(1/((1+#REF!)^A115),9)))","v":{"$error":"#REF!"}},{"$error":"#REF!"}]
[113,113,{"$error":"#REF!"},{"$error":"#REF!"},{"$f":"IF(ISERROR(MATCH(D116,#REF!,0))=FALSE,\"C\",IF(ISERROR(MATCH(D116,#REF!,0))=FALSE,\"D\",\"\"))","v":""},{"$f":"IF(E116=\"C\",0,IF(E116 =\"D\",ROUND(1/((1+#REF!)^A116),9) * 2,ROUND(1/((1+#REF!)^A116),9)))","v":{"$error":"#REF!"}},{"$error":"#REF!"}]
[114,114,{"$error":"#REF!"},{"$error":"#REF!"},{"$f":"IF(ISERROR(MATCH(D117,#REF!,0))=FALSE,\"C\",IF(ISERROR(MATCH(D117,#REF!,0))=FALSE,\"D\",\"\"))","v":""},{"$f":"IF(E117=\"C\",0,IF(E117 =\"D\",ROUND(1/((1+#REF!)^A117),9) * 2,ROUND(1/((1+#REF!)^A117),9)))","v":{"$error":"#REF!"}},{"$error":"#REF!"}]
[115,115,{"$error":"#REF!"},{"$error":"#REF!"},{"$f":"IF(ISERROR(MATCH(D118,#REF!,0))=FALSE,\"C\",IF(ISERROR(MATCH(D118,#REF!,0))=FALSE,\"D\",\"\"))","v":""},{"$f":"IF(E118=\"C\",0,IF(E118 =\"D\",ROUND(1/((1+#REF!)^A118),9) * 2,ROUND(1/((1+#REF!)^A118),9)))","v":{"$error":"#REF!"}},{"$error":"#REF!"}]
[116,116,{"$error":"#REF!"},{"$error":"#REF!"},{"$f":"IF(ISERROR(MATCH(D119,#REF!,0))=FALSE,\"C\",IF(ISERROR(MATCH(D119,#REF!,0))=FALSE,\"D\",\"\"))","v":""},{"$f":"IF(E119=\"C\",0,IF(E119 =\"D\",ROUND(1/((1+#REF!)^A119),9) * 2,ROUND(1/((1+#REF!)^A119),9)))","v":{"$error":"#REF!"}},{"$error":"#REF!"}]
[117,117,{"$error":"#REF!"},{"$error":"#REF!"},{"$f":"IF(ISERROR(MATCH(D120,#REF!,0))=FALSE,\"C\",IF(ISERROR(MATCH(D120,#REF!,0))=FALSE,\"D\",\"\"))","v":""},{"$f":"IF(E120=\"C\",0,IF(E120 =\"D\",ROUND(1/((1+#REF!)^A120),9) * 2,ROUND(1/((1+#REF!)^A120),9)))","v":{"$error":"#REF!"}},{"$error":"#REF!"}]
[118,118,{"$error":"#REF!"},{"$error":"#REF!"},{"$f":"IF(ISERROR(MATCH(D121,#REF!,0))=FALSE,\"C\",IF(ISERROR(MATCH(D121,#REF!,0))=FALSE,\"D\",\"\"))","v":""},{"$f":"IF(E121=\"C\",0,IF(E121 =\"D\",ROUND(1/((1+#REF!)^A121),9) * 2,ROUND(1/((1+#REF!)^A121),9)))","v":{"$error":"#REF!"}},{"$error":"#REF!"}]
[119,119,{"$error":"#REF!"},{"$error":"#REF!"},{"$f":"IF(ISERROR(MATCH(D122,#REF!,0))=FALSE,\"C\",IF(ISERROR(MATCH(D122,#REF!,0))=FALSE,\"D\",\"\"))","v":""},{"$f":"IF(E122=\"C\",0,IF(E122 =\"D\",ROUND(1/((1+#REF!)^A122),9) * 2,ROUND(1/((1+#REF!)^A122),9)))","v":{"$error":"#REF!"}},{"$error":"#REF!"}]
[120,120,{"$error":"#REF!"},{"$error":"#REF!"},{"$f":"IF(ISERROR(MATCH(D123,#REF!,0))=FALSE,\"C\",IF(ISERROR(MATCH(D123,#REF!,0))=FALSE,\"D\",\"\"))","v":""},{"$f":"IF(E123=\"C\",0,IF(E123 =\"D\",ROUND(1/((1+#REF!)^A123),9) * 2,ROUND(1/((1+#REF!)^A123),9)))","v":{"$error":"#REF!"}},{"$error":"#REF!"}]
[121,121,{"$error":"#REF!"},{"$error":"#REF!"},{"$f":"IF(ISERROR(MATCH(D124,#REF!,0))=FALSE,\"C\",IF(ISERROR(MATCH(D124,#REF!,0))=FALSE,\"D\",\"\"))","v":""},{"$f":"IF(E124=\"C\",0,IF(E124 =\"D\",ROUND(1/((1+#REF!)^A124),9) * 2,ROUND(1/((1+#REF!)^A124),9)))","v":{"$error":"#REF!"}},{"$error":"#REF!"}]
[122,122,{"$error":"#REF!"},{"$error":"#REF!"},{"$f":"IF(ISERROR(MATCH(D125,#REF!,0))=FALSE,\"C\",IF(ISERROR(MATCH(D125,#REF!,0))=FALSE,\"D\",\"\"))","v":""},{"$f":"IF(E125=\"C\",0,IF(E125 =\"D\",ROUND(1/((1+#REF!)^A125),9) * 2,ROUND(1/((1+#REF!)^A125),9)))","v":{"$error":"#REF!"}},{"$error":"#REF!"}]
[123,123,{"$error":"#REF!"},{"$error":"#REF!"},{"$f":"IF(ISERROR(MATCH(D126,#REF!,0))=FALSE,\"C\",IF(ISERROR(MATCH(D126,#REF!,0))=FALSE,\"D\",\"\"))","v":""},{"$f":"IF(E126=\"C\",0,IF(E126 =\"D\",ROUND(1/((1+#REF!)^A126),9) * 2,ROUND(1/((1+#REF!)^A126),9)))","v":{"$error":"#REF!"}},{"$error":"#REF!"}]
[124,124,{"$error":"#REF!"},{"$error":"#REF!"},{"$f":"IF(ISERROR(MATCH(D127,#REF!,0))=FALSE,\"C\",IF(ISERROR(MATCH(D127,#REF!,0))=FALSE,\"D\",\"\"))","v":""},{"$f":"IF(E127=\"C\",0,IF(E127 =\"D\",ROUND(1/((1+#REF!)^A127),9) * 2,ROUND(1/((1+#REF!)^A127),9)))","v":{"$error":"#REF!"}},{"$error":"#REF!"}]
[125,125,{"$error":"#REF!"},{"$error":"#REF!"},{"$f":"IF(ISERROR(MATCH(D128,#REF!,0))=FALSE,\"C\",IF(ISERROR(MATCH(D128,#REF!,0))=FALSE,\"D\",\"\"))","v":""},{"$f":"IF(E128=\"C\",0,IF(E128 =\"D\",ROUND(1/((1+#REF!)^A128),9) * 2,ROUND(1/((1+#REF!)^A128),9)))","v":{"$error":"#REF!"}},{"$error":"#REF!"}]
[126,126,{"$error":"#REF!"},{"$error":"#REF!"},{"$f":"IF(ISERROR(MATCH(D129,#REF!,0))=FALSE,\"C\",IF(ISERROR(MATCH(D129,#REF!,0))=FALSE,\"D\",\"\"))","v":""},{"$f":"IF(E129=\"C\",0,IF(E129 =\"D\",ROUND(1/((1+#REF!)^A129),9) * 2,ROUND(1/((1+#REF!)^A129),9)))","v":{"$error":"#REF!"}},{"$error":"#REF!"}]
[127,127,{"$error":"#REF!"},{"$error":"#REF!"},{"$f":"IF(ISERROR(MATCH(D130,#REF!,0))=FALSE,\"C\",IF(ISERROR(MATCH(D130,#REF!,0))=FALSE,\"D\",\"\"))","v":""},{"$f":"IF(E130=\"C\",0,IF(E130 =\"D\",ROUND(1/((1+#REF!)^A130),9) * 2,ROUND(1/((1+#REF!)^A130),9)))","v":{"$error":"#REF!"}},{"$error":"#REF!"}]
[128,128,{"$error":"#REF!"},{"$error":"#REF!"},{"$f":"IF(ISERROR(MATCH(D131,#REF!,0))=FALSE,\"C\",IF(ISERROR(MATCH(D131,#REF!,0))=FALSE,\"D\",\"\"))","v":""},{"$f":"IF(E131=\"C\",0,IF(E131 =\"D\",ROUND(1/((1+#REF!)^A131),9) * 2,ROUND(1/((1+#REF!)^A131),9)))","v":{"$error":"#REF!"}},{"$error":"#REF!"}]
[129,129,{"$error":"#REF!"},{"$error":"#REF!"},{"$f":"IF(ISERROR(MATCH(D132,#REF!,0))=FALSE,\"C\",IF(ISERROR(MATCH(D132,#REF!,0))=FALSE,\"D\",\"\"))","v":""},{"$f":"IF(E132=\"C\",0,IF(E132 =\"D\",ROUND(1/((1+#REF!)^A132),9) * 2,ROUND(1/((1+#REF!)^A132),9)))","v":{"$error":"#REF!"}},{"$error":"#REF!"}]
[{"$f":"A132+1","v":130},130,{"$f":"DATE(YEAR(C132) + 1/12,MONTH(C132)+1,DAY(C132))","v":{"$error":"#REF!"}},{"$error":"#REF!"},{"$f":"IF(ISERROR(MATCH(D133,#REF!,0))=FALSE,\"C\",IF(ISERROR(MATCH(D133,#REF!,0))=FALSE,\"D\",\"\"))","v":""},{"$f":"IF(E133=\"C\",0,IF(E133 =\"D\",ROUND(1/((1+#REF!)^A133),9) * 2,ROUND(1/((1+#REF!)^A133),9)))","v":{"$error":"#REF!"}},{"$error":"#REF!"}]
[131,131,{"$error":"#REF!"},{"$error":"#REF!"},{"$f":"IF(ISERROR(MATCH(D134,#REF!,0))=FALSE,\"C\",IF(ISERROR(MATCH(D134,#REF!,0))=FALSE,\"D\",\"\"))","v":""},{"$f":"IF(E134=\"C\",0,IF(E134 =\"D\",ROUND(1/((1+#REF!)^A134),9) * 2,ROUND(1/((1+#REF!)^A134),9)))","v":{"$error":"#REF!"}},{"$error":"#REF!"}]
[132,132,{"$error":"#REF!"},{"$error":"#REF!"},{"$f":"IF(ISERROR(MATCH(D135,#REF!,0))=FALSE,\"C\",IF(ISERROR(MATCH(D135,#REF!,0))=FALSE,\"D\",\"\"))","v":""},{"$f":"IF(E135=\"C\",0,IF(E135 =\"D\",ROUND(1/((1+#REF!)^A135),9) * 2,ROUND(1/((1+#REF!)^A135),9)))","v":{"$error":"#REF!"}},{"$error":"#REF!"}]
[133,133,{"$error":"#REF!"},{"$error":"#REF!"},{"$f":"IF(ISERROR(MATCH(D136,#REF!,0))=FALSE,\"C\",IF(ISERROR(MATCH(D136,#REF!,0))=FALSE,\"D\",\"\"))","v":""},{"$f":"IF(E136=\"C\",0,IF(E136 =\"D\",ROUND(1/((1+#REF!)^A136),9) * 2,ROUND(1/((1+#REF!)^A136),9)))","v":{"$error":"#REF!"}},{"$error":"#REF!"}]
[134,134,{"$error":"#REF!"},{"$error":"#REF!"},{"$f":"IF(ISERROR(MATCH(D137,#REF!,0))=FALSE,\"C\",IF(ISERROR(MATCH(D137,#REF!,0))=FALSE,\"D\",\"\"))","v":""},{"$f":"IF(E137=\"C\",0,IF(E137 =\"D\",ROUND(1/((1+#REF!)^A137),9) * 2,ROUND(1/((1+#REF!)^A137),9)))","v":{"$error":"#REF!"}},{"$error":"#REF!"}]
[135,135,{"$error":"#REF!"},{"$error":"#REF!"},{"$f":"IF(ISERROR(MATCH(D138,#REF!,0))=FALSE,\"C\",IF(ISERROR(MATCH(D138,#REF!,0))=FALSE,\"D\",\"\"))","v":""},{"$f":"IF(E138=\"C\",0,IF(E138 =\"D\",ROUND(1/((1+#REF!)^A138),9) * 2,ROUND(1/((1+#REF!)^A138),9)))","v":{"$error":"#REF!"}},{"$error":"#REF!"}]
[136,136,{"$error":"#REF!"},{"$error":"#REF!"},{"$f":"IF(ISERROR(MATCH(D139,#REF!,0))=FALSE,\"C\",IF(ISERROR(MATCH(D139,#REF!,0))=FALSE,\"D\",\"\"))","v":""},{"$f":"IF(E139=\"C\",0,IF(E139 =\"D\",ROUND(1/((1+#REF!)^A139),9) * 2,ROUND(1/((1+#REF!)^A139),9)))","v":{"$error":"#REF!"}},{"$error":"#REF!"}]
[137,137,{"$error":"#REF!"},{"$error":"#REF!"},{"$f":"IF(ISERROR(MATCH(D140,#REF!,0))=FALSE,\"C\",IF(ISERROR(MATCH(D140,#REF!,0))=FALSE,\"D\",\"\"))","v":""},{"$f":"IF(E140=\"C\",0,IF(E140 =\"D\",ROUND(1/((1+#REF!)^A140),9) * 2,ROUND(1/((1+#REF!)^A140),9)))","v":{"$error":"#REF!"}},{"$error":"#REF!"}]
[138,138,{"$error":"#REF!"},{"$error":"#REF!"},{"$f":"IF(ISERROR(MATCH(D141,#REF!,0))=FALSE,\"C\",IF(ISERROR(MATCH(D141,#REF!,0))=FALSE,\"D\",\"\"))","v":""},{"$f":"IF(E141=\"C\",0,IF(E141 =\"D\",ROUND(1/((1+#REF!)^A141),9) * 2,ROUND(1/((1+#REF!)^A141),9)))","v":{"$error":"#REF!"}},{"$error":"#REF!"}]
[139,139,{"$error":"#REF!"},{"$error":"#REF!"},{"$f":"IF(ISERROR(MATCH(D142,#REF!,0))=FALSE,\"C\",IF(ISERROR(MATCH(D142,#REF!,0))=FALSE,\"D\",\"\"))","v":""},{"$f":"IF(E142=\"C\",0,IF(E142 =\"D\",ROUND(1/((1+#REF!)^A142),9) * 2,ROUND(1/((1+#REF!)^A142),9)))","v":{"$error":"#REF!"}},{"$error":"#REF!"}]
[140,140,{"$error":"#REF!"},{"$error":"#REF!"},{"$f":"IF(ISERROR(MATCH(D143,#REF!,0))=FALSE,\"C\",IF(ISERROR(MATCH(D143,#REF!,0))=FALSE,\"D\",\"\"))","v":""},{"$f":"IF(E143=\"C\",0,IF(E143 =\"D\",ROUND(1/((1+#REF!)^A143),9) * 2,ROUND(1/((1+#REF!)^A143),9)))","v":{"$error":"#REF!"}},{"$error":"#REF!"}]
[141,141,{"$error":"#REF!"},{"$error":"#REF!"},{"$f":"IF(ISERROR(MATCH(D144,#REF!,0))=FALSE,\"C\",IF(ISERROR(MATCH(D144,#REF!,0))=FALSE,\"D\",\"\"))","v":""},{"$f":"IF(E144=\"C\",0,IF(E144 =\"D\",ROUND(1/((1+#REF!)^A144),9) * 2,ROUND(1/((1+#REF!)^A144),9)))","v":{"$error":"#REF!"}},{"$error":"#REF!"}]
[142,142,{"$error":"#REF!"},{"$error":"#REF!"},{"$f":"IF(ISERROR(MATCH(D145,#REF!,0))=FALSE,\"C\",IF(ISERROR(MATCH(D145,#REF!,0))=FALSE,\"D\",\"\"))","v":""},{"$f":"IF(E145=\"C\",0,IF(E145 =\"D\",ROUND(1/((1+#REF!)^A145),9) * 2,ROUND(1/((1+#REF!)^A145),9)))","v":{"$error":"#REF!"}},{"$error":"#REF!"}]
[143,143,{"$error":"#REF!"},{"$error":"#REF!"},{"$f":"IF(ISERROR(MATCH(D146,#REF!,0))=FALSE,\"C\",IF(ISERROR(MATCH(D146,#REF!,0))=FALSE,\"D\",\"\"))","v":""},{"$f":"IF(E146=\"C\",0,IF(E146 =\"D\",ROUND(1/((1+#REF!)^A146),9) * 2,ROUND(1/((1+#REF!)^A146),9)))","v":{"$error":"#REF!"}},{"$error":"#REF!"}]
[144,144,{"$error":"#REF!"},{"$error":"#REF!"},{"$f":"IF(ISERROR(MATCH(D147,#REF!,0))=FALSE,\"C\",IF(ISERROR(MATCH(D147,#REF!,0))=FALSE,\"D\",\"\"))","v":""},{"$f":"IF(E147=\"C\",0,IF(E147 =\"D\",ROUND(1/((1+#REF!)^A147),9) * 2,ROUND(1/((1+#REF!)^A147),9)))","v":{"$error":"#REF!"}},{"$error":"#REF!"}]
[145,145,{"$error":"#REF!"},{"$error":"#REF!"},{"$f":"IF(ISERROR(MATCH(D148,#REF!,0))=FALSE,\"C\",IF(ISERROR(MATCH(D148,#REF!,0))=FALSE,\"D\",\"\"))","v":""},{"$f":"IF(E148=\"C\",0,IF(E148 =\"D\",ROUND(1/((1+#REF!)^A148),9) * 2,ROUND(1/((1+#REF!)^A148),9)))","v":{"$error":"#REF!"}},{"$error":"#REF!"}]
[146,146,{"$error":"#REF!"},{"$error":"#REF!"},{"$f":"IF(ISERROR(MATCH(D149,#REF!,0))=FALSE,\"C\",IF(ISERROR(MATCH(D149,#REF!,0))=FALSE,\"D\",\"\"))","v":""},{"$f":"IF(E149=\"C\",0,IF(E149 =\"D\",ROUND(1/((1+#REF!)^A149),9) * 2,ROUND(1/((1+#REF!)^A149),9)))","v":{"$error":"#REF!"}},{"$error":"#REF!"}]
[147,147,{"$error":"#REF!"},{"$error":"#REF!"},{"$f":"IF(ISERROR(MATCH(D150,#REF!,0))=FALSE,\"C\",IF(ISERROR(MATCH(D150,#REF!,0))=FALSE,\"D\",\"\"))","v":""},{"$f":"IF(E150=\"C\",0,IF(E150 =\"D\",ROUND(1/((1+#REF!)^A150),9) * 2,ROUND(1/((1+#REF!)^A150),9)))","v":{"$error":"#REF!"}},{"$error":"#REF!"}]
[148,148,{"$error":"#REF!"},{"$error":"#REF!"},{"$f":"IF(ISERROR(MATCH(D151,#REF!,0))=FALSE,\"C\",IF(ISERROR(MATCH(D151,#REF!,0))=FALSE,\"D\",\"\"))","v":""},{"$f":"IF(E151=\"C\",0,IF(E151 =\"D\",ROUND(1/((1+#REF!)^A151),9) * 2,ROUND(1/((1+#REF!)^A151),9)))","v":{"$error":"#REF!"}},{"$error":"#REF!"}]
[149,149,{"$error":"#REF!"},{"$error":"#REF!"},{"$f":"IF(ISERROR(MATCH(D152,#REF!,0))=FALSE,\"C\",IF(ISERROR(MATCH(D152,#REF!,0))=FALSE,\"D\",\"\"))","v":""},{"$f":"IF(E152=\"C\",0,IF(E152 =\"D\",ROUND(1/((1+#REF!)^A152),9) * 2,ROUND(1/((1+#REF!)^A152),9)))","v":{"$error":"#REF!"}},{"$error":"#REF!"}]
[150,150,{"$error":"#REF!"},{"$error":"#REF!"},{"$f":"IF(ISERROR(MATCH(D153,#REF!,0))=FALSE,\"C\",IF(ISERROR(MATCH(D153,#REF!,0))=FALSE,\"D\",\"\"))","v":""},{"$f":"IF(E153=\"C\",0,IF(E153 =\"D\",ROUND(1/((1+#REF!)^A153),9) * 2,ROUND(1/((1+#REF!)^A153),9)))","v":{"$error":"#REF!"}},{"$error":"#REF!"}]
[151,151,{"$error":"#REF!"},{"$error":"#REF!"},{"$f":"IF(ISERROR(MATCH(D154,#REF!,0))=FALSE,\"C\",IF(ISERROR(MATCH(D154,#REF!,0))=FALSE,\"D\",\"\"))","v":""},{"$f":"IF(E154=\"C\",0,IF(E154 =\"D\",ROUND(1/((1+#REF!)^A154),9) * 2,ROUND(1/((1+#REF!)^A154),9)))","v":{"$error":"#REF!"}},{"$error":"#REF!"}]
[152,152,{"$error":"#REF!"},{"$error":"#REF!"},{"$f":"IF(ISERROR(MATCH(D155,#REF!,0))=FALSE,\"C\",IF(ISERROR(MATCH(D155,#REF!,0))=FALSE,\"D\",\"\"))","v":""},{"$f":"IF(E155=\"C\",0,IF(E155 =\"D\",ROUND(1/((1+#REF!)^A155),9) * 2,ROUND(1/((1+#REF!)^A155),9)))","v":{"$error":"#REF!"}},{"$error":"#REF!"}]
[153,153,{"$error":"#REF!"},{"$error":"#REF!"},{"$f":"IF(ISERROR(MATCH(D156,#REF!,0))=FALSE,\"C\",IF(ISERROR(MATCH(D156,#REF!,0))=FALSE,\"D\",\"\"))","v":""},{"$f":"IF(E156=\"C\",0,IF(E156 =\"D\",ROUND(1/((1+#REF!)^A156),9) * 2,ROUND(1/((1+#REF!)^A156),9)))","v":{"$error":"#REF!"}},{"$error":"#REF!"}]
[154,154,{"$error":"#REF!"},{"$error":"#REF!"},{"$f":"IF(ISERROR(MATCH(D157,#REF!,0))=FALSE,\"C\",IF(ISERROR(MATCH(D157,#REF!,0))=FALSE,\"D\",\"\"))","v":""},{"$f":"IF(E157=\"C\",0,IF(E157 =\"D\",ROUND(1/((1+#REF!)^A157),9) * 2,ROUND(1/((1+#REF!)^A157),9)))","v":{"$error":"#REF!"}},{"$error":"#REF!"}]
[155,155,{"$error":"#REF!"},{"$error":"#REF!"},{"$f":"IF(ISERROR(MATCH(D158,#REF!,0))=FALSE,\"C\",IF(ISERROR(MATCH(D158,#REF!,0))=FALSE,\"D\",\"\"))","v":""},{"$f":"IF(E158=\"C\",0,IF(E158 =\"D\",ROUND(1/((1+#REF!)^A158),9) * 2,ROUND(1/((1+#REF!)^A158),9)))","v":{"$error":"#REF!"}},{"$error":"#REF!"}]
[156,156,{"$error":"#REF!"},{"$error":"#REF!"},{"$f":"IF(ISERROR(MATCH(D159,#REF!,0))=FALSE,\"C\",IF(ISERROR(MATCH(D159,#REF!,0))=FALSE,\"D\",\"\"))","v":""},{"$f":"IF(E159=\"C\",0,IF(E159 =\"D\",ROUND(1/((1+#REF!)^A159),9) * 2,ROUND(1/((1+#REF!)^A159),9)))","v":{"$error":"#REF!"}},{"$error":"#REF!"}]
[157,157,{"$error":"#REF!"},{"$error":"#REF!"},{"$f":"IF(ISERROR(MATCH(D160,#REF!,0))=FALSE,\"C\",IF(ISERROR(MATCH(D160,#REF!,0))=FALSE,\"D\",\"\"))","v":""},{"$f":"IF(E160=\"C\",0,IF(E160 =\"D\",ROUND(1/((1+#REF!)^A160),9) * 2,ROUND(1/((1+#REF!)^A160),9)))","v":{"$error":"#REF!"}},{"$error":"#REF!"}]
[158,158,{"$error":"#REF!"},{"$error":"#REF!"},{"$f":"IF(ISERROR(MATCH(D161,#REF!,0))=FALSE,\"C\",IF(ISERROR(MATCH(D161,#REF!,0))=FALSE,\"D\",\"\"))","v":""},{"$f":"IF(E161=\"C\",0,IF(E161 =\"D\",ROUND(1/((1+#REF!)^A161),9) * 2,ROUND(1/((1+#REF!)^A161),9)))","v":{"$error":"#REF!"}},{"$error":"#REF!"}]
[159,159,{"$error":"#REF!"},{"$error":"#REF!"},{"$f":"IF(ISERROR(MATCH(D162,#REF!,0))=FALSE,\"C\",IF(ISERROR(MATCH(D162,#REF!,0))=FALSE,\"D\",\"\"))","v":""},{"$f":"IF(E162=\"C\",0,IF(E162 =\"D\",ROUND(1/((1+#REF!)^A162),9) * 2,ROUND(1/((1+#REF!)^A162),9)))","v":{"$error":"#REF!"}},{"$error":"#REF!"}]
[160,160,{"$error":"#REF!"},{"$error":"#REF!"},{"$f":"IF(ISERROR(MATCH(D163,#REF!,0))=FALSE,\"C\",IF(ISERROR(MATCH(D163,#REF!,0))=FALSE,\"D\",\"\"))","v":""},{"$f":"IF(E163=\"C\",0,IF(E163 =\"D\",ROUND(1/((1+#REF!)^A163),9) * 2,ROUND(1/((1+#REF!)^A163),9)))","v":{"$error":"#REF!"}},{"$error":"#REF!"}]
[161,{"$f":"IF(E164<>\"C\",IF(ISERROR(1+B163)=TRUE,1,1+B163),IF(ISNUMBER(B163),B163,1))","v":161},{"$error":"#REF!"},{"$f":"MONTH(C164)","v":{"$error":"#REF!"}},{"$f":"IF(ISERROR(MATCH(D164,#REF!,0))=FALSE,\"C\",IF(ISERROR(MATCH(D164,#REF!,0))=FALSE,\"D\",\"\"))","v":""},{"$f":"IF(E164=\"C\",0,IF(E164 =\"D\",ROUND(1/((1+#REF!)^A164),9) * 2,ROUND(1/((1+#REF!)^A164),9)))","v":{"$error":"#REF!"}},{"$f":"G163+ROUND(F164,9)","v":{"$error":"#REF!"}}]
[162,162,{"$error":"#REF!"},{"$error":"#REF!"},{"$f":"IF(ISERROR(MATCH(D165,#REF!,0))=FALSE,\"C\",IF(ISERROR(MATCH(D165,#REF!,0))=FALSE,\"D\",\"\"))","v":""},{"$f":"IF(E165=\"C\",0,IF(E165 =\"D\",ROUND(1/((1+#REF!)^A165),9) * 2,ROUND(1/((1+#REF!)^A165),9)))","v":{"$error":"#REF!"}},{"$error":"#REF!"}]
[163,163,{"$error":"#REF!"},{"$error":"#REF!"},{"$f":"IF(ISERROR(MATCH(D166,#REF!,0))=FALSE,\"C\",IF(ISERROR(MATCH(D166,#REF!,0))=FALSE,\"D\",\"\"))","v":""},{"$f":"IF(E166=\"C\",0,IF(E166 =\"D\",ROUND(1/((1+#REF!)^A166),9) * 2,ROUND(1/((1+#REF!)^A166),9)))","v":{"$error":"#REF!"}},{"$error":"#REF!"}]
[164,164,{"$error":"#REF!"},{"$error":"#REF!"},{"$f":"IF(ISERROR(MATCH(D167,#REF!,0))=FALSE,\"C\",IF(ISERROR(MATCH(D167,#REF!,0))=FALSE,\"D\",\"\"))","v":""},{"$f":"IF(E167=\"C\",0,IF(E167 =\"D\",ROUND(1/((1+#REF!)^A167),9) * 2,ROUND(1/((1+#REF!)^A167),9)))","v":{"$error":"#REF!"}},{"$error":"#REF!"}]
[165,165,{"$error":"#REF!"},{"$error":"#REF!"},{"$f":"IF(ISERROR(MATCH(D168,#REF!,0))=FALSE,\"C\",IF(ISERROR(MATCH(D168,#REF!,0))=FALSE,\"D\",\"\"))","v":""},{"$f":"IF(E168=\"C\",0,IF(E168 =\"D\",ROUND(1/((1+#REF!)^A168),9) * 2,ROUND(1/((1+#REF!)^A168),9)))","v":{"$error":"#REF!"}},{"$error":"#REF!"}]
[166,166,{"$error":"#REF!"},{"$error":"#REF!"},{"$f":"IF(ISERROR(MATCH(D169,#REF!,0))=FALSE,\"C\",IF(ISERROR(MATCH(D169,#REF!,0))=FALSE,\"D\",\"\"))","v":""},{"$f":"IF(E169=\"C\",0,IF(E169 =\"D\",ROUND(1/((1+#REF!)^A169),9) * 2,ROUND(1/((1+#REF!)^A169),9)))","v":{"$error":"#REF!"}},{"$error":"#REF!"}]
[167,167,{"$error":"#REF!"},{"$error":"#REF!"},{"$f":"IF(ISERROR(MATCH(D170,#REF!,0))=FALSE,\"C\",IF(ISERROR(MATCH(D170,#REF!,0))=FALSE,\"D\",\"\"))","v":""},{"$f":"IF(E170=\"C\",0,IF(E170 =\"D\",ROUND(1/((1+#REF!)^A170),9) * 2,ROUND(1/((1+#REF!)^A170),9)))","v":{"$error":"#REF!"}},{"$error":"#REF!"}]
[168,168,{"$error":"#REF!"},{"$error":"#REF!"},{"$f":"IF(ISERROR(MATCH(D171,#REF!,0))=FALSE,\"C\",IF(ISERROR(MATCH(D171,#REF!,0))=FALSE,\"D\",\"\"))","v":""},{"$f":"IF(E171=\"C\",0,IF(E171 =\"D\",ROUND(1/((1+#REF!)^A171),9) * 2,ROUND(1/((1+#REF!)^A171),9)))","v":{"$error":"#REF!"}},{"$error":"#REF!"}]
[169,169,{"$error":"#REF!"},{"$error":"#REF!"},{"$f":"IF(ISERROR(MATCH(D172,#REF!,0))=FALSE,\"C\",IF(ISERROR(MATCH(D172,#REF!,0))=FALSE,\"D\",\"\"))","v":""},{"$f":"IF(E172=\"C\",0,IF(E172 =\"D\",ROUND(1/((1+#REF!)^A172),9) * 2,ROUND(1/((1+#REF!)^A172),9)))","v":{"$error":"#REF!"}},{"$error":"#REF!"}]
[170,170,{"$error":"#REF!"},{"$error":"#REF!"},{"$f":"IF(ISERROR(MATCH(D173,#REF!,0))=FALSE,\"C\",IF(ISERROR(MATCH(D173,#REF!,0))=FALSE,\"D\",\"\"))","v":""},{"$f":"IF(E173=\"C\",0,IF(E173 =\"D\",ROUND(1/((1+#REF!)^A173),9) * 2,ROUND(1/((1+#REF!)^A173),9)))","v":{"$error":"#REF!"}},{"$error":"#REF!"}]
[171,171,{"$error":"#REF!"},{"$error":"#REF!"},{"$f":"IF(ISERROR(MATCH(D174,#REF!,0))=FALSE,\"C\",IF(ISERROR(MATCH(D174,#REF!,0))=FALSE,\"D\",\"\"))","v":""},{"$f":"IF(E174=\"C\",0,IF(E174 =\"D\",ROUND(1/((1+#REF!)^A174),9) * 2,ROUND(1/((1+#REF!)^A174),9)))","v":{"$error":"#REF!"}},{"$error":"#REF!"}]
[172,172,{"$error":"#REF!"},{"$error":"#REF!"},{"$f":"IF(ISERROR(MATCH(D175,#REF!,0))=FALSE,\"C\",IF(ISERROR(MATCH(D175,#REF!,0))=FALSE,\"D\",\"\"))","v":""},{"$f":"IF(E175=\"C\",0,IF(E175 =\"D\",ROUND(1/((1+#REF!)^A175),9) * 2,ROUND(1/((1+#REF!)^A175),9)))","v":{"$error":"#REF!"}},{"$error":"#REF!"}]
[173,173,{"$error":"#REF!"},{"$error":"#REF!"},{"$f":"IF(ISERROR(MATCH(D176,#REF!,0))=FALSE,\"C\",IF(ISERROR(MATCH(D176,#REF!,0))=FALSE,\"D\",\"\"))","v":""},{"$f":"IF(E176=\"C\",0,IF(E176 =\"D\",ROUND(1/((1+#REF!)^A176),9) * 2,ROUND(1/((1+#REF!)^A176),9)))","v":{"$error":"#REF!"}},{"$error":"#REF!"}]
[174,174,{"$error":"#REF!"},{"$error":"#REF!"},{"$f":"IF(ISERROR(MATCH(D177,#REF!,0))=FALSE,\"C\",IF(ISERROR(MATCH(D177,#REF!,0))=FALSE,\"D\",\"\"))","v":""},{"$f":"IF(E177=\"C\",0,IF(E177 =\"D\",ROUND(1/((1+#REF!)^A177),9) * 2,ROUND(1/((1+#REF!)^A177),9)))","v":{"$error":"#REF!"}},{"$error":"#REF!"}]
[175,175,{"$error":"#REF!"},{"$error":"#REF!"},{"$f":"IF(ISERROR(MATCH(D178,#REF!,0))=FALSE,\"C\",IF(ISERROR(MATCH(D178,#REF!,0))=FALSE,\"D\",\"\"))","v":""},{"$f":"IF(E178=\"C\",0,IF(E178 =\"D\",ROUND(1/((1+#REF!)^A178),9) * 2,ROUND(1/((1+#REF!)^A178),9)))","v":{"$error":"#REF!"}},{"$error":"#REF!"}]
[176,176,{"$error":"#REF!"},{"$error":"#REF!"},{"$f":"IF(ISERROR(MATCH(D179,#REF!,0))=FALSE,\"C\",IF(ISERROR(MATCH(D179,#REF!,0))=FALSE,\"D\",\"\"))","v":""},{"$f":"IF(E179=\"C\",0,IF(E179 =\"D\",ROUND(1/((1+#REF!)^A179),9) * 2,ROUND(1/((1+#REF!)^A179),9)))","v":{"$error":"#REF!"}},{"$error":"#REF!"}]
[177,177,{"$error":"#REF!"},{"$error":"#REF!"},{"$f":"IF(ISERROR(MATCH(D180,#REF!,0))=FALSE,\"C\",IF(ISERROR(MATCH(D180,#REF!,0))=FALSE,\"D\",\"\"))","v":""},{"$f":"IF(E180=\"C\",0,IF(E180 =\"D\",ROUND(1/((1+#REF!)^A180),9) * 2,ROUND(1/((1+#REF!)^A180),9)))","v":{"$error":"#REF!"}},{"$error":"#REF!"}]
[178,178,{"$error":"#REF!"},{"$error":"#REF!"},{"$f":"IF(ISERROR(MATCH(D181,#REF!,0))=FALSE,\"C\",IF(ISERROR(MATCH(D181,#REF!,0))=FALSE,\"D\",\"\"))","v":""},{"$f":"IF(E181=\"C\",0,IF(E181 =\"D\",ROUND(1/((1+#REF!)^A181),9) * 2,ROUND(1/((1+#REF!)^A181),9)))","v":{"$error":"#REF!"}},{"$error":"#REF!"}]
[179,179,{"$error":"#REF!"},{"$error":"#REF!"},{"$f":"IF(ISERROR(MATCH(D182,#REF!,0))=FALSE,\"C\",IF(ISERROR(MATCH(D182,#REF!,0))=FALSE,\"D\",\"\"))","v":""},{"$f":"IF(E182=\"C\",0,IF(E182 =\"D\",ROUND(1/((1+#REF!)^A182),9) * 2,ROUND(1/((1+#REF!)^A182),9)))","v":{"$error":"#REF!"}},{"$error":"#REF!"}]
[180,180,{"$error":"#REF!"},{"$error":"#REF!"},{"$f":"IF(ISERROR(MATCH(D183,#REF!,0))=FALSE,\"C\",IF(ISERROR(MATCH(D183,#REF!,0))=FALSE,\"D\",\"\"))","v":""},{"$f":"IF(E183=\"C\",0,IF(E183 =\"D\",ROUND(1/((1+#REF!)^A183),9) * 2,ROUND(1/((1+#REF!)^A183),9)))","v":{"$error":"#REF!"}},{"$error":"#REF!"}]
[181,181,{"$error":"#REF!"},{"$error":"#REF!"},{"$f":"IF(ISERROR(MATCH(D184,#REF!,0))=FALSE,\"C\",IF(ISERROR(MATCH(D184,#REF!,0))=FALSE,\"D\",\"\"))","v":""},{"$f":"IF(E184=\"C\",0,IF(E184 =\"D\",ROUND(1/((1+#REF!)^A184),9) * 2,ROUND(1/((1+#REF!)^A184),9)))","v":{"$error":"#REF!"}},{"$error":"#REF!"}]
[182,182,{"$error":"#REF!"},{"$error":"#REF!"},{"$f":"IF(ISERROR(MATCH(D185,#REF!,0))=FALSE,\"C\",IF(ISERROR(MATCH(D185,#REF!,0))=FALSE,\"D\",\"\"))","v":""},{"$f":"IF(E185=\"C\",0,IF(E185 =\"D\",ROUND(1/((1+#REF!)^A185),9) * 2,ROUND(1/((1+#REF!)^A185),9)))","v":{"$error":"#REF!"}},{"$error":"#REF!"}]
[183,183,{"$error":"#REF!"},{"$error":"#REF!"},{"$f":"IF(ISERROR(MATCH(D186,#REF!,0))=FALSE,\"C\",IF(ISERROR(MATCH(D186,#REF!,0))=FALSE,\"D\",\"\"))","v":""},{"$f":"IF(E186=\"C\",0,IF(E186 =\"D\",ROUND(1/((1+#REF!)^A186),9) * 2,ROUND(1/((1+#REF!)^A186),9)))","v":{"$error":"#REF!"}},{"$error":"#REF!"}]
[184,184,{"$error":"#REF!"},{"$error":"#REF!"},{"$f":"IF(ISERROR(MATCH(D187,#REF!,0))=FALSE,\"C\",IF(ISERROR(MATCH(D187,#REF!,0))=FALSE,\"D\",\"\"))","v":""},{"$f":"IF(E187=\"C\",0,IF(E187 =\"D\",ROUND(1/((1+#REF!)^A187),9) * 2,ROUND(1/((1+#REF!)^A187),9)))","v":{"$error":"#REF!"}},{"$error":"#REF!"}]
[185,185,{"$error":"#REF!"},{"$error":"#REF!"},{"$f":"IF(ISERROR(MATCH(D188,#REF!,0))=FALSE,\"C\",IF(ISERROR(MATCH(D188,#REF!,0))=FALSE,\"D\",\"\"))","v":""},{"$f":"IF(E188=\"C\",0,IF(E188 =\"D\",ROUND(1/((1+#REF!)^A188),9) * 2,ROUND(1/((1+#REF!)^A188),9)))","v":{"$error":"#REF!"}},{"$error":"#REF!"}]
[186,186,{"$error":"#REF!"},{"$error":"#REF!"},{"$f":"IF(ISERROR(MATCH(D189,#REF!,0))=FALSE,\"C\",IF(ISERROR(MATCH(D189,#REF!,0))=FALSE,\"D\",\"\"))","v":""},{"$f":"IF(E189=\"C\",0,IF(E189 =\"D\",ROUND(1/((1+#REF!)^A189),9) * 2,ROUND(1/((1+#REF!)^A189),9)))","v":{"$error":"#REF!"}},{"$error":"#REF!"}]
[187,187,{"$error":"#REF!"},{"$error":"#REF!"},{"$f":"IF(ISERROR(MATCH(D190,#REF!,0))=FALSE,\"C\",IF(ISERROR(MATCH(D190,#REF!,0))=FALSE,\"D\",\"\"))","v":""},{"$f":"IF(E190=\"C\",0,IF(E190 =\"D\",ROUND(1/((1+#REF!)^A190),9) * 2,ROUND(1/((1+#REF!)^A190),9)))","v":{"$error":"#REF!"}},{"$error":"#REF!"}]
[188,188,{"$error":"#REF!"},{"$error":"#REF!"},{"$f":"IF(ISERROR(MATCH(D191,#REF!,0))=FALSE,\"C\",IF(ISERROR(MATCH(D191,#REF!,0))=FALSE,\"D\",\"\"))","v":""},{"$f":"IF(E191=\"C\",0,IF(E191 =\"D\",ROUND(1/((1+#REF!)^A191),9) * 2,ROUND(1/((1+#REF!)^A191),9)))","v":{"$error":"#REF!"}},{"$error":"#REF!"}]
[189,189,{"$error":"#REF!"},{"$error":"#REF!"},{"$f":"IF(ISERROR(MATCH(D192,#REF!,0))=FALSE,\"C\",IF(ISERROR(MATCH(D192,#REF!,0))=FALSE,\"D\",\"\"))","v":""},{"$f":"IF(E192=\"C\",0,IF(E192 =\"D\",ROUND(1/((1+#REF!)^A192),9) * 2,ROUND(1/((1+#REF!)^A192),9)))","v":{"$error":"#REF!"}},{"$error":"#REF!"}]
[190,190,{"$error":"#REF!"},{"$error":"#REF!"},{"$f":"IF(ISERROR(MATCH(D193,#REF!,0))=FALSE,\"C\",IF(ISERROR(MATCH(D193,#REF!,0))=FALSE,\"D\",\"\"))","v":""},{"$f":"IF(E193=\"C\",0,IF(E193 =\"D\",ROUND(1/((1+#REF!)^A193),9) * 2,ROUND(1/((1+#REF!)^A193),9)))","v":{"$error":"#REF!"}},{"$error":"#REF!"}]
[191,191,{"$error":"#REF!"},{"$error":"#REF!"},{"$f":"IF(ISERROR(MATCH(D194,#REF!,0))=FALSE,\"C\",IF(ISERROR(MATCH(D194,#REF!,0))=FALSE,\"D\",\"\"))","v":""},{"$f":"IF(E194=\"C\",0,IF(E194 =\"D\",ROUND(1/((1+#REF!)^A194),9) * 2,ROUND(1/((1+#REF!)^A194),9)))","v":{"$error":"#REF!"}},{"$error":"#REF!"}]
[192,192,{"$error":"#REF!"},{"$error":"#REF!"},{"$f":"IF(ISERROR(MATCH(D195,#REF!,0))=FALSE,\"C\",IF(ISERROR(MATCH(D195,#REF!,0))=FALSE,\"D\",\"\"))","v":""},{"$f":"IF(E195=\"C\",0,IF(E195 =\"D\",ROUND(1/((1+#REF!)^A195),9) * 2,ROUND(1/((1+#REF!)^A195),9)))","v":{"$error":"#REF!"}},{"$error":"#REF!"}]
[193,193,{"$error":"#REF!"},{"$error":"#REF!"},{"$f":"IF(ISERROR(MATCH(D196,#REF!,0))=FALSE,\"C\",IF(ISERROR(MATCH(D196,#REF!,0))=FALSE,\"D\",\"\"))","v":""},{"$f":"IF(E196=\"C\",0,IF(E196 =\"D\",ROUND(1/((1+#REF!)^A196),9) * 2,ROUND(1/((1+#REF!)^A196),9)))","v":{"$error":"#REF!"}},{"$error":"#REF!"}]
[{"$f":"A196+1","v":194},194,{"$f":"DATE(YEAR(C196) + 1/12,MONTH(C196)+1,DAY(C196))","v":{"$error":"#REF!"}},{"$error":"#REF!"},{"$f":"IF(ISERROR(MATCH(D197,#REF!,0))=FALSE,\"C\",IF(ISERROR(MATCH(D197,#REF!,0))=FALSE,\"D\",\"\"))","v":""},{"$f":"IF(E197=\"C\",0,IF(E197 =\"D\",ROUND(1/((1+#REF!)^A197),9) * 2,ROUND(1/((1+#REF!)^A197),9)))","v":{"$error":"#REF!"}},{"$error":"#REF!"}]
[195,195,{"$error":"#REF!"},{"$error":"#REF!"},{"$f":"IF(ISERROR(MATCH(D198,#REF!,0))=FALSE,\"C\",IF(ISERROR(MATCH(D198,#REF!,0))=FALSE,\"D\",\"\"))","v":""},{"$f":"IF(E198=\"C\",0,IF(E198 =\"D\",ROUND(1/((1+#REF!)^A198),9) * 2,ROUND(1/((1+#REF!)^A198),9)))","v":{"$error":"#REF!"}},{"$error":"#REF!"}]
[196,196,{"$error":"#REF!"},{"$error":"#REF!"},{"$f":"IF(ISERROR(MATCH(D199,#REF!,0))=FALSE,\"C\",IF(ISERROR(MATCH(D199,#REF!,0))=FALSE,\"D\",\"\"))","v":""},{"$f":"IF(E199=\"C\",0,IF(E199 =\"D\",ROUND(1/((1+#REF!)^A199),9) * 2,ROUND(1/((1+#REF!)^A199),9)))","v":{"$error":"#REF!"}},{"$error":"#REF!"}]
[197,197,{"$error":"#REF!"},{"$error":"#REF!"},{"$f":"IF(ISERROR(MATCH(D200,#REF!,0))=FALSE,\"C\",IF(ISERROR(MATCH(D200,#REF!,0))=FALSE,\"D\",\"\"))","v":""},{"$f":"IF(E200=\"C\",0,IF(E200 =\"D\",ROUND(1/((1+#REF!)^A200),9) * 2,ROUND(1/((1+#REF!)^A200),9)))","v":{"$error":"#REF!"}},{"$error":"#REF!"}]
[198,198,{"$error":"#REF!"},{"$error":"#REF!"},{"$f":"IF(ISERROR(MATCH(D201,#REF!,0))=FALSE,\"C\",IF(ISERROR(MATCH(D201,#REF!,0))=FALSE,\"D\",\"\"))","v":""},{"$f":"IF(E201=\"C\",0,IF(E201 =\"D\",ROUND(1/((1+#REF!)^A201),9) * 2,ROUND(1/((1+#REF!)^A201),9)))","v":{"$error":"#REF!"}},{"$error":"#REF!"}]
[199,199,{"$error":"#REF!"},{"$error":"#REF!"},{"$f":"IF(ISERROR(MATCH(D202,#REF!,0))=FALSE,\"C\",IF(ISERROR(MATCH(D202,#REF!,0))=FALSE,\"D\",\"\"))","v":""},{"$f":"IF(E202=\"C\",0,IF(E202 =\"D\",ROUND(1/((1+#REF!)^A202),9) * 2,ROUND(1/((1+#REF!)^A202),9)))","v":{"$error":"#REF!"}},{"$error":"#REF!"}]
[200,200,{"$error":"#REF!"},{"$error":"#REF!"},{"$f":"IF(ISERROR(MATCH(D203,#REF!,0))=FALSE,\"C\",IF(ISERROR(MATCH(D203,#REF!,0))=FALSE,\"D\",\"\"))","v":""},{"$f":"IF(E203=\"C\",0,IF(E203 =\"D\",ROUND(1/((1+#REF!)^A203),9) * 2,ROUND(1/((1+#REF!)^A203),9)))","v":{"$error":"#REF!"}},{"$error":"#REF!"}]
[201,201,{"$error":"#REF!"},{"$error":"#REF!"},{"$f":"IF(ISERROR(MATCH(D204,#REF!,0))=FALSE,\"C\",IF(ISERROR(MATCH(D204,#REF!,0))=FALSE,\"D\",\"\"))","v":""},{"$f":"IF(E204=\"C\",0,IF(E204 =\"D\",ROUND(1/((1+#REF!)^A204),9) * 2,ROUND(1/((1+#REF!)^A204),9)))","v":{"$error":"#REF!"}},{"$error":"#REF!"}]
[202,202,{"$error":"#REF!"},{"$error":"#REF!"},{"$f":"IF(ISERROR(MATCH(D205,#REF!,0))=FALSE,\"C\",IF(ISERROR(MATCH(D205,#REF!,0))=FALSE,\"D\",\"\"))","v":""},{"$f":"IF(E205=\"C\",0,IF(E205 =\"D\",ROUND(1/((1+#REF!)^A205),9) * 2,ROUND(1/((1+#REF!)^A205),9)))","v":{"$error":"#REF!"}},{"$error":"#REF!"}]
[203,203,{"$error":"#REF!"},{"$error":"#REF!"},{"$f":"IF(ISERROR(MATCH(D206,#REF!,0))=FALSE,\"C\",IF(ISERROR(MATCH(D206,#REF!,0))=FALSE,\"D\",\"\"))","v":""},{"$f":"IF(E206=\"C\",0,IF(E206 =\"D\",ROUND(1/((1+#REF!)^A206),9) * 2,ROUND(1/((1+#REF!)^A206),9)))","v":{"$error":"#REF!"}},{"$error":"#REF!"}]
[204,204,{"$error":"#REF!"},{"$error":"#REF!"},{"$f":"IF(ISERROR(MATCH(D207,#REF!,0))=FALSE,\"C\",IF(ISERROR(MATCH(D207,#REF!,0))=FALSE,\"D\",\"\"))","v":""},{"$f":"IF(E207=\"C\",0,IF(E207 =\"D\",ROUND(1/((1+#REF!)^A207),9) * 2,ROUND(1/((1+#REF!)^A207),9)))","v":{"$error":"#REF!"}},{"$error":"#REF!"}]
[205,205,{"$error":"#REF!"},{"$error":"#REF!"},{"$f":"IF(ISERROR(MATCH(D208,#REF!,0))=FALSE,\"C\",IF(ISERROR(MATCH(D208,#REF!,0))=FALSE,\"D\",\"\"))","v":""},{"$f":"IF(E208=\"C\",0,IF(E208 =\"D\",ROUND(1/((1+#REF!)^A208),9) * 2,ROUND(1/((1+#REF!)^A208),9)))","v":{"$error":"#REF!"}},{"$error":"#REF!"}]
[206,206,{"$error":"#REF!"},{"$error":"#REF!"},{"$f":"IF(ISERROR(MATCH(D209,#REF!,0))=FALSE,\"C\",IF(ISERROR(MATCH(D209,#REF!,0))=FALSE,\"D\",\"\"))","v":""},{"$f":"IF(E209=\"C\",0,IF(E209 =\"D\",ROUND(1/((1+#REF!)^A209),9) * 2,ROUND(1/((1+#REF!)^A209),9)))","v":{"$error":"#REF!"}},{"$error":"#REF!"}]
[207,207,{"$error":"#REF!"},{"$error":"#REF!"},{"$f":"IF(ISERROR(MATCH(D210,#REF!,0))=FALSE,\"C\",IF(ISERROR(MATCH(D210,#REF!,0))=FALSE,\"D\",\"\"))","v":""},{"$f":"IF(E210=\"C\",0,IF(E210 =\"D\",ROUND(1/((1+#REF!)^A210),9) * 2,ROUND(1/((1+#REF!)^A210),9)))","v":{"$error":"#REF!"}},{"$error":"#REF!"}]
[208,208,{"$error":"#REF!"},{"$error":"#REF!"},{"$f":"IF(ISERROR(MATCH(D211,#REF!,0))=FALSE,\"C\",IF(ISERROR(MATCH(D211,#REF!,0))=FALSE,\"D\",\"\"))","v":""},{"$f":"IF(E211=\"C\",0,IF(E211 =\"D\",ROUND(1/((1+#REF!)^A211),9) * 2,ROUND(1/((1+#REF!)^A211),9)))","v":{"$error":"#REF!"}},{"$error":"#REF!"}]
[209,209,{"$error":"#REF!"},{"$error":"#REF!"},{"$f":"IF(ISERROR(MATCH(D212,#REF!,0))=FALSE,\"C\",IF(ISERROR(MATCH(D212,#REF!,0))=FALSE,\"D\",\"\"))","v":""},{"$f":"IF(E212=\"C\",0,IF(E212 =\"D\",ROUND(1/((1+#REF!)^A212),9) * 2,ROUND(1/((1+#REF!)^A212),9)))","v":{"$error":"#REF!"}},{"$error":"#REF!"}]
[210,210,{"$error":"#REF!"},{"$error":"#REF!"},{"$f":"IF(ISERROR(MATCH(D213,#REF!,0))=FALSE,\"C\",IF(ISERROR(MATCH(D213,#REF!,0))=FALSE,\"D\",\"\"))","v":""},{"$f":"IF(E213=\"C\",0,IF(E213 =\"D\",ROUND(1/((1+#REF!)^A213),9) * 2,ROUND(1/((1+#REF!)^A213),9)))","v":{"$error":"#REF!"}},{"$error":"#REF!"}]
[211,211,{"$error":"#REF!"},{"$error":"#REF!"},{"$f":"IF(ISERROR(MATCH(D214,#REF!,0))=FALSE,\"C\",IF(ISERROR(MATCH(D214,#REF!,0))=FALSE,\"D\",\"\"))","v":""},{"$f":"IF(E214=\"C\",0,IF(E214 =\"D\",ROUND(1/((1+#REF!)^A214),9) * 2,ROUND(1/((1+#REF!)^A214),9)))","v":{"$error":"#REF!"}},{"$error":"#REF!"}]
[212,212,{"$error":"#REF!"},{"$error":"#REF!"},{"$f":"IF(ISERROR(MATCH(D215,#REF!,0))=FALSE,\"C\",IF(ISERROR(MATCH(D215,#REF!,0))=FALSE,\"D\",\"\"))","v":""},{"$f":"IF(E215=\"C\",0,IF(E215 =\"D\",ROUND(1/((1+#REF!)^A215),9) * 2,ROUND(1/((1+#REF!)^A215),9)))","v":{"$error":"#REF!"}},{"$error":"#REF!"}]
[213,213,{"$error":"#REF!"},{"$error":"#REF!"},{"$f":"IF(ISERROR(MATCH(D216,#REF!,0))=FALSE,\"C\",IF(ISERROR(MATCH(D216,#REF!,0))=FALSE,\"D\",\"\"))","v":""},{"$f":"IF(E216=\"C\",0,IF(E216 =\"D\",ROUND(1/((1+#REF!)^A216),9) * 2,ROUND(1/((1+#REF!)^A216),9)))","v":{"$error":"#REF!"}},{"$error":"#REF!"}]
[214,214,{"$error":"#REF!"},{"$error":"#REF!"},{"$f":"IF(ISERROR(MATCH(D217,#REF!,0))=FALSE,\"C\",IF(ISERROR(MATCH(D217,#REF!,0))=FALSE,\"D\",\"\"))","v":""},{"$f":"IF(E217=\"C\",0,IF(E217 =\"D\",ROUND(1/((1+#REF!)^A217),9) * 2,ROUND(1/((1+#REF!)^A217),9)))","v":{"$error":"#REF!"}},{"$error":"#REF!"}]
[215,215,{"$error":"#REF!"},{"$error":"#REF!"},{"$f":"IF(ISERROR(MATCH(D218,#REF!,0))=FALSE,\"C\",IF(ISERROR(MATCH(D218,#REF!,0))=FALSE,\"D\",\"\"))","v":""},{"$f":"IF(E218=\"C\",0,IF(E218 =\"D\",ROUND(1/((1+#REF!)^A218),9) * 2,ROUND(1/((1+#REF!)^A218),9)))","v":{"$error":"#REF!"}},{"$error":"#REF!"}]
[216,216,{"$error":"#REF!"},{"$error":"#REF!"},{"$f":"IF(ISERROR(MATCH(D219,#REF!,0))=FALSE,\"C\",IF(ISERROR(MATCH(D219,#REF!,0))=FALSE,\"D\",\"\"))","v":""},{"$f":"IF(E219=\"C\",0,IF(E219 =\"D\",ROUND(1/((1+#REF!)^A219),9) * 2,ROUND(1/((1+#REF!)^A219),9)))","v":{"$error":"#REF!"}},{"$error":"#REF!"}]
[217,217,{"$error":"#REF!"},{"$error":"#REF!"},{"$f":"IF(ISERROR(MATCH(D220,#REF!,0))=FALSE,\"C\",IF(ISERROR(MATCH(D220,#REF!,0))=FALSE,\"D\",\"\"))","v":""},{"$f":"IF(E220=\"C\",0,IF(E220 =\"D\",ROUND(1/((1+#REF!)^A220),9) * 2,ROUND(1/((1+#REF!)^A220),9)))","v":{"$error":"#REF!"}},{"$error":"#REF!"}]
[218,218,{"$error":"#REF!"},{"$error":"#REF!"},{"$f":"IF(ISERROR(MATCH(D221,#REF!,0))=FALSE,\"C\",IF(ISERROR(MATCH(D221,#REF!,0))=FALSE,\"D\",\"\"))","v":""},{"$f":"IF(E221=\"C\",0,IF(E221 =\"D\",ROUND(1/((1+#REF!)^A221),9) * 2,ROUND(1/((1+#REF!)^A221),9)))","v":{"$error":"#REF!"}},{"$error":"#REF!"}]
[219,219,{"$error":"#REF!"},{"$error":"#REF!"},{"$f":"IF(ISERROR(MATCH(D222,#REF!,0))=FALSE,\"C\",IF(ISERROR(MATCH(D222,#REF!,0))=FALSE,\"D\",\"\"))","v":""},{"$f":"IF(E222=\"C\",0,IF(E222 =\"D\",ROUND(1/((1+#REF!)^A222),9) * 2,ROUND(1/((1+#REF!)^A222),9)))","v":{"$error":"#REF!"}},{"$error":"#REF!"}]
[220,220,{"$error":"#REF!"},{"$error":"#REF!"},{"$f":"IF(ISERROR(MATCH(D223,#REF!,0))=FALSE,\"C\",IF(ISERROR(MATCH(D223,#REF!,0))=FALSE,\"D\",\"\"))","v":""},{"$f":"IF(E223=\"C\",0,IF(E223 =\"D\",ROUND(1/((1+#REF!)^A223),9) * 2,ROUND(1/((1+#REF!)^A223),9)))","v":{"$error":"#REF!"}},{"$error":"#REF!"}]
[221,221,{"$error":"#REF!"},{"$error":"#REF!"},{"$f":"IF(ISERROR(MATCH(D224,#REF!,0))=FALSE,\"C\",IF(ISERROR(MATCH(D224,#REF!,0))=FALSE,\"D\",\"\"))","v":""},{"$f":"IF(E224=\"C\",0,IF(E224 =\"D\",ROUND(1/((1+#REF!)^A224),9) * 2,ROUND(1/((1+#REF!)^A224),9)))","v":{"$error":"#REF!"}},{"$error":"#REF!"}]
[222,222,{"$error":"#REF!"},{"$error":"#REF!"},{"$f":"IF(ISERROR(MATCH(D225,#REF!,0))=FALSE,\"C\",IF(ISERROR(MATCH(D225,#REF!,0))=FALSE,\"D\",\"\"))","v":""},{"$f":"IF(E225=\"C\",0,IF(E225 =\"D\",ROUND(1/((1+#REF!)^A225),9) * 2,ROUND(1/((1+#REF!)^A225),9)))","v":{"$error":"#REF!"}},{"$error":"#REF!"}]
[223,223,{"$error":"#REF!"},{"$error":"#REF!"},{"$f":"IF(ISERROR(MATCH(D226,#REF!,0))=FALSE,\"C\",IF(ISERROR(MATCH(D226,#REF!,0))=FALSE,\"D\",\"\"))","v":""},{"$f":"IF(E226=\"C\",0,IF(E226 =\"D\",ROUND(1/((1+#REF!)^A226),9) * 2,ROUND(1/((1+#REF!)^A226),9)))","v":{"$error":"#REF!"}},{"$error":"#REF!"}]
[224,224,{"$error":"#REF!"},{"$error":"#REF!"},{"$f":"IF(ISERROR(MATCH(D227,#REF!,0))=FALSE,\"C\",IF(ISERROR(MATCH(D227,#REF!,0))=FALSE,\"D\",\"\"))","v":""},{"$f":"IF(E227=\"C\",0,IF(E227 =\"D\",ROUND(1/((1+#REF!)^A227),9) * 2,ROUND(1/((1+#REF!)^A227),9)))","v":{"$error":"#REF!"}},{"$error":"#REF!"}]
[225,{"$f":"IF(E228<>\"C\",IF(ISERROR(1+B227)=TRUE,1,1+B227),IF(ISNUMBER(B227),B227,1))","v":225},{"$error":"#REF!"},{"$f":"MONTH(C228)","v":{"$error":"#REF!"}},{"$f":"IF(ISERROR(MATCH(D228,#REF!,0))=FALSE,\"C\",IF(ISERROR(MATCH(D228,#REF!,0))=FALSE,\"D\",\"\"))","v":""},{"$f":"IF(E228=\"C\",0,IF(E228 =\"D\",ROUND(1/((1+#REF!)^A228),9) * 2,ROUND(1/((1+#REF!)^A228),9)))","v":{"$error":"#REF!"}},{"$f":"G227+ROUND(F228,9)","v":{"$error":"#REF!"}}]
[226,226,{"$error":"#REF!"},{"$error":"#REF!"},{"$f":"IF(ISERROR(MATCH(D229,#REF!,0))=FALSE,\"C\",IF(ISERROR(MATCH(D229,#REF!,0))=FALSE,\"D\",\"\"))","v":""},{"$f":"IF(E229=\"C\",0,IF(E229 =\"D\",ROUND(1/((1+#REF!)^A229),9) * 2,ROUND(1/((1+#REF!)^A229),9)))","v":{"$error":"#REF!"}},{"$error":"#REF!"}]
[227,227,{"$error":"#REF!"},{"$error":"#REF!"},{"$f":"IF(ISERROR(MATCH(D230,#REF!,0))=FALSE,\"C\",IF(ISERROR(MATCH(D230,#REF!,0))=FALSE,\"D\",\"\"))","v":""},{"$f":"IF(E230=\"C\",0,IF(E230 =\"D\",ROUND(1/((1+#REF!)^A230),9) * 2,ROUND(1/((1+#REF!)^A230),9)))","v":{"$error":"#REF!"}},{"$error":"#REF!"}]
[228,228,{"$error":"#REF!"},{"$error":"#REF!"},{"$f":"IF(ISERROR(MATCH(D231,#REF!,0))=FALSE,\"C\",IF(ISERROR(MATCH(D231,#REF!,0))=FALSE,\"D\",\"\"))","v":""},{"$f":"IF(E231=\"C\",0,IF(E231 =\"D\",ROUND(1/((1+#REF!)^A231),9) * 2,ROUND(1/((1+#REF!)^A231),9)))","v":{"$error":"#REF!"}},{"$error":"#REF!"}]
[229,229,{"$error":"#REF!"},{"$error":"#REF!"},{"$f":"IF(ISERROR(MATCH(D232,#REF!,0))=FALSE,\"C\",IF(ISERROR(MATCH(D232,#REF!,0))=FALSE,\"D\",\"\"))","v":""},{"$f":"IF(E232=\"C\",0,IF(E232 =\"D\",ROUND(1/((1+#REF!)^A232),9) * 2,ROUND(1/((1+#REF!)^A232),9)))","v":{"$error":"#REF!"}},{"$error":"#REF!"}]
[230,230,{"$error":"#REF!"},{"$error":"#REF!"},{"$f":"IF(ISERROR(MATCH(D233,#REF!,0))=FALSE,\"C\",IF(ISERROR(MATCH(D233,#REF!,0))=FALSE,\"D\",\"\"))","v":""},{"$f":"IF(E233=\"C\",0,IF(E233 =\"D\",ROUND(1/((1+#REF!)^A233),9) * 2,ROUND(1/((1+#REF!)^A233),9)))","v":{"$error":"#REF!"}},{"$error":"#REF!"}]
[231,231,{"$error":"#REF!"},{"$error":"#REF!"},{"$f":"IF(ISERROR(MATCH(D234,#REF!,0))=FALSE,\"C\",IF(ISERROR(MATCH(D234,#REF!,0))=FALSE,\"D\",\"\"))","v":""},{"$f":"IF(E234=\"C\",0,IF(E234 =\"D\",ROUND(1/((1+#REF!)^A234),9) * 2,ROUND(1/((1+#REF!)^A234),9)))","v":{"$error":"#REF!"}},{"$error":"#REF!"}]
[232,232,{"$error":"#REF!"},{"$error":"#REF!"},{"$f":"IF(ISERROR(MATCH(D235,#REF!,0))=FALSE,\"C\",IF(ISERROR(MATCH(D235,#REF!,0))=FALSE,\"D\",\"\"))","v":""},{"$f":"IF(E235=\"C\",0,IF(E235 =\"D\",ROUND(1/((1+#REF!)^A235),9) * 2,ROUND(1/((1+#REF!)^A235),9)))","v":{"$error":"#REF!"}},{"$error":"#REF!"}]
[233,233,{"$error":"#REF!"},{"$error":"#REF!"},{"$f":"IF(ISERROR(MATCH(D236,#REF!,0))=FALSE,\"C\",IF(ISERROR(MATCH(D236,#REF!,0))=FALSE,\"D\",\"\"))","v":""},{"$f":"IF(E236=\"C\",0,IF(E236 =\"D\",ROUND(1/((1+#REF!)^A236),9) * 2,ROUND(1/((1+#REF!)^A236),9)))","v":{"$error":"#REF!"}},{"$error":"#REF!"}]
[234,234,{"$error":"#REF!"},{"$error":"#REF!"},{"$f":"IF(ISERROR(MATCH(D237,#REF!,0))=FALSE,\"C\",IF(ISERROR(MATCH(D237,#REF!,0))=FALSE,\"D\",\"\"))","v":""},{"$f":"IF(E237=\"C\",0,IF(E237 =\"D\",ROUND(1/((1+#REF!)^A237),9) * 2,ROUND(1/((1+#REF!)^A237),9)))","v":{"$error":"#REF!"}},{"$error":"#REF!"}]
[235,235,{"$error":"#REF!"},{"$error":"#REF!"},{"$f":"IF(ISERROR(MATCH(D238,#REF!,0))=FALSE,\"C\",IF(ISERROR(MATCH(D238,#REF!,0))=FALSE,\"D\",\"\"))","v":""},{"$f":"IF(E238=\"C\",0,IF(E238 =\"D\",ROUND(1/((1+#REF!)^A238),9) * 2,ROUND(1/((1+#REF!)^A238),9)))","v":{"$error":"#REF!"}},{"$error":"#REF!"}]
[236,236,{"$error":"#REF!"},{"$error":"#REF!"},{"$f":"IF(ISERROR(MATCH(D239,#REF!,0))=FALSE,\"C\",IF(ISERROR(MATCH(D239,#REF!,0))=FALSE,\"D\",\"\"))","v":""},{"$f":"IF(E239=\"C\",0,IF(E239 =\"D\",ROUND(1/((1+#REF!)^A239),9) * 2,ROUND(1/((1+#REF!)^A239),9)))","v":{"$error":"#REF!"}},{"$error":"#REF!"}]
[237,237,{"$error":"#REF!"},{"$error":"#REF!"},{"$f":"IF(ISERROR(MATCH(D240,#REF!,0))=FALSE,\"C\",IF(ISERROR(MATCH(D240,#REF!,0))=FALSE,\"D\",\"\"))","v":""},{"$f":"IF(E240=\"C\",0,IF(E240 =\"D\",ROUND(1/((1+#REF!)^A240),9) * 2,ROUND(1/((1+#REF!)^A240),9)))","v":{"$error":"#REF!"}},{"$error":"#REF!"}]
[238,238,{"$error":"#REF!"},{"$error":"#REF!"},{"$f":"IF(ISERROR(MATCH(D241,#REF!,0))=FALSE,\"C\",IF(ISERROR(MATCH(D241,#REF!,0))=FALSE,\"D\",\"\"))","v":""},{"$f":"IF(E241=\"C\",0,IF(E241 =\"D\",ROUND(1/((1+#REF!)^A241),9) * 2,ROUND(1/((1+#REF!)^A241),9)))","v":{"$error":"#REF!"}},{"$error":"#REF!"}]
[239,239,{"$error":"#REF!"},{"$error":"#REF!"},{"$f":"IF(ISERROR(MATCH(D242,#REF!,0))=FALSE,\"C\",IF(ISERROR(MATCH(D242,#REF!,0))=FALSE,\"D\",\"\"))","v":""},{"$f":"IF(E242=\"C\",0,IF(E242 =\"D\",ROUND(1/((1+#REF!)^A242),9) * 2,ROUND(1/((1+#REF!)^A242),9)))","v":{"$error":"#REF!"}},{"$error":"#REF!"}]
[240,240,{"$error":"#REF!"},{"$error":"#REF!"},{"$f":"IF(ISERROR(MATCH(D243,#REF!,0))=FALSE,\"C\",IF(ISERROR(MATCH(D243,#REF!,0))=FALSE,\"D\",\"\"))","v":""},{"$f":"IF(E243=\"C\",0,IF(E243 =\"D\",ROUND(1/((1+#REF!)^A243),9) * 2,ROUND(1/((1+#REF!)^A243),9)))","v":{"$error":"#REF!"}},{"$error":"#REF!"}]
[241,241,{"$error":"#REF!"},{"$error":"#REF!"},{"$f":"IF(ISERROR(MATCH(D244,#REF!,0))=FALSE,\"C\",IF(ISERROR(MATCH(D244,#REF!,0))=FALSE,\"D\",\"\"))","v":""},{"$f":"IF(E244=\"C\",0,IF(E244 =\"D\",ROUND(1/((1+#REF!)^A244),9) * 2,ROUND(1/((1+#REF!)^A244),9)))","v":{"$error":"#REF!"}},{"$error":"#REF!"}]
[242,242,{"$error":"#REF!"},{"$error":"#REF!"},{"$f":"IF(ISERROR(MATCH(D245,#REF!,0))=FALSE,\"C\",IF(ISERROR(MATCH(D245,#REF!,0))=FALSE,\"D\",\"\"))","v":""},{"$f":"IF(E245=\"C\",0,IF(E245 =\"D\",ROUND(1/((1+#REF!)^A245),9) * 2,ROUND(1/((1+#REF!)^A245),9)))","v":{"$error":"#REF!"}},{"$error":"#REF!"}]
[243,243,{"$error":"#REF!"},{"$error":"#REF!"},{"$f":"IF(ISERROR(MATCH(D246,#REF!,0))=FALSE,\"C\",IF(ISERROR(MATCH(D246,#REF!,0))=FALSE,\"D\",\"\"))","v":""},{"$f":"IF(E246=\"C\",0,IF(E246 =\"D\",ROUND(1/((1+#REF!)^A246),9) * 2,ROUND(1/((1+#REF!)^A246),9)))","v":{"$error":"#REF!"}},{"$error":"#REF!"}]
[244,244,{"$error":"#REF!"},{"$error":"#REF!"},{"$f":"IF(ISERROR(MATCH(D247,#REF!,0))=FALSE,\"C\",IF(ISERROR(MATCH(D247,#REF!,0))=FALSE,\"D\",\"\"))","v":""},{"$f":"IF(E247=\"C\",0,IF(E247 =\"D\",ROUND(1/((1+#REF!)^A247),9) * 2,ROUND(1/((1+#REF!)^A247),9)))","v":{"$error":"#REF!"}},{"$error":"#REF!"}]
[245,245,{"$error":"#REF!"},{"$error":"#REF!"},{"$f":"IF(ISERROR(MATCH(D248,#REF!,0))=FALSE,\"C\",IF(ISERROR(MATCH(D248,#REF!,0))=FALSE,\"D\",\"\"))","v":""},{"$f":"IF(E248=\"C\",0,IF(E248 =\"D\",ROUND(1/((1+#REF!)^A248),9) * 2,ROUND(1/((1+#REF!)^A248),9)))","v":{"$error":"#REF!"}},{"$error":"#REF!"}]
[246,246,{"$error":"#REF!"},{"$error":"#REF!"},{"$f":"IF(ISERROR(MATCH(D249,#REF!,0))=FALSE,\"C\",IF(ISERROR(MATCH(D249,#REF!,0))=FALSE,\"D\",\"\"))","v":""},{"$f":"IF(E249=\"C\",0,IF(E249 =\"D\",ROUND(1/((1+#REF!)^A249),9) * 2,ROUND(1/((1+#REF!)^A249),9)))","v":{"$error":"#REF!"}},{"$error":"#REF!"}]
[247,247,{"$error":"#REF!"},{"$error":"#REF!"},{"$f":"IF(ISERROR(MATCH(D250,#REF!,0))=FALSE,\"C\",IF(ISERROR(MATCH(D250,#REF!,0))=FALSE,\"D\",\"\"))","v":""},{"$f":"IF(E250=\"C\",0,IF(E250 =\"D\",ROUND(1/((1+#REF!)^A250),9) * 2,ROUND(1/((1+#REF!)^A250),9)))","v":{"$error":"#REF!"}},{"$error":"#REF!"}]
[248,248,{"$error":"#REF!"},{"$error":"#REF!"},{"$f":"IF(ISERROR(MATCH(D251,#REF!,0))=FALSE,\"C\",IF(ISERROR(MATCH(D251,#REF!,0))=FALSE,\"D\",\"\"))","v":""},{"$f":"IF(E251=\"C\",0,IF(E251 =\"D\",ROUND(1/((1+#REF!)^A251),9) * 2,ROUND(1/((1+#REF!)^A251),9)))","v":{"$error":"#REF!"}},{"$error":"#REF!"}]
[249,249,{"$error":"#REF!"},{"$error":"#REF!"},{"$f":"IF(ISERROR(MATCH(D252,#REF!,0))=FALSE,\"C\",IF(ISERROR(MATCH(D252,#REF!,0))=FALSE,\"D\",\"\"))","v":""},{"$f":"IF(E252=\"C\",0,IF(E252 =\"D\",ROUND(1/((1+#REF!)^A252),9) * 2,ROUND(1/((1+#REF!)^A252),9)))","v":{"$error":"#REF!"}},{"$error":"#REF!"}]
[250,250,{"$error":"#REF!"},{"$error":"#REF!"},{"$f":"IF(ISERROR(MATCH(D253,#REF!,0))=FALSE,\"C\",IF(ISERROR(MATCH(D253,#REF!,0))=FALSE,\"D\",\"\"))","v":""},{"$f":"IF(E253=\"C\",0,IF(E253 =\"D\",ROUND(1/((1+#REF!)^A253),9) * 2,ROUND(1/((1+#REF!)^A253),9)))","v":{"$error":"#REF!"}},{"$error":"#REF!"}]
[251,251,{"$error":"#REF!"},{"$error":"#REF!"},{"$f":"IF(ISERROR(MATCH(D254,#REF!,0))=FALSE,\"C\",IF(ISERROR(MATCH(D254,#REF!,0))=FALSE,\"D\",\"\"))","v":""},{"$f":"IF(E254=\"C\",0,IF(E254 =\"D\",ROUND(1/((1+#REF!)^A254),9) * 2,ROUND(1/((1+#REF!)^A254),9)))","v":{"$error":"#REF!"}},{"$error":"#REF!"}]
[252,252,{"$error":"#REF!"},{"$error":"#REF!"},{"$f":"IF(ISERROR(MATCH(D255,#REF!,0))=FALSE,\"C\",IF(ISERROR(MATCH(D255,#REF!,0))=FALSE,\"D\",\"\"))","v":""},{"$f":"IF(E255=\"C\",0,IF(E255 =\"D\",ROUND(1/((1+#REF!)^A255),9) * 2,ROUND(1/((1+#REF!)^A255),9)))","v":{"$error":"#REF!"}},{"$error":"#REF!"}]
[253,253,{"$error":"#REF!"},{"$error":"#REF!"},{"$f":"IF(ISERROR(MATCH(D256,#REF!,0))=FALSE,\"C\",IF(ISERROR(MATCH(D256,#REF!,0))=FALSE,\"D\",\"\"))","v":""},{"$f":"IF(E256=\"C\",0,IF(E256 =\"D\",ROUND(1/((1+#REF!)^A256),9) * 2,ROUND(1/((1+#REF!)^A256),9)))","v":{"$error":"#REF!"}},{"$error":"#REF!"}]
[254,254,{"$error":"#REF!"},{"$error":"#REF!"},{"$f":"IF(ISERROR(MATCH(D257,#REF!,0))=FALSE,\"C\",IF(ISERROR(MATCH(D257,#REF!,0))=FALSE,\"D\",\"\"))","v":""},{"$f":"IF(E257=\"C\",0,IF(E257 =\"D\",ROUND(1/((1+#REF!)^A257),9) * 2,ROUND(1/((1+#REF!)^A257),9)))","v":{"$error":"#REF!"}},{"$error":"#REF!"}]
[255,255,{"$error":"#REF!"},{"$error":"#REF!"},{"$f":"IF(ISERROR(MATCH(D258,#REF!,0))=FALSE,\"C\",IF(ISERROR(MATCH(D258,#REF!,0))=FALSE,\"D\",\"\"))","v":""},{"$f":"IF(E258=\"C\",0,IF(E258 =\"D\",ROUND(1/((1+#REF!)^A258),9) * 2,ROUND(1/((1+#REF!)^A258),9)))","v":{"$error":"#REF!"}},{"$error":"#REF!"}]
[256,256,{"$error":"#REF!"},{"$error":"#REF!"},{"$f":"IF(ISERROR(MATCH(D259,#REF!,0))=FALSE,\"C\",IF(ISERROR(MATCH(D259,#REF!,0))=FALSE,\"D\",\"\"))","v":""},{"$f":"IF(E259=\"C\",0,IF(E259 =\"D\",ROUND(1/((1+#REF!)^A259),9) * 2,ROUND(1/((1+#REF!)^A259),9)))","v":{"$error":"#REF!"}},{"$error":"#REF!"}]
[257,257,{"$error":"#REF!"},{"$error":"#REF!"},{"$f":"IF(ISERROR(MATCH(D260,#REF!,0))=FALSE,\"C\",IF(ISERROR(MATCH(D260,#REF!,0))=FALSE,\"D\",\"\"))","v":""},{"$f":"IF(E260=\"C\",0,IF(E260 =\"D\",ROUND(1/((1+#REF!)^A260),9) * 2,ROUND(1/((1+#REF!)^A260),9)))","v":{"$error":"#REF!"}},{"$error":"#REF!"}]
[{"$f":"A260+1","v":258},258,{"$f":"DATE(YEAR(C260) + 1/12,MONTH(C260)+1,DAY(C260))","v":{"$error":"#REF!"}},{"$error":"#REF!"},{"$f":"IF(ISERROR(MATCH(D261,#REF!,0))=FALSE,\"C\",IF(ISERROR(MATCH(D261,#REF!,0))=FALSE,\"D\",\"\"))","v":""},{"$f":"IF(E261=\"C\",0,IF(E261 =\"D\",ROUND(1/((1+#REF!)^A261),9) * 2,ROUND(1/((1+#REF!)^A261),9)))","v":{"$error":"#REF!"}},{"$error":"#REF!"}]
[259,259,{"$error":"#REF!"},{"$error":"#REF!"},{"$f":"IF(ISERROR(MATCH(D262,#REF!,0))=FALSE,\"C\",IF(ISERROR(MATCH(D262,#REF!,0))=FALSE,\"D\",\"\"))","v":""},{"$f":"IF(E262=\"C\",0,IF(E262 =\"D\",ROUND(1/((1+#REF!)^A262),9) * 2,ROUND(1/((1+#REF!)^A262),9)))","v":{"$error":"#REF!"}},{"$error":"#REF!"}]
[260,260,{"$error":"#REF!"},{"$error":"#REF!"},{"$f":"IF(ISERROR(MATCH(D263,#REF!,0))=FALSE,\"C\",IF(ISERROR(MATCH(D263,#REF!,0))=FALSE,\"D\",\"\"))","v":""},{"$f":"IF(E263=\"C\",0,IF(E263 =\"D\",ROUND(1/((1+#REF!)^A263),9) * 2,ROUND(1/((1+#REF!)^A263),9)))","v":{"$error":"#REF!"}},{"$error":"#REF!"}]
[261,261,{"$error":"#REF!"},{"$error":"#REF!"},{"$f":"IF(ISERROR(MATCH(D264,#REF!,0))=FALSE,\"C\",IF(ISERROR(MATCH(D264,#REF!,0))=FALSE,\"D\",\"\"))","v":""},{"$f":"IF(E264=\"C\",0,IF(E264 =\"D\",ROUND(1/((1+#REF!)^A264),9) * 2,ROUND(1/((1+#REF!)^A264),9)))","v":{"$error":"#REF!"}},{"$error":"#REF!"}]
[262,262,{"$error":"#REF!"},{"$error":"#REF!"},{"$f":"IF(ISERROR(MATCH(D265,#REF!,0))=FALSE,\"C\",IF(ISERROR(MATCH(D265,#REF!,0))=FALSE,\"D\",\"\"))","v":""},{"$f":"IF(E265=\"C\",0,IF(E265 =\"D\",ROUND(1/((1+#REF!)^A265),9) * 2,ROUND(1/((1+#REF!)^A265),9)))","v":{"$error":"#REF!"}},{"$error":"#REF!"}]
[263,263,{"$error":"#REF!"},{"$error":"#REF!"},{"$f":"IF(ISERROR(MATCH(D266,#REF!,0))=FALSE,\"C\",IF(ISERROR(MATCH(D266,#REF!,0))=FALSE,\"D\",\"\"))","v":""},{"$f":"IF(E266=\"C\",0,IF(E266 =\"D\",ROUND(1/((1+#REF!)^A266),9) * 2,ROUND(1/((1+#REF!)^A266),9)))","v":{"$error":"#REF!"}},{"$error":"#REF!"}]
[264,264,{"$error":"#REF!"},{"$error":"#REF!"},{"$f":"IF(ISERROR(MATCH(D267,#REF!,0))=FALSE,\"C\",IF(ISERROR(MATCH(D267,#REF!,0))=FALSE,\"D\",\"\"))","v":""},{"$f":"IF(E267=\"C\",0,IF(E267 =\"D\",ROUND(1/((1+#REF!)^A267),9) * 2,ROUND(1/((1+#REF!)^A267),9)))","v":{"$error":"#REF!"}},{"$error":"#REF!"}]
[265,265,{"$error":"#REF!"},{"$error":"#REF!"},{"$f":"IF(ISERROR(MATCH(D268,#REF!,0))=FALSE,\"C\",IF(ISERROR(MATCH(D268,#REF!,0))=FALSE,\"D\",\"\"))","v":""},{"$f":"IF(E268=\"C\",0,IF(E268 =\"D\",ROUND(1/((1+#REF!)^A268),9) * 2,ROUND(1/((1+#REF!)^A268),9)))","v":{"$error":"#REF!"}},{"$error":"#REF!"}]
[266,266,{"$error":"#REF!"},{"$error":"#REF!"},{"$f":"IF(ISERROR(MATCH(D269,#REF!,0))=FALSE,\"C\",IF(ISERROR(MATCH(D269,#REF!,0))=FALSE,\"D\",\"\"))","v":""},{"$f":"IF(E269=\"C\",0,IF(E269 =\"D\",ROUND(1/((1+#REF!)^A269),9) * 2,ROUND(1/((1+#REF!)^A269),9)))","v":{"$error":"#REF!"}},{"$error":"#REF!"}]
[267,267,{"$error":"#REF!"},{"$error":"#REF!"},{"$f":"IF(ISERROR(MATCH(D270,#REF!,0))=FALSE,\"C\",IF(ISERROR(MATCH(D270,#REF!,0))=FALSE,\"D\",\"\"))","v":""},{"$f":"IF(E270=\"C\",0,IF(E270 =\"D\",ROUND(1/((1+#REF!)^A270),9) * 2,ROUND(1/((1+#REF!)^A270),9)))","v":{"$error":"#REF!"}},{"$error":"#REF!"}]
[268,268,{"$error":"#REF!"},{"$error":"#REF!"},{"$f":"IF(ISERROR(MATCH(D271,#REF!,0))=FALSE,\"C\",IF(ISERROR(MATCH(D271,#REF!,0))=FALSE,\"D\",\"\"))","v":""},{"$f":"IF(E271=\"C\",0,IF(E271 =\"D\",ROUND(1/((1+#REF!)^A271),9) * 2,ROUND(1/((1+#REF!)^A271),9)))","v":{"$error":"#REF!"}},{"$error":"#REF!"}]
[269,269,{"$error":"#REF!"},{"$error":"#REF!"},{"$f":"IF(ISERROR(MATCH(D272,#REF!,0))=FALSE,\"C\",IF(ISERROR(MATCH(D272,#REF!,0))=FALSE,\"D\",\"\"))","v":""},{"$f":"IF(E272=\"C\",0,IF(E272 =\"D\",ROUND(1/((1+#REF!)^A272),9) * 2,ROUND(1/((1+#REF!)^A272),9)))","v":{"$error":"#REF!"}},{"$error":"#REF!"}]
[270,270,{"$error":"#REF!"},{"$error":"#REF!"},{"$f":"IF(ISERROR(MATCH(D273,#REF!,0))=FALSE,\"C\",IF(ISERROR(MATCH(D273,#REF!,0))=FALSE,\"D\",\"\"))","v":""},{"$f":"IF(E273=\"C\",0,IF(E273 =\"D\",ROUND(1/((1+#REF!)^A273),9) * 2,ROUND(1/((1+#REF!)^A273),9)))","v":{"$error":"#REF!"}},{"$error":"#REF!"}]
[271,271,{"$error":"#REF!"},{"$error":"#REF!"},{"$f":"IF(ISERROR(MATCH(D274,#REF!,0))=FALSE,\"C\",IF(ISERROR(MATCH(D274,#REF!,0))=FALSE,\"D\",\"\"))","v":""},{"$f":"IF(E274=\"C\",0,IF(E274 =\"D\",ROUND(1/((1+#REF!)^A274),9) * 2,ROUND(1/((1+#REF!)^A274),9)))","v":{"$error":"#REF!"}},{"$error":"#REF!"}]
[272,272,{"$error":"#REF!"},{"$error":"#REF!"},{"$f":"IF(ISERROR(MATCH(D275,#REF!,0))=FALSE,\"C\",IF(ISERROR(MATCH(D275,#REF!,0))=FALSE,\"D\",\"\"))","v":""},{"$f":"IF(E275=\"C\",0,IF(E275 =\"D\",ROUND(1/((1+#REF!)^A275),9) * 2,ROUND(1/((1+#REF!)^A275),9)))","v":{"$error":"#REF!"}},{"$error":"#REF!"}]
[273,273,{"$error":"#REF!"},{"$error":"#REF!"},{"$f":"IF(ISERROR(MATCH(D276,#REF!,0))=FALSE,\"C\",IF(ISERROR(MATCH(D276,#REF!,0))=FALSE,\"D\",\"\"))","v":""},{"$f":"IF(E276=\"C\",0,IF(E276 =\"D\",ROUND(1/((1+#REF!)^A276),9) * 2,ROUND(1/((1+#REF!)^A276),9)))","v":{"$error":"#REF!"}},{"$error":"#REF!"}]
[274,274,{"$error":"#REF!"},{"$error":"#REF!"},{"$f":"IF(ISERROR(MATCH(D277,#REF!,0))=FALSE,\"C\",IF(ISERROR(MATCH(D277,#REF!,0))=FALSE,\"D\",\"\"))","v":""},{"$f":"IF(E277=\"C\",0,IF(E277 =\"D\",ROUND(1/((1+#REF!)^A277),9) * 2,ROUND(1/((1+#REF!)^A277),9)))","v":{"$error":"#REF!"}},{"$error":"#REF!"}]
[275,275,{"$error":"#REF!"},{"$error":"#REF!"},{"$f":"IF(ISERROR(MATCH(D278,#REF!,0))=FALSE,\"C\",IF(ISERROR(MATCH(D278,#REF!,0))=FALSE,\"D\",\"\"))","v":""},{"$f":"IF(E278=\"C\",0,IF(E278 =\"D\",ROUND(1/((1+#REF!)^A278),9) * 2,ROUND(1/((1+#REF!)^A278),9)))","v":{"$error":"#REF!"}},{"$error":"#REF!"}]
[276,276,{"$error":"#REF!"},{"$error":"#REF!"},{"$f":"IF(ISERROR(MATCH(D279,#REF!,0))=FALSE,\"C\",IF(ISERROR(MATCH(D279,#REF!,0))=FALSE,\"D\",\"\"))","v":""},{"$f":"IF(E279=\"C\",0,IF(E279 =\"D\",ROUND(1/((1+#REF!)^A279),9) * 2,ROUND(1/((1+#REF!)^A279),9)))","v":{"$error":"#REF!"}},{"$error":"#REF!"}]
[277,277,{"$error":"#REF!"},{"$error":"#REF!"},{"$f":"IF(ISERROR(MATCH(D280,#REF!,0))=FALSE,\"C\",IF(ISERROR(MATCH(D280,#REF!,0))=FALSE,\"D\",\"\"))","v":""},{"$f":"IF(E280=\"C\",0,IF(E280 =\"D\",ROUND(1/((1+#REF!)^A280),9) * 2,ROUND(1/((1+#REF!)^A280),9)))","v":{"$error":"#REF!"}},{"$error":"#REF!"}]
[278,278,{"$error":"#REF!"},{"$error":"#REF!"},{"$f":"IF(ISERROR(MATCH(D281,#REF!,0))=FALSE,\"C\",IF(ISERROR(MATCH(D281,#REF!,0))=FALSE,\"D\",\"\"))","v":""},{"$f":"IF(E281=\"C\",0,IF(E281 =\"D\",ROUND(1/((1+#REF!)^A281),9) * 2,ROUND(1/((1+#REF!)^A281),9)))","v":{"$error":"#REF!"}},{"$error":"#REF!"}]
[279,279,{"$error":"#REF!"},{"$error":"#REF!"},{"$f":"IF(ISERROR(MATCH(D282,#REF!,0))=FALSE,\"C\",IF(ISERROR(MATCH(D282,#REF!,0))=FALSE,\"D\",\"\"))","v":""},{"$f":"IF(E282=\"C\",0,IF(E282 =\"D\",ROUND(1/((1+#REF!)^A282),9) * 2,ROUND(1/((1+#REF!)^A282),9)))","v":{"$error":"#REF!"}},{"$error":"#REF!"}]
[280,280,{"$error":"#REF!"},{"$error":"#REF!"},{"$f":"IF(ISERROR(MATCH(D283,#REF!,0))=FALSE,\"C\",IF(ISERROR(MATCH(D283,#REF!,0))=FALSE,\"D\",\"\"))","v":""},{"$f":"IF(E283=\"C\",0,IF(E283 =\"D\",ROUND(1/((1+#REF!)^A283),9) * 2,ROUND(1/((1+#REF!)^A283),9)))","v":{"$error":"#REF!"}},{"$error":"#REF!"}]
[281,281,{"$error":"#REF!"},{"$error":"#REF!"},{"$f":"IF(ISERROR(MATCH(D284,#REF!,0))=FALSE,\"C\",IF(ISERROR(MATCH(D284,#REF!,0))=FALSE,\"D\",\"\"))","v":""},{"$f":"IF(E284=\"C\",0,IF(E284 =\"D\",ROUND(1/((1+#REF!)^A284),9) * 2,ROUND(1/((1+#REF!)^A284),9)))","v":{"$error":"#REF!"}},{"$error":"#REF!"}]
[282,282,{"$error":"#REF!"},{"$error":"#REF!"},{"$f":"IF(ISERROR(MATCH(D285,#REF!,0))=FALSE,\"C\",IF(ISERROR(MATCH(D285,#REF!,0))=FALSE,\"D\",\"\"))","v":""},{"$f":"IF(E285=\"C\",0,IF(E285 =\"D\",ROUND(1/((1+#REF!)^A285),9) * 2,ROUND(1/((1+#REF!)^A285),9)))","v":{"$error":"#REF!"}},{"$error":"#REF!"}]
[283,283,{"$error":"#REF!"},{"$error":"#REF!"},{"$f":"IF(ISERROR(MATCH(D286,#REF!,0))=FALSE,\"C\",IF(ISERROR(MATCH(D286,#REF!,0))=FALSE,\"D\",\"\"))","v":""},{"$f":"IF(E286=\"C\",0,IF(E286 =\"D\",ROUND(1/((1+#REF!)^A286),9) * 2,ROUND(1/((1+#REF!)^A286),9)))","v":{"$error":"#REF!"}},{"$error":"#REF!"}]
[284,284,{"$error":"#REF!"},{"$error":"#REF!"},{"$f":"IF(ISERROR(MATCH(D287,#REF!,0))=FALSE,\"C\",IF(ISERROR(MATCH(D287,#REF!,0))=FALSE,\"D\",\"\"))","v":""},{"$f":"IF(E287=\"C\",0,IF(E287 =\"D\",ROUND(1/((1+#REF!)^A287),9) * 2,ROUND(1/((1+#REF!)^A287),9)))","v":{"$error":"#REF!"}},{"$error":"#REF!"}]
[285,285,{"$error":"#REF!"},{"$error":"#REF!"},{"$f":"IF(ISERROR(MATCH(D288,#REF!,0))=FALSE,\"C\",IF(ISERROR(MATCH(D288,#REF!,0))=FALSE,\"D\",\"\"))","v":""},{"$f":"IF(E288=\"C\",0,IF(E288 =\"D\",ROUND(1/((1+#REF!)^A288),9) * 2,ROUND(1/((1+#REF!)^A288),9)))","v":{"$error":"#REF!"}},{"$error":"#REF!"}]
[286,286,{"$error":"#REF!"},{"$error":"#REF!"},{"$f":"IF(ISERROR(MATCH(D289,#REF!,0))=FALSE,\"C\",IF(ISERROR(MATCH(D289,#REF!,0))=FALSE,\"D\",\"\"))","v":""},{"$f":"IF(E289=\"C\",0,IF(E289 =\"D\",ROUND(1/((1+#REF!)^A289),9) * 2,ROUND(1/((1+#REF!)^A289),9)))","v":{"$error":"#REF!"}},{"$error":"#REF!"}]
[287,287,{"$error":"#REF!"},{"$error":"#REF!"},{"$f":"IF(ISERROR(MATCH(D290,#REF!,0))=FALSE,\"C\",IF(ISERROR(MATCH(D290,#REF!,0))=FALSE,\"D\",\"\"))","v":""},{"$f":"IF(E290=\"C\",0,IF(E290 =\"D\",ROUND(1/((1+#REF!)^A290),9) * 2,ROUND(1/((1+#REF!)^A290),9)))","v":{"$error":"#REF!"}},{"$error":"#REF!"}]
[288,288,{"$error":"#REF!"},{"$error":"#REF!"},{"$f":"IF(ISERROR(MATCH(D291,#REF!,0))=FALSE,\"C\",IF(ISERROR(MATCH(D291,#REF!,0))=FALSE,\"D\",\"\"))","v":""},{"$f":"IF(E291=\"C\",0,IF(E291 =\"D\",ROUND(1/((1+#REF!)^A291),9) * 2,ROUND(1/((1+#REF!)^A291),9)))","v":{"$error":"#REF!"}},{"$error":"#REF!"}]
[289,{"$f":"IF(E292<>\"C\",IF(ISERROR(1+B291)=TRUE,1,1+B291),IF(ISNUMBER(B291),B291,1))","v":289},{"$error":"#REF!"},{"$f":"MONTH(C292)","v":{"$error":"#REF!"}},{"$f":"IF(ISERROR(MATCH(D292,#REF!,0))=FALSE,\"C\",IF(ISERROR(MATCH(D292,#REF!,0))=FALSE,\"D\",\"\"))","v":""},{"$f":"IF(E292=\"C\",0,IF(E292 =\"D\",ROUND(1/((1+#REF!)^A292),9) * 2,ROUND(1/((1+#REF!)^A292),9)))","v":{"$error":"#REF!"}},{"$f":"G291+ROUND(F292,9)","v":{"$error":"#REF!"}}]
[290,290,{"$error":"#REF!"},{"$error":"#REF!"},{"$f":"IF(ISERROR(MATCH(D293,#REF!,0))=FALSE,\"C\",IF(ISERROR(MATCH(D293,#REF!,0))=FALSE,\"D\",\"\"))","v":""},{"$f":"IF(E293=\"C\",0,IF(E293 =\"D\",ROUND(1/((1+#REF!)^A293),9) * 2,ROUND(1/((1+#REF!)^A293),9)))","v":{"$error":"#REF!"}},{"$error":"#REF!"}]
[291,291,{"$error":"#REF!"},{"$error":"#REF!"},{"$f":"IF(ISERROR(MATCH(D294,#REF!,0))=FALSE,\"C\",IF(ISERROR(MATCH(D294,#REF!,0))=FALSE,\"D\",\"\"))","v":""},{"$f":"IF(E294=\"C\",0,IF(E294 =\"D\",ROUND(1/((1+#REF!)^A294),9) * 2,ROUND(1/((1+#REF!)^A294),9)))","v":{"$error":"#REF!"}},{"$error":"#REF!"}]
[292,292,{"$error":"#REF!"},{"$error":"#REF!"},{"$f":"IF(ISERROR(MATCH(D295,#REF!,0))=FALSE,\"C\",IF(ISERROR(MATCH(D295,#REF!,0))=FALSE,\"D\",\"\"))","v":""},{"$f":"IF(E295=\"C\",0,IF(E295 =\"D\",ROUND(1/((1+#REF!)^A295),9) * 2,ROUND(1/((1+#REF!)^A295),9)))","v":{"$error":"#REF!"}},{"$error":"#REF!"}]
[293,293,{"$error":"#REF!"},{"$error":"#REF!"},{"$f":"IF(ISERROR(MATCH(D296,#REF!,0))=FALSE,\"C\",IF(ISERROR(MATCH(D296,#REF!,0))=FALSE,\"D\",\"\"))","v":""},{"$f":"IF(E296=\"C\",0,IF(E296 =\"D\",ROUND(1/((1+#REF!)^A296),9) * 2,ROUND(1/((1+#REF!)^A296),9)))","v":{"$error":"#REF!"}},{"$error":"#REF!"}]
[294,294,{"$error":"#REF!"},{"$error":"#REF!"},{"$f":"IF(ISERROR(MATCH(D297,#REF!,0))=FALSE,\"C\",IF(ISERROR(MATCH(D297,#REF!,0))=FALSE,\"D\",\"\"))","v":""},{"$f":"IF(E297=\"C\",0,IF(E297 =\"D\",ROUND(1/((1+#REF!)^A297),9) * 2,ROUND(1/((1+#REF!)^A297),9)))","v":{"$error":"#REF!"}},{"$error":"#REF!"}]
[295,295,{"$error":"#REF!"},{"$error":"#REF!"},{"$f":"IF(ISERROR(MATCH(D298,#REF!,0))=FALSE,\"C\",IF(ISERROR(MATCH(D298,#REF!,0))=FALSE,\"D\",\"\"))","v":""},{"$f":"IF(E298=\"C\",0,IF(E298 =\"D\",ROUND(1/((1+#REF!)^A298),9) * 2,ROUND(1/((1+#REF!)^A298),9)))","v":{"$error":"#REF!"}},{"$error":"#REF!"}]
[296,296,{"$error":"#REF!"},{"$error":"#REF!"},{"$f":"IF(ISERROR(MATCH(D299,#REF!,0))=FALSE,\"C\",IF(ISERROR(MATCH(D299,#REF!,0))=FALSE,\"D\",\"\"))","v":""},{"$f":"IF(E299=\"C\",0,IF(E299 =\"D\",ROUND(1/((1+#REF!)^A299),9) * 2,ROUND(1/((1+#REF!)^A299),9)))","v":{"$error":"#REF!"}},{"$error":"#REF!"}]
[297,297,{"$error":"#REF!"},{"$error":"#REF!"},{"$f":"IF(ISERROR(MATCH(D300,#REF!,0))=FALSE,\"C\",IF(ISERROR(MATCH(D300,#REF!,0))=FALSE,\"D\",\"\"))","v":""},{"$f":"IF(E300=\"C\",0,IF(E300 =\"D\",ROUND(1/((1+#REF!)^A300),9) * 2,ROUND(1/((1+#REF!)^A300),9)))","v":{"$error":"#REF!"}},{"$error":"#REF!"}]
[298,298,{"$error":"#REF!"},{"$error":"#REF!"},{"$f":"IF(ISERROR(MATCH(D301,#REF!,0))=FALSE,\"C\",IF(ISERROR(MATCH(D301,#REF!,0))=FALSE,\"D\",\"\"))","v":""},{"$f":"IF(E301=\"C\",0,IF(E301 =\"D\",ROUND(1/((1+#REF!)^A301),9) * 2,ROUND(1/((1+#REF!)^A301),9)))","v":{"$error":"#REF!"}},{"$error":"#REF!"}]
[299,299,{"$error":"#REF!"},{"$error":"#REF!"},{"$f":"IF(ISERROR(MATCH(D302,#REF!,0))=FALSE,\"C\",IF(ISERROR(MATCH(D302,#REF!,0))=FALSE,\"D\",\"\"))","v":""},{"$f":"IF(E302=\"C\",0,IF(E302 =\"D\",ROUND(1/((1+#REF!)^A302),9) * 2,ROUND(1/((1+#REF!)^A302),9)))","v":{"$error":"#REF!"}},{"$error":"#REF!"}]
[300,300,{"$error":"#REF!"},{"$error":"#REF!"},{"$f":"IF(ISERROR(MATCH(D303,#REF!,0))=FALSE,\"C\",IF(ISERROR(MATCH(D303,#REF!,0))=FALSE,\"D\",\"\"))","v":""},{"$f":"IF(E303=\"C\",0,IF(E303 =\"D\",ROUND(1/((1+#REF!)^A303),9) * 2,ROUND(1/((1+#REF!)^A303),9)))","v":{"$error":"#REF!"}},{"$error":"#REF!"}]
[301,301,{"$error":"#REF!"},{"$error":"#REF!"},{"$f":"IF(ISERROR(MATCH(D304,#REF!,0))=FALSE,\"C\",IF(ISERROR(MATCH(D304,#REF!,0))=FALSE,\"D\",\"\"))","v":""},{"$f":"IF(E304=\"C\",0,IF(E304 =\"D\",ROUND(1/((1+#REF!)^A304),9) * 2,ROUND(1/((1+#REF!)^A304),9)))","v":{"$error":"#REF!"}},{"$error":"#REF!"}]
[302,302,{"$error":"#REF!"},{"$error":"#REF!"},{"$f":"IF(ISERROR(MATCH(D305,#REF!,0))=FALSE,\"C\",IF(ISERROR(MATCH(D305,#REF!,0))=FALSE,\"D\",\"\"))","v":""},{"$f":"IF(E305=\"C\",0,IF(E305 =\"D\",ROUND(1/((1+#REF!)^A305),9) * 2,ROUND(1/((1+#REF!)^A305),9)))","v":{"$error":"#REF!"}},{"$error":"#REF!"}]
[303,303,{"$error":"#REF!"},{"$error":"#REF!"},{"$f":"IF(ISERROR(MATCH(D306,#REF!,0))=FALSE,\"C\",IF(ISERROR(MATCH(D306,#REF!,0))=FALSE,\"D\",\"\"))","v":""},{"$f":"IF(E306=\"C\",0,IF(E306 =\"D\",ROUND(1/((1+#REF!)^A306),9) * 2,ROUND(1/((1+#REF!)^A306),9)))","v":{"$error":"#REF!"}},{"$error":"#REF!"}]
[304,304,{"$error":"#REF!"},{"$error":"#REF!"},{"$f":"IF(ISERROR(MATCH(D307,#REF!,0))=FALSE,\"C\",IF(ISERROR(MATCH(D307,#REF!,0))=FALSE,\"D\",\"\"))","v":""},{"$f":"IF(E307=\"C\",0,IF(E307 =\"D\",ROUND(1/((1+#REF!)^A307),9) * 2,ROUND(1/((1+#REF!)^A307),9)))","v":{"$error":"#REF!"}},{"$error":"#REF!"}]
[305,305,{"$error":"#REF!"},{"$error":"#REF!"},{"$f":"IF(ISERROR(MATCH(D308,#REF!,0))=FALSE,\"C\",IF(ISERROR(MATCH(D308,#REF!,0))=FALSE,\"D\",\"\"))","v":""},{"$f":"IF(E308=\"C\",0,IF(E308 =\"D\",ROUND(1/((1+#REF!)^A308),9) * 2,ROUND(1/((1+#REF!)^A308),9)))","v":{"$error":"#REF!"}},{"$error":"#REF!"}]
[306,306,{"$error":"#REF!"},{"$error":"#REF!"},{"$f":"IF(ISERROR(MATCH(D309,#REF!,0))=FALSE,\"C\",IF(ISERROR(MATCH(D309,#REF!,0))=FALSE,\"D\",\"\"))","v":""},{"$f":"IF(E309=\"C\",0,IF(E309 =\"D\",ROUND(1/((1+#REF!)^A309),9) * 2,ROUND(1/((1+#REF!)^A309),9)))","v":{"$error":"#REF!"}},{"$error":"#REF!"}]
[307,307,{"$error":"#REF!"},{"$error":"#REF!"},{"$f":"IF(ISERROR(MATCH(D310,#REF!,0))=FALSE,\"C\",IF(ISERROR(MATCH(D310,#REF!,0))=FALSE,\"D\",\"\"))","v":""},{"$f":"IF(E310=\"C\",0,IF(E310 =\"D\",ROUND(1/((1+#REF!)^A310),9) * 2,ROUND(1/((1+#REF!)^A310),9)))","v":{"$error":"#REF!"}},{"$error":"#REF!"}]
[308,308,{"$error":"#REF!"},{"$error":"#REF!"},{"$f":"IF(ISERROR(MATCH(D311,#REF!,0))=FALSE,\"C\",IF(ISERROR(MATCH(D311,#REF!,0))=FALSE,\"D\",\"\"))","v":""},{"$f":"IF(E311=\"C\",0,IF(E311 =\"D\",ROUND(1/((1+#REF!)^A311),9) * 2,ROUND(1/((1+#REF!)^A311),9)))","v":{"$error":"#REF!"}},{"$error":"#REF!"}]
[309,309,{"$error":"#REF!"},{"$error":"#REF!"},{"$f":"IF(ISERROR(MATCH(D312,#REF!,0))=FALSE,\"C\",IF(ISERROR(MATCH(D312,#REF!,0))=FALSE,\"D\",\"\"))","v":""},{"$f":"IF(E312=\"C\",0,IF(E312 =\"D\",ROUND(1/((1+#REF!)^A312),9) * 2,ROUND(1/((1+#REF!)^A312),9)))","v":{"$error":"#REF!"}},{"$error":"#REF!"}]
[310,310,{"$error":"#REF!"},{"$error":"#REF!"},{"$f":"IF(ISERROR(MATCH(D313,#REF!,0))=FALSE,\"C\",IF(ISERROR(MATCH(D313,#REF!,0))=FALSE,\"D\",\"\"))","v":""},{"$f":"IF(E313=\"C\",0,IF(E313 =\"D\",ROUND(1/((1+#REF!)^A313),9) * 2,ROUND(1/((1+#REF!)^A313),9)))","v":{"$error":"#REF!"}},{"$error":"#REF!"}]
[311,311,{"$error":"#REF!"},{"$error":"#REF!"},{"$f":"IF(ISERROR(MATCH(D314,#REF!,0))=FALSE,\"C\",IF(ISERROR(MATCH(D314,#REF!,0))=FALSE,\"D\",\"\"))","v":""},{"$f":"IF(E314=\"C\",0,IF(E314 =\"D\",ROUND(1/((1+#REF!)^A314),9) * 2,ROUND(1/((1+#REF!)^A314),9)))","v":{"$error":"#REF!"}},{"$error":"#REF!"}]
[312,312,{"$error":"#REF!"},{"$error":"#REF!"},{"$f":"IF(ISERROR(MATCH(D315,#REF!,0))=FALSE,\"C\",IF(ISERROR(MATCH(D315,#REF!,0))=FALSE,\"D\",\"\"))","v":""},{"$f":"IF(E315=\"C\",0,IF(E315 =\"D\",ROUND(1/((1+#REF!)^A315),9) * 2,ROUND(1/((1+#REF!)^A315),9)))","v":{"$error":"#REF!"}},{"$error":"#REF!"}]
[313,313,{"$error":"#REF!"},{"$error":"#REF!"},{"$f":"IF(ISERROR(MATCH(D316,#REF!,0))=FALSE,\"C\",IF(ISERROR(MATCH(D316,#REF!,0))=FALSE,\"D\",\"\"))","v":""},{"$f":"IF(E316=\"C\",0,IF(E316 =\"D\",ROUND(1/((1+#REF!)^A316),9) * 2,ROUND(1/((1+#REF!)^A316),9)))","v":{"$error":"#REF!"}},{"$error":"#REF!"}]
[314,314,{"$error":"#REF!"},{"$error":"#REF!"},{"$f":"IF(ISERROR(MATCH(D317,#REF!,0))=FALSE,\"C\",IF(ISERROR(MATCH(D317,#REF!,0))=FALSE,\"D\",\"\"))","v":""},{"$f":"IF(E317=\"C\",0,IF(E317 =\"D\",ROUND(1/((1+#REF!)^A317),9) * 2,ROUND(1/((1+#REF!)^A317),9)))","v":{"$error":"#REF!"}},{"$error":"#REF!"}]
[315,315,{"$error":"#REF!"},{"$error":"#REF!"},{"$f":"IF(ISERROR(MATCH(D318,#REF!,0))=FALSE,\"C\",IF(ISERROR(MATCH(D318,#REF!,0))=FALSE,\"D\",\"\"))","v":""},{"$f":"IF(E318=\"C\",0,IF(E318 =\"D\",ROUND(1/((1+#REF!)^A318),9) * 2,ROUND(1/((1+#REF!)^A318),9)))","v":{"$error":"#REF!"}},{"$error":"#REF!"}]
[316,316,{"$error":"#REF!"},{"$error":"#REF!"},{"$f":"IF(ISERROR(MATCH(D319,#REF!,0))=FALSE,\"C\",IF(ISERROR(MATCH(D319,#REF!,0))=FALSE,\"D\",\"\"))","v":""},{"$f":"IF(E319=\"C\",0,IF(E319 =\"D\",ROUND(1/((1+#REF!)^A319),9) * 2,ROUND(1/((1+#REF!)^A319),9)))","v":{"$error":"#REF!"}},{"$error":"#REF!"}]
[317,317,{"$error":"#REF!"},{"$error":"#REF!"},{"$f":"IF(ISERROR(MATCH(D320,#REF!,0))=FALSE,\"C\",IF(ISERROR(MATCH(D320,#REF!,0))=FALSE,\"D\",\"\"))","v":""},{"$f":"IF(E320=\"C\",0,IF(E320 =\"D\",ROUND(1/((1+#REF!)^A320),9) * 2,ROUND(1/((1+#REF!)^A320),9)))","v":{"$error":"#REF!"}},{"$error":"#REF!"}]
[318,318,{"$error":"#REF!"},{"$error":"#REF!"},{"$f":"IF(ISERROR(MATCH(D321,#REF!,0))=FALSE,\"C\",IF(ISERROR(MATCH(D321,#REF!,0))=FALSE,\"D\",\"\"))","v":""},{"$f":"IF(E321=\"C\",0,IF(E321 =\"D\",ROUND(1/((1+#REF!)^A321),9) * 2,ROUND(1/((1+#REF!)^A321),9)))","v":{"$error":"#REF!"}},{"$error":"#REF!"}]
[319,319,{"$error":"#REF!"},{"$error":"#REF!"},{"$f":"IF(ISERROR(MATCH(D322,#REF!,0))=FALSE,\"C\",IF(ISERROR(MATCH(D322,#REF!,0))=FALSE,\"D\",\"\"))","v":""},{"$f":"IF(E322=\"C\",0,IF(E322 =\"D\",ROUND(1/((1+#REF!)^A322),9) * 2,ROUND(1/((1+#REF!)^A322),9)))","v":{"$error":"#REF!"}},{"$error":"#REF!"}]
[320,320,{"$error":"#REF!"},{"$error":"#REF!"},{"$f":"IF(ISERROR(MATCH(D323,#REF!,0))=FALSE,\"C\",IF(ISERROR(MATCH(D323,#REF!,0))=FALSE,\"D\",\"\"))","v":""},{"$f":"IF(E323=\"C\",0,IF(E323 =\"D\",ROUND(1/((1+#REF!)^A323),9) * 2,ROUND(1/((1+#REF!)^A323),9)))","v":{"$error":"#REF!"}},{"$error":"#REF!"}]
[321,321,{"$error":"#REF!"},{"$error":"#REF!"},{"$f":"IF(ISERROR(MATCH(D324,#REF!,0))=FALSE,\"C\",IF(ISERROR(MATCH(D324,#REF!,0))=FALSE,\"D\",\"\"))","v":""},{"$f":"IF(E324=\"C\",0,IF(E324 =\"D\",ROUND(1/((1+#REF!)^A324),9) * 2,ROUND(1/((1+#REF!)^A324),9)))","v":{"$error":"#REF!"}},{"$error":"#REF!"}]
[{"$f":"A324+1","v":322},322,{"$f":"DATE(YEAR(C324) + 1/12,MONTH(C324)+1,DAY(C324))","v":{"$error":"#REF!"}},{"$error":"#REF!"},{"$f":"IF(ISERROR(MATCH(D325,#REF!,0))=FALSE,\"C\",IF(ISERROR(MATCH(D325,#REF!,0))=FALSE,\"D\",\"\"))","v":""},{"$f":"IF(E325=\"C\",0,IF(E325 =\"D\",ROUND(1/((1+#REF!)^A325),9) * 2,ROUND(1/((1+#REF!)^A325),9)))","v":{"$error":"#REF!"}},{"$error":"#REF!"}]
[323,323,{"$error":"#REF!"},{"$error":"#REF!"},{"$f":"IF(ISERROR(MATCH(D326,#REF!,0))=FALSE,\"C\",IF(ISERROR(MATCH(D326,#REF!,0))=FALSE,\"D\",\"\"))","v":""},{"$f":"IF(E326=\"C\",0,IF(E326 =\"D\",ROUND(1/((1+#REF!)^A326),9) * 2,ROUND(1/((1+#REF!)^A326),9)))","v":{"$error":"#REF!"}},{"$error":"#REF!"}]
[324,324,{"$error":"#REF!"},{"$error":"#REF!"},{"$f":"IF(ISERROR(MATCH(D327,#REF!,0))=FALSE,\"C\",IF(ISERROR(MATCH(D327,#REF!,0))=FALSE,\"D\",\"\"))","v":""},{"$f":"IF(E327=\"C\",0,IF(E327 =\"D\",ROUND(1/((1+#REF!)^A327),9) * 2,ROUND(1/((1+#REF!)^A327),9)))","v":{"$error":"#REF!"}},{"$error":"#REF!"}]
[325,325,{"$error":"#REF!"},{"$error":"#REF!"},{"$f":"IF(ISERROR(MATCH(D328,#REF!,0))=FALSE,\"C\",IF(ISERROR(MATCH(D328,#REF!,0))=FALSE,\"D\",\"\"))","v":""},{"$f":"IF(E328=\"C\",0,IF(E328 =\"D\",ROUND(1/((1+#REF!)^A328),9) * 2,ROUND(1/((1+#REF!)^A328),9)))","v":{"$error":"#REF!"}},{"$error":"#REF!"}]
[326,326,{"$error":"#REF!"},{"$error":"#REF!"},{"$f":"IF(ISERROR(MATCH(D329,#REF!,0))=FALSE,\"C\",IF(ISERROR(MATCH(D329,#REF!,0))=FALSE,\"D\",\"\"))","v":""},{"$f":"IF(E329=\"C\",0,IF(E329 =\"D\",ROUND(1/((1+#REF!)^A329),9) * 2,ROUND(1/((1+#REF!)^A329),9)))","v":{"$error":"#REF!"}},{"$error":"#REF!"}]
[327,327,{"$error":"#REF!"},{"$error":"#REF!"},{"$f":"IF(ISERROR(MATCH(D330,#REF!,0))=FALSE,\"C\",IF(ISERROR(MATCH(D330,#REF!,0))=FALSE,\"D\",\"\"))","v":""},{"$f":"IF(E330=\"C\",0,IF(E330 =\"D\",ROUND(1/((1+#REF!)^A330),9) * 2,ROUND(1/((1+#REF!)^A330),9)))","v":{"$error":"#REF!"}},{"$error":"#REF!"}]
[328,328,{"$error":"#REF!"},{"$error":"#REF!"},{"$f":"IF(ISERROR(MATCH(D331,#REF!,0))=FALSE,\"C\",IF(ISERROR(MATCH(D331,#REF!,0))=FALSE,\"D\",\"\"))","v":""},{"$f":"IF(E331=\"C\",0,IF(E331 =\"D\",ROUND(1/((1+#REF!)^A331),9) * 2,ROUND(1/((1+#REF!)^A331),9)))","v":{"$error":"#REF!"}},{"$error":"#REF!"}]
[329,329,{"$error":"#REF!"},{"$error":"#REF!"},{"$f":"IF(ISERROR(MATCH(D332,#REF!,0))=FALSE,\"C\",IF(ISERROR(MATCH(D332,#REF!,0))=FALSE,\"D\",\"\"))","v":""},{"$f":"IF(E332=\"C\",0,IF(E332 =\"D\",ROUND(1/((1+#REF!)^A332),9) * 2,ROUND(1/((1+#REF!)^A332),9)))","v":{"$error":"#REF!"}},{"$error":"#REF!"}]
[330,330,{"$error":"#REF!"},{"$error":"#REF!"},{"$f":"IF(ISERROR(MATCH(D333,#REF!,0))=FALSE,\"C\",IF(ISERROR(MATCH(D333,#REF!,0))=FALSE,\"D\",\"\"))","v":""},{"$f":"IF(E333=\"C\",0,IF(E333 =\"D\",ROUND(1/((1+#REF!)^A333),9) * 2,ROUND(1/((1+#REF!)^A333),9)))","v":{"$error":"#REF!"}},{"$error":"#REF!"}]
[331,331,{"$error":"#REF!"},{"$error":"#REF!"},{"$f":"IF(ISERROR(MATCH(D334,#REF!,0))=FALSE,\"C\",IF(ISERROR(MATCH(D334,#REF!,0))=FALSE,\"D\",\"\"))","v":""},{"$f":"IF(E334=\"C\",0,IF(E334 =\"D\",ROUND(1/((1+#REF!)^A334),9) * 2,ROUND(1/((1+#REF!)^A334),9)))","v":{"$error":"#REF!"}},{"$error":"#REF!"}]
[332,332,{"$error":"#REF!"},{"$error":"#REF!"},{"$f":"IF(ISERROR(MATCH(D335,#REF!,0))=FALSE,\"C\",IF(ISERROR(MATCH(D335,#REF!,0))=FALSE,\"D\",\"\"))","v":""},{"$f":"IF(E335=\"C\",0,IF(E335 =\"D\",ROUND(1/((1+#REF!)^A335),9) * 2,ROUND(1/((1+#REF!)^A335),9)))","v":{"$error":"#REF!"}},{"$error":"#REF!"}]
[333,333,{"$error":"#REF!"},{"$error":"#REF!"},{"$f":"IF(ISERROR(MATCH(D336,#REF!,0))=FALSE,\"C\",IF(ISERROR(MATCH(D336,#REF!,0))=FALSE,\"D\",\"\"))","v":""},{"$f":"IF(E336=\"C\",0,IF(E336 =\"D\",ROUND(1/((1+#REF!)^A336),9) * 2,ROUND(1/((1+#REF!)^A336),9)))","v":{"$error":"#REF!"}},{"$error":"#REF!"}]
[334,334,{"$error":"#REF!"},{"$error":"#REF!"},{"$f":"IF(ISERROR(MATCH(D337,#REF!,0))=FALSE,\"C\",IF(ISERROR(MATCH(D337,#REF!,0))=FALSE,\"D\",\"\"))","v":""},{"$f":"IF(E337=\"C\",0,IF(E337 =\"D\",ROUND(1/((1+#REF!)^A337),9) * 2,ROUND(1/((1+#REF!)^A337),9)))","v":{"$error":"#REF!"}},{"$error":"#REF!"}]
[335,335,{"$error":"#REF!"},{"$error":"#REF!"},{"$f":"IF(ISERROR(MATCH(D338,#REF!,0))=FALSE,\"C\",IF(ISERROR(MATCH(D338,#REF!,0))=FALSE,\"D\",\"\"))","v":""},{"$f":"IF(E338=\"C\",0,IF(E338 =\"D\",ROUND(1/((1+#REF!)^A338),9) * 2,ROUND(1/((1+#REF!)^A338),9)))","v":{"$error":"#REF!"}},{"$error":"#REF!"}]
[336,336,{"$error":"#REF!"},{"$error":"#REF!"},{"$f":"IF(ISERROR(MATCH(D339,#REF!,0))=FALSE,\"C\",IF(ISERROR(MATCH(D339,#REF!,0))=FALSE,\"D\",\"\"))","v":""},{"$f":"IF(E339=\"C\",0,IF(E339 =\"D\",ROUND(1/((1+#REF!)^A339),9) * 2,ROUND(1/((1+#REF!)^A339),9)))","v":{"$error":"#REF!"}},{"$error":"#REF!"}]
[337,337,{"$error":"#REF!"},{"$error":"#REF!"},{"$f":"IF(ISERROR(MATCH(D340,#REF!,0))=FALSE,\"C\",IF(ISERROR(MATCH(D340,#REF!,0))=FALSE,\"D\",\"\"))","v":""},{"$f":"IF(E340=\"C\",0,IF(E340 =\"D\",ROUND(1/((1+#REF!)^A340),9) * 2,ROUND(1/((1+#REF!)^A340),9)))","v":{"$error":"#REF!"}},{"$error":"#REF!"}]
[338,338,{"$error":"#REF!"},{"$error":"#REF!"},{"$f":"IF(ISERROR(MATCH(D341,#REF!,0))=FALSE,\"C\",IF(ISERROR(MATCH(D341,#REF!,0))=FALSE,\"D\",\"\"))","v":""},{"$f":"IF(E341=\"C\",0,IF(E341 =\"D\",ROUND(1/((1+#REF!)^A341),9) * 2,ROUND(1/((1+#REF!)^A341),9)))","v":{"$error":"#REF!"}},{"$error":"#REF!"}]
[339,339,{"$error":"#REF!"},{"$error":"#REF!"},{"$f":"IF(ISERROR(MATCH(D342,#REF!,0))=FALSE,\"C\",IF(ISERROR(MATCH(D342,#REF!,0))=FALSE,\"D\",\"\"))","v":""},{"$f":"IF(E342=\"C\",0,IF(E342 =\"D\",ROUND(1/((1+#REF!)^A342),9) * 2,ROUND(1/((1+#REF!)^A342),9)))","v":{"$error":"#REF!"}},{"$error":"#REF!"}]
[340,340,{"$error":"#REF!"},{"$error":"#REF!"},{"$f":"IF(ISERROR(MATCH(D343,#REF!,0))=FALSE,\"C\",IF(ISERROR(MATCH(D343,#REF!,0))=FALSE,\"D\",\"\"))","v":""},{"$f":"IF(E343=\"C\",0,IF(E343 =\"D\",ROUND(1/((1+#REF!)^A343),9) * 2,ROUND(1/((1+#REF!)^A343),9)))","v":{"$error":"#REF!"}},{"$error":"#REF!"}]
[341,341,{"$error":"#REF!"},{"$error":"#REF!"},{"$f":"IF(ISERROR(MATCH(D344,#REF!,0))=FALSE,\"C\",IF(ISERROR(MATCH(D344,#REF!,0))=FALSE,\"D\",\"\"))","v":""},{"$f":"IF(E344=\"C\",0,IF(E344 =\"D\",ROUND(1/((1+#REF!)^A344),9) * 2,ROUND(1/((1+#REF!)^A344),9)))","v":{"$error":"#REF!"}},{"$error":"#REF!"}]
[342,342,{"$error":"#REF!"},{"$error":"#REF!"},{"$f":"IF(ISERROR(MATCH(D345,#REF!,0))=FALSE,\"C\",IF(ISERROR(MATCH(D345,#REF!,0))=FALSE,\"D\",\"\"))","v":""},{"$f":"IF(E345=\"C\",0,IF(E345 =\"D\",ROUND(1/((1+#REF!)^A345),9) * 2,ROUND(1/((1+#REF!)^A345),9)))","v":{"$error":"#REF!"}},{"$error":"#REF!"}]
[343,343,{"$error":"#REF!"},{"$error":"#REF!"},{"$f":"IF(ISERROR(MATCH(D346,#REF!,0))=FALSE,\"C\",IF(ISERROR(MATCH(D346,#REF!,0))=FALSE,\"D\",\"\"))","v":""},{"$f":"IF(E346=\"C\",0,IF(E346 =\"D\",ROUND(1/((1+#REF!)^A346),9) * 2,ROUND(1/((1+#REF!)^A346),9)))","v":{"$error":"#REF!"}},{"$error":"#REF!"}]
[344,344,{"$error":"#REF!"},{"$error":"#REF!"},{"$f":"IF(ISERROR(MATCH(D347,#REF!,0))=FALSE,\"C\",IF(ISERROR(MATCH(D347,#REF!,0))=FALSE,\"D\",\"\"))","v":""},{"$f":"IF(E347=\"C\",0,IF(E347 =\"D\",ROUND(1/((1+#REF!)^A347),9) * 2,ROUND(1/((1+#REF!)^A347),9)))","v":{"$error":"#REF!"}},{"$error":"#REF!"}]
[345,345,{"$error":"#REF!"},{"$error":"#REF!"},{"$f":"IF(ISERROR(MATCH(D348,#REF!,0))=FALSE,\"C\",IF(ISERROR(MATCH(D348,#REF!,0))=FALSE,\"D\",\"\"))","v":""},{"$f":"IF(E348=\"C\",0,IF(E348 =\"D\",ROUND(1/((1+#REF!)^A348),9) * 2,ROUND(1/((1+#REF!)^A348),9)))","v":{"$error":"#REF!"}},{"$error":"#REF!"}]
[346,346,{"$error":"#REF!"},{"$error":"#REF!"},{"$f":"IF(ISERROR(MATCH(D349,#REF!,0))=FALSE,\"C\",IF(ISERROR(MATCH(D349,#REF!,0))=FALSE,\"D\",\"\"))","v":""},{"$f":"IF(E349=\"C\",0,IF(E349 =\"D\",ROUND(1/((1+#REF!)^A349),9) * 2,ROUND(1/((1+#REF!)^A349),9)))","v":{"$error":"#REF!"}},{"$error":"#REF!"}]
[347,347,{"$error":"#REF!"},{"$error":"#REF!"},{"$f":"IF(ISERROR(MATCH(D350,#REF!,0))=FALSE,\"C\",IF(ISERROR(MATCH(D350,#REF!,0))=FALSE,\"D\",\"\"))","v":""},{"$f":"IF(E350=\"C\",0,IF(E350 =\"D\",ROUND(1/((1+#REF!)^A350),9) * 2,ROUND(1/((1+#REF!)^A350),9)))","v":{"$error":"#REF!"}},{"$error":"#REF!"}]
[348,348,{"$error":"#REF!"},{"$error":"#REF!"},{"$f":"IF(ISERROR(MATCH(D351,#REF!,0))=FALSE,\"C\",IF(ISERROR(MATCH(D351,#REF!,0))=FALSE,\"D\",\"\"))","v":""},{"$f":"IF(E351=\"C\",0,IF(E351 =\"D\",ROUND(1/((1+#REF!)^A351),9) * 2,ROUND(1/((1+#REF!)^A351),9)))","v":{"$error":"#REF!"}},{"$error":"#REF!"}]
[349,349,{"$error":"#REF!"},{"$error":"#REF!"},{"$f":"IF(ISERROR(MATCH(D352,#REF!,0))=FALSE,\"C\",IF(ISERROR(MATCH(D352,#REF!,0))=FALSE,\"D\",\"\"))","v":""},{"$f":"IF(E352=\"C\",0,IF(E352 =\"D\",ROUND(1/((1+#REF!)^A352),9) * 2,ROUND(1/((1+#REF!)^A352),9)))","v":{"$error":"#REF!"}},{"$error":"#REF!"}]
[350,350,{"$error":"#REF!"},{"$error":"#REF!"},{"$f":"IF(ISERROR(MATCH(D353,#REF!,0))=FALSE,\"C\",IF(ISERROR(MATCH(D353,#REF!,0))=FALSE,\"D\",\"\"))","v":""},{"$f":"IF(E353=\"C\",0,IF(E353 =\"D\",ROUND(1/((1+#REF!)^A353),9) * 2,ROUND(1/((1+#REF!)^A353),9)))","v":{"$error":"#REF!"}},{"$error":"#REF!"}]
[351,351,{"$error":"#REF!"},{"$error":"#REF!"},{"$f":"IF(ISERROR(MATCH(D354,#REF!,0))=FALSE,\"C\",IF(ISERROR(MATCH(D354,#REF!,0))=FALSE,\"D\",\"\"))","v":""},{"$f":"IF(E354=\"C\",0,IF(E354 =\"D\",ROUND(1/((1+#REF!)^A354),9) * 2,ROUND(1/((1+#REF!)^A354),9)))","v":{"$error":"#REF!"}},{"$error":"#REF!"}]
[352,352,{"$error":"#REF!"},{"$error":"#REF!"},{"$f":"IF(ISERROR(MATCH(D355,#REF!,0))=FALSE,\"C\",IF(ISERROR(MATCH(D355,#REF!,0))=FALSE,\"D\",\"\"))","v":""},{"$f":"IF(E355=\"C\",0,IF(E355 =\"D\",ROUND(1/((1+#REF!)^A355),9) * 2,ROUND(1/((1+#REF!)^A355),9)))","v":{"$error":"#REF!"}},{"$error":"#REF!"}]
[353,{"$f":"IF(E356<>\"C\",IF(ISERROR(1+B355)=TRUE,1,1+B355),IF(ISNUMBER(B355),B355,1))","v":353},{"$error":"#REF!"},{"$f":"MONTH(C356)","v":{"$error":"#REF!"}},{"$f":"IF(ISERROR(MATCH(D356,#REF!,0))=FALSE,\"C\",IF(ISERROR(MATCH(D356,#REF!,0))=FALSE,\"D\",\"\"))","v":""},{"$f":"IF(E356=\"C\",0,IF(E356 =\"D\",ROUND(1/((1+#REF!)^A356),9) * 2,ROUND(1/((1+#REF!)^A356),9)))","v":{"$error":"#REF!"}},{"$f":"G355+ROUND(F356,9)","v":{"$error":"#REF!"}}]
[354,354,{"$error":"#REF!"},{"$error":"#REF!"},{"$f":"IF(ISERROR(MATCH(D357,#REF!,0))=FALSE,\"C\",IF(ISERROR(MATCH(D357,#REF!,0))=FALSE,\"D\",\"\"))","v":""},{"$f":"IF(E357=\"C\",0,IF(E357 =\"D\",ROUND(1/((1+#REF!)^A357),9) * 2,ROUND(1/((1+#REF!)^A357),9)))","v":{"$error":"#REF!"}},{"$error":"#REF!"}]
[355,355,{"$error":"#REF!"},{"$error":"#REF!"},{"$f":"IF(ISERROR(MATCH(D358,#REF!,0))=FALSE,\"C\",IF(ISERROR(MATCH(D358,#REF!,0))=FALSE,\"D\",\"\"))","v":""},{"$f":"IF(E358=\"C\",0,IF(E358 =\"D\",ROUND(1/((1+#REF!)^A358),9) * 2,ROUND(1/((1+#REF!)^A358),9)))","v":{"$error":"#REF!"}},{"$error":"#REF!"}]
[356,356,{"$error":"#REF!"},{"$error":"#REF!"},{"$f":"IF(ISERROR(MATCH(D359,#REF!,0))=FALSE,\"C\",IF(ISERROR(MATCH(D359,#REF!,0))=FALSE,\"D\",\"\"))","v":""},{"$f":"IF(E359=\"C\",0,IF(E359 =\"D\",ROUND(1/((1+#REF!)^A359),9) * 2,ROUND(1/((1+#REF!)^A359),9)))","v":{"$error":"#REF!"}},{"$error":"#REF!"}]
[357,357,{"$error":"#REF!"},{"$error":"#REF!"},{"$f":"IF(ISERROR(MATCH(D360,#REF!,0))=FALSE,\"C\",IF(ISERROR(MATCH(D360,#REF!,0))=FALSE,\"D\",\"\"))","v":""},{"$f":"IF(E360=\"C\",0,IF(E360 =\"D\",ROUND(1/((1+#REF!)^A360),9) * 2,ROUND(1/((1+#REF!)^A360),9)))","v":{"$error":"#REF!"}},{"$error":"#REF!"}]
[358,358,{"$error":"#REF!"},{"$error":"#REF!"},{"$f":"IF(ISERROR(MATCH(D361,#REF!,0))=FALSE,\"C\",IF(ISERROR(MATCH(D361,#REF!,0))=FALSE,\"D\",\"\"))","v":""},{"$f":"IF(E361=\"C\",0,IF(E361 =\"D\",ROUND(1/((1+#REF!)^A361),9) * 2,ROUND(1/((1+#REF!)^A361),9)))","v":{"$error":"#REF!"}},{"$error":"#REF!"}]
[359,359,{"$error":"#REF!"},{"$error":"#REF!"},{"$f":"IF(ISERROR(MATCH(D362,#REF!,0))=FALSE,\"C\",IF(ISERROR(MATCH(D362,#REF!,0))=FALSE,\"D\",\"\"))","v":""},{"$f":"IF(E362=\"C\",0,IF(E362 =\"D\",ROUND(1/((1+#REF!)^A362),9) * 2,ROUND(1/((1+#REF!)^A362),9)))","v":{"$error":"#REF!"}},{"$error":"#REF!"}]
[360,360,{"$error":"#REF!"},{"$error":"#REF!"},{"$f":"IF(ISERROR(MATCH(D363,#REF!,0))=FALSE,\"C\",IF(ISERROR(MATCH(D363,#REF!,0))=FALSE,\"D\",\"\"))","v":""},{"$f":"IF(E363=\"C\",0,IF(E363 =\"D\",ROUND(1/((1+#REF!)^A363),9) * 2,ROUND(1/((1+#REF!)^A363),9)))","v":{"$error":"#REF!"}},{"$error":"#REF!"}]
[361,361,{"$error":"#REF!"},{"$error":"#REF!"},{"$f":"IF(ISERROR(MATCH(D364,#REF!,0))=FALSE,\"C\",IF(ISERROR(MATCH(D364,#REF!,0))=FALSE,\"D\",\"\"))","v":""},{"$f":"IF(E364=\"C\",0,IF(E364 =\"D\",ROUND(1/((1+#REF!)^A364),9) * 2,ROUND(1/((1+#REF!)^A364),9)))","v":{"$error":"#REF!"}},{"$error":"#REF!"}]
[362,362,{"$error":"#REF!"},{"$error":"#REF!"},{"$f":"IF(ISERROR(MATCH(D365,#REF!,0))=FALSE,\"C\",IF(ISERROR(MATCH(D365,#REF!,0))=FALSE,\"D\",\"\"))","v":""},{"$f":"IF(E365=\"C\",0,IF(E365 =\"D\",ROUND(1/((1+#REF!)^A365),9) * 2,ROUND(1/((1+#REF!)^A365),9)))","v":{"$error":"#REF!"}},{"$error":"#REF!"}]
[363,363,{"$error":"#REF!"},{"$error":"#REF!"},{"$f":"IF(ISERROR(MATCH(D366,#REF!,0))=FALSE,\"C\",IF(ISERROR(MATCH(D366,#REF!,0))=FALSE,\"D\",\"\"))","v":""},{"$f":"IF(E366=\"C\",0,IF(E366 =\"D\",ROUND(1/((1+#REF!)^A366),9) * 2,ROUND(1/((1+#REF!)^A366),9)))","v":{"$error":"#REF!"}},{"$error":"#REF!"}]
[364,364,{"$error":"#REF!"},{"$error":"#REF!"},{"$f":"IF(ISERROR(MATCH(D367,#REF!,0))=FALSE,\"C\",IF(ISERROR(MATCH(D367,#REF!,0))=FALSE,\"D\",\"\"))","v":""},{"$f":"IF(E367=\"C\",0,IF(E367 =\"D\",ROUND(1/((1+#REF!)^A367),9) * 2,ROUND(1/((1+#REF!)^A367),9)))","v":{"$error":"#REF!"}},{"$error":"#REF!"}]
[365,365,{"$error":"#REF!"},{"$error":"#REF!"},{"$f":"IF(ISERROR(MATCH(D368,#REF!,0))=FALSE,\"C\",IF(ISERROR(MATCH(D368,#REF!,0))=FALSE,\"D\",\"\"))","v":""},{"$f":"IF(E368=\"C\",0,IF(E368 =\"D\",ROUND(1/((1+#REF!)^A368),9) * 2,ROUND(1/((1+#REF!)^A368),9)))","v":{"$error":"#REF!"}},{"$error":"#REF!"}]
[366,366,{"$error":"#REF!"},{"$error":"#REF!"},{"$f":"IF(ISERROR(MATCH(D369,#REF!,0))=FALSE,\"C\",IF(ISERROR(MATCH(D369,#REF!,0))=FALSE,\"D\",\"\"))","v":""},{"$f":"IF(E369=\"C\",0,IF(E369 =\"D\",ROUND(1/((1+#REF!)^A369),9) * 2,ROUND(1/((1+#REF!)^A369),9)))","v":{"$error":"#REF!"}},{"$error":"#REF!"}]
[367,367,{"$error":"#REF!"},{"$error":"#REF!"},{"$f":"IF(ISERROR(MATCH(D370,#REF!,0))=FALSE,\"C\",IF(ISERROR(MATCH(D370,#REF!,0))=FALSE,\"D\",\"\"))","v":""},{"$f":"IF(E370=\"C\",0,IF(E370 =\"D\",ROUND(1/((1+#REF!)^A370),9) * 2,ROUND(1/((1+#REF!)^A370),9)))","v":{"$error":"#REF!"}},{"$error":"#REF!"}]
[368,368,{"$error":"#REF!"},{"$error":"#REF!"},{"$f":"IF(ISERROR(MATCH(D371,#REF!,0))=FALSE,\"C\",IF(ISERROR(MATCH(D371,#REF!,0))=FALSE,\"D\",\"\"))","v":""},{"$f":"IF(E371=\"C\",0,IF(E371 =\"D\",ROUND(1/((1+#REF!)^A371),9) * 2,ROUND(1/((1+#REF!)^A371),9)))","v":{"$error":"#REF!"}},{"$error":"#REF!"}]
[369,369,{"$error":"#REF!"},{"$error":"#REF!"},{"$f":"IF(ISERROR(MATCH(D372,#REF!,0))=FALSE,\"C\",IF(ISERROR(MATCH(D372,#REF!,0))=FALSE,\"D\",\"\"))","v":""},{"$f":"IF(E372=\"C\",0,IF(E372 =\"D\",ROUND(1/((1+#REF!)^A372),9) * 2,ROUND(1/((1+#REF!)^A372),9)))","v":{"$error":"#REF!"}},{"$error":"#REF!"}]
[370,370,{"$error":"#REF!"},{"$error":"#REF!"},{"$f":"IF(ISERROR(MATCH(D373,#REF!,0))=FALSE,\"C\",IF(ISERROR(MATCH(D373,#REF!,0))=FALSE,\"D\",\"\"))","v":""},{"$f":"IF(E373=\"C\",0,IF(E373 =\"D\",ROUND(1/((1+#REF!)^A373),9) * 2,ROUND(1/((1+#REF!)^A373),9)))","v":{"$error":"#REF!"}},{"$error":"#REF!"}]
[371,371,{"$error":"#REF!"},{"$error":"#REF!"},{"$f":"IF(ISERROR(MATCH(D374,#REF!,0))=FALSE,\"C\",IF(ISERROR(MATCH(D374,#REF!,0))=FALSE,\"D\",\"\"))","v":""},{"$f":"IF(E374=\"C\",0,IF(E374 =\"D\",ROUND(1/((1+#REF!)^A374),9) * 2,ROUND(1/((1+#REF!)^A374),9)))","v":{"$error":"#REF!"}},{"$error":"#REF!"}]
[372,372,{"$error":"#REF!"},{"$error":"#REF!"},{"$f":"IF(ISERROR(MATCH(D375,#REF!,0))=FALSE,\"C\",IF(ISERROR(MATCH(D375,#REF!,0))=FALSE,\"D\",\"\"))","v":""},{"$f":"IF(E375=\"C\",0,IF(E375 =\"D\",ROUND(1/((1+#REF!)^A375),9) * 2,ROUND(1/((1+#REF!)^A375),9)))","v":{"$error":"#REF!"}},{"$error":"#REF!"}]
[373,373,{"$error":"#REF!"},{"$error":"#REF!"},{"$f":"IF(ISERROR(MATCH(D376,#REF!,0))=FALSE,\"C\",IF(ISERROR(MATCH(D376,#REF!,0))=FALSE,\"D\",\"\"))","v":""},{"$f":"IF(E376=\"C\",0,IF(E376 =\"D\",ROUND(1/((1+#REF!)^A376),9) * 2,ROUND(1/((1+#REF!)^A376),9)))","v":{"$error":"#REF!"}},{"$error":"#REF!"}]
[374,374,{"$error":"#REF!"},{"$error":"#REF!"},{"$f":"IF(ISERROR(MATCH(D377,#REF!,0))=FALSE,\"C\",IF(ISERROR(MATCH(D377,#REF!,0))=FALSE,\"D\",\"\"))","v":""},{"$f":"IF(E377=\"C\",0,IF(E377 =\"D\",ROUND(1/((1+#REF!)^A377),9) * 2,ROUND(1/((1+#REF!)^A377),9)))","v":{"$error":"#REF!"}},{"$error":"#REF!"}]
[375,375,{"$error":"#REF!"},{"$error":"#REF!"},{"$f":"IF(ISERROR(MATCH(D378,#REF!,0))=FALSE,\"C\",IF(ISERROR(MATCH(D378,#REF!,0))=FALSE,\"D\",\"\"))","v":""},{"$f":"IF(E378=\"C\",0,IF(E378 =\"D\",ROUND(1/((1+#REF!)^A378),9) * 2,ROUND(1/((1+#REF!)^A378),9)))","v":{"$error":"#REF!"}},{"$error":"#REF!"}]
[376,376,{"$error":"#REF!"},{"$error":"#REF!"},{"$f":"IF(ISERROR(MATCH(D379,#REF!,0))=FALSE,\"C\",IF(ISERROR(MATCH(D379,#REF!,0))=FALSE,\"D\",\"\"))","v":""},{"$f":"IF(E379=\"C\",0,IF(E379 =\"D\",ROUND(1/((1+#REF!)^A379),9) * 2,ROUND(1/((1+#REF!)^A379),9)))","v":{"$error":"#REF!"}},{"$error":"#REF!"}]
[377,377,{"$error":"#REF!"},{"$error":"#REF!"},{"$f":"IF(ISERROR(MATCH(D380,#REF!,0))=FALSE,\"C\",IF(ISERROR(MATCH(D380,#REF!,0))=FALSE,\"D\",\"\"))","v":""},{"$f":"IF(E380=\"C\",0,IF(E380 =\"D\",ROUND(1/((1+#REF!)^A380),9) * 2,ROUND(1/((1+#REF!)^A380),9)))","v":{"$error":"#REF!"}},{"$error":"#REF!"}]
[378,378,{"$error":"#REF!"},{"$error":"#REF!"},{"$f":"IF(ISERROR(MATCH(D381,#REF!,0))=FALSE,\"C\",IF(ISERROR(MATCH(D381,#REF!,0))=FALSE,\"D\",\"\"))","v":""},{"$f":"IF(E381=\"C\",0,IF(E381 =\"D\",ROUND(1/((1+#REF!)^A381),9) * 2,ROUND(1/((1+#REF!)^A381),9)))","v":{"$error":"#REF!"}},{"$error":"#REF!"}]
[379,379,{"$error":"#REF!"},{"$error":"#REF!"},{"$f":"IF(ISERROR(MATCH(D382,#REF!,0))=FALSE,\"C\",IF(ISERROR(MATCH(D382,#REF!,0))=FALSE,\"D\",\"\"))","v":""},{"$f":"IF(E382=\"C\",0,IF(E382 =\"D\",ROUND(1/((1+#REF!)^A382),9) * 2,ROUND(1/((1+#REF!)^A382),9)))","v":{"$error":"#REF!"}},{"$error":"#REF!"}]
[380,380,{"$error":"#REF!"},{"$error":"#REF!"},{"$f":"IF(ISERROR(MATCH(D383,#REF!,0))=FALSE,\"C\",IF(ISERROR(MATCH(D383,#REF!,0))=FALSE,\"D\",\"\"))","v":""},{"$f":"IF(E383=\"C\",0,IF(E383 =\"D\",ROUND(1/((1+#REF!)^A383),9) * 2,ROUND(1/((1+#REF!)^A383),9)))","v":{"$error":"#REF!"}},{"$error":"#REF!"}]
[381,381,{"$error":"#REF!"},{"$error":"#REF!"},{"$f":"IF(ISERROR(MATCH(D384,#REF!,0))=FALSE,\"C\",IF(ISERROR(MATCH(D384,#REF!,0))=FALSE,\"D\",\"\"))","v":""},{"$f":"IF(E384=\"C\",0,IF(E384 =\"D\",ROUND(1/((1+#REF!)^A384),9) * 2,ROUND(1/((1+#REF!)^A384),9)))","v":{"$error":"#REF!"}},{"$error":"#REF!"}]
[382,382,{"$error":"#REF!"},{"$error":"#REF!"},{"$f":"IF(ISERROR(MATCH(D385,#REF!,0))=FALSE,\"C\",IF(ISERROR(MATCH(D385,#REF!,0))=FALSE,\"D\",\"\"))","v":""},{"$f":"IF(E385=\"C\",0,IF(E385 =\"D\",ROUND(1/((1+#REF!)^A385),9) * 2,ROUND(1/((1+#REF!)^A385),9)))","v":{"$error":"#REF!"}},{"$error":"#REF!"}]
[383,383,{"$error":"#REF!"},{"$error":"#REF!"},{"$f":"IF(ISERROR(MATCH(D386,#REF!,0))=FALSE,\"C\",IF(ISERROR(MATCH(D386,#REF!,0))=FALSE,\"D\",\"\"))","v":""},{"$f":"IF(E386=\"C\",0,IF(E386 =\"D\",ROUND(1/((1+#REF!)^A386),9) * 2,ROUND(1/((1+#REF!)^A386),9)))","v":{"$error":"#REF!"}},{"$error":"#REF!"}]

{"sheet":"Hoja1","index":1,"n_rows":19,"n_cols":13,"rows_kept":19,"cut":false,"hidden":false,"merged":[[15,0,15,1],[16,0,16,1],[2,2,3,3],[18,0,18,3]]}
[]
[]
[null,null,"SIMULADOR PRÉSTAMO PERSONAL\nSIN GARANTÍA",null,null,null,"Soles"]
[null,null,null,null,null,null,"Dólares"]
[]
[null,null,null,null,null,null,"No"]
[null,"Moneda","Soles",null,null,null,"Julio"]
[null,"Monto del Préstamo",30000,null,null,null,"Diciembre"]
[null,"Fecha de Desembolso","2024-04-01",null,null,null,null,null,null,null,null,null,0]
[null,"Plazo",36,null,null,null,"Seguro sin retorno",null,null,null,null,null,30]
[null,"TEA*",20,null,null,null,"Seguro con retorno",null,null,null,null,null,60]
[null,"Días de Gracia",30,null,null,null,"Endoso",null,null,null,null,null,90]
[null,"Seguro Desgravamen**","Endoso"]
[null,"Cuota Doble 1","No",null,null,null,null,{"$f":"+Simulador!Q29","v":0.5194444444445554},{"$f":"+Simulador!W28","v":0}]
[null,"Cuota Doble 2","No",null,null,null,null,null,{"$f":"+IF(AND(I14>-1,I14<1),\"CORRECTO\",\"INCORRECTO\")","v":"CORRECTO"}]
[]
[]
[]
["Nota: Para hacer uso del simulador, debe tener habilitado la opción de macros."]

{"sheet":"Hoja1 (2)","index":2,"n_rows":68,"n_cols":9,"rows_kept":68,"cut":false,"hidden":false,"merged":[[14,1,14,2],[13,1,13,2],[13,5,13,6],[4,1,4,7],[5,1,5,7],[8,1,8,2],[9,1,9,2],[10,1,10,2],[11,1,11,2],[12,1,12,2],[8,5,8,6],[9,5,9,6],[10,5,10,6],[11,5,11,6],[12,5,12,6]]}
[]
[]
[]
[]
[null,"(SIMULACIÓN)"]
[null,"CRONOGRAMA DE PAGOS"]
[]
[]
[null,"Moneda                                                  :",null,{"$f":"+Hoja1!C7","v":"Soles"},null,"Monto del Préstamo                                                    :",null,{"$f":"+Hoja1!C8","v":30000}]
[null,"Producto                                                :",null,"Préstamo Personal Sin Garantía",null,"Tasa Efectiva Anual (fija)                                                     :",null,{"$f":"+Hoja1!C11&\"%\"","v":"20%"}]
[null,"Fecha de desembolso                          :",null,{"$f":"+Hoja1!C9","v":"2024-04-01"},null,"Plazo (en meses)                                                          :",null,{"$f":"+Hoja1!C10","v":36}]
[null,"Mes de Cuota Doble 1                          :",null,{"$f":"+Hoja1!C14","v":"No"},null,"Tasa de Costo Efectiva Anual                                     :",null,{"$f":"+Simulador!Q18","v":0.19999486876755146},{"$f":"+RATE(H11,H18,-H9-I13)","v":1.5550131247864956E-2}]
[null,"Mes de Cuota Doble 2                          :",null,{"$f":"+Hoja1!C15","v":"No"},null,"Tasa Seguro de Desgravamen Mensual                   :",null,{"$f":"+IF(Hoja1!C13=\"Endoso\",0,IF(Hoja1!C13=\"Seguro con retorno\",0.346%,0.18%))","v":0},{"$f":"Simulador!Q16","v":459.28410000000002}]
[null,"Periodo de gracia                                 :",null,{"$f":"+Hoja1!C12&\" \"& \"días\"","v":"30 días"}]
[null,"Frecuencia de pago                             :",null,"Mensual"]
[null,{"$f":"+IF(AND(Simulador!W28<1,Simulador!W28>-1),\"\",\"No ha presionado el botón de calcular, por favor volver a simular\")","v":""}]
[null,"N°","Fecha Vencimiento","Capital","Interes","Interes de Gracia","Seguro Desgravamen","Total Cuota"]
[null,1,{"$f":"IFERROR(+IF(B18>0,VLOOKUP(B18,Simulador!$A$32:$T$550,3,0),\" \"),\" \")","v":"2024-06-01"},{"$f":"IFERROR(+IF(B18>0,VLOOKUP(B18,Simulador!$A$32:$T$550,11,0),\" \"),\" \")","v":619.82944444444456},{"$f":"IFERROR(+IF(B18>0,VLOOKUP(B18,Simulador!$A$32:$T$550,12,0),\" \"),\" \")","v":474.71},{"$f":"IFERROR(+IF(B18>0,VLOOKUP(B18,Simulador!$A$32:$T$550,13,0),\" \"),\" \")","v":16.75},{"$f":"IFERROR(+IF(B18>0,VLOOKUP(B18,Simulador!$A$32:$T$550,20,0),\" \"),\" \")","v":0},{"$f":"IFERROR(+IF(B18>0,VLOOKUP(B18,Simulador!$A$32:$Z$550,22,0),\" \"),\" \")","v":1111.2894444444446}]
[null,{"$f":"IF(B18=0,\" \",IF(B18>=$H$11,\"\",B18+1))","v":2},{"$f":"IF($H$11=0,\" \",IF(B18=$H$11,\"TOTALES\",+IF(B19>0,VLOOKUP(B19,Simulador!$A$32:$T$550,3,0),\" \")))","v":"2024-07-01"},{"$f":"IF($H$11=0,\" \",IF(B18=$H$11,Simulador!$J$33,+IF(B19>0,VLOOKUP(B19,Simulador!$A$32:$T$550,11,0),\" \")))","v":644.74944444444463},{"$f":"IF($H$11=0,\" \",IF(B18=$H$11,Simulador!$L$31,+IF(B19>0,VLOOKUP(B19,Simulador!$A$32:$T$550,12,0),\" \")))","v":449.79},{"$f":"IF($H$11=0,\" \",IF(B18=$H$11,Simulador!$M$31,+IF(B19>0,VLOOKUP(B19,Simulador!$A$32:$T$550,13,0),\" \")))","v":16.75},{"$f":"IF($H$11=0,\" \",IF(B18=$H$11,Simulador!$T$31,+IF(B19>0,VLOOKUP(B19,Simulador!$A$32:$T$550,20,0),\" \")))","v":0},{"$f":"IF($H$11=0,\" \",IF(B18=$H$11,Simulador!$V$31,+IF(B19>0,VLOOKUP(B19,Simulador!$A$32:$Z$550,22,0),\" \")))","v":1111.2894444444446}]
[null,{"$f":"IF(B19=0,\" \",IF(B19>=$H$11,\"\",B19+1))","v":3},{"$f":"IF($H$11=0,\" \",IF(B19=$H$11,\"TOTALES\",+IF(B20>0,VLOOKUP(B20,Simulador!$A$32:$T$550,3,0),\" \")))","v":"2024-08-01"},{"$f":"IF($H$11=0,\" \",IF(B19=$H$11,Simulador!$J$33,+IF(B20>0,VLOOKUP(B20,Simulador!$A$32:$T$550,11,0),\" \")))","v":639.83944444444455},{"$f":"IF($H$11=0,\" \",IF(B19=$H$11,Simulador!$L$31,+IF(B20>0,VLOOKUP(B20,Simulador!$A$32:$T$550,12,0),\" \")))","v":454.7},{"$f":"IF($H$11=0,\" \",IF(B19=$H$11,Simulador!$M$31,+IF(B20>0,VLOOKUP(B20,Simulador!$A$32:$T$550,13,0),\" \")))","v":16.75},{"$f":"IF($H$11=0,\" \",IF(B19=$H$11,Simulador!$T$31,+IF(B20>0,VLOOKUP(B20,Simulador!$A$32:$T$550,20,0),\" \")))","v":0},{"$f":"IF($H$11=0,\" \",IF(B19=$H$11,Simulador!$V$31,+IF(B20>0,VLOOKUP(B20,Simulador!$A$32:$Z$550,22,0),\" \")))","v":1111.2894444444446}]
[null,4,{"$f":"IF($H$11=0,\" \",IF(B20=$H$11,\"TOTALES\",+IF(B21>0,VLOOKUP(B21,Simulador!$A$32:$T$550,3,0),\" \")))","v":"2024-09-01"},{"$f":"IF($H$11=0,\" \",IF(B20=$H$11,Simulador!$J$33,+IF(B21>0,VLOOKUP(B21,Simulador!$A$32:$T$550,11,0),\" \")))","v":649.95944444444467},{"$f":"IF($H$11=0,\" \",IF(B20=$H$11,Simulador!$L$31,+IF(B21>0,VLOOKUP(B21,Simulador!$A$32:$T$550,12,0),\" \")))","v":444.58},{"$f":"IF($H$11=0,\" \",IF(B20=$H$11,Simulador!$M$31,+IF(B21>0,VLOOKUP(B21,Simulador!$A$32:$T$550,13,0),\" \")))","v":16.75},{"$f":"IF($H$11=0,\" \",IF(B20=$H$11,Simulador!$T$31,+IF(B21>0,VLOOKUP(B21,Simulador!$A$32:$T$550,20,0),\" \")))","v":0},{"$f":"IF($H$11=0,\" \",IF(B20=$H$11,Simulador!$V$31,+IF(B21>0,VLOOKUP(B21,Simulador!$A$32:$Z$550,22,0),\" \")))","v":1111.2894444444446}]
[null,5,{"$f":"IF($H$11=0,\" \",IF(B21=$H$11,\"TOTALES\",+IF(B22>0,VLOOKUP(B22,Simulador!$A$32:$T$550,3,0),\" \")))","v":"2024-10-01"},{"$f":"IF($H$11=0,\" \",IF(B21=$H$11,Simulador!$J$33,+IF(B22>0,VLOOKUP(B22,Simulador!$A$32:$T$550,11,0),\" \")))","v":674.35944444444453},{"$f":"IF($H$11=0,\" \",IF(B21=$H$11,Simulador!$L$31,+IF(B22>0,VLOOKUP(B22,Simulador!$A$32:$T$550,12,0),\" \")))","v":420.18},{"$f":"IF($H$11=0,\" \",IF(B21=$H$11,Simulador!$M$31,+IF(B22>0,VLOOKUP(B22,Simulador!$A$32:$T$550,13,0),\" \")))","v":16.75},{"$f":"IF($H$11=0,\" \",IF(B21=$H$11,Simulador!$T$31,+IF(B22>0,VLOOKUP(B22,Simulador!$A$32:$T$550,20,0),\" \")))","v":0},{"$f":"IF($H$11=0,\" \",IF(B21=$H$11,Simulador!$V$31,+IF(B22>0,VLOOKUP(B22,Simulador!$A$32:$Z$550,22,0),\" \")))","v":1111.2894444444446}]
[null,6,{"$f":"IF($H$11=0,\" \",IF(B22=$H$11,\"TOTALES\",+IF(B23>0,VLOOKUP(B23,Simulador!$A$32:$T$550,3,0),\" \")))","v":"2024-11-01"},{"$f":"IF($H$11=0,\" \",IF(B22=$H$11,Simulador!$J$33,+IF(B23>0,VLOOKUP(B23,Simulador!$A$32:$T$550,11,0),\" \")))","v":670.91944444444459},{"$f":"IF($H$11=0,\" \",IF(B22=$H$11,Simulador!$L$31,+IF(B23>0,VLOOKUP(B23,Simulador!$A$32:$T$550,12,0),\" \")))","v":423.62},{"$f":"IF($H$11=0,\" \",IF(B22=$H$11,Simulador!$M$31,+IF(B23>0,VLOOKUP(B23,Simulador!$A$32:$T$550,13,0),\" \")))","v":16.75},{"$f":"IF($H$11=0,\" \",IF(B22=$H$11,Simulador!$T$31,+IF(B23>0,VLOOKUP(B23,Simulador!$A$32:$T$550,20,0),\" \")))","v":0},{"$f":"IF($H$11=0,\" \",IF(B22=$H$11,Simulador!$V$31,+IF(B23>0,VLOOKUP(B23,Simulador!$A$32:$Z$550,22,0),\" \")))","v":1111.2894444444446}]
[null,7,{"$f":"IF($H$11=0,\" \",IF(B23=$H$11,\"TOTALES\",+IF(B24>0,VLOOKUP(B24,Simulador!$A$32:$T$550,3,0),\" \")))","v":"2024-12-01"},{"$f":"IF($H$11=0,\" \",IF(B23=$H$11,Simulador!$J$33,+IF(B24>0,VLOOKUP(B24,Simulador!$A$32:$T$550,11,0),\" \")))","v":694.95944444444467},{"$f":"IF($H$11=0,\" \",IF(B23=$H$11,Simulador!$L$31,+IF(B24>0,VLOOKUP(B24,Simulador!$A$32:$T$550,12,0),\" \")))","v":399.58},{"$f":"IF($H$11=0,\" \",IF(B23=$H$11,Simulador!$M$31,+IF(B24>0,VLOOKUP(B24,Simulador!$A$32:$T$550,13,0),\" \")))","v":16.75},{"$f":"IF($H$11=0,\" \",IF(B23=$H$11,Simulador!$T$31,+IF(B24>0,VLOOKUP(B24,Simulador!$A$32:$T$550,20,0),\" \")))","v":0},{"$f":"IF($H$11=0,\" \",IF(B23=$H$11,Simulador!$V$31,+IF(B24>0,VLOOKUP(B24,Simulador!$A$32:$Z$550,22,0),\" \")))","v":1111.2894444444446}]
[null,8,{"$f":"IF($H$11=0,\" \",IF(B24=$H$11,\"TOTALES\",+IF(B25>0,VLOOKUP(B25,Simulador!$A$32:$T$550,3,0),\" \")))","v":"2025-01-01"},{"$f":"IF($H$11=0,\" \",IF(B24=$H$11,Simulador!$J$33,+IF(B25>0,VLOOKUP(B25,Simulador!$A$32:$T$550,11,0),\" \")))","v":692.52944444444461},{"$f":"IF($H$11=0,\" \",IF(B24=$H$11,Simulador!$L$31,+IF(B25>0,VLOOKUP(B25,Simulador!$A$32:$T$550,12,0),\" \")))","v":402.01},{"$f":"IF($H$11=0,\" \",IF(B24=$H$11,Simulador!$M$31,+IF(B25>0,VLOOKUP(B25,Simulador!$A$32:$T$550,13,0),\" \")))","v":16.75},{"$f":"IF($H$11=0,\" \",IF(B24=$H$11,Simulador!$T$31,+IF(B25>0,VLOOKUP(B25,Simulador!$A$32:$T$550,20,0),\" \")))","v":0},{"$f":"IF($H$11=0,\" \",IF(B24=$H$11,Simulador!$V$31,+IF(B25>0,VLOOKUP(B25,Simulador!$A$32:$Z$550,22,0),\" \")))","v":1111.2894444444446}]
[null,9,{"$f":"IF($H$11=0,\" \",IF(B25=$H$11,\"TOTALES\",+IF(B26>0,VLOOKUP(B26,Simulador!$A$32:$T$550,3,0),\" \")))","v":"2025-02-01"},{"$f":"IF($H$11=0,\" \",IF(B25=$H$11,Simulador!$J$33,+IF(B26>0,VLOOKUP(B26,Simulador!$A$32:$T$550,11,0),\" \")))","v":703.48944444444464},{"$f":"IF($H$11=0,\" \",IF(B25=$H$11,Simulador!$L$31,+IF(B26>0,VLOOKUP(B26,Simulador!$A$32:$T$550,12,0),\" \")))","v":391.05},{"$f":"IF($H$11=0,\" \",IF(B25=$H$11,Simulador!$M$31,+IF(B26>0,VLOOKUP(B26,Simulador!$A$32:$T$550,13,0),\" \")))","v":16.75},{"$f":"IF($H$11=0,\" \",IF(B25=$H$11,Simulador!$T$31,+IF(B26>0,VLOOKUP(B26,Simulador!$A$32:$T$550,20,0),\" \")))","v":0},{"$f":"IF($H$11=0,\" \",IF(B25=$H$11,Simulador!$V$31,+IF(B26>0,VLOOKUP(B26,Simulador!$A$32:$Z$550,22,0),\" \")))","v":1111.2894444444446}]
[null,10,{"$f":"IF($H$11=0,\" \",IF(B26=$H$11,\"TOTALES\",+IF(B27>0,VLOOKUP(B27,Simulador!$A$32:$T$550,3,0),\" \")))","v":"2025-03-01"},{"$f":"IF($H$11=0,\" \",IF(B26=$H$11,Simulador!$J$33,+IF(B27>0,VLOOKUP(B27,Simulador!$A$32:$T$550,11,0),\" \")))","v":751.64944444444461},{"$f":"IF($H$11=0,\" \",IF(B26=$H$11,Simulador!$L$31,+IF(B27>0,VLOOKUP(B27,Simulador!$A$32:$T$550,12,0),\" \")))","v":342.89},{"$f":"IF($H$11=0,\" \",IF(B26=$H$11,Simulador!$M$31,+IF(B27>0,VLOOKUP(B27,Simulador!$A$32:$T$550,13,0),\" \")))","v":16.75},{"$f":"IF($H$11=0,\" \",IF(B26=$H$11,Simulador!$T$31,+IF(B27>0,VLOOKUP(B27,Simulador!$A$32:$T$550,20,0),\" \")))","v":0},{"$f":"IF($H$11=0,\" \",IF(B26=$H$11,Simulador!$V$31,+IF(B27>0,VLOOKUP(B27,Simulador!$A$32:$Z$550,22,0),\" \")))","v":1111.2894444444446}]
[null,11,{"$f":"IF($H$11=0,\" \",IF(B27=$H$11,\"TOTALES\",+IF(B28>0,VLOOKUP(B28,Simulador!$A$32:$T$550,3,0),\" \")))","v":"2025-04-01"},{"$f":"IF($H$11=0,\" \",IF(B27=$H$11,Simulador!$J$33,+IF(B28>0,VLOOKUP(B28,Simulador!$A$32:$T$550,11,0),\" \")))","v":726.50944444444463},{"$f":"IF($H$11=0,\" \",IF(B27=$H$11,Simulador!$L$31,+IF(B28>0,VLOOKUP(B28,Simulador!$A$32:$T$550,12,0),\" \")))","v":368.03},{"$f":"IF($H$11=0,\" \",IF(B27=$H$11,Simulador!$M$31,+IF(B28>0,VLOOKUP(B28,Simulador!$A$32:$T$550,13,0),\" \")))","v":16.75},{"$f":"IF($H$11=0,\" \",IF(B27=$H$11,Simulador!$T$31,+IF(B28>0,VLOOKUP(B28,Simulador!$A$32:$T$550,20,0),\" \")))","v":0},{"$f":"IF($H$11=0,\" \",IF(B27=$H$11,Simulador!$V$31,+IF(B28>0,VLOOKUP(B28,Simulador!$A$32:$Z$550,22,0),\" \")))","v":1111.2894444444446}]
[null,12,{"$f":"IF($H$11=0,\" \",IF(B28=$H$11,\"TOTALES\",+IF(B29>0,VLOOKUP(B29,Simulador!$A$32:$T$550,3,0),\" \")))","v":"2025-05-01"},{"$f":"IF($H$11=0,\" \",IF(B28=$H$11,Simulador!$J$33,+IF(B29>0,VLOOKUP(B29,Simulador!$A$32:$T$550,11,0),\" \")))","v":749.59944444444454},{"$f":"IF($H$11=0,\" \",IF(B28=$H$11,Simulador!$L$31,+IF(B29>0,VLOOKUP(B29,Simulador!$A$32:$T$550,12,0),\" \")))","v":344.94},{"$f":"IF($H$11=0,\" \",IF(B28=$H$11,Simulador!$M$31,+IF(B29>0,VLOOKUP(B29,Simulador!$A$32:$T$550,13,0),\" \")))","v":16.75},{"$f":"IF($H$11=0,\" \",IF(B28=$H$11,Simulador!$T$31,+IF(B29>0,VLOOKUP(B29,Simulador!$A$32:$T$550,20,0),\" \")))","v":0},{"$f":"IF($H$11=0,\" \",IF(B28=$H$11,Simulador!$V$31,+IF(B29>0,VLOOKUP(B29,Simulador!$A$32:$Z$550,22,0),\" \")))","v":1111.2894444444446}]
[null,13,{"$f":"IF($H$11=0,\" \",IF(B29=$H$11,\"TOTALES\",+IF(B30>0,VLOOKUP(B30,Simulador!$A$32:$T$550,3,0),\" \")))","v":"2025-06-01"},{"$f":"IF($H$11=0,\" \",IF(B29=$H$11,Simulador!$J$33,+IF(B30>0,VLOOKUP(B30,Simulador!$A$32:$T$550,11,0),\" \")))","v":749.86944444444453},{"$f":"IF($H$11=0,\" \",IF(B29=$H$11,Simulador!$L$31,+IF(B30>0,VLOOKUP(B30,Simulador!$A$32:$T$550,12,0),\" \")))","v":344.67},{"$f":"IF($H$11=0,\" \",IF(B29=$H$11,Simulador!$M$31,+IF(B30>0,VLOOKUP(B30,Simulador!$A$32:$T$550,13,0),\" \")))","v":16.75},{"$f":"IF($H$11=0,\" \",IF(B29=$H$11,Simulador!$T$31,+IF(B30>0,VLOOKUP(B30,Simulador!$A$32:$T$550,20,0),\" \")))","v":0},{"$f":"IF($H$11=0,\" \",IF(B29=$H$11,Simulador!$V$31,+IF(B30>0,VLOOKUP(B30,Simulador!$A$32:$Z$550,22,0),\" \")))","v":1111.2894444444446}]
[null,14,{"$f":"IF($H$11=0,\" \",IF(B30=$H$11,\"TOTALES\",+IF(B31>0,VLOOKUP(B31,Simulador!$A$32:$T$550,3,0),\" \")))","v":"2025-07-01"},{"$f":"IF($H$11=0,\" \",IF(B30=$H$11,Simulador!$J$33,+IF(B31>0,VLOOKUP(B31,Simulador!$A$32:$T$550,11,0),\" \")))","v":772.55944444444458},{"$f":"IF($H$11=0,\" \",IF(B30=$H$11,Simulador!$L$31,+IF(B31>0,VLOOKUP(B31,Simulador!$A$32:$T$550,12,0),\" \")))","v":321.98},{"$f":"IF($H$11=0,\" \",IF(B30=$H$11,Simulador!$M$31,+IF(B31>0,VLOOKUP(B31,Simulador!$A$32:$T$550,13,0),\" \")))","v":16.75},{"$f":"IF($H$11=0,\" \",IF(B30=$H$11,Simulador!$T$31,+IF(B31>0,VLOOKUP(B31,Simulador!$A$32:$T$550,20,0),\" \")))","v":0},{"$f":"IF($H$11=0,\" \",IF(B30=$H$11,Simulador!$V$31,+IF(B31>0,VLOOKUP(B31,Simulador!$A$32:$Z$550,22,0),\" \")))","v":1111.2894444444446}]
[null,15,{"$f":"IF($H$11=0,\" \",IF(B31=$H$11,\"TOTALES\",+IF(B32>0,VLOOKUP(B32,Simulador!$A$32:$T$550,3,0),\" \")))","v":"2025-08-01"},{"$f":"IF($H$11=0,\" \",IF(B31=$H$11,Simulador!$J$33,+IF(B32>0,VLOOKUP(B32,Simulador!$A$32:$T$550,11,0),\" \")))","v":773.95944444444467},{"$f":"IF($H$11=0,\" \",IF(B31=$H$11,Simulador!$L$31,+IF(B32>0,VLOOKUP(B32,Simulador!$A$32:$T$550,12,0),\" \")))","v":320.58},{"$f":"IF($H$11=0,\" \",IF(B31=$H$11,Simulador!$M$31,+IF(B32>0,VLOOKUP(B32,Simulador!$A$32:$T$550,13,0),\" \")))","v":16.75},{"$f":"IF($H$11=0,\" \",IF(B31=$H$11,Simulador!$T$31,+IF(B32>0,VLOOKUP(B32,Simulador!$A$32:$T$550,20,0),\" \")))","v":0},{"$f":"IF($H$11=0,\" \",IF(B31=$H$11,Simulador!$V$31,+IF(B32>0,VLOOKUP(B32,Simulador!$A$32:$Z$550,22,0),\" \")))","v":1111.2894444444446}]
[null,16,{"$f":"IF($H$11=0,\" \",IF(B32=$H$11,\"TOTALES\",+IF(B33>0,VLOOKUP(B33,Simulador!$A$32:$T$550,3,0),\" \")))","v":"2025-09-01"},{"$f":"IF($H$11=0,\" \",IF(B32=$H$11,Simulador!$J$33,+IF(B33>0,VLOOKUP(B33,Simulador!$A$32:$T$550,11,0),\" \")))","v":786.20944444444467},{"$f":"IF($H$11=0,\" \",IF(B32=$H$11,Simulador!$L$31,+IF(B33>0,VLOOKUP(B33,Simulador!$A$32:$T$550,12,0),\" \")))","v":308.33},{"$f":"IF($H$11=0,\" \",IF(B32=$H$11,Simulador!$M$31,+IF(B33>0,VLOOKUP(B33,Simulador!$A$32:$T$550,13,0),\" \")))","v":16.75},{"$f":"IF($H$11=0,\" \",IF(B32=$H$11,Simulador!$T$31,+IF(B33>0,VLOOKUP(B33,Simulador!$A$32:$T$550,20,0),\" \")))","v":0},{"$f":"IF($H$11=0,\" \",IF(B32=$H$11,Simulador!$V$31,+IF(B33>0,VLOOKUP(B33,Simulador!$A$32:$Z$550,22,0),\" \")))","v":1111.2894444444446}]
[null,17,{"$f":"IF($H$11=0,\" \",IF(B33=$H$11,\"TOTALES\",+IF(B34>0,VLOOKUP(B34,Simulador!$A$32:$T$550,3,0),\" \")))","v":"2025-10-01"},{"$f":"IF($H$11=0,\" \",IF(B33=$H$11,Simulador!$J$33,+IF(B34>0,VLOOKUP(B34,Simulador!$A$32:$T$550,11,0),\" \")))","v":808.26944444444462},{"$f":"IF($H$11=0,\" \",IF(B33=$H$11,Simulador!$L$31,+IF(B34>0,VLOOKUP(B34,Simulador!$A$32:$T$550,12,0),\" \")))","v":286.27},{"$f":"IF($H$11=0,\" \",IF(B33=$H$11,Simulador!$M$31,+IF(B34>0,VLOOKUP(B34,Simulador!$A$32:$T$550,13,0),\" \")))","v":16.75},{"$f":"IF($H$11=0,\" \",IF(B33=$H$11,Simulador!$T$31,+IF(B34>0,VLOOKUP(B34,Simulador!$A$32:$T$550,20,0),\" \")))","v":0},{"$f":"IF($H$11=0,\" \",IF(B33=$H$11,Simulador!$V$31,+IF(B34>0,VLOOKUP(B34,Simulador!$A$32:$Z$550,22,0),\" \")))","v":1111.2894444444446}]
[null,18,{"$f":"IF($H$11=0,\" \",IF(B34=$H$11,\"TOTALES\",+IF(B35>0,VLOOKUP(B35,Simulador!$A$32:$T$550,3,0),\" \")))","v":"2025-11-01"},{"$f":"IF($H$11=0,\" \",IF(B34=$H$11,Simulador!$J$33,+IF(B35>0,VLOOKUP(B35,Simulador!$A$32:$T$550,11,0),\" \")))","v":811.43944444444458},{"$f":"IF($H$11=0,\" \",IF(B34=$H$11,Simulador!$L$31,+IF(B35>0,VLOOKUP(B35,Simulador!$A$32:$T$550,12,0),\" \")))","v":283.10000000000002},{"$f":"IF($H$11=0,\" \",IF(B34=$H$11,Simulador!$M$31,+IF(B35>0,VLOOKUP(B35,Simulador!$A$32:$T$550,13,0),\" \")))","v":16.75},{"$f":"IF($H$11=0,\" \",IF(B34=$H$11,Simulador!$T$31,+IF(B35>0,VLOOKUP(B35,Simulador!$A$32:$T$550,20,0),\" \")))","v":0},{"$f":"IF($H$11=0,\" \",IF(B34=$H$11,Simulador!$V$31,+IF(B35>0,VLOOKUP(B35,Simulador!$A$32:$Z$550,22,0),\" \")))","v":1111.2894444444446}]
[null,19,{"$f":"IF($H$11=0,\" \",IF(B35=$H$11,\"TOTALES\",+IF(B36>0,VLOOKUP(B36,Simulador!$A$32:$T$550,3,0),\" \")))","v":"2025-12-01"},{"$f":"IF($H$11=0,\" \",IF(B35=$H$11,Simulador!$J$33,+IF(B36>0,VLOOKUP(B36,Simulador!$A$32:$T$550,11,0),\" \")))","v":833.06944444444457},{"$f":"IF($H$11=0,\" \",IF(B35=$H$11,Simulador!$L$31,+IF(B36>0,VLOOKUP(B36,Simulador!$A$32:$T$550,12,0),\" \")))","v":261.47000000000003},{"$f":"IF($H$11=0,\" \",IF(B35=$H$11,Simulador!$M$31,+IF(B36>0,VLOOKUP(B36,Simulador!$A$32:$T$550,13,0),\" \")))","v":16.75},{"$f":"IF($H$11=0,\" \",IF(B35=$H$11,Simulador!$T$31,+IF(B36>0,VLOOKUP(B36,Simulador!$A$32:$T$550,20,0),\" \")))","v":0},{"$f":"IF($H$11=0,\" \",IF(B35=$H$11,Simulador!$V$31,+IF(B36>0,VLOOKUP(B36,Simulador!$A$32:$Z$550,22,0),\" \")))","v":1111.2894444444446}]
[null,20,{"$f":"IF($H$11=0,\" \",IF(B36=$H$11,\"TOTALES\",+IF(B37>0,VLOOKUP(B37,Simulador!$A$32:$T$550,3,0),\" \")))","v":"2026-01-01"},{"$f":"IF($H$11=0,\" \",IF(B36=$H$11,Simulador!$J$33,+IF(B37>0,VLOOKUP(B37,Simulador!$A$32:$T$550,11,0),\" \")))","v":837.45944444444467},{"$f":"IF($H$11=0,\" \",IF(B36=$H$11,Simulador!$L$31,+IF(B37>0,VLOOKUP(B37,Simulador!$A$32:$T$550,12,0),\" \")))","v":257.08},{"$f":"IF($H$11=0,\" \",IF(B36=$H$11,Simulador!$M$31,+IF(B37>0,VLOOKUP(B37,Simulador!$A$32:$T$550,13,0),\" \")))","v":16.75},{"$f":"IF($H$11=0,\" \",IF(B36=$H$11,Simulador!$T$31,+IF(B37>0,VLOOKUP(B37,Simulador!$A$32:$T$550,20,0),\" \")))","v":0},{"$f":"IF($H$11=0,\" \",IF(B36=$H$11,Simulador!$V$31,+IF(B37>0,VLOOKUP(B37,Simulador!$A$32:$Z$550,22,0),\" \")))","v":1111.2894444444446}]
[null,21,{"$f":"IF($H$11=0,\" \",IF(B37=$H$11,\"TOTALES\",+IF(B38>0,VLOOKUP(B38,Simulador!$A$32:$T$550,3,0),\" \")))","v":"2026-02-01"},{"$f":"IF($H$11=0,\" \",IF(B37=$H$11,Simulador!$J$33,+IF(B38>0,VLOOKUP(B38,Simulador!$A$32:$T$550,11,0),\" \")))","v":850.70944444444456},{"$f":"IF($H$11=0,\" \",IF(B37=$H$11,Simulador!$L$31,+IF(B38>0,VLOOKUP(B38,Simulador!$A$32:$T$550,12,0),\" \")))","v":243.83},{"$f":"IF($H$11=0,\" \",IF(B37=$H$11,Simulador!$M$31,+IF(B38>0,VLOOKUP(B38,Simulador!$A$32:$T$550,13,0),\" \")))","v":16.75},{"$f":"IF($H$11=0,\" \",IF(B37=$H$11,Simulador!$T$31,+IF(B38>0,VLOOKUP(B38,Simulador!$A$32:$T$550,20,0),\" \")))","v":0},{"$f":"IF($H$11=0,\" \",IF(B37=$H$11,Simulador!$V$31,+IF(B38>0,VLOOKUP(B38,Simulador!$A$32:$Z$550,22,0),\" \")))","v":1111.2894444444446}]
[null,22,{"$f":"IF($H$11=0,\" \",IF(B38=$H$11,\"TOTALES\",+IF(B39>0,VLOOKUP(B39,Simulador!$A$32:$T$550,3,0),\" \")))","v":"2026-03-01"},{"$f":"IF($H$11=0,\" \",IF(B38=$H$11,Simulador!$J$33,+IF(B39>0,VLOOKUP(B39,Simulador!$A$32:$T$550,11,0),\" \")))","v":886.62944444444463},{"$f":"IF($H$11=0,\" \",IF(B38=$H$11,Simulador!$L$31,+IF(B39>0,VLOOKUP(B39,Simulador!$A$32:$T$550,12,0),\" \")))","v":207.91},{"$f":"IF($H$11=0,\" \",IF(B38=$H$11,Simulador!$M$31,+IF(B39>0,VLOOKUP(B39,Simulador!$A$32:$T$550,13,0),\" \")))","v":16.75},{"$f":"IF($H$11=0,\" \",IF(B38=$H$11,Simulador!$T$31,+IF(B39>0,VLOOKUP(B39,Simulador!$A$32:$T$550,20,0),\" \")))","v":0},{"$f":"IF($H$11=0,\" \",IF(B38=$H$11,Simulador!$V$31,+IF(B39>0,VLOOKUP(B39,Simulador!$A$32:$Z$550,22,0),\" \")))","v":1111.2894444444446}]
[null,23,{"$f":"IF($H$11=0,\" \",IF(B39=$H$11,\"TOTALES\",+IF(B40>0,VLOOKUP(B40,Simulador!$A$32:$T$550,3,0),\" \")))","v":"2026-04-01"},{"$f":"IF($H$11=0,\" \",IF(B39=$H$11,Simulador!$J$33,+IF(B40>0,VLOOKUP(B40,Simulador!$A$32:$T$550,11,0),\" \")))","v":878.20944444444456},{"$f":"IF($H$11=0,\" \",IF(B39=$H$11,Simulador!$L$31,+IF(B40>0,VLOOKUP(B40,Simulador!$A$32:$T$550,12,0),\" \")))","v":216.33},{"$f":"IF($H$11=0,\" \",IF(B39=$H$11,Simulador!$M$31,+IF(B40>0,VLOOKUP(B40,Simulador!$A$32:$T$550,13,0),\" \")))","v":16.75},{"$f":"IF($H$11=0,\" \",IF(B39=$H$11,Simulador!$T$31,+IF(B40>0,VLOOKUP(B40,Simulador!$A$32:$T$550,20,0),\" \")))","v":0},{"$f":"IF($H$11=0,\" \",IF(B39=$H$11,Simulador!$V$31,+IF(B40>0,VLOOKUP(B40,Simulador!$A$32:$Z$550,22,0),\" \")))","v":1111.2894444444446}]
[null,24,{"$f":"IF($H$11=0,\" \",IF(B40=$H$11,\"TOTALES\",+IF(B41>0,VLOOKUP(B41,Simulador!$A$32:$T$550,3,0),\" \")))","v":"2026-05-01"},{"$f":"IF($H$11=0,\" \",IF(B40=$H$11,Simulador!$J$33,+IF(B41>0,VLOOKUP(B41,Simulador!$A$32:$T$550,11,0),\" \")))","v":898.67944444444458},{"$f":"IF($H$11=0,\" \",IF(B40=$H$11,Simulador!$L$31,+IF(B41>0,VLOOKUP(B41,Simulador!$A$32:$T$550,12,0),\" \")))","v":195.86},{"$f":"IF($H$11=0,\" \",IF(B40=$H$11,Simulador!$M$31,+IF(B41>0,VLOOKUP(B41,Simulador!$A$32:$T$550,13,0),\" \")))","v":16.75},{"$f":"IF($H$11=0,\" \",IF(B40=$H$11,Simulador!$T$31,+IF(B41>0,VLOOKUP(B41,Simulador!$A$32:$T$550,20,0),\" \")))","v":0},{"$f":"IF($H$11=0,\" \",IF(B40=$H$11,Simulador!$V$31,+IF(B41>0,VLOOKUP(B41,Simulador!$A$32:$Z$550,22,0),\" \")))","v":1111.2894444444446}]
[null,25,{"$f":"IF($H$11=0,\" \",IF(B41=$H$11,\"TOTALES\",+IF(B42>0,VLOOKUP(B42,Simulador!$A$32:$T$550,3,0),\" \")))","v":"2026-06-01"},{"$f":"IF($H$11=0,\" \",IF(B41=$H$11,Simulador!$J$33,+IF(B42>0,VLOOKUP(B42,Simulador!$A$32:$T$550,11,0),\" \")))","v":906.31944444444457},{"$f":"IF($H$11=0,\" \",IF(B41=$H$11,Simulador!$L$31,+IF(B42>0,VLOOKUP(B42,Simulador!$A$32:$T$550,12,0),\" \")))","v":188.22},{"$f":"IF($H$11=0,\" \",IF(B41=$H$11,Simulador!$M$31,+IF(B42>0,VLOOKUP(B42,Simulador!$A$32:$T$550,13,0),\" \")))","v":16.75},{"$f":"IF($H$11=0,\" \",IF(B41=$H$11,Simulador!$T$31,+IF(B42>0,VLOOKUP(B42,Simulador!$A$32:$T$550,20,0),\" \")))","v":0},{"$f":"IF($H$11=0,\" \",IF(B41=$H$11,Simulador!$V$31,+IF(B42>0,VLOOKUP(B42,Simulador!$A$32:$Z$550,22,0),\" \")))","v":1111.2894444444446}]
[null,26,{"$f":"IF($H$11=0,\" \",IF(B42=$H$11,\"TOTALES\",+IF(B43>0,VLOOKUP(B43,Simulador!$A$32:$T$550,3,0),\" \")))","v":"2026-07-01"},{"$f":"IF($H$11=0,\" \",IF(B42=$H$11,Simulador!$J$33,+IF(B43>0,VLOOKUP(B43,Simulador!$A$32:$T$550,11,0),\" \")))","v":926.31944444444457},{"$f":"IF($H$11=0,\" \",IF(B42=$H$11,Simulador!$L$31,+IF(B43>0,VLOOKUP(B43,Simulador!$A$32:$T$550,12,0),\" \")))","v":168.22},{"$f":"IF($H$11=0,\" \",IF(B42=$H$11,Simulador!$M$31,+IF(B43>0,VLOOKUP(B43,Simulador!$A$32:$T$550,13,0),\" \")))","v":16.75},{"$f":"IF($H$11=0,\" \",IF(B42=$H$11,Simulador!$T$31,+IF(B43>0,VLOOKUP(B43,Simulador!$A$32:$T$550,20,0),\" \")))","v":0},{"$f":"IF($H$11=0,\" \",IF(B42=$H$11,Simulador!$V$31,+IF(B43>0,VLOOKUP(B43,Simulador!$A$32:$Z$550,22,0),\" \")))","v":1111.2894444444446}]
[null,27,{"$f":"IF($H$11=0,\" \",IF(B43=$H$11,\"TOTALES\",+IF(B44>0,VLOOKUP(B44,Simulador!$A$32:$T$550,3,0),\" \")))","v":"2026-08-01"},{"$f":"IF($H$11=0,\" \",IF(B43=$H$11,Simulador!$J$33,+IF(B44>0,VLOOKUP(B44,Simulador!$A$32:$T$550,11,0),\" \")))","v":935.31944444444457},{"$f":"IF($H$11=0,\" \",IF(B43=$H$11,Simulador!$L$31,+IF(B44>0,VLOOKUP(B44,Simulador!$A$32:$T$550,12,0),\" \")))","v":159.22},{"$f":"IF($H$11=0,\" \",IF(B43=$H$11,Simulador!$M$31,+IF(B44>0,VLOOKUP(B44,Simulador!$A$32:$T$550,13,0),\" \")))","v":16.75},{"$f":"IF($H$11=0,\" \",IF(B43=$H$11,Simulador!$T$31,+IF(B44>0,VLOOKUP(B44,Simulador!$A$32:$T$550,20,0),\" \")))","v":0},{"$f":"IF($H$11=0,\" \",IF(B43=$H$11,Simulador!$V$31,+IF(B44>0,VLOOKUP(B44,Simulador!$A$32:$Z$550,22,0),\" \")))","v":1111.2894444444446}]
[null,28,{"$f":"IF($H$11=0,\" \",IF(B44=$H$11,\"TOTALES\",+IF(B45>0,VLOOKUP(B45,Simulador!$A$32:$T$550,3,0),\" \")))","v":"2026-09-01"},{"$f":"IF($H$11=0,\" \",IF(B44=$H$11,Simulador!$J$33,+IF(B45>0,VLOOKUP(B45,Simulador!$A$32:$T$550,11,0),\" \")))","v":950.11944444444464},{"$f":"IF($H$11=0,\" \",IF(B44=$H$11,Simulador!$L$31,+IF(B45>0,VLOOKUP(B45,Simulador!$A$32:$T$550,12,0),\" \")))","v":144.41999999999999},{"$f":"IF($H$11=0,\" \",IF(B44=$H$11,Simulador!$M$31,+IF(B45>0,VLOOKUP(B45,Simulador!$A$32:$T$550,13,0),\" \")))","v":16.75},{"$f":"IF($H$11=0,\" \",IF(B44=$H$11,Simulador!$T$31,+IF(B45>0,VLOOKUP(B45,Simulador!$A$32:$T$550,20,0),\" \")))","v":0},{"$f":"IF($H$11=0,\" \",IF(B44=$H$11,Simulador!$V$31,+IF(B45>0,VLOOKUP(B45,Simulador!$A$32:$Z$550,22,0),\" \")))","v":1111.2894444444446}]
[null,29,{"$f":"IF($H$11=0,\" \",IF(B45=$H$11,\"TOTALES\",+IF(B46>0,VLOOKUP(B46,Simulador!$A$32:$T$550,3,0),\" \")))","v":"2026-10-01"},{"$f":"IF($H$11=0,\" \",IF(B45=$H$11,Simulador!$J$33,+IF(B46>0,VLOOKUP(B46,Simulador!$A$32:$T$550,11,0),\" \")))","v":969.35944444444453},{"$f":"IF($H$11=0,\" \",IF(B45=$H$11,Simulador!$L$31,+IF(B46>0,VLOOKUP(B46,Simulador!$A$32:$T$550,12,0),\" \")))","v":125.18},{"$f":"IF($H$11=0,\" \",IF(B45=$H$11,Simulador!$M$31,+IF(B46>0,VLOOKUP(B46,Simulador!$A$32:$T$550,13,0),\" \")))","v":16.75},{"$f":"IF($H$11=0,\" \",IF(B45=$H$11,Simulador!$T$31,+IF(B46>0,VLOOKUP(B46,Simulador!$A$32:$T$550,20,0),\" \")))","v":0},{"$f":"IF($H$11=0,\" \",IF(B45=$H$11,Simulador!$V$31,+IF(B46>0,VLOOKUP(B46,Simulador!$A$32:$Z$550,22,0),\" \")))","v":1111.2894444444446}]
[null,30,{"$f":"IF($H$11=0,\" \",IF(B46=$H$11,\"TOTALES\",+IF(B47>0,VLOOKUP(B47,Simulador!$A$32:$T$550,3,0),\" \")))","v":"2026-11-01"},{"$f":"IF($H$11=0,\" \",IF(B46=$H$11,Simulador!$J$33,+IF(B47>0,VLOOKUP(B47,Simulador!$A$32:$T$550,11,0),\" \")))","v":980.49944444444463},{"$f":"IF($H$11=0,\" \",IF(B46=$H$11,Simulador!$L$31,+IF(B47>0,VLOOKUP(B47,Simulador!$A$32:$T$550,12,0),\" \")))","v":114.04},{"$f":"IF($H$11=0,\" \",IF(B46=$H$11,Simulador!$M$31,+IF(B47>0,VLOOKUP(B47,Simulador!$A$32:$T$550,13,0),\" \")))","v":16.75},{"$f":"IF($H$11=0,\" \",IF(B46=$H$11,Simulador!$T$31,+IF(B47>0,VLOOKUP(B47,Simulador!$A$32:$T$550,20,0),\" \")))","v":0},{"$f":"IF($H$11=0,\" \",IF(B46=$H$11,Simulador!$V$31,+IF(B47>0,VLOOKUP(B47,Simulador!$A$32:$Z$550,22,0),\" \")))","v":1111.2894444444446}]
[null,31,{"$f":"IF($H$11=0,\" \",IF(B47=$H$11,\"TOTALES\",+IF(B48>0,VLOOKUP(B48,Simulador!$A$32:$T$550,3,0),\" \")))","v":"2026-12-01"},{"$f":"IF($H$11=0,\" \",IF(B47=$H$11,Simulador!$J$33,+IF(B48>0,VLOOKUP(B48,Simulador!$A$32:$T$550,11,0),\" \")))","v":999.20944444444456},{"$f":"IF($H$11=0,\" \",IF(B47=$H$11,Simulador!$L$31,+IF(B48>0,VLOOKUP(B48,Simulador!$A$32:$T$550,12,0),\" \")))","v":95.33},{"$f":"IF($H$11=0,\" \",IF(B47=$H$11,Simulador!$M$31,+IF(B48>0,VLOOKUP(B48,Simulador!$A$32:$T$550,13,0),\" \")))","v":16.75},{"$f":"IF($H$11=0,\" \",IF(B47=$H$11,Simulador!$T$31,+IF(B48>0,VLOOKUP(B48,Simulador!$A$32:$T$550,20,0),\" \")))","v":0},{"$f":"IF($H$11=0,\" \",IF(B47=$H$11,Simulador!$V$31,+IF(B48>0,VLOOKUP(B48,Simulador!$A$32:$Z$550,22,0),\" \")))","v":1111.2894444444446}]
[null,32,{"$f":"IF($H$11=0,\" \",IF(B48=$H$11,\"TOTALES\",+IF(B49>0,VLOOKUP(B49,Simulador!$A$32:$T$550,3,0),\" \")))","v":"2027-01-01"},{"$f":"IF($H$11=0,\" \",IF(B48=$H$11,Simulador!$J$33,+IF(B49>0,VLOOKUP(B49,Simulador!$A$32:$T$550,11,0),\" \")))","v":1011.8194444444446},{"$f":"IF($H$11=0,\" \",IF(B48=$H$11,Simulador!$L$31,+IF(B49>0,VLOOKUP(B49,Simulador!$A$32:$T$550,12,0),\" \")))","v":82.72},{"$f":"IF($H$11=0,\" \",IF(B48=$H$11,Simulador!$M$31,+IF(B49>0,VLOOKUP(B49,Simulador!$A$32:$T$550,13,0),\" \")))","v":16.75},{"$f":"IF($H$11=0,\" \",IF(B48=$H$11,Simulador!$T$31,+IF(B49>0,VLOOKUP(B49,Simulador!$A$32:$T$550,20,0),\" \")))","v":0},{"$f":"IF($H$11=0,\" \",IF(B48=$H$11,Simulador!$V$31,+IF(B49>0,VLOOKUP(B49,Simulador!$A$32:$Z$550,22,0),\" \")))","v":1111.2894444444446}]
[null,33,{"$f":"IF($H$11=0,\" \",IF(B49=$H$11,\"TOTALES\",+IF(B50>0,VLOOKUP(B50,Simulador!$A$32:$T$550,3,0),\" \")))","v":"2027-02-01"},{"$f":"IF($H$11=0,\" \",IF(B49=$H$11,Simulador!$J$33,+IF(B50>0,VLOOKUP(B50,Simulador!$A$32:$T$550,11,0),\" \")))","v":1027.8294444444446},{"$f":"IF($H$11=0,\" \",IF(B49=$H$11,Simulador!$L$31,+IF(B50>0,VLOOKUP(B50,Simulador!$A$32:$T$550,12,0),\" \")))","v":66.709999999999994},{"$f":"IF($H$11=0,\" \",IF(B49=$H$11,Simulador!$M$31,+IF(B50>0,VLOOKUP(B50,Simulador!$A$32:$T$550,13,0),\" \")))","v":16.75},{"$f":"IF($H$11=0,\" \",IF(B49=$H$11,Simulador!$T$31,+IF(B50>0,VLOOKUP(B50,Simulador!$A$32:$T$550,20,0),\" \")))","v":0},{"$f":"IF($H$11=0,\" \",IF(B49=$H$11,Simulador!$V$31,+IF(B50>0,VLOOKUP(B50,Simulador!$A$32:$Z$550,22,0),\" \")))","v":1111.2894444444446}]
[null,34,{"$f":"IF($H$11=0,\" \",IF(B50=$H$11,\"TOTALES\",+IF(B51>0,VLOOKUP(B51,Simulador!$A$32:$T$550,3,0),\" \")))","v":"2027-03-01"},{"$f":"IF($H$11=0,\" \",IF(B50=$H$11,Simulador!$J$33,+IF(B51>0,VLOOKUP(B51,Simulador!$A$32:$T$550,11,0),\" \")))","v":1049.0094444444446},{"$f":"IF($H$11=0,\" \",IF(B50=$H$11,Simulador!$L$31,+IF(B51>0,VLOOKUP(B51,Simulador!$A$32:$T$550,12,0),\" \")))","v":45.53},{"$f":"IF($H$11=0,\" \",IF(B50=$H$11,Simulador!$M$31,+IF(B51>0,VLOOKUP(B51,Simulador!$A$32:$T$550,13,0),\" \")))","v":16.75},{"$f":"IF($H$11=0,\" \",IF(B50=$H$11,Simulador!$T$31,+IF(B51>0,VLOOKUP(B51,Simulador!$A$32:$T$550,20,0),\" \")))","v":0},{"$f":"IF($H$11=0,\" \",IF(B50=$H$11,Simulador!$V$31,+IF(B51>0,VLOOKUP(B51,Simulador!$A$32:$Z$550,22,0),\" \")))","v":1111.2894444444446}]
[null,35,{"$f":"IF($H$11=0,\" \",IF(B51=$H$11,\"TOTALES\",+IF(B52>0,VLOOKUP(B52,Simulador!$A$32:$T$550,3,0),\" \")))","v":"2027-04-01"},{"$f":"IF($H$11=0,\" \",IF(B51=$H$11,Simulador!$J$33,+IF(B52>0,VLOOKUP(B52,Simulador!$A$32:$T$550,11,0),\" \")))","v":1060.6994444444447},{"$f":"IF($H$11=0,\" \",IF(B51=$H$11,Simulador!$L$31,+IF(B52>0,VLOOKUP(B52,Simulador!$A$32:$T$550,12,0),\" \")))","v":33.840000000000003},{"$f":"IF($H$11=0,\" \",IF(B51=$H$11,Simulador!$M$31,+IF(B52>0,VLOOKUP(B52,Simulador!$A$32:$T$550,13,0),\" \")))","v":16.75},{"$f":"IF($H$11=0,\" \",IF(B51=$H$11,Simulador!$T$31,+IF(B52>0,VLOOKUP(B52,Simulador!$A$32:$T$550,20,0),\" \")))","v":0},{"$f":"IF($H$11=0,\" \",IF(B51=$H$11,Simulador!$V$31,+IF(B52>0,VLOOKUP(B52,Simulador!$A$32:$Z$550,22,0),\" \")))","v":1111.2894444444446}]
[null,36,{"$f":"IF($H$11=0,\" \",IF(B52=$H$11,\"TOTALES\",+IF(B53>0,VLOOKUP(B53,Simulador!$A$32:$T$550,3,0),\" \")))","v":"2027-05-01"},{"$f":"IF($H$11=0,\" \",IF(B52=$H$11,Simulador!$J$33,+IF(B53>0,VLOOKUP(B53,Simulador!$A$32:$T$550,11,0),\" \")))","v":1078.0394444444446},{"$f":"IF($H$11=0,\" \",IF(B52=$H$11,Simulador!$L$31,+IF(B53>0,VLOOKUP(B53,Simulador!$A$32:$T$550,12,0),\" \")))","v":16.5},{"$f":"IF($H$11=0,\" \",IF(B52=$H$11,Simulador!$M$31,+IF(B53>0,VLOOKUP(B53,Simulador!$A$32:$T$550,13,0),\" \")))","v":16.75},{"$f":"IF($H$11=0,\" \",IF(B52=$H$11,Simulador!$T$31,+IF(B53>0,VLOOKUP(B53,Simulador!$A$32:$T$550,20,0),\" \")))","v":0},{"$f":"IF($H$11=0,\" \",IF(B52=$H$11,Simulador!$V$31,+IF(B53>0,VLOOKUP(B53,Simulador!$A$32:$Z$550,22,0),\" \")))","v":1111.2894444444446}]
[null,"",{"$f":"IF($H$11=0,\" \",IF(B53=$H$11,\"TOTALES\",+IF(B54>0,VLOOKUP(B54,Simulador!$A$32:$T$550,3,0),\" \")))","v":"TOTALES"},{"$f":"IF($H$11=0,\" \",IF(B53=$H$11,Simulador!$J$33,+IF(B54>0,VLOOKUP(B54,Simulador!$A$32:$T$550,11,0),\" \")))","v":30000},{"$f":"IF($H$11=0,\" \",IF(B53=$H$11,Simulador!$L$31,+IF(B54>0,VLOOKUP(B54,Simulador!$A$32:$T$550,12,0),\" \")))","v":9403.4199999999983},{"$f":"IF($H$11=0,\" \",IF(B53=$H$11,Simulador!$M$31,+IF(B54>0,VLOOKUP(B54,Simulador!$A$32:$T$550,13,0),\" \")))","v":603},{"$f":"IF($H$11=0,\" \",IF(B53=$H$11,Simulador!$T$31,+IF(B54>0,VLOOKUP(B54,Simulador!$A$32:$T$550,20,0),\" \")))","v":0},{"$f":"IF($H$11=0,\" \",IF(B53=$H$11,Simulador!$V$31,+IF(B54>0,VLOOKUP(B54,Simulador!$A$32:$Z$550,22,0),\" \")))","v":40006.420000000042}]
[null,"",{"$f":"IF($H$11=0,\" \",IF(B54=$H$11,\"TOTALES\",+IF(B55>0,VLOOKUP(B55,Simulador!$A$32:$T$550,3,0),\" \")))","v":""},{"$f":"IF($H$11=0,\" \",IF(B54=$H$11,Simulador!$J$33,+IF(B55>0,VLOOKUP(B55,Simulador!$A$32:$T$550,11,0),\" \")))","v":""},{"$f":"IF($H$11=0,\" \",IF(B54=$H$11,Simulador!$L$31,+IF(B55>0,VLOOKUP(B55,Simulador!$A$32:$T$550,12,0),\" \")))","v":""},{"$f":"IF($H$11=0,\" \",IF(B54=$H$11,Simulador!$M$31,+IF(B55>0,VLOOKUP(B55,Simulador!$A$32:$T$550,13,0),\" \")))","v":""},{"$f":"IF($H$11=0,\" \",IF(B54=$H$11,Simulador!$T$31,+IF(B55>0,VLOOKUP(B55,Simulador!$A$32:$T$550,20,0),\" \")))","v":""},{"$f":"IF($H$11=0,\" \",IF(B54=$H$11,Simulador!$V$31,+IF(B55>0,VLOOKUP(B55,Simulador!$A$32:$Z$550,22,0),\" \")))","v":""}]
[null,"",{"$f":"IF($H$11=0,\" \",IF(B55=$H$11,\"TOTALES\",+IF(B56>0,VLOOKUP(B56,Simulador!$A$32:$T$550,3,0),\" \")))","v":""},{"$f":"IF($H$11=0,\" \",IF(B55=$H$11,Simulador!$J$33,+IF(B56>0,VLOOKUP(B56,Simulador!$A$32:$T$550,11,0),\" \")))","v":""},{"$f":"IF($H$11=0,\" \",IF(B55=$H$11,Simulador!$L$31,+IF(B56>0,VLOOKUP(B56,Simulador!$A$32:$T$550,12,0),\" \")))","v":""},{"$f":"IF($H$11=0,\" \",IF(B55=$H$11,Simulador!$M$31,+IF(B56>0,VLOOKUP(B56,Simulador!$A$32:$T$550,13,0),\" \")))","v":""},{"$f":"IF($H$11=0,\" \",IF(B55=$H$11,Simulador!$T$31,+IF(B56>0,VLOOKUP(B56,Simulador!$A$32:$T$550,20,0),\" \")))","v":""},{"$f":"IF($H$11=0,\" \",IF(B55=$H$11,Simulador!$V$31,+IF(B56>0,VLOOKUP(B56,Simulador!$A$32:$Z$550,22,0),\" \")))","v":""}]
[null,"",{"$f":"IF($H$11=0,\" \",IF(B56=$H$11,\"TOTALES\",+IF(B57>0,VLOOKUP(B57,Simulador!$A$32:$T$550,3,0),\" \")))","v":""},{"$f":"IF($H$11=0,\" \",IF(B56=$H$11,Simulador!$J$33,+IF(B57>0,VLOOKUP(B57,Simulador!$A$32:$T$550,11,0),\" \")))","v":""},{"$f":"IF($H$11=0,\" \",IF(B56=$H$11,Simulador!$L$31,+IF(B57>0,VLOOKUP(B57,Simulador!$A$32:$T$550,12,0),\" \")))","v":""},{"$f":"IF($H$11=0,\" \",IF(B56=$H$11,Simulador!$M$31,+IF(B57>0,VLOOKUP(B57,Simulador!$A$32:$T$550,13,0),\" \")))","v":""},{"$f":"IF($H$11=0,\" \",IF(B56=$H$11,Simulador!$T$31,+IF(B57>0,VLOOKUP(B57,Simulador!$A$32:$T$550,20,0),\" \")))","v":""},{"$f":"IF($H$11=0,\" \",IF(B56=$H$11,Simulador!$V$31,+IF(B57>0,VLOOKUP(B57,Simulador!$A$32:$Z$550,22,0),\" \")))","v":""}]
[null,"",{"$f":"IF($H$11=0,\" \",IF(B57=$H$11,\"TOTALES\",+IF(B58>0,VLOOKUP(B58,Simulador!$A$32:$T$550,3,0),\" \")))","v":""},{"$f":"IF($H$11=0,\" \",IF(B57=$H$11,Simulador!$J$33,+IF(B58>0,VLOOKUP(B58,Simulador!$A$32:$T$550,11,0),\" \")))","v":""},{"$f":"IF($H$11=0,\" \",IF(B57=$H$11,Simulador!$L$31,+IF(B58>0,VLOOKUP(B58,Simulador!$A$32:$T$550,12,0),\" \")))","v":""},{"$f":"IF($H$11=0,\" \",IF(B57=$H$11,Simulador!$M$31,+IF(B58>0,VLOOKUP(B58,Simulador!$A$32:$T$550,13,0),\" \")))","v":""},{"$f":"IF($H$11=0,\" \",IF(B57=$H$11,Simulador!$T$31,+IF(B58>0,VLOOKUP(B58,Simulador!$A$32:$T$550,20,0),\" \")))","v":""},{"$f":"IF($H$11=0,\" \",IF(B57=$H$11,Simulador!$V$31,+IF(B58>0,VLOOKUP(B58,Simulador!$A$32:$Z$550,22,0),\" \")))","v":""}]
[null,"",{"$f":"IF($H$11=0,\" \",IF(B58=$H$11,\"TOTALES\",+IF(B59>0,VLOOKUP(B59,Simulador!$A$32:$T$550,3,0),\" \")))","v":""},{"$f":"IF($H$11=0,\" \",IF(B58=$H$11,Simulador!$J$33,+IF(B59>0,VLOOKUP(B59,Simulador!$A$32:$T$550,11,0),\" \")))","v":""},{"$f":"IF($H$11=0,\" \",IF(B58=$H$11,Simulador!$L$31,+IF(B59>0,VLOOKUP(B59,Simulador!$A$32:$T$550,12,0),\" \")))","v":""},{"$f":"IF($H$11=0,\" \",IF(B58=$H$11,Simulador!$M$31,+IF(B59>0,VLOOKUP(B59,Simulador!$A$32:$T$550,13,0),\" \")))","v":""},{"$f":"IF($H$11=0,\" \",IF(B58=$H$11,Simulador!$T$31,+IF(B59>0,VLOOKUP(B59,Simulador!$A$32:$T$550,20,0),\" \")))","v":""},{"$f":"IF($H$11=0,\" \",IF(B58=$H$11,Simulador!$V$31,+IF(B59>0,VLOOKUP(B59,Simulador!$A$32:$Z$550,22,0),\" \")))","v":""}]
[null,"",{"$f":"IF($H$11=0,\" \",IF(B59=$H$11,\"TOTALES\",+IF(B60>0,VLOOKUP(B60,Simulador!$A$32:$T$550,3,0),\" \")))","v":""},{"$f":"IF($H$11=0,\" \",IF(B59=$H$11,Simulador!$J$33,+IF(B60>0,VLOOKUP(B60,Simulador!$A$32:$T$550,11,0),\" \")))","v":""},{"$f":"IF($H$11=0,\" \",IF(B59=$H$11,Simulador!$L$31,+IF(B60>0,VLOOKUP(B60,Simulador!$A$32:$T$550,12,0),\" \")))","v":""},{"$f":"IF($H$11=0,\" \",IF(B59=$H$11,Simulador!$M$31,+IF(B60>0,VLOOKUP(B60,Simulador!$A$32:$T$550,13,0),\" \")))","v":""},{"$f":"IF($H$11=0,\" \",IF(B59=$H$11,Simulador!$T$31,+IF(B60>0,VLOOKUP(B60,Simulador!$A$32:$T$550,20,0),\" \")))","v":""},{"$f":"IF($H$11=0,\" \",IF(B59=$H$11,Simulador!$V$31,+IF(B60>0,VLOOKUP(B60,Simulador!$A$32:$Z$550,22,0),\" \")))","v":""}]
[null,"",{"$f":"IF($H$11=0,\" \",IF(B60=$H$11,\"TOTALES\",+IF(B61>0,VLOOKUP(B61,Simulador!$A$32:$T$550,3,0),\" \")))","v":""},{"$f":"IF($H$11=0,\" \",IF(B60=$H$11,Simulador!$J$33,+IF(B61>0,VLOOKUP(B61,Simulador!$A$32:$T$550,11,0),\" \")))","v":""},{"$f":"IF($H$11=0,\" \",IF(B60=$H$11,Simulador!$L$31,+IF(B61>0,VLOOKUP(B61,Simulador!$A$32:$T$550,12,0),\" \")))","v":""},{"$f":"IF($H$11=0,\" \",IF(B60=$H$11,Simulador!$M$31,+IF(B61>0,VLOOKUP(B61,Simulador!$A$32:$T$550,13,0),\" \")))","v":""},{"$f":"IF($H$11=0,\" \",IF(B60=$H$11,Simulador!$T$31,+IF(B61>0,VLOOKUP(B61,Simulador!$A$32:$T$550,20,0),\" \")))","v":""},{"$f":"IF($H$11=0,\" \",IF(B60=$H$11,Simulador!$V$31,+IF(B61>0,VLOOKUP(B61,Simulador!$A$32:$Z$550,22,0),\" \")))","v":""}]
[null,"",{"$f":"IF($H$11=0,\" \",IF(B61=$H$11,\"TOTALES\",+IF(B62>0,VLOOKUP(B62,Simulador!$A$32:$T$550,3,0),\" \")))","v":""},{"$f":"IF($H$11=0,\" \",IF(B61=$H$11,Simulador!$J$33,+IF(B62>0,VLOOKUP(B62,Simulador!$A$32:$T$550,11,0),\" \")))","v":""},{"$f":"IF($H$11=0,\" \",IF(B61=$H$11,Simulador!$L$31,+IF(B62>0,VLOOKUP(B62,Simulador!$A$32:$T$550,12,0),\" \")))","v":""},{"$f":"IF($H$11=0,\" \",IF(B61=$H$11,Simulador!$M$31,+IF(B62>0,VLOOKUP(B62,Simulador!$A$32:$T$550,13,0),\" \")))","v":""},{"$f":"IF($H$11=0,\" \",IF(B61=$H$11,Simulador!$T$31,+IF(B62>0,VLOOKUP(B62,Simulador!$A$32:$T$550,20,0),\" \")))","v":""},{"$f":"IF($H$11=0,\" \",IF(B61=$H$11,Simulador!$V$31,+IF(B62>0,VLOOKUP(B62,Simulador!$A$32:$Z$550,22,0),\" \")))","v":""}]
[null,"",{"$f":"IF($H$11=0,\" \",IF(B62=$H$11,\"TOTALES\",+IF(B63>0,VLOOKUP(B63,Simulador!$A$32:$T$550,3,0),\" \")))","v":""},{"$f":"IF($H$11=0,\" \",IF(B62=$H$11,Simulador!$J$33,+IF(B63>0,VLOOKUP(B63,Simulador!$A$32:$T$550,11,0),\" \")))","v":""},{"$f":"IF($H$11=0,\" \",IF(B62=$H$11,Simulador!$L$31,+IF(B63>0,VLOOKUP(B63,Simulador!$A$32:$T$550,12,0),\" \")))","v":""},{"$f":"IF($H$11=0,\" \",IF(B62=$H$11,Simulador!$M$31,+IF(B63>0,VLOOKUP(B63,Simulador!$A$32:$T$550,13,0),\" \")))","v":""},{"$f":"IF($H$11=0,\" \",IF(B62=$H$11,Simulador!$T$31,+IF(B63>0,VLOOKUP(B63,Simulador!$A$32:$T$550,20,0),\" \")))","v":""},{"$f":"IF($H$11=0,\" \",IF(B62=$H$11,Simulador!$V$31,+IF(B63>0,VLOOKUP(B63,Simulador!$A$32:$Z$550,22,0),\" \")))","v":""}]
[null,"",{"$f":"IF($H$11=0,\" \",IF(B63=$H$11,\"TOTALES\",+IF(B64>0,VLOOKUP(B64,Simulador!$A$32:$T$550,3,0),\" \")))","v":""},{"$f":"IF($H$11=0,\" \",IF(B63=$H$11,Simulador!$J$33,+IF(B64>0,VLOOKUP(B64,Simulador!$A$32:$T$550,11,0),\" \")))","v":""},{"$f":"IF($H$11=0,\" \",IF(B63=$H$11,Simulador!$L$31,+IF(B64>0,VLOOKUP(B64,Simulador!$A$32:$T$550,12,0),\" \")))","v":""},{"$f":"IF($H$11=0,\" \",IF(B63=$H$11,Simulador!$M$31,+IF(B64>0,VLOOKUP(B64,Simulador!$A$32:$T$550,13,0),\" \")))","v":""},{"$f":"IF($H$11=0,\" \",IF(B63=$H$11,Simulador!$T$31,+IF(B64>0,VLOOKUP(B64,Simulador!$A$32:$T$550,20,0),\" \")))","v":""},{"$f":"IF($H$11=0,\" \",IF(B63=$H$11,Simulador!$V$31,+IF(B64>0,VLOOKUP(B64,Simulador!$A$32:$Z$550,22,0),\" \")))","v":""}]
[null,"",{"$f":"IF($H$11=0,\" \",IF(B64=$H$11,\"TOTALES\",+IF(B65>0,VLOOKUP(B65,Simulador!$A$32:$T$550,3,0),\" \")))","v":""},{"$f":"IF($H$11=0,\" \",IF(B64=$H$11,Simulador!$J$33,+IF(B65>0,VLOOKUP(B65,Simulador!$A$32:$T$550,11,0),\" \")))","v":""},{"$f":"IF($H$11=0,\" \",IF(B64=$H$11,Simulador!$L$31,+IF(B65>0,VLOOKUP(B65,Simulador!$A$32:$T$550,12,0),\" \")))","v":""},{"$f":"IF($H$11=0,\" \",IF(B64=$H$11,Simulador!$M$31,+IF(B65>0,VLOOKUP(B65,Simulador!$A$32:$T$550,13,0),\" \")))","v":""},{"$f":"IF($H$11=0,\" \",IF(B64=$H$11,Simulador!$T$31,+IF(B65>0,VLOOKUP(B65,Simulador!$A$32:$T$550,20,0),\" \")))","v":""},{"$f":"IF($H$11=0,\" \",IF(B64=$H$11,Simulador!$V$31,+IF(B65>0,VLOOKUP(B65,Simulador!$A$32:$Z$550,22,0),\" \")))","v":""}]
[null,"",{"$f":"IF($H$11=0,\" \",IF(B65=$H$11,\"TOTALES\",+IF(B66>0,VLOOKUP(B66,Simulador!$A$32:$T$550,3,0),\" \")))","v":""},{"$f":"IF($H$11=0,\" \",IF(B65=$H$11,Simulador!$J$33,+IF(B66>0,VLOOKUP(B66,Simulador!$A$32:$T$550,11,0),\" \")))","v":""},{"$f":"IF($H$11=0,\" \",IF(B65=$H$11,Simulador!$L$31,+IF(B66>0,VLOOKUP(B66,Simulador!$A$32:$T$550,12,0),\" \")))","v":""},{"$f":"IF($H$11=0,\" \",IF(B65=$H$11,Simulador!$M$31,+IF(B66>0,VLOOKUP(B66,Simulador!$A$32:$T$550,13,0),\" \")))","v":""},{"$f":"IF($H$11=0,\" \",IF(B65=$H$11,Simulador!$T$31,+IF(B66>0,VLOOKUP(B66,Simulador!$A$32:$T$550,20,0),\" \")))","v":""},{"$f":"IF($H$11=0,\" \",IF(B65=$H$11,Simulador!$V$31,+IF(B66>0,VLOOKUP(B66,Simulador!$A$32:$Z$550,22,0),\" \")))","v":""}]
[null,"",{"$f":"IF($H$11=0,\" \",IF(B66=$H$11,\"TOTALES\",+IF(B67>0,VLOOKUP(B67,Simulador!$A$32:$T$550,3,0),\" \")))","v":""},{"$f":"IF($H$11=0,\" \",IF(B66=$H$11,Simulador!$J$33,+IF(B67>0,VLOOKUP(B67,Simulador!$A$32:$T$550,11,0),\" \")))","v":""},{"$f":"IF($H$11=0,\" \",IF(B66=$H$11,Simulador!$L$31,+IF(B67>0,VLOOKUP(B67,Simulador!$A$32:$T$550,12,0),\" \")))","v":""},{"$f":"IF($H$11=0,\" \",IF(B66=$H$11,Simulador!$M$31,+IF(B67>0,VLOOKUP(B67,Simulador!$A$32:$T$550,13,0),\" \")))","v":""},{"$f":"IF($H$11=0,\" \",IF(B66=$H$11,Simulador!$T$31,+IF(B67>0,VLOOKUP(B67,Simulador!$A$32:$T$550,20,0),\" \")))","v":""},{"$f":"IF($H$11=0,\" \",IF(B66=$H$11,#REF!,+IF(B67>0,VLOOKUP(B67,Simulador!$A$32:$Z$550,22,0),\" \")))","v":""}]
[null,"",{"$f":"IF($H$11=0,\" \",IF(B67=$H$11,\"TOTALES\",+IF(B68>0,VLOOKUP(B68,Simulador!$A$32:$T$550,3,0),\" \")))","v":""},{"$f":"IF($H$11=0,\" \",IF(B67=$H$11,Simulador!$J$33,+IF(B68>0,VLOOKUP(B68,Simulador!$A$32:$T$550,11,0),\" \")))","v":""},{"$f":"IF($H$11=0,\" \",IF(B67=$H$11,Simulador!$L$31,+IF(B68>0,VLOOKUP(B68,Simulador!$A$32:$T$550,12,0),\" \")))","v":""},{"$f":"IF($H$11=0,\" \",IF(B67=$H$11,Simulador!$M$31,+IF(B68>0,VLOOKUP(B68,Simulador!$A$32:$T$550,13,0),\" \")))","v":""},{"$f":"IF($H$11=0,\" \",IF(B67=$H$11,Simulador!$T$31,+IF(B68>0,VLOOKUP(B68,Simulador!$A$32:$T$550,20,0),\" \")))","v":""},{"$f":"IF($H$11=0,\" \",IF(B67=$H$11,#REF!,+IF(B68>0,VLOOKUP(B68,Simulador!$A$32:$Z$550,22,0),\" \")))","v":""}]

{"sheet":"Simulador","index":3,"n_rows":275,"n_cols":45,"rows_kept":275,"cut":false,"hidden":true,"merged":[[1,2,1,22],[28,17,28,18],[31,35,31,36]]}
[]
[null,null,"SIMULADOR DE CUOTAS - CRÉDITO PLD"]
[]
[]
[null,null,"Importe Solicitado",null,null,null,null,{"$f":"+Hoja1!C8","v":30000},null,null,null,"Fecha Desembolso",null,null,null,null,{"$f":"+Hoja1!C9","v":"2024-04-01"}]
[null,null,"Saldo de Capital",null,null,null,null,{"$f":"H5","v":30000},null,null,null,"Fecha Final de Gracia",null,null,null,null,{"$f":"+DATE(YEAR(Q5+H15),MONTH(Q5+H15),DAY(Q5+H15))","v":"2024-05-01"}]
[null,null,"Saldo de Interes",null,null,null,null,0,null,null,null,"Fecha de la 1° cuota",null,null,null,null,{"$f":"DATE(YEAR(EDATE(Q6,1)),MONTH(EDATE(Q6,1)),DAY(EDATE(Q6,1)))","v":"2024-06-01"}]
[null,null,"Tasa Anual (TEA)",null,null,null,null,{"$f":"+Hoja1!C11","v":20},null,null,null,"Fecha final de vencimiento",null,null,null,null,{"$f":"IF(OR($H$16>0,$H$17>0),VLOOKUP($H$14,$A$33:$C$272,3,0),DATE(YEAR(EDATE(Q6,H14)),MONTH(EDATE(Q6,H14)),DAY(EDATE(Q6,H14))))","v":"2027-05-01"}]
[null,null,"Tasa de Seguro de Desgravamen",null,null,null,null,{"$f":"+IF(Hoja1!C13=\"Endoso\",0,IF(Hoja1!C13=\"Seguro con retorno\",0.346%,0.18%))","v":0},null,null,null,"Base",null,null,null,null,360]
[null,null,"Tasa Anual (TEA) - Ajustada",null,null,null,null,{"$f":"+H8","v":20},null,null,null,"Frecuencia pago en días",null,null,null,null,30]
[null,null,"Comision por Env. Inf",null,null,null,null,0,null,null,null,"Tasa Equivalente - Ajustada",null,null,null,null,{"$f":"ROUND((((H10/100+1)^(1/(Q9/Q10))-1)*Q9/Q10)*100,6)","v":18.371365000000001},"tea conv. A tem luego nominal anual"]
[null,null,"Valor Asegurable",null,null,null,null,0,null,null,null,"Días entre cuotas",null,null,null,null,{"$f":"(Q8-Q6)/H14","v":30.416666666666668},"dias promedio entre cuotas"]
[null,null,"Tasa de Seguro Todo Riesgo",null,null,null,null,0,{"$f":"+H13*12","v":0},{"$f":"+I13/365*30*H12","v":0},null,"Factor Aplicado - Ajustada",null,null,null,null,{"$f":"ROUND(($Q$11/100)/($Q$9/$Q$12),8)","v":1.55221E-2},"tem convertida de manera nominal a los dias entre cuotas"]
[null,null,"Plazo y  Nro. Cuotas",null,null,null,null,{"$f":"+Hoja1!C10","v":36},{"$f":"H14","v":36},null,null,"Factor Aplicado para la cuota - Ajustada",null,null,null,null,{"$f":"1/((1-((1+$Q$13)^(-1*$H$14)))/$Q$13)","v":3.6467464561997294E-2},"Factor de cuota (ok)"]
[null,null,"Días de Gracia",null,null,null,null,{"$f":"+Hoja1!C12","v":30},null,null,null,"Interes de Gracia  (Se considera la TEA Normal)",null,null,null,null,{"$f":"IF(H15>0,ROUND(H6*(((1+H8/100)^(ABS(H15)/Q9))-1),4),ROUND(H6*(((1+H8/100)^(ABS(H15)/Q9))-1),4) * -1)","v":459.28410000000002},"Ok"]
[null,null,"Mes de No Pago 1",null,null,null,null,0,null,null,null,"Saldo Interes +/- Interes Gracia",null,null,null,null,{"$f":"IF(H7 + Q15>0,H7+ Q15,0)","v":459.28410000000002}]
[null,null,"Mes de No Pago 2",null,null,null,null,0,null,null,null,"Seg Desg de Gracia",null,null,null,null,{"$f":"IF(H15>0,ROUNDDOWN(H5*H9/30*H15,2),ROUNDDOWN(H5*H9/30*H15,2)*0)","v":0}]
[null,null,"Mes Cuota Doble 1",null,null,null,null,{"$f":"+IF(Hoja1!C14=\"No\",0,IF(Hoja1!C14=\"Julio\",7,12))","v":0},null,null,null,"TCEA",null,null,null,null,{"$f":"+$AH$31","v":0.19999486876755146}]
[null,null,"Mes Cuota Doble 2",null,null,null," ",{"$f":"+IF(Hoja1!C15=\"No\",0,IF(Hoja1!C15=\"Julio\",7,12))","v":0}]
[]
[null,null,null,null,null,null,null,null,null,null,null,null,null,null,"Suavización",null,null,null,null,null,"Validador Cuota Doble"]
[null,null,null,null,null,null,null,null,null,null,null,null,null,null,"Ultimo saldo de Principal",null,{"$f":"VLOOKUP(I14,$F$32:$W$272,18,FALSE)","v":-0.02},null,null,null,"Cuota Simple",null,{"$f":"+VLOOKUP(\"\",$D$33:$V$272,19,0)","v":1111.2894444444446}]
[null,null,null,null,null,"Valor de cuota por dias de gracia",null,null,null,{"$f":"+ROUND(IF(OR(H16+H17>0,H18+H19>0),Q16/VLOOKUP(H14,'Calculos PLD'!$A$3:$G$386,7,FALSE),Simulador!Q16*Simulador!$Q$14),2)","v":16.75},{"$f":"Q16/SUM(AN33:INDIRECT(CONCATENATE(\"AE\",32+I14-1)))","v":2.6335717195281958E-4},null,null,null,"Numero de Dias",null,{"$f":"Q8-Q6","v":1095},null,null,null,"Cuota Doble",null,{"$f":"+IFERROR(VLOOKUP(\"D\",$D$33:$V$272,19,0),\" \")","v":" "}]
[null,null,null,null,null,"Valor de cuota por capital",null,null,null,{"$f":"ROUND(IF(OR(H16 + H17 > 0,H18 + H19>0), ROUNDUP(H6/VLOOKUP(H14,'Calculos PLD'!$A$3:$G$386,7,FALSE),2),H6*$Q$14),2)","v":1094.02},null,"sin desgravamen",null,null,"Valor de Cuota Nivelada",null,{"$f":"ROUND(+Q22/ROUND(1*(((1+H10/100)^(Q23/Q9))-1),4),2)","v":-0.03},null,null,null,"Factor",null,{"$f":"+IFERROR(W23/W22,\" \")","v":" "}]
[null,null,null,null,null,"Valor de Seg Desg por dia de gracia",null,null,null,{"$f":"$Q$17/(($I$14+COUNTIF(D33:INDIRECT(CONCATENATE(\"C\",32+I14-1)),\"D\"))*(1/((1+0)^($Q$10/$Q$9))))","v":0}]
[null,null,null,null,null,"Seguro de Desgravamen (FPF)",null,null,null,{"$f":"$H$5*$H$9","v":0},null,null,null,null,"Factor Ajuste",null,{"$f":"Q24*Q14","v":-1.0940239368599188E-3},null,"Se copia LO DEL COSTADO  a partir de la primera corrida",null,"Calce de Capital"]
[null,null,null,null,null,"Comision por Env.Inf",null,null,null,0,null,null,null,null,"Exceso de Int + Gracia",null,{"$f":"SUM(X33:X152)","v":0},{"$f":"ROUND(IF(OR(H16+ H17> 0,H18 + H19>0),ROUNDUP($Q$27/VLOOKUP(H14,'Calculos PLD'!$A$3:$G$386,7,FALSE),2),$Q$27*$Q$14),2)","v":0},0,null,"Suma Capital (K)",null,{"$f":"+SUM($K$33:$K$272)","v":30000.000000000015}]
[null,null,null,null,null,"Seguro Todo Riesgo",null,null,null,{"$f":"ROUND($H$12*$H$13,2)","v":0},null,null,null,null,"Factor Ajuste 2",null,{"$f":"+Q22/H14","v":-5.5555555555555556E-4},null,null,null,"Validador",null,{"$f":"+$H$5-W27","v":0},null,null,null,"<- El valor tiene que ser cercano a cero."]
[null,null,null,null,null,"Cuota",null,null,null,{"$f":"J23+J24+J26+J27+ J28+J25","v":1110.77},null,null,null,null,"Digite Factor de Ajuste Anterior  mas El Actual",null,0.5194444444445554,"Se actualiza en cada simulación (Validar que la celda W28 sea cero)",null,{"$f":"$W$272","v":""}]
[]
[null,null,null,null,null,null,null,null,null,null,null,{"$f":"+SUM(L33:L272)","v":9403.4199999999983},603,10006.42,40006.420000000042,0,0,0,0,{"$f":"+SUM(T33:T272)","v":0},0,{"$f":"+SUM(V33:V272)","v":40006.420000000042},null,null,null,null,null,null,null,null,null,null,"TIR",{"$f":"(1+XIRR(AH32:AH272,AG32:AG272))^(360/365)-1","v":0.19999486876755146},null,null,null,null,"Minicronograma de Gracia"]
[null,null,"Fecha Vcto.","Marca","Nro. Cuota (De acuerdo a Plazo)","Nro. Cuota","Periodo Base","Tasa","Nro. Dias","Principal*","Capital","Interes","Interes de Gracia","Interes Total","Valor Cuota (variable)","Comision por Env. Inf","Tasa de Seguro de Desgravamen*","Importe de Gracia Desgravamen","Importe Desgravamen por No Pago","Seg. Desgravamen Total","Seguro Todo Riesgo","Cuota","Saldo Principal","Exceso ","Nuevo Interes I","Nuevo Desgravamen  I (no se utiliza)","Nuevo Interes (SF2INT)\nreplica columna L","Nuevo Desgravamen (SF2GRV)\nreplica columna Q","Desgravamen Gracia\nreplica columna R","Desgravamen No Pago S","Total Cuota (SF2PAG)\nigual a columna V",null,{"$f":"+Q5","v":"2024-04-01"},{"$f":"-H5","v":-30000},null,"VALIDADORES",null,null,"Dias Transcurridos Acumulados","Factor Simple Actualizacion","Principal","Capital","Interes","Cuota Gracia","Saldo Deuda"]
[1,{"$f":"IF(A33=\"\",\"\",IF(A33<=$H$22,0,1))","v":1},{"$f":"IF(OR(MONTH(EDATE($Q$6,E33))=$H$16,MONTH(EDATE($Q$6,E33))=$H$17),IF(ABS($H$17-$H$16)=1,EDATE($Q$6,E33+2),EDATE($Q$6,E33+1)),EDATE($Q$6,E33))","v":"2024-06-01"},{"$f":"IF(B33=\"\",\"\",IF(OR(MONTH(C33)=$H$18,MONTH(C33)=$H$19),\"D\",\"\"))","v":""},{"$f":"IF(OR(MONTH(Q7)=H16, MONTH(Q7)=H17),IF(ABS(H17-H16)=1,3,2),1)","v":1},{"$f":"1","v":1},{"$f":"$Q$9","v":360},{"$f":"IF(B33=\"\",\"\",$H$10)","v":20},{"$f":"C33-Q6","v":31},{"$f":"H6","v":30000},{"$f":"IF(B33=\"\",\"\",IF((IF(ISERROR(MATCH(MONTH(C33),$H$18:$H$19,0))=FALSE,$J$24 + $Q$29,0) + $J$24+$Q$29+$S$27)-L33<0,0.01,IF(ISERROR(MATCH(MONTH(C33),$H$18:$H$19,0))=FALSE,$J$24 + $Q$29,0)+ ($J$24+$Q$29+$S$27)-L33)- R33 -S33-Q33)","v":619.82944444444456},{"$f":"IF(B33=\"\",\"\",IF($J$24+$Q$29<ROUND(ROUND(J33*(((1+(H33/100))^(I33/G33))-1),4),2),$J$24+$Q$29 +-0.01,IF(ROUND(ROUND(J33*(((1+(H33/100))^(I33/G33))-1),4),2)>$J$24,$J$24+ -0.01,ROUND(ROUND(J33*(((1+(H33/100))^(I33/G33))-1),4),2))))","v":474.71},{"$f":"IF(B33=\"\",\"\",IF(ISERROR(MATCH(MONTH(C33),$H$18:$H$19,0))=FALSE,$J$23,0)  + $J$23)","v":16.75},{"$f":"IF(B33=\"\",\"\",L33+M33)","v":491.46},{"$f":"IF(B33=\"\",\"\",K33+N33)","v":1111.2894444444446},{"$f":"IF(B33=\"\",\"\",$J$27)","v":0},{"$f":"IF(B33=\"\",\"\",ROUND($H$9*J33,2))","v":0},{"$f":"IF(B33=\"\",\"\",(E33-F33)*ROUNDDOWN($H$5*$H$9/30*30,2) + ROUNDDOWN($H$5*$H$9/30*H15,2))","v":0},{"$f":"IF(B33=\"\",\"\",IF(E33-0>1,ROUNDDOWN($J33*$H$9/30*(DATE(YEAR($C33),MONTH($C33)-1,DAY($C33))-C32),2),0))","v":0},{"$f":"IF(B33=\"\",\"\",Q33+R33+S33)","v":0},{"$f":"IF(B33=\"\",\"\",$J$28)","v":0},{"$f":"IF(B33=\"\",\"\",O33+P33+Q33+R33+S33+U33)","v":1111.2894444444446},{"$f":"IF(B33=\"\",\"\",(ROUND(J33-K33,2)))","v":29380.17},{"$f":"IF(B33=\"\",\"\",IF(ROUND(ROUND(J33*(((1+(H33/100))^(I33/G33))-1),4),2) - $J$24<0,0,ROUND(ROUND(J33*(((1+(H33/100))^(I33/G33))-1),4),2) - $J$24))","v":0},null,{"$f":"SUM(K33:M33)","v":1111.2894444444446},{"$f":"+L33","v":474.71},{"$f":"+Q33","v":0},0,0,{"$f":"IFERROR(AA33+K33 + P33 + U33+AB33 + M33 + AC33 + AD33,\"\")","v":1111.2894444444446},{"$f":"IFERROR(IF(D33=\"D\",$J$24*2,$J$24)+Q33,0)","v":1094.02},{"$f":"+IF(C33=\"\",0,C33)","v":"2024-06-01"},{"$f":"+IF(AE33=\"\",0,AE33)","v":1111.2894444444446},null,{"$f":"+IFERROR(AE33-V33,0)","v":0},{"$f":"+IFERROR(AA33-L33,0)","v":0},null,{"$f":"I33","v":31},{"$f":"(1/((1+($J$8/100))^(AM33/$Q$9))*1) * IF(D33=\"D\",2,1)","v":1},{"$f":"Q16","v":459.28410000000002},{"$f":"AR33-AQ33","v":2.6335717195281958E-4},{"$f":"(((1+($J$8/100))^((K33)/$Q$9))-1)*AO33","v":0},{"$f":"IF(D33=\"D\",$K$23,0)+ $K$23","v":2.6335717195281958E-4},{"$f":"AO33-AP33","v":459.28383664282808}]
[{"$f":"+IF(A33>=$H$14,\"\",A33+1)","v":2},{"$f":"IF(A34=\"\",\"\",IF(A34<=$H$22,0,1))","v":1},{"$f":"IF(B34=\"\",\"\",IF(OR(MONTH(EDATE($Q$6,E34))=$H$16,MONTH(EDATE($Q$6,E34))=$H$17),IF(ABS($H$17-$H$16)=1,EDATE($Q$6,E34+2),EDATE($Q$6,E34+1)),EDATE($Q$6,E34)))","v":"2024-07-01"},"",{"$f":"+IF(B34=\"\",\"\",IF(OR(MONTH(DATE(YEAR(C33)+0.0833333333333333,MONTH(C33)+1,DAY(C33)))=$H$16,MONTH(DATE(YEAR(C33)+0.5,MONTH(C33)+1,DAY(C33)))=$H$17),IF(ABS($H$17-$H$16)=1,E33+1,E33+2),E33+1))","v":2},{"$f":"+IF(B34=\"\",\"\",F33+1)","v":2},{"$f":"IF(B34=\"\",\"\",$Q$9)","v":360},{"$f":"IF(B34=\"\",\"\",$H$10)","v":20},{"$f":"IF(B34=\"\",\"\",C34-C33)","v":30},{"$f":"IF(B34=\"\",\"\",W33)","v":29380.17},644.74944444444463,449.79,16.75,466.54,1111.2894444444446,0,{"$f":"IF(B34=\"\",\"\",ROUND($H$9*J34/30*$I34,2)-S34)","v":0},null,{"$f":"IF(B34=\"\",\"\",IF(E34-E33>1,ROUNDDOWN($J34*$H$9/30*(DATE(YEAR($C34),MONTH($C34)-1,DAY($C34))-C33),2),0))","v":0},0,0,{"$f":"IF(B34=\"\",\"\",O34+P34+Q34+R34+S34+U34)","v":1111.2894444444446},28735.42,0,null,1111.2894444444446,{"$f":"+L34","v":449.79},0,0,0,1111.2894444444446,{"$f":"IFERROR(IF(D34=\"D\",$J$24*2,$J$24)+Q34,0)","v":1094.02},"2024-07-01",1111.2894444444446,null,{"$f":"+IFERROR(AE34-V34,0)","v":0},{"$f":"+IFERROR(AA34-L34,0)","v":0},null,{"$f":"I34 + AM33","v":61},1,{"$f":"AS33","v":459.28383664282808},{"$f":"AR34-AQ34","v":2.6335717195281958E-4},0,2.6335717195281958E-4,{"$f":"AO34-AP34","v":459.28357328565613}]
[{"$f":"+IF(A34>=$H$14,\"\",A34+1)","v":3},1,"2024-08-01","",{"$f":"+IF(B35=\"\",\"\",IF(OR(MONTH(DATE(YEAR(C34)+0.0833333333333333,MONTH(C34)+1,DAY(C34)))=$H$16,MONTH(DATE(YEAR(C34)+0.5,MONTH(C34)+1,DAY(C34)))=$H$17),IF(ABS($H$17-$H$16)=1,E34+1,E34+2),E34+1))","v":3},{"$f":"+IF(B35=\"\",\"\",F34+1)","v":3},{"$f":"IF(B35=\"\",\"\",$Q$9)","v":360},20,{"$f":"IF(B35=\"\",\"\",C35-C34)","v":31},{"$f":"IF(B35=\"\",\"\",W34)","v":28735.42},639.83944444444455,454.7,16.75,471.45,1111.2894444444446,0,{"$f":"IF(B35=\"\",\"\",ROUND($H$9*J35/30*$I35,2)-S35)","v":0},null,0,0,0,1111.2894444444446,28095.58,0,null,1111.2894444444446,454.7,0,0,0,1111.2894444444446,1094.02,"2024-08-01",1111.2894444444446,null,0,0,null,92,1,{"$f":"AS34","v":459.28357328565613},2.6335717195281958E-4,0,2.6335717195281958E-4,459.28330992848419]
[4,1,"2024-09-01","",4,4,360,20,31,28095.58,649.95944444444467,444.58,16.75,461.33,1111.2894444444446,0,0,null,0,0,0,1111.2894444444446,27445.62,0,null,1111.2894444444446,444.58,0,0,0,1111.2894444444446,1094.02,"2024-09-01",1111.2894444444446,null,0,0,null,123,1,459.28330992848419,2.6335717195281958E-4,0,2.6335717195281958E-4,459.28304657131224]
[5,1,"2024-10-01","",5,5,360,20,30,27445.62,674.35944444444453,420.18,16.75,436.93,1111.2894444444446,0,0,null,0,0,0,1111.2894444444446,26771.26,0,null,1111.2894444444446,420.18,0,0,0,1111.2894444444446,1094.02,"2024-10-01",1111.2894444444446,null,0,0,null,153,1,459.28304657131224,2.6335717195281958E-4,0,2.6335717195281958E-4,459.2827832141403]
[6,1,"2024-11-01","",6,6,360,20,31,26771.26,670.91944444444459,423.62,16.75,440.37,1111.2894444444446,0,0,null,0,0,0,1111.2894444444446,26100.34,0,null,1111.2894444444446,423.62,0,0,0,1111.2894444444446,1094.02,"2024-11-01",1111.2894444444446,null,0,0,null,184,1,459.2827832141403,2.6335717195281958E-4,0,2.6335717195281958E-4,459.28251985696835]
[7,1,"2024-12-01","",7,7,360,20,30,26100.34,694.95944444444467,399.58,16.75,416.33,1111.2894444444446,0,0,null,0,0,0,1111.2894444444446,25405.38,0,null,1111.2894444444446,399.58,0,0,0,1111.2894444444446,1094.02,"2024-12-01",1111.2894444444446,null,0,0,null,214,1,459.28251985696835,2.6335717195281958E-4,0,2.6335717195281958E-4,459.2822564997964]
[8,1,"2025-01-01","",8,8,360,20,31,25405.38,692.52944444444461,402.01,16.75,418.76,1111.2894444444446,0,0,null,0,0,0,1111.2894444444446,24712.85,0,null,1111.2894444444446,402.01,0,0,0,1111.2894444444446,1094.02,"2025-01-01",1111.2894444444446,null,0,0,null,245,1,459.2822564997964,2.6335717195281958E-4,0,2.6335717195281958E-4,459.28199314262446]
[9,1,"2025-02-01","",9,9,360,20,31,24712.85,703.48944444444464,391.05,16.75,407.8,1111.2894444444446,0,0,null,0,0,0,1111.2894444444446,24009.360000000001,0,null,1111.2894444444446,391.05,0,0,0,1111.2894444444446,1094.02,"2025-02-01",1111.2894444444446,null,0,0,null,276,1,459.28199314262446,2.6335717195281958E-4,0,2.6335717195281958E-4,459.28172978545251]
[10,1,"2025-03-01","",10,10,360,20,28,24009.360000000001,751.64944444444461,342.89,16.75,359.64,1111.2894444444446,0,0,null,0,0,0,1111.2894444444446,23257.71,0,null,1111.2894444444446,342.89,0,0,0,1111.2894444444446,1094.02,"2025-03-01",1111.2894444444446,null,0,0,null,304,1,459.28172978545251,2.6335717195281958E-4,0,2.6335717195281958E-4,459.28146642828057]
[11,1,"2025-04-01","",11,11,360,20,31,23257.71,726.50944444444463,368.03,16.75,384.78,1111.2894444444446,0,0,null,0,0,0,1111.2894444444446,22531.200000000001,0,null,1111.2894444444446,368.03,0,0,0,1111.2894444444446,1094.02,"2025-04-01",1111.2894444444446,null,0,0,null,335,1,459.28146642828057,2.6335717195281958E-4,0,2.6335717195281958E-4,459.28120307110862]
[12,1,"2025-05-01","",12,12,360,20,30,22531.200000000001,749.59944444444454,344.94,16.75,361.69,1111.2894444444446,0,0,null,0,0,0,1111.2894444444446,21781.599999999999,0,null,1111.2894444444446,344.94,0,0,0,1111.2894444444446,1094.02,"2025-05-01",1111.2894444444446,null,0,0,null,365,1,459.28120307110862,2.6335717195281958E-4,0,2.6335717195281958E-4,459.28093971393668]
[13,1,"2025-06-01","",13,13,360,20,31,21781.599999999999,749.86944444444453,344.67,16.75,361.42,1111.2894444444446,0,0,null,0,0,0,1111.2894444444446,21031.73,0,null,1111.2894444444446,344.67,0,0,0,1111.2894444444446,1094.02,{"$f":"+IF(C45=\"\",0,C45)","v":"2025-06-01"},{"$f":"+IF(AE45=\"\",0,AE45)","v":1111.2894444444446},null,0,0,null,396,1,459.28093971393668,2.6335717195281958E-4,0,2.6335717195281958E-4,459.28067635676473]
[14,1,"2025-07-01","",14,14,360,20,30,21031.73,772.55944444444458,321.98,16.75,338.73,1111.2894444444446,0,0,null,0,0,0,1111.2894444444446,20259.169999999998,0,null,1111.2894444444446,321.98,0,0,0,1111.2894444444446,1094.02,{"$f":"+IF(C46=\"\",0,C46)","v":"2025-07-01"},{"$f":"+IF(AE46=\"\",0,AE46)","v":1111.2894444444446},null,0,0,null,426,1,459.28067635676473,2.6335717195281958E-4,0,2.6335717195281958E-4,459.28041299959278]
[15,1,"2025-08-01","",15,15,360,20,31,20259.169999999998,773.95944444444467,320.58,16.75,337.33,1111.2894444444446,0,0,null,0,0,0,1111.2894444444446,19485.21,0,null,1111.2894444444446,320.58,0,0,0,1111.2894444444446,1094.02,"2025-08-01",1111.2894444444446,null,0,0,null,457,1,459.28041299959278,2.6335717195281958E-4,0,2.6335717195281958E-4,459.28014964242084]
[16,1,"2025-09-01","",16,16,360,20,31,19485.21,786.20944444444467,308.33,16.75,325.08,1111.2894444444446,0,0,null,0,0,0,1111.2894444444446,18699,0,null,1111.2894444444446,308.33,0,0,0,1111.2894444444446,1094.02,"2025-09-01",1111.2894444444446,null,0,0,null,488,1,459.28014964242084,2.6335717195281958E-4,0,2.6335717195281958E-4,459.27988628524889]
[17,1,"2025-10-01","",17,17,360,20,30,18699,808.26944444444462,286.27,16.75,303.02,1111.2894444444446,0,0,null,0,0,0,1111.2894444444446,17890.73,0,null,1111.2894444444446,286.27,0,0,0,1111.2894444444446,1094.02,"2025-10-01",1111.2894444444446,null,0,0,null,518,1,459.27988628524889,2.6335717195281958E-4,0,2.6335717195281958E-4,459.27962292807695]
[18,1,"2025-11-01","",18,18,360,20,31,17890.73,811.43944444444458,283.10000000000002,16.75,299.85000000000002,1111.2894444444446,0,0,null,0,0,0,1111.2894444444446,17079.29,0,null,1111.2894444444446,283.10000000000002,0,0,0,1111.2894444444446,1094.02,"2025-11-01",1111.2894444444446,null,0,0,null,549,1,459.27962292807695,2.6335717195281958E-4,0,2.6335717195281958E-4,459.279359570905]
[19,1,"2025-12-01","",19,19,360,20,30,17079.29,833.06944444444457,261.47000000000003,16.75,278.22000000000003,1111.2894444444446,0,0,null,0,0,0,1111.2894444444446,16246.22,0,null,1111.2894444444446,261.47000000000003,0,0,0,1111.2894444444446,1094.02,"2025-12-01",1111.2894444444446,null,0,0,null,579,1,459.279359570905,2.6335717195281958E-4,0,2.6335717195281958E-4,459.27909621373306]
[20,1,"2026-01-01","",20,20,360,20,31,16246.22,837.45944444444467,257.08,16.75,273.83,1111.2894444444446,0,0,null,0,0,0,1111.2894444444446,15408.76,0,null,1111.2894444444446,257.08,0,0,0,1111.2894444444446,1094.02,"2026-01-01",1111.2894444444446,null,0,0,null,610,1,459.27909621373306,2.6335717195281958E-4,0,2.6335717195281958E-4,459.27883285656111]
[21,1,"2026-02-01","",21,21,360,20,31,15408.76,850.70944444444456,243.83,16.75,260.58000000000004,1111.2894444444446,0,0,null,0,0,0,1111.2894444444446,14558.05,0,null,1111.2894444444446,243.83,0,0,0,1111.2894444444446,1094.02,"2026-02-01",1111.2894444444446,null,0,0,null,641,1,459.27883285656111,2.6335717195281958E-4,0,2.6335717195281958E-4,459.27856949938916]
[22,1,"2026-03-01","",22,22,360,20,28,14558.05,886.62944444444463,207.91,16.75,224.66,1111.2894444444446,0,0,null,0,0,0,1111.2894444444446,13671.42,0,null,1111.2894444444446,207.91,0,0,0,1111.2894444444446,1094.02,"2026-03-01",1111.2894444444446,null,0,0,null,669,1,459.27856949938916,2.6335717195281958E-4,0,2.6335717195281958E-4,459.27830614221722]
[23,1,"2026-04-01","",23,23,360,20,31,13671.42,878.20944444444456,216.33,16.75,233.08,1111.2894444444446,0,0,null,0,0,0,1111.2894444444446,12793.21,0,null,1111.2894444444446,216.33,0,0,0,1111.2894444444446,1094.02,"2026-04-01",1111.2894444444446,null,0,0,null,700,1,459.27830614221722,2.6335717195281958E-4,0,2.6335717195281958E-4,459.27804278504527]
[24,1,"2026-05-01","",24,24,360,20,30,12793.21,898.67944444444458,195.86,16.75,212.61,1111.2894444444446,0,0,null,0,0,0,1111.2894444444446,11894.53,0,null,1111.2894444444446,195.86,0,0,0,1111.2894444444446,1094.02,"2026-05-01",1111.2894444444446,null,0,0,null,730,1,459.27804278504527,2.6335717195281958E-4,0,2.6335717195281958E-4,459.27777942787333]
[25,1,"2026-06-01","",25,25,360,20,31,11894.53,906.31944444444457,188.22,16.75,204.97,1111.2894444444446,0,0,null,0,0,0,1111.2894444444446,10988.21,0,null,1111.2894444444446,188.22,0,0,0,1111.2894444444446,1094.02,"2026-06-01",1111.2894444444446,null,0,0,null,761,1,459.27777942787333,2.6335717195281958E-4,0,2.6335717195281958E-4,459.27751607070138]
[26,1,"2026-07-01","",26,26,360,20,30,10988.21,926.31944444444457,168.22,16.75,184.97,1111.2894444444446,0,0,null,0,0,0,1111.2894444444446,10061.89,0,null,1111.2894444444446,168.22,0,0,0,1111.2894444444446,1094.02,"2026-07-01",1111.2894444444446,null,0,0,null,791,1,459.27751607070138,2.6335717195281958E-4,0,2.6335717195281958E-4,459.27725271352944]
[27,1,"2026-08-01","",27,27,360,20,31,10061.89,935.31944444444457,159.22,16.75,175.97,1111.2894444444446,0,0,null,0,0,0,1111.2894444444446,9126.57,0,null,1111.2894444444446,159.22,0,0,0,1111.2894444444446,1094.02,"2026-08-01",1111.2894444444446,null,0,0,null,822,1,459.27725271352944,2.6335717195281958E-4,0,2.6335717195281958E-4,459.27698935635749]
[28,1,"2026-09-01","",28,28,360,20,31,9126.57,950.11944444444464,144.41999999999999,16.75,161.16999999999999,1111.2894444444446,0,0,null,0,0,0,1111.2894444444446,8176.45,0,null,1111.2894444444446,144.41999999999999,0,0,0,1111.2894444444446,1094.02,"2026-09-01",1111.2894444444446,null,0,0,null,853,1,459.27698935635749,2.6335717195281958E-4,0,2.6335717195281958E-4,459.27672599918554]
[29,1,"2026-10-01","",29,29,360,20,30,8176.45,969.35944444444453,125.18,16.75,141.93,1111.2894444444446,0,0,null,0,0,0,1111.2894444444446,7207.09,0,null,1111.2894444444446,125.18,0,0,0,1111.2894444444446,1094.02,"2026-10-01",1111.2894444444446,null,0,0,null,883,1,459.27672599918554,2.6335717195281958E-4,0,2.6335717195281958E-4,459.2764626420136]
[30,1,"2026-11-01","",30,30,360,20,31,7207.09,980.49944444444463,114.04,16.75,130.79000000000002,1111.2894444444446,0,0,null,0,0,0,1111.2894444444446,6226.59,0,null,1111.2894444444446,114.04,0,0,0,1111.2894444444446,1094.02,"2026-11-01",1111.2894444444446,null,0,0,null,914,1,459.2764626420136,2.6335717195281958E-4,0,2.6335717195281958E-4,459.27619928484165]
[31,1,"2026-12-01","",31,31,360,20,30,6226.59,999.20944444444456,95.33,16.75,112.08,1111.2894444444446,0,0,null,0,0,0,1111.2894444444446,5227.38,0,null,1111.2894444444446,95.33,0,0,0,1111.2894444444446,1094.02,"2026-12-01",1111.2894444444446,null,0,0,null,944,1,459.27619928484165,2.6335717195281958E-4,0,2.6335717195281958E-4,459.27593592766971]
[32,1,"2027-01-01","",32,32,360,20,31,5227.38,1011.8194444444446,82.72,16.75,99.47,1111.2894444444446,0,0,null,0,0,0,1111.2894444444446,4215.5600000000004,0,null,1111.2894444444446,82.72,0,0,0,1111.2894444444446,1094.02,"2027-01-01",1111.2894444444446,null,0,0,null,975,1,459.27593592766971,2.6335717195281958E-4,0,2.6335717195281958E-4,459.27567257049776]
[33,1,"2027-02-01","",33,33,360,20,31,4215.5600000000004,1027.8294444444446,66.709999999999994,16.75,83.46,1111.2894444444446,0,0,null,0,0,0,1111.2894444444446,3187.73,0,null,1111.2894444444446,66.709999999999994,0,0,0,1111.2894444444446,1094.02,"2027-02-01",1111.2894444444446,null,0,0,null,1006,1,459.27567257049776,2.6335717195281958E-4,0,2.6335717195281958E-4,459.27540921332582]
[34,1,"2027-03-01","",34,34,360,20,28,3187.73,1049.0094444444446,45.53,16.75,62.28,1111.2894444444446,0,0,null,0,0,0,1111.2894444444446,2138.7199999999998,0,null,1111.2894444444446,45.53,0,0,0,1111.2894444444446,1094.02,"2027-03-01",1111.2894444444446,null,0,0,null,1034,1,459.27540921332582,2.6335717195281958E-4,0,2.6335717195281958E-4,459.27514585615387]
[35,1,"2027-04-01","",35,35,360,20,31,2138.7199999999998,1060.6994444444447,33.840000000000003,16.75,50.59,1111.2894444444446,0,0,null,0,0,0,1111.2894444444446,1078.02,0,null,1111.2894444444446,33.840000000000003,0,0,0,1111.2894444444446,1094.02,"2027-04-01",1111.2894444444446,null,0,0,null,1065,1,459.27514585615387,2.6335717195281958E-4,0,2.6335717195281958E-4,459.27488249898192]
[36,1,"2027-05-01","",36,36,360,20,30,1078.02,1078.0394444444446,16.5,16.75,33.25,1111.2894444444446,0,0,null,0,0,0,1111.2894444444446,-0.02,0,null,1111.2894444444446,16.5,0,0,0,1111.2894444444446,1094.02,"2027-05-01",1111.2894444444446,null,0,0,null,1095,1,459.27488249898192,2.6335717195281958E-4,0,2.6335717195281958E-4,459.27461914180998]
["","","","","","","","","","","","","","","","","",null,"","","","","","",null,0,"","",0,"","",0,"00:00:00",0,null,0,0,null,{"$error":"#VALUE!"},{"$error":"#VALUE!"},459.27461914180998,{"$error":"#VALUE!"},{"$error":"#VALUE!"},2.6335717195281958E-4,{"$error":"#VALUE!"}]
["","","","","","","","","","","","","","","","","",null,"","","","","","",null,0,"","",0,"","",0,"00:00:00",0,null,0,0,null,{"$error":"#VALUE!"},{"$error":"#VALUE!"},{"$error":"#VALUE!"},{"$error":"#VALUE!"},{"$error":"#VALUE!"},2.6335717195281958E-4,{"$error":"#VALUE!"}]
["","","","","","","","","","","","","","","","","",null,"","","","","","",null,0,"","",0,"","",0,"00:00:00",0,null,0,0,null,{"$error":"#VALUE!"},{"$error":"#VALUE!"},{"$error":"#VALUE!"},{"$error":"#VALUE!"},{"$error":"#VALUE!"},2.6335717195281958E-4,{"$error":"#VALUE!"}]
["","","","","","","","","","","","","","","","","",null,"","","","","","",null,0,"","",0,"","",0,"00:00:00",0,null,0,0,null,{"$error":"#VALUE!"},{"$error":"#VALUE!"},{"$error":"#VALUE!"},{"$error":"#VALUE!"},{"$error":"#VALUE!"},2.6335717195281958E-4,{"$error":"#VALUE!"}]
["","","","","","","","","","","","","","","","","",null,"","","","","","",null,0,"","",0,"","",0,"00:00:00",0,null,0,0,null,{"$error":"#VALUE!"},{"$error":"#VALUE!"},{"$error":"#VALUE!"},{"$error":"#VALUE!"},{"$error":"#VALUE!"},2.6335717195281958E-4,{"$error":"#VALUE!"}]
["","","","","","","","","","","","","","","","","",null,"","","","","","",null,0,"","",0,"","",0,"00:00:00",0,null,0,0,null,{"$error":"#VALUE!"},{"$error":"#VALUE!"},{"$error":"#VALUE!"},{"$error":"#VALUE!"},{"$error":"#VALUE!"},2.6335717195281958E-4,{"$error":"#VALUE!"}]
["","","","","","","","","","","","","","","","","",null,"","","","","","",null,0,"","",0,"","",0,"00:00:00",0,null,0,0,null,{"$error":"#VALUE!"},{"$error":"#VALUE!"},{"$error":"#VALUE!"},{"$error":"#VALUE!"},{"$error":"#VALUE!"},2.6335717195281958E-4,{"$error":"#VALUE!"}]
["","","","","","","","","","","","","","","","","",null,"","","","","","",null,0,"","",0,"","",0,"00:00:00",0,null,0,0,null,{"$error":"#VALUE!"},{"$error":"#VALUE!"},{"$error":"#VALUE!"},{"$error":"#VALUE!"},{"$error":"#VALUE!"},2.6335717195281958E-4,{"$error":"#VALUE!"}]
["","","","","","","","","","","","","","","","","",null,"","","","","","",null,0,"","",0,"","",0,"00:00:00",0,null,0,0,null,{"$error":"#VALUE!"},{"$error":"#VALUE!"},{"$error":"#VALUE!"},{"$error":"#VALUE!"},{"$error":"#VALUE!"},2.6335717195281958E-4,{"$error":"#VALUE!"}]
["","","","","","","","","","","","","","","","","",null,"","","","","","",null,0,"","",0,"","",0,"00:00:00",0,null,0,0,null,{"$error":"#VALUE!"},{"$error":"#VALUE!"},{"$error":"#VALUE!"},{"$error":"#VALUE!"},{"$error":"#VALUE!"},2.6335717195281958E-4,{"$error":"#VALUE!"}]
["","","","","","","","","","","","","","","","","",null,"","","","","","",null,0,"","",0,"","",0,"00:00:00",0,null,0,0,null,{"$error":"#VALUE!"},{"$error":"#VALUE!"},{"$error":"#VALUE!"},{"$error":"#VALUE!"},{"$error":"#VALUE!"},2.6335717195281958E-4,{"$error":"#VALUE!"}]
["","","","","","","","","","","","","","","","","",null,"","","","","","",null,0,"","",0,"","",0,"00:00:00",0,null,0,0,null,{"$error":"#VALUE!"},{"$error":"#VALUE!"},{"$error":"#VALUE!"},{"$error":"#VALUE!"},{"$error":"#VALUE!"},2.6335717195281958E-4,{"$error":"#VALUE!"}]
["","","","","","","","","","","","","","","","","",null,"","","","","","",null,0,"","",0,"","",0,"00:00:00",0,null,0,0,null,{"$error":"#VALUE!"},{"$error":"#VALUE!"},{"$error":"#VALUE!"},{"$error":"#VALUE!"},{"$error":"#VALUE!"},2.6335717195281958E-4,{"$error":"#VALUE!"}]
["","","","","","","","","","","","","","","","","",null,"","","","","","",null,0,"","",0,"","",0,"00:00:00",0,null,0,0,null,{"$error":"#VALUE!"},{"$error":"#VALUE!"},{"$error":"#VALUE!"},{"$error":"#VALUE!"},{"$error":"#VALUE!"},2.6335717195281958E-4,{"$error":"#VALUE!"}]
["","","","","","","","","","","","","","","","","",null,"","","","","","",null,0,"","",0,"","",0,"00:00:00",0,null,0,0,null,{"$error":"#VALUE!"},{"$error":"#VALUE!"},{"$error":"#VALUE!"},{"$error":"#VALUE!"},{"$error":"#VALUE!"},2.6335717195281958E-4,{"$error":"#VALUE!"}]
["","","","","","","","","","","","","","","","","",null,"","","","","","",null,0,"","",0,"","",0,"00:00:00",0,null,0,0,null,{"$error":"#VALUE!"},{"$error":"#VALUE!"},{"$error":"#VALUE!"},{"$error":"#VALUE!"},{"$error":"#VALUE!"},2.6335717195281958E-4,{"$error":"#VALUE!"}]
["","","","","","","","","","","","","","","","","",null,"","","","","","",null,0,"","",0,"","",0,"00:00:00",0,null,0,0,null,{"$error":"#VALUE!"},{"$error":"#VALUE!"},{"$error":"#VALUE!"},{"$error":"#VALUE!"},{"$error":"#VALUE!"},2.6335717195281958E-4,{"$error":"#VALUE!"}]
["","","","","","","","","","","","","","","","","",null,"","","","","","",null,0,"","",0,"","",0,"00:00:00",0,null,0,0,null,{"$error":"#VALUE!"},{"$error":"#VALUE!"},{"$error":"#VALUE!"},{"$error":"#VALUE!"},{"$error":"#VALUE!"},2.6335717195281958E-4,{"$error":"#VALUE!"}]
["","","","","","","","","","","","","","","","","",null,"","","","","","",null,0,"","",0,"","",0,"00:00:00",0,null,0,0,null,{"$error":"#VALUE!"},{"$error":"#VALUE!"},{"$error":"#VALUE!"},{"$error":"#VALUE!"},{"$error":"#VALUE!"},2.6335717195281958E-4,{"$error":"#VALUE!"}]
["","","","","","","","","","","","","","","","","",null,"","","","","","",null,0,"","",0,"","",0,"00:00:00",0,null,0,0,null,{"$error":"#VALUE!"},{"$error":"#VALUE!"},{"$error":"#VALUE!"},{"$error":"#VALUE!"},{"$error":"#VALUE!"},2.6335717195281958E-4,{"$error":"#VALUE!"}]
["","","","","","","","","","","","","","","","","",null,"","","","","","",null,0,"","",0,"","",0,"00:00:00",0,null,0,0,null,{"$error":"#VALUE!"},{"$error":"#VALUE!"},{"$error":"#VALUE!"},{"$error":"#VALUE!"},{"$error":"#VALUE!"},2.6335717195281958E-4,{"$error":"#VALUE!"}]
["","","","","","","","","","","","","","","","","",null,"","","","","","",null,0,"","",0,"","",0,"00:00:00",0,null,0,0,null,{"$error":"#VALUE!"},{"$error":"#VALUE!"},{"$error":"#VALUE!"},{"$error":"#VALUE!"},{"$error":"#VALUE!"},2.6335717195281958E-4,{"$error":"#VALUE!"}]
["","","","","","","","","","","","","","","","","",null,"","","","","","",null,0,"","",0,"","",0,"00:00:00",0,null,0,0,null,{"$error":"#VALUE!"},{"$error":"#VALUE!"},{"$error":"#VALUE!"},{"$error":"#VALUE!"},{"$error":"#VALUE!"},2.6335717195281958E-4,{"$error":"#VALUE!"}]
["","","","","","","","","","","","","","","","","",null,"","","","","","",null,0,"","",0,"","",0,"00:00:00",0,null,0,0,null,{"$error":"#VALUE!"},{"$error":"#VALUE!"},{"$error":"#VALUE!"},{"$error":"#VALUE!"},{"$error":"#VALUE!"},2.6335717195281958E-4,{"$error":"#VALUE!"}]
["","","","","","","","","","","","","","","","","",null,"","","","","","",null,0,"","",0,"","",0,"00:00:00",0,null,0,0,null,{"$error":"#VALUE!"},{"$error":"#VALUE!"},{"$error":"#VALUE!"},{"$error":"#VALUE!"},{"$error":"#VALUE!"},2.6335717195281958E-4,{"$error":"#VALUE!"}]
["","","","","","","","","","","","","","","","","",null,"","","","","","",null,0,"","",0,"","",0,"00:00:00",0,null,0,0,null,{"$error":"#VALUE!"},{"$error":"#VALUE!"},{"$error":"#VALUE!"},{"$error":"#VALUE!"},{"$error":"#VALUE!"},2.6335717195281958E-4,{"$error":"#VALUE!"}]
["","","","","","","","","","","","","","","","","",null,"","","","","","",null,0,"","",0,"","",0,"00:00:00",0,null,0,0,null,{"$error":"#VALUE!"},{"$error":"#VALUE!"},{"$error":"#VALUE!"},{"$error":"#VALUE!"},{"$error":"#VALUE!"},2.6335717195281958E-4,{"$error":"#VALUE!"}]
["","","","","","","","","","","","","","","","","",null,"","","","","","",null,0,"","",0,"","",0,"00:00:00",0,null,0,0,null,{"$error":"#VALUE!"},{"$error":"#VALUE!"},{"$error":"#VALUE!"},{"$error":"#VALUE!"},{"$error":"#VALUE!"},2.6335717195281958E-4,{"$error":"#VALUE!"}]
["","","",{"$f":"IF(B97=\"\",\"\",IF(OR(MONTH(C97)=$H$18,MONTH(C97)=$H$19),\"D\",\"\"))","v":""},"","","","","","",{"$f":"IF(B97=\"\",\"\",IF((IF(ISERROR(MATCH(MONTH(C97),$H$18:$H$19,0))=FALSE,$J$24 + $Q$29,0) + $J$24+$Q$29+$S$27)-L97<0,0.01,IF(ISERROR(MATCH(MONTH(C97),$H$18:$H$19,0))=FALSE,$J$24 + $Q$29,0)+ ($J$24+$Q$29+$S$27)-L97)- R97 -S97-Q97)","v":""},{"$f":"IF(B97=\"\",\"\",IF($J$24+$Q$29<ROUND(ROUND(J97*(((1+(H97/100))^(I97/G97))-1),4),2),$J$24+$Q$29 +-0.01,IF(ROUND(ROUND(J97*(((1+(H97/100))^(I97/G97))-1),4),2)>$J$24,$J$24+ -0.01,ROUND(ROUND(J97*(((1+(H97/100))^(I97/G97))-1),4),2))))","v":""},{"$f":"IF(B97=\"\",\"\",IF(ISERROR(MATCH(MONTH(C97),$H$18:$H$19,0))=FALSE,$J$23,0)  + $J$23)","v":""},{"$f":"IF(B97=\"\",\"\",L97+M97)","v":""},{"$f":"IF(B97=\"\",\"\",K97+N97)","v":""},{"$f":"IF(B97=\"\",\"\",$J$27)","v":""},"",null,"",{"$f":"IF(B97=\"\",\"\",Q97+R97+S97)","v":""},{"$f":"IF(B97=\"\",\"\",$J$28)","v":""},"",{"$f":"IF(B97=\"\",\"\",(ROUND(J97-K97,2)))","v":""},{"$f":"IF(B97=\"\",\"\",IF(ROUND(ROUND(J97*(((1+(H97/100))^(I97/G97))-1),4),2) - $J$24<0,0,ROUND(ROUND(J97*(((1+(H97/100))^(I97/G97))-1),4),2) - $J$24))","v":""},null,{"$f":"SUM(K97:M97)","v":0},"",{"$f":"+Q97","v":""},0,"",{"$f":"IFERROR(AA97+K97 + P97 + U97+AB97 + M97 + AC97 + AD97,\"\")","v":""},0,"00:00:00",0,null,0,0,null,{"$error":"#VALUE!"},{"$f":"(1/((1+($J$8/100))^(AM97/$Q$9))*1) * IF(D97=\"D\",2,1)","v":{"$error":"#VALUE!"}},{"$error":"#VALUE!"},{"$error":"#VALUE!"},{"$f":"(((1+($J$8/100))^((K97)/$Q$9))-1)*AO97","v":{"$error":"#VALUE!"}},{"$f":"IF(D97=\"D\",$K$23,0)+ $K$23","v":2.6335717195281958E-4},{"$error":"#VALUE!"}]
["",{"$f":"IF(A98=\"\",\"\",IF(A98<=$H$22,0,1))","v":""},{"$f":"IF(B98=\"\",\"\",IF(OR(MONTH(EDATE($Q$6,E98))=$H$16,MONTH(EDATE($Q$6,E98))=$H$17),IF(ABS($H$17-$H$16)=1,EDATE($Q$6,E98+2),EDATE($Q$6,E98+1)),EDATE($Q$6,E98)))","v":""},"","","","",{"$f":"IF(B98=\"\",\"\",$H$10)","v":""},"","","","","","","","","",null,{"$f":"IF(B98=\"\",\"\",IF(E98-E97>1,ROUNDDOWN($J98*$H$9/30*(DATE(YEAR($C98),MONTH($C98)-1,DAY($C98))-C97),2),0))","v":""},"","",{"$f":"IF(B98=\"\",\"\",O98+P98+Q98+R98+S98+U98)","v":""},"","",null,0,{"$f":"+L98","v":""},"",0,"","",{"$f":"IFERROR(IF(D98=\"D\",$J$24*2,$J$24)+Q98,0)","v":0},"00:00:00",0,null,{"$f":"+IFERROR(AE98-V98,0)","v":0},{"$f":"+IFERROR(AA98-L98,0)","v":0},null,{"$f":"I98 + AM97","v":{"$error":"#VALUE!"}},{"$error":"#VALUE!"},{"$error":"#VALUE!"},{"$f":"AR98-AQ98","v":{"$error":"#VALUE!"}},{"$error":"#VALUE!"},2.6335717195281958E-4,{"$f":"AO98-AP98","v":{"$error":"#VALUE!"}}]
[{"$f":"+IF(A98>=$H$14,\"\",A98+1)","v":""},"","","",{"$f":"+IF(B99=\"\",\"\",IF(OR(MONTH(DATE(YEAR(C98)+0.0833333333333333,MONTH(C98)+1,DAY(C98)))=$H$16,MONTH(DATE(YEAR(C98)+0.5,MONTH(C98)+1,DAY(C98)))=$H$17),IF(ABS($H$17-$H$16)=1,E98+1,E98+2),E98+1))","v":""},{"$f":"+IF(B99=\"\",\"\",F98+1)","v":""},{"$f":"IF(B99=\"\",\"\",$Q$9)","v":""},"",{"$f":"IF(B99=\"\",\"\",C99-C98)","v":""},{"$f":"IF(B99=\"\",\"\",W98)","v":""},"","","","","","",{"$f":"IF(B99=\"\",\"\",ROUND($H$9*J99/30*$I99,2)-S99)","v":""},null,"","","","","","",null,0,"","",0,"","",0,"00:00:00",0,null,0,0,null,{"$error":"#VALUE!"},{"$error":"#VALUE!"},{"$f":"AS98","v":{"$error":"#VALUE!"}},{"$error":"#VALUE!"},{"$error":"#VALUE!"},2.6335717195281958E-4,{"$error":"#VALUE!"}]
["","","","","","","","","","","","","","","","","",null,"","","","","","",null,0,"","",0,"","",0,"00:00:00",0,null,0,0,null,{"$error":"#VALUE!"},{"$error":"#VALUE!"},{"$error":"#VALUE!"},{"$error":"#VALUE!"},{"$error":"#VALUE!"},2.6335717195281958E-4,{"$error":"#VALUE!"}]
["","","","","","","","","","","","","","","","","",null,"","","","","","",null,0,"","",0,"","",0,"00:00:00",0,null,0,0,null,{"$error":"#VALUE!"},{"$error":"#VALUE!"},{"$error":"#VALUE!"},{"$error":"#VALUE!"},{"$error":"#VALUE!"},2.6335717195281958E-4,{"$error":"#VALUE!"}]
["","","","","","","","","","","","","","","","","",null,"","","","","","",null,0,"","",0,"","",0,"00:00:00",0,null,0,0,null,{"$error":"#VALUE!"},{"$error":"#VALUE!"},{"$error":"#VALUE!"},{"$error":"#VALUE!"},{"$error":"#VALUE!"},2.6335717195281958E-4,{"$error":"#VALUE!"}]
["","","","","","","","","","","","","","","","","",null,"","","","","","",null,0,"","",0,"","",0,"00:00:00",0,null,0,0,null,{"$error":"#VALUE!"},{"$error":"#VALUE!"},{"$error":"#VALUE!"},{"$error":"#VALUE!"},{"$error":"#VALUE!"},2.6335717195281958E-4,{"$error":"#VALUE!"}]
["","","","","","","","","","","","","","","","","",null,"","","","","","",null,0,"","",0,"","",0,"00:00:00",0,null,0,0,null,{"$error":"#VALUE!"},{"$error":"#VALUE!"},{"$error":"#VALUE!"},{"$error":"#VALUE!"},{"$error":"#VALUE!"},2.6335717195281958E-4,{"$error":"#VALUE!"}]
["","","","","","","","","","","","","","","","","",null,"","","","","","",null,0,"","",0,"","",0,"00:00:00",0,null,0,0,null,{"$error":"#VALUE!"},{"$error":"#VALUE!"},{"$error":"#VALUE!"},{"$error":"#VALUE!"},{"$error":"#VALUE!"},2.6335717195281958E-4,{"$error":"#VALUE!"}]
["","","","","","","","","","","","","","","","","",null,"","","","","","",null,0,"","",0,"","",0,"00:00:00",0,null,0,0,null,{"$error":"#VALUE!"},{"$error":"#VALUE!"},{"$error":"#VALUE!"},{"$error":"#VALUE!"},{"$error":"#VALUE!"},2.6335717195281958E-4,{"$error":"#VALUE!"}]
["","","","","","","","","","","","","","","","","",null,"","","","","","",null,0,"","",0,"","",0,"00:00:00",0,null,0,0,null,{"$error":"#VALUE!"},{"$error":"#VALUE!"},{"$error":"#VALUE!"},{"$error":"#VALUE!"},{"$error":"#VALUE!"},2.6335717195281958E-4,{"$error":"#VALUE!"}]
["","","","","","","","","","","","","","","","","",null,"","","","","","",null,0,"","",0,"","",0,"00:00:00",0,null,0,0,null,{"$error":"#VALUE!"},{"$error":"#VALUE!"},{"$error":"#VALUE!"},{"$error":"#VALUE!"},{"$error":"#VALUE!"},2.6335717195281958E-4,{"$error":"#VALUE!"}]
["","","","","","","","","","","","","","","","","",null,"","","","","","",null,0,"","",0,"","",0,"00:00:00",0,null,0,0,null,{"$error":"#VALUE!"},{"$error":"#VALUE!"},{"$error":"#VALUE!"},{"$error":"#VALUE!"},{"$error":"#VALUE!"},2.6335717195281958E-4,{"$error":"#VALUE!"}]
["","","","","","","","","","","","","","","","","",null,"","","","","","",null,0,"","",0,"","",0,{"$f":"+IF(C110=\"\",0,C110)","v":"00:00:00"},{"$f":"+IF(AE110=\"\",0,AE110)","v":0},null,0,0,null,{"$error":"#VALUE!"},{"$error":"#VALUE!"},{"$error":"#VALUE!"},{"$error":"#VALUE!"},{"$error":"#VALUE!"},2.6335717195281958E-4,{"$error":"#VALUE!"}]
["","","","","","","","","","","","","","","","","",null,"","","","","","",null,0,"","",0,"","",0,"00:00:00",0,null,0,0,null,{"$error":"#VALUE!"},{"$error":"#VALUE!"},{"$error":"#VALUE!"},{"$error":"#VALUE!"},{"$error":"#VALUE!"},2.6335717195281958E-4,{"$error":"#VALUE!"}]
["","","","","","","","","","","","","","","","","",null,"","","","","","",null,0,"","",0,"","",0,"00:00:00",0,null,0,0,null,{"$error":"#VALUE!"},{"$error":"#VALUE!"},{"$error":"#VALUE!"},{"$error":"#VALUE!"},{"$error":"#VALUE!"},2.6335717195281958E-4,{"$error":"#VALUE!"}]
["","","","","","","","","","","","","","","","","",null,"","","","","","",null,0,"","",0,"","",0,"00:00:00",0,null,0,0,null,{"$error":"#VALUE!"},{"$error":"#VALUE!"},{"$error":"#VALUE!"},{"$error":"#VALUE!"},{"$error":"#VALUE!"},2.6335717195281958E-4,{"$error":"#VALUE!"}]
["","","","","","","","","","","","","","","","","",null,"","","","","","",null,0,"","",0,"","",0,"00:00:00",0,null,0,0,null,{"$error":"#VALUE!"},{"$error":"#VALUE!"},{"$error":"#VALUE!"},{"$error":"#VALUE!"},{"$error":"#VALUE!"},2.6335717195281958E-4,{"$error":"#VALUE!"}]
["","","","","","","","","","","","","","","","","",null,"","","","","","",null,0,"","",0,"","",0,"00:00:00",0,null,0,0,null,{"$error":"#VALUE!"},{"$error":"#VALUE!"},{"$error":"#VALUE!"},{"$error":"#VALUE!"},{"$error":"#VALUE!"},2.6335717195281958E-4,{"$error":"#VALUE!"}]
["","","","","","","","","","","","","","","","","",null,"","","","","","",null,0,"","",0,"","",0,"00:00:00",0,null,0,0,null,{"$error":"#VALUE!"},{"$error":"#VALUE!"},{"$error":"#VALUE!"},{"$error":"#VALUE!"},{"$error":"#VALUE!"},2.6335717195281958E-4,{"$error":"#VALUE!"}]
["","","","","","","","","","","","","","","","","",null,"","","","","","",null,0,"","",0,"","",0,"00:00:00",0,null,0,0,null,{"$error":"#VALUE!"},{"$error":"#VALUE!"},{"$error":"#VALUE!"},{"$error":"#VALUE!"},{"$error":"#VALUE!"},2.6335717195281958E-4,{"$error":"#VALUE!"}]
["","","","","","","","","","","","","","","","","",null,"","","","","","",null,0,"","",0,"","",0,"00:00:00",0,null,0,0,null,{"$error":"#VALUE!"},{"$error":"#VALUE!"},{"$error":"#VALUE!"},{"$error":"#VALUE!"},{"$error":"#VALUE!"},2.6335717195281958E-4,{"$error":"#VALUE!"}]
["","","","","","","","","","","","","","","","","",null,"","","","","","",null,0,"","",0,"","",0,"00:00:00",0,null,0,0,null,{"$error":"#VALUE!"},{"$error":"#VALUE!"},{"$error":"#VALUE!"},{"$error":"#VALUE!"},{"$error":"#VALUE!"},2.6335717195281958E-4,{"$error":"#VALUE!"}]
["","","","","","","","","","","","","","","","","",null,"","","","","","",null,0,"","",0,"","",0,"00:00:00",0,null,0,0,null,{"$error":"#VALUE!"},{"$error":"#VALUE!"},{"$error":"#VALUE!"},{"$error":"#VALUE!"},{"$error":"#VALUE!"},2.6335717195281958E-4,{"$error":"#VALUE!"}]
["","","","","","","","","","","","","","","","","",null,"","","","","","",null,0,"","",0,"","",0,"00:00:00",0,null,0,0,null,{"$error":"#VALUE!"},{"$error":"#VALUE!"},{"$error":"#VALUE!"},{"$error":"#VALUE!"},{"$error":"#VALUE!"},2.6335717195281958E-4,{"$error":"#VALUE!"}]
["","","","","","","","","","","","","","","","","",null,"","","","","","",null,0,"","",0,"","",0,"00:00:00",0,null,0,0,null,{"$error":"#VALUE!"},{"$error":"#VALUE!"},{"$error":"#VALUE!"},{"$error":"#VALUE!"},{"$error":"#VALUE!"},2.6335717195281958E-4,{"$error":"#VALUE!"}]
["","","","","","","","","","","","","","","","","",null,"","","","","","",null,0,"","",0,"","",0,"00:00:00",0,null,0,0,null,{"$error":"#VALUE!"},{"$error":"#VALUE!"},{"$error":"#VALUE!"},{"$error":"#VALUE!"},{"$error":"#VALUE!"},2.6335717195281958E-4,{"$error":"#VALUE!"}]
["","","","","","","","","","","","","","","","","",null,"","","","","","",null,0,"","",0,"","",0,"00:00:00",0,null,0,0,null,{"$error":"#VALUE!"},{"$error":"#VALUE!"},{"$error":"#VALUE!"},{"$error":"#VALUE!"},{"$error":"#VALUE!"},2.6335717195281958E-4,{"$error":"#VALUE!"}]
["","","","","","","","","","","","","","","","","",null,"","","","","","",null,0,"","",0,"","",0,"00:00:00",0,null,0,0,null,{"$error":"#VALUE!"},{"$error":"#VALUE!"},{"$error":"#VALUE!"},{"$error":"#VALUE!"},{"$error":"#VALUE!"},2.6335717195281958E-4,{"$error":"#VALUE!"}]
["","","","","","","","","","","","","","","","","",null,"","","","","","",null,0,"","",0,"","",0,"00:00:00",0,null,0,0,null,{"$error":"#VALUE!"},{"$error":"#VALUE!"},{"$error":"#VALUE!"},{"$error":"#VALUE!"},{"$error":"#VALUE!"},2.6335717195281958E-4,{"$error":"#VALUE!"}]
["","","","","","","","","","","","","","","","","",null,"","","","","","",null,0,"","",0,"","",0,"00:00:00",0,null,0,0,null,{"$error":"#VALUE!"},{"$error":"#VALUE!"},{"$error":"#VALUE!"},{"$error":"#VALUE!"},{"$error":"#VALUE!"},2.6335717195281958E-4,{"$error":"#VALUE!"}]
["","","","","","","","","","","","","","","","","",null,"","","","","","",null,0,"","",0,"","",0,"00:00:00",0,null,0,0,null,{"$error":"#VALUE!"},{"$error":"#VALUE!"},{"$error":"#VALUE!"},{"$error":"#VALUE!"},{"$error":"#VALUE!"},2.6335717195281958E-4,{"$error":"#VALUE!"}]
["","","","","","","","","","","","","","","","","",null,"","","","","","",null,0,"","",0,"","",0,"00:00:00",0,null,0,0,null,{"$error":"#VALUE!"},{"$error":"#VALUE!"},{"$error":"#VALUE!"},{"$error":"#VALUE!"},{"$error":"#VALUE!"},2.6335717195281958E-4,{"$error":"#VALUE!"}]
["","","","","","","","","","","","","","","","","",null,"","","","","","",null,0,"","",0,"","",0,"00:00:00",0,null,0,0,null,{"$error":"#VALUE!"},{"$error":"#VALUE!"},{"$error":"#VALUE!"},{"$error":"#VALUE!"},{"$error":"#VALUE!"},2.6335717195281958E-4,{"$error":"#VALUE!"}]
["","","","","","","","","","","","","","","","","",null,"","","","","","",null,0,"","",0,"","",0,"00:00:00",0,null,0,0,null,{"$error":"#VALUE!"},{"$error":"#VALUE!"},{"$error":"#VALUE!"},{"$error":"#VALUE!"},{"$error":"#VALUE!"},2.6335717195281958E-4,{"$error":"#VALUE!"}]
["","","","","","","","","","","","","","","","","",null,"","","","","","",null,0,"","",0,"","",0,"00:00:00",0,null,0,0,null,{"$error":"#VALUE!"},{"$error":"#VALUE!"},{"$error":"#VALUE!"},{"$error":"#VALUE!"},{"$error":"#VALUE!"},2.6335717195281958E-4,{"$error":"#VALUE!"}]
["","","","","","","","","","","","","","","","","",null,"","","","","","",null,0,"","",0,"","",0,"00:00:00",0,null,0,0,null,{"$error":"#VALUE!"},{"$error":"#VALUE!"},{"$error":"#VALUE!"},{"$error":"#VALUE!"},{"$error":"#VALUE!"},2.6335717195281958E-4,{"$error":"#VALUE!"}]
["","","","","","","","","","","","","","","","","",null,"","","","","","",null,0,"","",0,"","",0,"00:00:00",0,null,0,0,null,{"$error":"#VALUE!"},{"$error":"#VALUE!"},{"$error":"#VALUE!"},{"$error":"#VALUE!"},{"$error":"#VALUE!"},2.6335717195281958E-4,{"$error":"#VALUE!"}]
["","","","","","","","","","","","","","","","","",null,"","","","","","",null,0,"","",0,"","",0,"00:00:00",0,null,0,0,null,{"$error":"#VALUE!"},{"$error":"#VALUE!"},{"$error":"#VALUE!"},{"$error":"#VALUE!"},{"$error":"#VALUE!"},2.6335717195281958E-4,{"$error":"#VALUE!"}]
["","","","","","","","","","","","","","","","","",null,"","","","","","",null,0,"","",0,"","",0,"00:00:00",0,null,0,0,null,{"$error":"#VALUE!"},{"$error":"#VALUE!"},{"$error":"#VALUE!"},{"$error":"#VALUE!"},{"$error":"#VALUE!"},2.6335717195281958E-4,{"$error":"#VALUE!"}]
["","","","","","","","","","","","","","","","","",null,"","","","","","",null,0,"","",0,"","",0,"00:00:00",0,null,0,0,null,{"$error":"#VALUE!"},{"$error":"#VALUE!"},{"$error":"#VALUE!"},{"$error":"#VALUE!"},{"$error":"#VALUE!"},2.6335717195281958E-4,{"$error":"#VALUE!"}]
["","","","","","","","","","","","","","","","","",null,"","","","","","",null,0,"","",0,"","",0,"00:00:00",0,null,0,0,null,{"$error":"#VALUE!"},{"$error":"#VALUE!"},{"$error":"#VALUE!"},{"$error":"#VALUE!"},{"$error":"#VALUE!"},2.6335717195281958E-4,{"$error":"#VALUE!"}]
["","","","","","","","","","","","","","","","","",null,"","","","","","",null,0,"","",0,"","",0,"00:00:00",0,null,0,0,null,{"$error":"#VALUE!"},{"$error":"#VALUE!"},{"$error":"#VALUE!"},{"$error":"#VALUE!"},{"$error":"#VALUE!"},2.6335717195281958E-4,{"$error":"#VALUE!"}]
["","","","","","","","","","","","","","","","","",null,"","","","","","",null,0,"","",0,"","",0,"00:00:00",0,null,0,0,null,{"$error":"#VALUE!"},{"$error":"#VALUE!"},{"$error":"#VALUE!"},{"$error":"#VALUE!"},{"$error":"#VALUE!"},2.6335717195281958E-4,{"$error":"#VALUE!"}]
["","","","","","","","","","","","","","","","","",null,"","","","","","",null,0,"","",0,"","",0,"00:00:00",0,null,0,0,null,{"$error":"#VALUE!"},{"$error":"#VALUE!"},{"$error":"#VALUE!"},{"$error":"#VALUE!"},{"$error":"#VALUE!"},2.6335717195281958E-4,{"$error":"#VALUE!"}]
["","","","","","","","","","","","","","","","","",null,"","","","","","",null,0,"","",0,"","",0,"00:00:00",0,null,0,0,null,{"$error":"#VALUE!"},{"$error":"#VALUE!"},{"$error":"#VALUE!"},{"$error":"#VALUE!"},{"$error":"#VALUE!"},2.6335717195281958E-4,{"$error":"#VALUE!"}]
["","","","","","","","","","","","","","","","","",null,"","","","","","",null,0,"","",0,"","",0,"00:00:00",0,null,0,0,null,{"$error":"#VALUE!"},{"$error":"#VALUE!"},{"$error":"#VALUE!"},{"$error":"#VALUE!"},{"$error":"#VALUE!"},2.6335717195281958E-4,{"$error":"#VALUE!"}]
["","","","","","","","","","","","","","","","","",null,"","","","","","",null,0,"","",0,"","",0,"00:00:00",0,null,0,0,null,{"$error":"#VALUE!"},{"$error":"#VALUE!"},{"$error":"#VALUE!"},{"$error":"#VALUE!"},{"$error":"#VALUE!"},2.6335717195281958E-4,{"$error":"#VALUE!"}]
["","","","","","","","","","","","","","","","","",null,"","","","","","",null,0,"","",0,"","",0,"00:00:00",0,null,0,0,null,{"$error":"#VALUE!"},{"$error":"#VALUE!"},{"$error":"#VALUE!"},{"$error":"#VALUE!"},{"$error":"#VALUE!"},2.6335717195281958E-4,{"$error":"#VALUE!"}]
["","","","","","","","","","","","","","","","","",null,"","","","","","",null,0,"","",0,"","",0,"00:00:00",0,null,0,0,null,{"$error":"#VALUE!"},{"$error":"#VALUE!"},{"$error":"#VALUE!"},{"$error":"#VALUE!"},{"$error":"#VALUE!"},2.6335717195281958E-4,{"$error":"#VALUE!"}]
["","","","","","","","","","","","","","","","","",null,"","","","","","",null,0,"","",0,"","",0,"00:00:00",0,null,0,0,null,{"$error":"#VALUE!"},{"$error":"#VALUE!"},{"$error":"#VALUE!"},{"$error":"#VALUE!"},{"$error":"#VALUE!"},2.6335717195281958E-4,{"$error":"#VALUE!"}]
["","","","","","","","","","","","","","","","","",null,"","","","","","",null,0,"","",0,"","",0,"00:00:00",0,null,0,0,null,{"$error":"#VALUE!"},{"$error":"#VALUE!"},{"$error":"#VALUE!"},{"$error":"#VALUE!"},{"$error":"#VALUE!"},2.6335717195281958E-4,{"$error":"#VALUE!"}]
["","","","","","","","","","","","","","","","","",null,"","","","","","",null,0,"","",0,"","",0,"00:00:00",0,null,0,0,null,{"$error":"#VALUE!"},{"$error":"#VALUE!"},{"$error":"#VALUE!"},{"$error":"#VALUE!"},{"$error":"#VALUE!"},2.6335717195281958E-4,{"$error":"#VALUE!"}]
["","","","","","","","","","","","","","","","","",null,"","","","","","",null,0,"","",0,"","",0,"00:00:00",0,null,0,0,null,{"$error":"#VALUE!"},{"$error":"#VALUE!"},{"$error":"#VALUE!"},{"$error":"#VALUE!"},{"$error":"#VALUE!"},2.6335717195281958E-4,{"$error":"#VALUE!"}]
["","","","","","","","","","","","","","","","","",null,"","","","","","",null,0,"","",0,"","",0,"00:00:00",0,null,0,0,null,{"$error":"#VALUE!"},{"$error":"#VALUE!"},{"$error":"#VALUE!"},{"$error":"#VALUE!"},{"$error":"#VALUE!"},2.6335717195281958E-4,{"$error":"#VALUE!"}]
["","","","","","","","","","","","","","","","","",null,"","","","","","",null,0,"","",0,"","",0,"00:00:00",0,null,0,0,null,{"$error":"#VALUE!"},{"$error":"#VALUE!"},{"$error":"#VALUE!"},{"$error":"#VALUE!"},{"$error":"#VALUE!"},2.6335717195281958E-4,{"$error":"#VALUE!"}]
["","","","","","","","","","","","","","","","","",null,"","","","","","",null,0,"","",0,"","",0,"00:00:00",0,null,0,0,null,{"$error":"#VALUE!"},{"$error":"#VALUE!"},{"$error":"#VALUE!"},{"$error":"#VALUE!"},{"$error":"#VALUE!"},2.6335717195281958E-4,{"$error":"#VALUE!"}]
["","","","","","","","","","","","","","","","","",null,"","","","","","",null,0,"","",0,"","",0,"00:00:00",0,null,0,0,null,{"$error":"#VALUE!"},{"$error":"#VALUE!"},{"$error":"#VALUE!"},{"$error":"#VALUE!"},{"$error":"#VALUE!"},2.6335717195281958E-4,{"$error":"#VALUE!"}]
["","","","","","","","","","","","","","","","","",null,"","","","","","",null,0,"","",0,"","",0,"00:00:00",0,null,0,0,null,{"$error":"#VALUE!"},{"$error":"#VALUE!"},{"$error":"#VALUE!"},{"$error":"#VALUE!"},{"$error":"#VALUE!"},2.6335717195281958E-4,{"$error":"#VALUE!"}]
["","","","","","","","","","","","","","","","","",null,"","","","","","",null,0,"","",0,"","",0,"00:00:00",0,null,0,0,null,{"$error":"#VALUE!"},{"$error":"#VALUE!"},{"$error":"#VALUE!"},{"$error":"#VALUE!"},{"$error":"#VALUE!"},2.6335717195281958E-4,{"$error":"#VALUE!"}]
["","","","","","","","","","","","","","","","","",null,"","","","","","",null,0,"","",0,"","",0,"00:00:00",0,null,0,0,null,{"$error":"#VALUE!"},{"$error":"#VALUE!"},{"$error":"#VALUE!"},{"$error":"#VALUE!"},{"$error":"#VALUE!"},2.6335717195281958E-4,{"$error":"#VALUE!"}]
["","","","","","","","","","","","","","","","","",null,"","","","","","",null,0,"","",0,"","",0,"00:00:00",0,null,0,0,null,{"$error":"#VALUE!"},{"$error":"#VALUE!"},{"$error":"#VALUE!"},{"$error":"#VALUE!"},{"$error":"#VALUE!"},2.6335717195281958E-4,{"$error":"#VALUE!"}]
["","","","","","","","","","","","","","","","","",null,"","","","","","",null,0,"","",0,"","",0,"00:00:00",0,null,0,0,null,{"$error":"#VALUE!"},{"$error":"#VALUE!"},{"$error":"#VALUE!"},{"$error":"#VALUE!"},{"$error":"#VALUE!"},2.6335717195281958E-4,{"$error":"#VALUE!"}]
["","","","","","","","","","","","","","","","","",null,"","","","","","",null,0,"","",0,"","",0,"00:00:00",0,null,0,0,null,{"$error":"#VALUE!"},{"$error":"#VALUE!"},{"$error":"#VALUE!"},{"$error":"#VALUE!"},{"$error":"#VALUE!"},2.6335717195281958E-4,{"$error":"#VALUE!"}]
["","","",{"$f":"IF(B161=\"\",\"\",IF(OR(MONTH(C161)=$H$18,MONTH(C161)=$H$19),\"D\",\"\"))","v":""},"","","","","","",{"$f":"IF(B161=\"\",\"\",IF((IF(ISERROR(MATCH(MONTH(C161),$H$18:$H$19,0))=FALSE,$J$24 + $Q$29,0) + $J$24+$Q$29+$S$27)-L161<0,0.01,IF(ISERROR(MATCH(MONTH(C161),$H$18:$H$19,0))=FALSE,$J$24 + $Q$29,0)+ ($J$24+$Q$29+$S$27)-L161)- R161 -S161-Q161)","v":""},{"$f":"IF(B161=\"\",\"\",IF($J$24+$Q$29<ROUND(ROUND(J161*(((1+(H161/100))^(I161/G161))-1),4),2),$J$24+$Q$29 +-0.01,IF(ROUND(ROUND(J161*(((1+(H161/100))^(I161/G161))-1),4),2)>$J$24,$J$24+ -0.01,ROUND(ROUND(J161*(((1+(H161/100))^(I161/G161))-1),4),2))))","v":""},{"$f":"IF(B161=\"\",\"\",IF(ISERROR(MATCH(MONTH(C161),$H$18:$H$19,0))=FALSE,$J$23,0)  + $J$23)","v":""},{"$f":"IF(B161=\"\",\"\",L161+M161)","v":""},{"$f":"IF(B161=\"\",\"\",K161+N161)","v":""},{"$f":"IF(B161=\"\",\"\",$J$27)","v":""},"",null,"",{"$f":"IF(B161=\"\",\"\",Q161+R161+S161)","v":""},{"$f":"IF(B161=\"\",\"\",$J$28)","v":""},"",{"$f":"IF(B161=\"\",\"\",(ROUND(J161-K161,2)))","v":""},{"$f":"IF(B161=\"\",\"\",IF(ROUND(ROUND(J161*(((1+(H161/100))^(I161/G161))-1),4),2) - $J$24<0,0,ROUND(ROUND(J161*(((1+(H161/100))^(I161/G161))-1),4),2) - $J$24))","v":""},null,{"$f":"SUM(K161:M161)","v":0},"",{"$f":"+Q161","v":""},0,"",{"$f":"IFERROR(AA161+K161 + P161 + U161+AB161 + M161 + AC161 + AD161,\"\")","v":""},0,"00:00:00",0,null,0,0,null,{"$error":"#VALUE!"},{"$f":"(1/((1+($J$8/100))^(AM161/$Q$9))*1) * IF(D161=\"D\",2,1)","v":{"$error":"#VALUE!"}},{"$error":"#VALUE!"},{"$error":"#VALUE!"},{"$f":"(((1+($J$8/100))^((K161)/$Q$9))-1)*AO161","v":{"$error":"#VALUE!"}},{"$f":"IF(D161=\"D\",$K$23,0)+ $K$23","v":2.6335717195281958E-4},{"$error":"#VALUE!"}]
["",{"$f":"IF(A162=\"\",\"\",IF(A162<=$H$22,0,1))","v":""},{"$f":"IF(B162=\"\",\"\",IF(OR(MONTH(EDATE($Q$6,E162))=$H$16,MONTH(EDATE($Q$6,E162))=$H$17),IF(ABS($H$17-$H$16)=1,EDATE($Q$6,E162+2),EDATE($Q$6,E162+1)),EDATE($Q$6,E162)))","v":""},"","","","",{"$f":"IF(B162=\"\",\"\",$H$10)","v":""},"","","","","","","","","",null,{"$f":"IF(B162=\"\",\"\",IF(E162-E161>1,ROUNDDOWN($J162*$H$9/30*(DATE(YEAR($C162),MONTH($C162)-1,DAY($C162))-C161),2),0))","v":""},"","",{"$f":"IF(B162=\"\",\"\",O162+P162+Q162+R162+S162+U162)","v":""},"","",null,0,{"$f":"+L162","v":""},"",0,"","",{"$f":"IFERROR(IF(D162=\"D\",$J$24*2,$J$24)+Q162,0)","v":0},"00:00:00",0,null,{"$f":"+IFERROR(AE162-V162,0)","v":0},{"$f":"+IFERROR(AA162-L162,0)","v":0},null,{"$f":"I162 + AM161","v":{"$error":"#VALUE!"}},{"$error":"#VALUE!"},{"$error":"#VALUE!"},{"$f":"AR162-AQ162","v":{"$error":"#VALUE!"}},{"$error":"#VALUE!"},2.6335717195281958E-4,{"$f":"AO162-AP162","v":{"$error":"#VALUE!"}}]
[{"$f":"+IF(A162>=$H$14,\"\",A162+1)","v":""},"","","",{"$f":"+IF(B163=\"\",\"\",IF(OR(MONTH(DATE(YEAR(C162)+0.0833333333333333,MONTH(C162)+1,DAY(C162)))=$H$16,MONTH(DATE(YEAR(C162)+0.5,MONTH(C162)+1,DAY(C162)))=$H$17),IF(ABS($H$17-$H$16)=1,E162+1,E162+2),E162+1))","v":""},{"$f":"+IF(B163=\"\",\"\",F162+1)","v":""},{"$f":"IF(B163=\"\",\"\",$Q$9)","v":""},"",{"$f":"IF(B163=\"\",\"\",C163-C162)","v":""},{"$f":"IF(B163=\"\",\"\",W162)","v":""},"","","","","","",{"$f":"IF(B163=\"\",\"\",ROUND($H$9*J163/30*$I163,2)-S163)","v":""},null,"","","","","","",null,0,"","",0,"","",0,"00:00:00",0,null,0,0,null,{"$error":"#VALUE!"},{"$error":"#VALUE!"},{"$f":"AS162","v":{"$error":"#VALUE!"}},{"$error":"#VALUE!"},{"$error":"#VALUE!"},2.6335717195281958E-4,{"$error":"#VALUE!"}]
["","","","","","","","","","","","","","","","","",null,"","","","","","",null,0,"","",0,"","",0,"00:00:00",0,null,0,0,null,{"$error":"#VALUE!"},{"$error":"#VALUE!"},{"$error":"#VALUE!"},{"$error":"#VALUE!"},{"$error":"#VALUE!"},2.6335717195281958E-4,{"$error":"#VALUE!"}]
["","","","","","","","","","","","","","","","","",null,"","","","","","",null,0,"","",0,"","",0,"00:00:00",0,null,0,0,null,{"$error":"#VALUE!"},{"$error":"#VALUE!"},{"$error":"#VALUE!"},{"$error":"#VALUE!"},{"$error":"#VALUE!"},2.6335717195281958E-4,{"$error":"#VALUE!"}]
["","","","","","","","","","","","","","","","","",null,"","","","","","",null,0,"","",0,"","",0,"00:00:00",0,null,0,0,null,{"$error":"#VALUE!"},{"$error":"#VALUE!"},{"$error":"#VALUE!"},{"$error":"#VALUE!"},{"$error":"#VALUE!"},2.6335717195281958E-4,{"$error":"#VALUE!"}]
["","","","","","","","","","","","","","","","","",null,"","","","","","",null,0,"","",0,"","",0,"00:00:00",0,null,0,0,null,{"$error":"#VALUE!"},{"$error":"#VALUE!"},{"$error":"#VALUE!"},{"$error":"#VALUE!"},{"$error":"#VALUE!"},2.6335717195281958E-4,{"$error":"#VALUE!"}]
["","","","","","","","","","","","","","","","","",null,"","","","","","",null,0,"","",0,"","",0,"00:00:00",0,null,0,0,null,{"$error":"#VALUE!"},{"$error":"#VALUE!"},{"$error":"#VALUE!"},{"$error":"#VALUE!"},{"$error":"#VALUE!"},2.6335717195281958E-4,{"$error":"#VALUE!"}]
["","","","","","","","","","","","","","","","","",null,"","","","","","",null,0,"","",0,"","",0,"00:00:00",0,null,0,0,null,{"$error":"#VALUE!"},{"$error":"#VALUE!"},{"$error":"#VALUE!"},{"$error":"#VALUE!"},{"$error":"#VALUE!"},2.6335717195281958E-4,{"$error":"#VALUE!"}]
["","","","","","","","","","","","","","","","","",null,"","","","","","",null,0,"","",0,"","",0,"00:00:00",0,null,0,0,null,{"$error":"#VALUE!"},{"$error":"#VALUE!"},{"$error":"#VALUE!"},{"$error":"#VALUE!"},{"$error":"#VALUE!"},2.6335717195281958E-4,{"$error":"#VALUE!"}]
["","","","","","","","","","","","","","","","","",null,"","","","","","",null,0,"","",0,"","",0,"00:00:00",0,null,0,0,null,{"$error":"#VALUE!"},{"$error":"#VALUE!"},{"$error":"#VALUE!"},{"$error":"#VALUE!"},{"$error":"#VALUE!"},2.6335717195281958E-4,{"$error":"#VALUE!"}]
["","","","","","","","","","","","","","","","","",null,"","","","","","",null,0,"","",0,"","",0,"00:00:00",0,null,0,0,null,{"$error":"#VALUE!"},{"$error":"#VALUE!"},{"$error":"#VALUE!"},{"$error":"#VALUE!"},{"$error":"#VALUE!"},2.6335717195281958E-4,{"$error":"#VALUE!"}]
["","","","","","","","","","","","","","","","","",null,"","","","","","",null,0,"","",0,"","",0,"00:00:00",0,null,0,0,null,{"$error":"#VALUE!"},{"$error":"#VALUE!"},{"$error":"#VALUE!"},{"$error":"#VALUE!"},{"$error":"#VALUE!"},2.6335717195281958E-4,{"$error":"#VALUE!"}]
["","","","","","","","","","","","","","","","","",null,"","","","","","",null,0,"","",0,"","",0,{"$f":"+IF(C174=\"\",0,C174)","v":"00:00:00"},{"$f":"+IF(AE174=\"\",0,AE174)","v":0},null,0,0,null,{"$error":"#VALUE!"},{"$error":"#VALUE!"},{"$error":"#VALUE!"},{"$error":"#VALUE!"},{"$error":"#VALUE!"},2.6335717195281958E-4,{"$error":"#VALUE!"}]
["","","","","","","","","","","","","","","","","",null,"","","","","","",null,0,"","",0,"","",0,"00:00:00",0,null,0,0,null,{"$error":"#VALUE!"},{"$error":"#VALUE!"},{"$error":"#VALUE!"},{"$error":"#VALUE!"},{"$error":"#VALUE!"},2.6335717195281958E-4,{"$error":"#VALUE!"}]
["","","","","","","","","","","","","","","","","",null,"","","","","","",null,0,"","",0,"","",0,"00:00:00",0,null,0,0,null,{"$error":"#VALUE!"},{"$error":"#VALUE!"},{"$error":"#VALUE!"},{"$error":"#VALUE!"},{"$error":"#VALUE!"},2.6335717195281958E-4,{"$error":"#VALUE!"}]
["","","","","","","","","","","","","","","","","",null,"","","","","","",null,0,"","",0,"","",0,"00:00:00",0,null,0,0,null,{"$error":"#VALUE!"},{"$error":"#VALUE!"},{"$error":"#VALUE!"},{"$error":"#VALUE!"},{"$error":"#VALUE!"},2.6335717195281958E-4,{"$error":"#VALUE!"}]
["","","","","","","","","","","","","","","","","",null,"","","","","","",null,0,"","",0,"","",0,"00:00:00",0,null,0,0,null,{"$error":"#VALUE!"},{"$error":"#VALUE!"},{"$error":"#VALUE!"},{"$error":"#VALUE!"},{"$error":"#VALUE!"},2.6335717195281958E-4,{"$error":"#VALUE!"}]
["","","","","","","","","","","","","","","","","",null,"","","","","","",null,0,"","",0,"","",0,"00:00:00",0,null,0,0,null,{"$error":"#VALUE!"},{"$error":"#VALUE!"},{"$error":"#VALUE!"},{"$error":"#VALUE!"},{"$error":"#VALUE!"},2.6335717195281958E-4,{"$error":"#VALUE!"}]
["","","","","","","","","","","","","","","","","",null,"","","","","","",null,0,"","",0,"","",0,"00:00:00",0,null,0,0,null,{"$error":"#VALUE!"},{"$error":"#VALUE!"},{"$error":"#VALUE!"},{"$error":"#VALUE!"},{"$error":"#VALUE!"},2.6335717195281958E-4,{"$error":"#VALUE!"}]
["","","","","","","","","","","","","","","","","",null,"","","","","","",null,0,"","",0,"","",0,"00:00:00",0,null,0,0,null,{"$error":"#VALUE!"},{"$error":"#VALUE!"},{"$error":"#VALUE!"},{"$error":"#VALUE!"},{"$error":"#VALUE!"},2.6335717195281958E-4,{"$error":"#VALUE!"}]
["","","","","","","","","","","","","","","","","",null,"","","","","","",null,0,"","",0,"","",0,"00:00:00",0,null,0,0,null,{"$error":"#VALUE!"},{"$error":"#VALUE!"},{"$error":"#VALUE!"},{"$error":"#VALUE!"},{"$error":"#VALUE!"},2.6335717195281958E-4,{"$error":"#VALUE!"}]
["","","","","","","","","","","","","","","","","",null,"","","","","","",null,0,"","",0,"","",0,"00:00:00",0,null,0,0,null,{"$error":"#VALUE!"},{"$error":"#VALUE!"},{"$error":"#VALUE!"},{"$error":"#VALUE!"},{"$error":"#VALUE!"},2.6335717195281958E-4,{"$error":"#VALUE!"}]
["","","","","","","","","","","","","","","","","",null,"","","","","","",null,0,"","",0,"","",0,"00:00:00",0,null,0,0,null,{"$error":"#VALUE!"},{"$error":"#VALUE!"},{"$error":"#VALUE!"},{"$error":"#VALUE!"},{"$error":"#VALUE!"},2.6335717195281958E-4,{"$error":"#VALUE!"}]
["","","","","","","","","","","","","","","","","",null,"","","","","","",null,0,"","",0,"","",0,"00:00:00",0,null,0,0,null,{"$error":"#VALUE!"},{"$error":"#VALUE!"},{"$error":"#VALUE!"},{"$error":"#VALUE!"},{"$error":"#VALUE!"},2.6335717195281958E-4,{"$error":"#VALUE!"}]
["","","","","","","","","","","","","","","","","",null,"","","","","","",null,0,"","",0,"","",0,"00:00:00",0,null,0,0,null,{"$error":"#VALUE!"},{"$error":"#VALUE!"},{"$error":"#VALUE!"},{"$error":"#VALUE!"},{"$error":"#VALUE!"},2.6335717195281958E-4,{"$error":"#VALUE!"}]
["","","","","","","","","","","","","","","","","",null,"","","","","","",null,0,"","",0,"","",0,"00:00:00",0,null,0,0,null,{"$error":"#VALUE!"},{"$error":"#VALUE!"},{"$error":"#VALUE!"},{"$error":"#VALUE!"},{"$error":"#VALUE!"},2.6335717195281958E-4,{"$error":"#VALUE!"}]
["","","","","","","","","","","","","","","","","",null,"","","","","","",null,0,"","",0,"","",0,"00:00:00",0,null,0,0,null,{"$error":"#VALUE!"},{"$error":"#VALUE!"},{"$error":"#VALUE!"},{"$error":"#VALUE!"},{"$error":"#VALUE!"},2.6335717195281958E-4,{"$error":"#VALUE!"}]
["","","","","","","","","","","","","","","","","",null,"","","","","","",null,0,"","",0,"","",0,"00:00:00",0,null,0,0,null,{"$error":"#VALUE!"},{"$error":"#VALUE!"},{"$error":"#VALUE!"},{"$error":"#VALUE!"},{"$error":"#VALUE!"},2.6335717195281958E-4,{"$error":"#VALUE!"}]
["","","","","","","","","","","","","","","","","",null,"","","","","","",null,0,"","",0,"","",0,"00:00:00",0,null,0,0,null,{"$error":"#VALUE!"},{"$error":"#VALUE!"},{"$error":"#VALUE!"},{"$error":"#VALUE!"},{"$error":"#VALUE!"},2.6335717195281958E-4,{"$error":"#VALUE!"}]
["","","","","","","","","","","","","","","","","",null,"","","","","","",null,0,"","",0,"","",0,"00:00:00",0,null,0,0,null,{"$error":"#VALUE!"},{"$error":"#VALUE!"},{"$error":"#VALUE!"},{"$error":"#VALUE!"},{"$error":"#VALUE!"},2.6335717195281958E-4,{"$error":"#VALUE!"}]
["","","","","","","","","","","","","","","","","",null,"","","","","","",null,0,"","",0,"","",0,"00:00:00",0,null,0,0,null,{"$error":"#VALUE!"},{"$error":"#VALUE!"},{"$error":"#VALUE!"},{"$error":"#VALUE!"},{"$error":"#VALUE!"},2.6335717195281958E-4,{"$error":"#VALUE!"}]
["","","","","","","","","","","","","","","","","",null,"","","","","","",null,0,"","",0,"","",0,"00:00:00",0,null,0,0,null,{"$error":"#VALUE!"},{"$error":"#VALUE!"},{"$error":"#VALUE!"},{"$error":"#VALUE!"},{"$error":"#VALUE!"},2.6335717195281958E-4,{"$error":"#VALUE!"}]
["","","","","","","","","","","","","","","","","",null,"","","","","","",null,0,"","",0,"","",0,"00:00:00",0,null,0,0,null,{"$error":"#VALUE!"},{"$error":"#VALUE!"},{"$error":"#VALUE!"},{"$error":"#VALUE!"},{"$error":"#VALUE!"},2.6335717195281958E-4,{"$error":"#VALUE!"}]
["","","","","","","","","","","","","","","","","",null,"","","","","","",null,0,"","",0,"","",0,"00:00:00",0,null,0,0,null,{"$error":"#VALUE!"},{"$error":"#VALUE!"},{"$error":"#VALUE!"},{"$error":"#VALUE!"},{"$error":"#VALUE!"},2.6335717195281958E-4,{"$error":"#VALUE!"}]
["","","","","","","","","","","","","","","","","",null,"","","","","","",null,0,"","",0,"","",0,"00:00:00",0,null,0,0,null,{"$error":"#VALUE!"},{"$error":"#VALUE!"},{"$error":"#VALUE!"},{"$error":"#VALUE!"},{"$error":"#VALUE!"},2.6335717195281958E-4,{"$error":"#VALUE!"}]
["","","","","","","","","","","","","","","","","",null,"","","","","","",null,0,"","",0,"","",0,"00:00:00",0,null,0,0,null,{"$error":"#VALUE!"},{"$error":"#VALUE!"},{"$error":"#VALUE!"},{"$error":"#VALUE!"},{"$error":"#VALUE!"},2.6335717195281958E-4,{"$error":"#VALUE!"}]
["","","","","","","","","","","","","","","","","",null,"","","","","","",null,0,"","",0,"","",0,"00:00:00",0,null,0,0,null,{"$error":"#VALUE!"},{"$error":"#VALUE!"},{"$error":"#VALUE!"},{"$error":"#VALUE!"},{"$error":"#VALUE!"},2.6335717195281958E-4,{"$error":"#VALUE!"}]
["","","","","","","","","","","","","","","","","",null,"","","","","","",null,0,"","",0,"","",0,"00:00:00",0,null,0,0,null,{"$error":"#VALUE!"},{"$error":"#VALUE!"},{"$error":"#VALUE!"},{"$error":"#VALUE!"},{"$error":"#VALUE!"},2.6335717195281958E-4,{"$error":"#VALUE!"}]
["","","","","","","","","","","","","","","","","",null,"","","","","","",null,0,"","",0,"","",0,"00:00:00",0,null,0,0,null,{"$error":"#VALUE!"},{"$error":"#VALUE!"},{"$error":"#VALUE!"},{"$error":"#VALUE!"},{"$error":"#VALUE!"},2.6335717195281958E-4,{"$error":"#VALUE!"}]
["","","","","","","","","","","","","","","","","",null,"","","","","","",null,0,"","",0,"","",0,"00:00:00",0,null,0,0,null,{"$error":"#VALUE!"},{"$error":"#VALUE!"},{"$error":"#VALUE!"},{"$error":"#VALUE!"},{"$error":"#VALUE!"},2.6335717195281958E-4,{"$error":"#VALUE!"}]
["","","","","","","","","","","","","","","","","",null,"","","","","","",null,0,"","",0,"","",0,"00:00:00",0,null,0,0,null,{"$error":"#VALUE!"},{"$error":"#VALUE!"},{"$error":"#VALUE!"},{"$error":"#VALUE!"},{"$error":"#VALUE!"},2.6335717195281958E-4,{"$error":"#VALUE!"}]
["","","","","","","","","","","","","","","","","",null,"","","","","","",null,0,"","",0,"","",0,"00:00:00",0,null,0,0,null,{"$error":"#VALUE!"},{"$error":"#VALUE!"},{"$error":"#VALUE!"},{"$error":"#VALUE!"},{"$error":"#VALUE!"},2.6335717195281958E-4,{"$error":"#VALUE!"}]
["","","","","","","","","","","","","","","","","",null,"","","","","","",null,0,"","",0,"","",0,"00:00:00",0,null,0,0,null,{"$error":"#VALUE!"},{"$error":"#VALUE!"},{"$error":"#VALUE!"},{"$error":"#VALUE!"},{"$error":"#VALUE!"},2.6335717195281958E-4,{"$error":"#VALUE!"}]
["","","","","","","","","","","","","","","","","",null,"","","","","","",null,0,"","",0,"","",0,"00:00:00",0,null,0,0,null,{"$error":"#VALUE!"},{"$error":"#VALUE!"},{"$error":"#VALUE!"},{"$error":"#VALUE!"},{"$error":"#VALUE!"},2.6335717195281958E-4,{"$error":"#VALUE!"}]
["","","","","","","","","","","","","","","","","",null,"","","","","","",null,0,"","",0,"","",0,"00:00:00",0,null,0,0,null,{"$error":"#VALUE!"},{"$error":"#VALUE!"},{"$error":"#VALUE!"},{"$error":"#VALUE!"},{"$error":"#VALUE!"},2.6335717195281958E-4,{"$error":"#VALUE!"}]
["","","","","","","","","","","","","","","","","",null,"","","","","","",null,0,"","",0,"","",0,"00:00:00",0,null,0,0,null,{"$error":"#VALUE!"},{"$error":"#VALUE!"},{"$error":"#VALUE!"},{"$error":"#VALUE!"},{"$error":"#VALUE!"},2.6335717195281958E-4,{"$error":"#VALUE!"}]
["","","","","","","","","","","","","","","","","",null,"","","","","","",null,0,"","",0,"","",0,"00:00:00",0,null,0,0,null,{"$error":"#VALUE!"},{"$error":"#VALUE!"},{"$error":"#VALUE!"},{"$error":"#VALUE!"},{"$error":"#VALUE!"},2.6335717195281958E-4,{"$error":"#VALUE!"}]
["","","","","","","","","","","","","","","","","",null,"","","","","","",null,0,"","",0,"","",0,"00:00:00",0,null,0,0,null,{"$error":"#VALUE!"},{"$error":"#VALUE!"},{"$error":"#VALUE!"},{"$error":"#VALUE!"},{"$error":"#VALUE!"},2.6335717195281958E-4,{"$error":"#VALUE!"}]
["","","","","","","","","","","","","","","","","",null,"","","","","","",null,0,"","",0,"","",0,"00:00:00",0,null,0,0,null,{"$error":"#VALUE!"},{"$error":"#VALUE!"},{"$error":"#VALUE!"},{"$error":"#VALUE!"},{"$error":"#VALUE!"},2.6335717195281958E-4,{"$error":"#VALUE!"}]
["","","","","","","","","","","","","","","","","",null,"","","","","","",null,0,"","",0,"","",0,"00:00:00",0,null,0,0,null,{"$error":"#VALUE!"},{"$error":"#VALUE!"},{"$error":"#VALUE!"},{"$error":"#VALUE!"},{"$error":"#VALUE!"},2.6335717195281958E-4,{"$error":"#VALUE!"}]
["","","","","","","","","","","","","","","","","",null,"","","","","","",null,0,"","",0,"","",0,"00:00:00",0,null,0,0,null,{"$error":"#VALUE!"},{"$error":"#VALUE!"},{"$error":"#VALUE!"},{"$error":"#VALUE!"},{"$error":"#VALUE!"},2.6335717195281958E-4,{"$error":"#VALUE!"}]
["","","","","","","","","","","","","","","","","",null,"","","","","","",null,0,"","",0,"","",0,"00:00:00",0,null,0,0,null,{"$error":"#VALUE!"},{"$error":"#VALUE!"},{"$error":"#VALUE!"},{"$error":"#VALUE!"},{"$error":"#VALUE!"},2.6335717195281958E-4,{"$error":"#VALUE!"}]
["","","","","","","","","","","","","","","","","",null,"","","","","","",null,0,"","",0,"","",0,"00:00:00",0,null,0,0,null,{"$error":"#VALUE!"},{"$error":"#VALUE!"},{"$error":"#VALUE!"},{"$error":"#VALUE!"},{"$error":"#VALUE!"},2.6335717195281958E-4,{"$error":"#VALUE!"}]
["","","","","","","","","","","","","","","","","",null,"","","","","","",null,0,"","",0,"","",0,"00:00:00",0,null,0,0,null,{"$error":"#VALUE!"},{"$error":"#VALUE!"},{"$error":"#VALUE!"},{"$error":"#VALUE!"},{"$error":"#VALUE!"},2.6335717195281958E-4,{"$error":"#VALUE!"}]
["","","","","","","","","","","","","","","","","",null,"","","","","","",null,0,"","",0,"","",0,"00:00:00",0,null,0,0,null,{"$error":"#VALUE!"},{"$error":"#VALUE!"},{"$error":"#VALUE!"},{"$error":"#VALUE!"},{"$error":"#VALUE!"},2.6335717195281958E-4,{"$error":"#VALUE!"}]
["","","","","","","","","","","","","","","","","",null,"","","","","","",null,0,"","",0,"","",0,"00:00:00",0,null,0,0,null,{"$error":"#VALUE!"},{"$error":"#VALUE!"},{"$error":"#VALUE!"},{"$error":"#VALUE!"},{"$error":"#VALUE!"},2.6335717195281958E-4,{"$error":"#VALUE!"}]
["","","","","","","","","","","","","","","","","",null,"","","","","","",null,0,"","",0,"","",0,"00:00:00",0,null,0,0,null,{"$error":"#VALUE!"},{"$error":"#VALUE!"},{"$error":"#VALUE!"},{"$error":"#VALUE!"},{"$error":"#VALUE!"},2.6335717195281958E-4,{"$error":"#VALUE!"}]
["","","","","","","","","","","","","","","","","",null,"","","","","","",null,0,"","",0,"","",0,"00:00:00",0,null,0,0,null,{"$error":"#VALUE!"},{"$error":"#VALUE!"},{"$error":"#VALUE!"},{"$error":"#VALUE!"},{"$error":"#VALUE!"},2.6335717195281958E-4,{"$error":"#VALUE!"}]
["","","","","","","","","","","","","","","","","",null,"","","","","","",null,0,"","",0,"","",0,"00:00:00",0,null,0,0,null,{"$error":"#VALUE!"},{"$error":"#VALUE!"},{"$error":"#VALUE!"},{"$error":"#VALUE!"},{"$error":"#VALUE!"},2.6335717195281958E-4,{"$error":"#VALUE!"}]
["","","","","","","","","","","","","","","","","",null,"","","","","","",null,0,"","",0,"","",0,"00:00:00",0,null,0,0,null,{"$error":"#VALUE!"},{"$error":"#VALUE!"},{"$error":"#VALUE!"},{"$error":"#VALUE!"},{"$error":"#VALUE!"},2.6335717195281958E-4,{"$error":"#VALUE!"}]
["","","","","","","","","","","","","","","","","",null,"","","","","","",null,0,"","",0,"","",0,"00:00:00",0,null,0,0,null,{"$error":"#VALUE!"},{"$error":"#VALUE!"},{"$error":"#VALUE!"},{"$error":"#VALUE!"},{"$error":"#VALUE!"},2.6335717195281958E-4,{"$error":"#VALUE!"}]
["","","","","","","","","","","","","","","","","",null,"","","","","","",null,0,"","",0,"","",0,"00:00:00",0,null,0,0,null,{"$error":"#VALUE!"},{"$error":"#VALUE!"},{"$error":"#VALUE!"},{"$error":"#VALUE!"},{"$error":"#VALUE!"},2.6335717195281958E-4,{"$error":"#VALUE!"}]
["","","","","","","","","","","","","","","","","",null,"","","","","","",null,0,"","",0,"","",0,"00:00:00",0,null,0,0,null,{"$error":"#VALUE!"},{"$error":"#VALUE!"},{"$error":"#VALUE!"},{"$error":"#VALUE!"},{"$error":"#VALUE!"},2.6335717195281958E-4,{"$error":"#VALUE!"}]
["","","",{"$f":"IF(B225=\"\",\"\",IF(OR(MONTH(C225)=$H$18,MONTH(C225)=$H$19),\"D\",\"\"))","v":""},"","","","","","",{"$f":"IF(B225=\"\",\"\",IF((IF(ISERROR(MATCH(MONTH(C225),$H$18:$H$19,0))=FALSE,$J$24 + $Q$29,0) + $J$24+$Q$29+$S$27)-L225<0,0.01,IF(ISERROR(MATCH(MONTH(C225),$H$18:$H$19,0))=FALSE,$J$24 + $Q$29,0)+ ($J$24+$Q$29+$S$27)-L225)- R225 -S225-Q225)","v":""},{"$f":"IF(B225=\"\",\"\",IF($J$24+$Q$29<ROUND(ROUND(J225*(((1+(H225/100))^(I225/G225))-1),4),2),$J$24+$Q$29 +-0.01,IF(ROUND(ROUND(J225*(((1+(H225/100))^(I225/G225))-1),4),2)>$J$24,$J$24+ -0.01,ROUND(ROUND(J225*(((1+(H225/100))^(I225/G225))-1),4),2))))","v":""},{"$f":"IF(B225=\"\",\"\",IF(ISERROR(MATCH(MONTH(C225),$H$18:$H$19,0))=FALSE,$J$23,0)  + $J$23)","v":""},{"$f":"IF(B225=\"\",\"\",L225+M225)","v":""},{"$f":"IF(B225=\"\",\"\",K225+N225)","v":""},{"$f":"IF(B225=\"\",\"\",$J$27)","v":""},"",null,"",{"$f":"IF(B225=\"\",\"\",Q225+R225+S225)","v":""},{"$f":"IF(B225=\"\",\"\",$J$28)","v":""},"",{"$f":"IF(B225=\"\",\"\",(ROUND(J225-K225,2)))","v":""},{"$f":"IF(B225=\"\",\"\",IF(ROUND(ROUND(J225*(((1+(H225/100))^(I225/G225))-1),4),2) - $J$24<0,0,ROUND(ROUND(J225*(((1+(H225/100))^(I225/G225))-1),4),2) - $J$24))","v":""},null,{"$f":"SUM(K225:M225)","v":0},"",{"$f":"+Q225","v":""},0,"",{"$f":"IFERROR(AA225+K225 + P225 + U225+AB225 + M225 + AC225 + AD225,\"\")","v":""},0,"00:00:00",0,null,0,0,null,{"$error":"#VALUE!"},{"$f":"(1/((1+($J$8/100))^(AM225/$Q$9))*1) * IF(D225=\"D\",2,1)","v":{"$error":"#VALUE!"}},{"$error":"#VALUE!"},{"$error":"#VALUE!"},{"$f":"(((1+($J$8/100))^((K225)/$Q$9))-1)*AO225","v":{"$error":"#VALUE!"}},{"$f":"IF(D225=\"D\",$K$23,0)+ $K$23","v":2.6335717195281958E-4},{"$error":"#VALUE!"}]
["",{"$f":"IF(A226=\"\",\"\",IF(A226<=$H$22,0,1))","v":""},{"$f":"IF(B226=\"\",\"\",IF(OR(MONTH(EDATE($Q$6,E226))=$H$16,MONTH(EDATE($Q$6,E226))=$H$17),IF(ABS($H$17-$H$16)=1,EDATE($Q$6,E226+2),EDATE($Q$6,E226+1)),EDATE($Q$6,E226)))","v":""},"","","","",{"$f":"IF(B226=\"\",\"\",$H$10)","v":""},"","","","","","","","","",null,{"$f":"IF(B226=\"\",\"\",IF(E226-E225>1,ROUNDDOWN($J226*$H$9/30*(DATE(YEAR($C226),MONTH($C226)-1,DAY($C226))-C225),2),0))","v":""},"","",{"$f":"IF(B226=\"\",\"\",O226+P226+Q226+R226+S226+U226)","v":""},"","",null,0,{"$f":"+L226","v":""},"",0,"","",{"$f":"IFERROR(IF(D226=\"D\",$J$24*2,$J$24)+Q226,0)","v":0},"00:00:00",0,null,{"$f":"+IFERROR(AE226-V226,0)","v":0},{"$f":"+IFERROR(AA226-L226,0)","v":0},null,{"$f":"I226 + AM225","v":{"$error":"#VALUE!"}},{"$error":"#VALUE!"},{"$error":"#VALUE!"},{"$f":"AR226-AQ226","v":{"$error":"#VALUE!"}},{"$error":"#VALUE!"},2.6335717195281958E-4,{"$f":"AO226-AP226","v":{"$error":"#VALUE!"}}]
[{"$f":"+IF(A226>=$H$14,\"\",A226+1)","v":""},"","","",{"$f":"+IF(B227=\"\",\"\",IF(OR(MONTH(DATE(YEAR(C226)+0.0833333333333333,MONTH(C226)+1,DAY(C226)))=$H$16,MONTH(DATE(YEAR(C226)+0.5,MONTH(C226)+1,DAY(C226)))=$H$17),IF(ABS($H$17-$H$16)=1,E226+1,E226+2),E226+1))","v":""},{"$f":"+IF(B227=\"\",\"\",F226+1)","v":""},{"$f":"IF(B227=\"\",\"\",$Q$9)","v":""},"",{"$f":"IF(B227=\"\",\"\",C227-C226)","v":""},{"$f":"IF(B227=\"\",\"\",W226)","v":""},"","","","","","",{"$f":"IF(B227=\"\",\"\",ROUND($H$9*J227/30*$I227,2)-S227)","v":""},null,"","","","","","",null,0,"","",0,"","",0,"00:00:00",0,null,0,0,null,{"$error":"#VALUE!"},{"$error":"#VALUE!"},{"$f":"AS226","v":{"$error":"#VALUE!"}},{"$error":"#VALUE!"},{"$error":"#VALUE!"},2.6335717195281958E-4,{"$error":"#VALUE!"}]
["","","","","","","","","","","","","","","","","",null,"","","","","","",null,0,"","",0,"","",0,"00:00:00",0,null,0,0,null,{"$error":"#VALUE!"},{"$error":"#VALUE!"},{"$error":"#VALUE!"},{"$error":"#VALUE!"},{"$error":"#VALUE!"},2.6335717195281958E-4,{"$error":"#VALUE!"}]
["","","","","","","","","","","","","","","","","",null,"","","","","","",null,0,"","",0,"","",0,"00:00:00",0,null,0,0,null,{"$error":"#VALUE!"},{"$error":"#VALUE!"},{"$error":"#VALUE!"},{"$error":"#VALUE!"},{"$error":"#VALUE!"},2.6335717195281958E-4,{"$error":"#VALUE!"}]
["","","","","","","","","","","","","","","","","",null,"","","","","","",null,0,"","",0,"","",0,"00:00:00",0,null,0,0,null,{"$error":"#VALUE!"},{"$error":"#VALUE!"},{"$error":"#VALUE!"},{"$error":"#VALUE!"},{"$error":"#VALUE!"},2.6335717195281958E-4,{"$error":"#VALUE!"}]
["","","","","","","","","","","","","","","","","",null,"","","","","","",null,0,"","",0,"","",0,"00:00:00",0,null,0,0,null,{"$error":"#VALUE!"},{"$error":"#VALUE!"},{"$error":"#VALUE!"},{"$error":"#VALUE!"},{"$error":"#VALUE!"},2.6335717195281958E-4,{"$error":"#VALUE!"}]
["","","","","","","","","","","","","","","","","",null,"","","","","","",null,0,"","",0,"","",0,"00:00:00",0,null,0,0,null,{"$error":"#VALUE!"},{"$error":"#VALUE!"},{"$error":"#VALUE!"},{"$error":"#VALUE!"},{"$error":"#VALUE!"},2.6335717195281958E-4,{"$error":"#VALUE!"}]
["","","","","","","","","","","","","","","","","",null,"","","","","","",null,0,"","",0,"","",0,"00:00:00",0,null,0,0,null,{"$error":"#VALUE!"},{"$error":"#VALUE!"},{"$error":"#VALUE!"},{"$error":"#VALUE!"},{"$error":"#VALUE!"},2.6335717195281958E-4,{"$error":"#VALUE!"}]
["","","","","","","","","","","","","","","","","",null,"","","","","","",null,0,"","",0,"","",0,"00:00:00",0,null,0,0,null,{"$error":"#VALUE!"},{"$error":"#VALUE!"},{"$error":"#VALUE!"},{"$error":"#VALUE!"},{"$error":"#VALUE!"},2.6335717195281958E-4,{"$error":"#VALUE!"}]
["","","","","","","","","","","","","","","","","",null,"","","","","","",null,0,"","",0,"","",0,"00:00:00",0,null,0,0,null,{"$error":"#VALUE!"},{"$error":"#VALUE!"},{"$error":"#VALUE!"},{"$error":"#VALUE!"},{"$error":"#VALUE!"},2.6335717195281958E-4,{"$error":"#VALUE!"}]
["","","","","","","","","","","","","","","","","",null,"","","","","","",null,0,"","",0,"","",0,"00:00:00",0,null,0,0,null,{"$error":"#VALUE!"},{"$error":"#VALUE!"},{"$error":"#VALUE!"},{"$error":"#VALUE!"},{"$error":"#VALUE!"},2.6335717195281958E-4,{"$error":"#VALUE!"}]
["","","","","","","","","","","","","","","","","",null,"","","","","","",null,0,"","",0,"","",0,"00:00:00",0,null,0,0,null,{"$error":"#VALUE!"},{"$error":"#VALUE!"},{"$error":"#VALUE!"},{"$error":"#VALUE!"},{"$error":"#VALUE!"},2.6335717195281958E-4,{"$error":"#VALUE!"}]
["","","","","","","","","","","","","","","","","",null,"","","","","","",null,0,"","",0,"","",0,{"$f":"+IF(C238=\"\",0,C238)","v":"00:00:00"},{"$f":"+IF(AE238=\"\",0,AE238)","v":0},null,0,0,null,{"$error":"#VALUE!"},{"$error":"#VALUE!"},{"$error":"#VALUE!"},{"$error":"#VALUE!"},{"$error":"#VALUE!"},2.6335717195281958E-4,{"$error":"#VALUE!"}]
["","","","","","","","","","","","","","","","","",null,"","","","","","",null,0,"","",0,"","",0,"00:00:00",0,null,0,0,null,{"$error":"#VALUE!"},{"$error":"#VALUE!"},{"$error":"#VALUE!"},{"$error":"#VALUE!"},{"$error":"#VALUE!"},2.6335717195281958E-4,{"$error":"#VALUE!"}]
["","","","","","","","","","","","","","","","","",null,"","","","","","",null,0,"","",0,"","",0,"00:00:00",0,null,0,0,null,{"$error":"#VALUE!"},{"$error":"#VALUE!"},{"$error":"#VALUE!"},{"$error":"#VALUE!"},{"$error":"#VALUE!"},2.6335717195281958E-4,{"$error":"#VALUE!"}]
["","","","","","","","","","","","","","","","","",null,"","","","","","",null,0,"","",0,"","",0,"00:00:00",0,null,0,0,null,{"$error":"#VALUE!"},{"$error":"#VALUE!"},{"$error":"#VALUE!"},{"$error":"#VALUE!"},{"$error":"#VALUE!"},2.6335717195281958E-4,{"$error":"#VALUE!"}]
["","","","","","","","","","","","","","","","","",null,"","","","","","",null,0,"","",0,"","",0,"00:00:00",0,null,0,0,null,{"$error":"#VALUE!"},{"$error":"#VALUE!"},{"$error":"#VALUE!"},{"$error":"#VALUE!"},{"$error":"#VALUE!"},2.6335717195281958E-4,{"$error":"#VALUE!"}]
["","","","","","","","","","","","","","","","","",null,"","","","","","",null,0,"","",0,"","",0,"00:00:00",0,null,0,0,null,{"$error":"#VALUE!"},{"$error":"#VALUE!"},{"$error":"#VALUE!"},{"$error":"#VALUE!"},{"$error":"#VALUE!"},2.6335717195281958E-4,{"$error":"#VALUE!"}]
["","","","","","","","","","","","","","","","","",null,"","","","","","",null,0,"","",0,"","",0,"00:00:00",0,null,0,0,null,{"$error":"#VALUE!"},{"$error":"#VALUE!"},{"$error":"#VALUE!"},{"$error":"#VALUE!"},{"$error":"#VALUE!"},2.6335717195281958E-4,{"$error":"#VALUE!"}]
["","","","","","","","","","","","","","","","","",null,"","","","","","",null,0,"","",0,"","",0,"00:00:00",0,null,0,0,null,{"$error":"#VALUE!"},{"$error":"#VALUE!"},{"$error":"#VALUE!"},{"$error":"#VALUE!"},{"$error":"#VALUE!"},2.6335717195281958E-4,{"$error":"#VALUE!"}]
["","","","","","","","","","","","","","","","","",null,"","","","","","",null,0,"","",0,"","",0,"00:00:00",0,null,0,0,null,{"$error":"#VALUE!"},{"$error":"#VALUE!"},{"$error":"#VALUE!"},{"$error":"#VALUE!"},{"$error":"#VALUE!"},2.6335717195281958E-4,{"$error":"#VALUE!"}]
["","","","","","","","","","","","","","","","","",null,"","","","","","",null,0,"","",0,"","",0,"00:00:00",0,null,0,0,null,{"$error":"#VALUE!"},{"$error":"#VALUE!"},{"$error":"#VALUE!"},{"$error":"#VALUE!"},{"$error":"#VALUE!"},2.6335717195281958E-4,{"$error":"#VALUE!"}]
["","","","","","","","","","","","","","","","","",null,"","","","","","",null,0,"","",0,"","",0,"00:00:00",0,null,0,0,null,{"$error":"#VALUE!"},{"$error":"#VALUE!"},{"$error":"#VALUE!"},{"$error":"#VALUE!"},{"$error":"#VALUE!"},2.6335717195281958E-4,{"$error":"#VALUE!"}]
["","","","","","","","","","","","","","","","","",null,"","","","","","",null,0,"","",0,"","",0,"00:00:00",0,null,0,0,null,{"$error":"#VALUE!"},{"$error":"#VALUE!"},{"$error":"#VALUE!"},{"$error":"#VALUE!"},{"$error":"#VALUE!"},2.6335717195281958E-4,{"$error":"#VALUE!"}]
["","","","","","","","","","","","","","","","","",null,"","","","","","",null,0,"","",0,"","",0,"00:00:00",0,null,0,0,null,{"$error":"#VALUE!"},{"$error":"#VALUE!"},{"$error":"#VALUE!"},{"$error":"#VALUE!"},{"$error":"#VALUE!"},2.6335717195281958E-4,{"$error":"#VALUE!"}]
["","","","","","","","","","","","","","","","","",null,"","","","","","",null,0,"","",0,"","",0,"00:00:00",0,null,0,0,null,{"$error":"#VALUE!"},{"$error":"#VALUE!"},{"$error":"#VALUE!"},{"$error":"#VALUE!"},{"$error":"#VALUE!"},2.6335717195281958E-4,{"$error":"#VALUE!"}]
["","","","","","","","","","","","","","","","","",null,"","","","","","",null,0,"","",0,"","",0,"00:00:00",0,null,0,0,null,{"$error":"#VALUE!"},{"$error":"#VALUE!"},{"$error":"#VALUE!"},{"$error":"#VALUE!"},{"$error":"#VALUE!"},2.6335717195281958E-4,{"$error":"#VALUE!"}]
["","","","","","","","","","","","","","","","","",null,"","","","","","",null,0,"","",0,"","",0,"00:00:00",0,null,0,0,null,{"$error":"#VALUE!"},{"$error":"#VALUE!"},{"$error":"#VALUE!"},{"$error":"#VALUE!"},{"$error":"#VALUE!"},2.6335717195281958E-4,{"$error":"#VALUE!"}]
["","","","","","","","","","","","","","","","","",null,"","","","","","",null,0,"","",0,"","",0,"00:00:00",0,null,0,0,null,{"$error":"#VALUE!"},{"$error":"#VALUE!"},{"$error":"#VALUE!"},{"$error":"#VALUE!"},{"$error":"#VALUE!"},2.6335717195281958E-4,{"$error":"#VALUE!"}]
["","","","","","","","","","","","","","","","","",null,"","","","","","",null,0,"","",0,"","",0,"00:00:00",0,null,0,0,null,{"$error":"#VALUE!"},{"$error":"#VALUE!"},{"$error":"#VALUE!"},{"$error":"#VALUE!"},{"$error":"#VALUE!"},2.6335717195281958E-4,{"$error":"#VALUE!"}]
["","","","","","","","","","","","","","","","","",null,"","","","","","",null,0,"","",0,"","",0,"00:00:00",0,null,0,0,null,{"$error":"#VALUE!"},{"$error":"#VALUE!"},{"$error":"#VALUE!"},{"$error":"#VALUE!"},{"$error":"#VALUE!"},2.6335717195281958E-4,{"$error":"#VALUE!"}]
["","","","","","","","","","","","","","","","","",null,"","","","","","",null,0,"","",0,"","",0,"00:00:00",0,null,0,0,null,{"$error":"#VALUE!"},{"$error":"#VALUE!"},{"$error":"#VALUE!"},{"$error":"#VALUE!"},{"$error":"#VALUE!"},2.6335717195281958E-4,{"$error":"#VALUE!"}]
["","","","","","","","","","","","","","","","","",null,"","","","","","",null,0,"","",0,"","",0,"00:00:00",0,null,0,0,null,{"$error":"#VALUE!"},{"$error":"#VALUE!"},{"$error":"#VALUE!"},{"$error":"#VALUE!"},{"$error":"#VALUE!"},2.6335717195281958E-4,{"$error":"#VALUE!"}]
["","","","","","","","","","","","","","","","","",null,"","","","","","",null,0,"","",0,"","",0,"00:00:00",0,null,0,0,null,{"$error":"#VALUE!"},{"$error":"#VALUE!"},{"$error":"#VALUE!"},{"$error":"#VALUE!"},{"$error":"#VALUE!"},2.6335717195281958E-4,{"$error":"#VALUE!"}]
["","","","","","","","","","","","","","","","","",null,"","","","","","",null,0,"","",0,"","",0,"00:00:00",0,null,0,0,null,{"$error":"#VALUE!"},{"$error":"#VALUE!"},{"$error":"#VALUE!"},{"$error":"#VALUE!"},{"$error":"#VALUE!"},2.6335717195281958E-4,{"$error":"#VALUE!"}]
["","","","","","","","","","","","","","","","","",null,"","","","","","",null,0,"","",0,"","",0,"00:00:00",0,null,0,0,null,{"$error":"#VALUE!"},{"$error":"#VALUE!"},{"$error":"#VALUE!"},{"$error":"#VALUE!"},{"$error":"#VALUE!"},2.6335717195281958E-4,{"$error":"#VALUE!"}]
["","","","","","","","","","","","","","","","","",null,"","","","","","",null,0,"","",0,"","",0,"00:00:00",0,null,0,0,null,{"$error":"#VALUE!"},{"$error":"#VALUE!"},{"$error":"#VALUE!"},{"$error":"#VALUE!"},{"$error":"#VALUE!"},2.6335717195281958E-4,{"$error":"#VALUE!"}]
["","","","","","","","","","","","","","","","","",null,"","","","","","",null,0,"","",0,"","",0,"00:00:00",0,null,0,0,null,{"$error":"#VALUE!"},{"$error":"#VALUE!"},{"$error":"#VALUE!"},{"$error":"#VALUE!"},{"$error":"#VALUE!"},2.6335717195281958E-4,{"$error":"#VALUE!"}]
["","","","","","","","","","","","","","","","","",null,"","","","","","",null,0,"","",0,"","",0,"00:00:00",0,null,0,0,null,{"$error":"#VALUE!"},{"$error":"#VALUE!"},{"$error":"#VALUE!"},{"$error":"#VALUE!"},{"$error":"#VALUE!"},2.6335717195281958E-4,{"$error":"#VALUE!"}]
["","","","","","","","","","","","","","","","","",null,"","","","","","",null,0,"","",0,"","",0,"00:00:00",0,null,0,0,null,{"$error":"#VALUE!"},{"$error":"#VALUE!"},{"$error":"#VALUE!"},{"$error":"#VALUE!"},{"$error":"#VALUE!"},2.6335717195281958E-4,{"$error":"#VALUE!"}]
["","","","","","","","","","","","","","","","","",null,"","","","","","",null,0,"","",0,"","",0,"00:00:00",0,null,0,0,null,{"$error":"#VALUE!"},{"$error":"#VALUE!"},{"$error":"#VALUE!"},{"$error":"#VALUE!"},{"$error":"#VALUE!"},2.6335717195281958E-4,{"$error":"#VALUE!"}]
["","","","","","","","","","","","","","","","","",null,"","","","","","",null,0,"","",0,"","",0,"00:00:00",0,null,0,0,null,{"$error":"#VALUE!"},{"$error":"#VALUE!"},{"$error":"#VALUE!"},{"$error":"#VALUE!"},{"$error":"#VALUE!"},2.6335717195281958E-4,{"$error":"#VALUE!"}]
["","","","","","","","","","","","","","","","","",null,"","","","","","",null,0,"","",0,"","",0,"00:00:00",0,null,0,0,null,{"$error":"#VALUE!"},{"$error":"#VALUE!"},{"$error":"#VALUE!"},{"$error":"#VALUE!"},{"$error":"#VALUE!"},2.6335717195281958E-4,{"$error":"#VALUE!"}]
["","","","","","","","","","","","","","","","","",null,"","","","","","",null,0,"","",0,"","",0,"00:00:00",0,null,0,0,null,{"$error":"#VALUE!"},{"$error":"#VALUE!"},{"$error":"#VALUE!"},{"$error":"#VALUE!"},{"$error":"#VALUE!"},2.6335717195281958E-4,{"$error":"#VALUE!"}]
["","","","","","","","","","","","","","","","","",null,"","","","","","",null,0,"","",0,"","",0,"00:00:00",0,null,0,0,null,{"$error":"#VALUE!"},{"$error":"#VALUE!"},{"$error":"#VALUE!"},{"$error":"#VALUE!"},{"$error":"#VALUE!"},2.6335717195281958E-4,{"$error":"#VALUE!"}]
["","","","","","","","","","","","","","","","","",null,"","","","","","",null,0,"","",0,"","",0,"00:00:00",0,null,0,0,null,{"$error":"#VALUE!"},{"$error":"#VALUE!"},{"$error":"#VALUE!"},{"$error":"#VALUE!"},{"$error":"#VALUE!"},2.6335717195281958E-4,{"$error":"#VALUE!"}]
["","","","","","","","","","","","","","","","","",null,"","","","","","",null,0,"","",0,"","",0,"00:00:00",0,null,0,0,null,{"$error":"#VALUE!"},{"$error":"#VALUE!"},{"$error":"#VALUE!"},{"$error":"#VALUE!"},{"$error":"#VALUE!"},2.6335717195281958E-4,{"$error":"#VALUE!"}]
[]
[null,null,"Totales",null,null,null,null,null,null,null,{"$f":"+SUM(K33:K272)","v":30000.000000000015},{"$f":"+SUM(L33:L272)","v":9403.4199999999983},{"$f":"+SUM(M33:M272)","v":603},{"$f":"+SUM(N33:N272)","v":10006.42},40006.420000000042,0,0,0,0,0,0,40006.420000000042,null,{"$f":"+SUM(X33:X272)","v":0},0,40006.420000000042,9403.4199999999983,0,null,null,{"$f":"+SUM(AE33:AE272)","v":40006.420000000042},null,null,null,null,{"$f":"+AE274-V274","v":0},{"$f":"+AA274-L274","v":0}]
[null,null,"Validador"]

{"sheet":"Calculos PLD","index":4,"n_rows":386,"n_cols":7,"rows_kept":386,"cut":false,"hidden":true,"merged":[[0,0,0,6]]}
["Factores utilizados en Meses de No Pago para cálculo del valor cuota"]
[]
["N° de Cuota","Equivalente","Fecha","Mes","Marca Cuota No Pago","Factor (10)","Acumulado"]
[1,{"$f":"IF(E4<>\"C\",IF(ISERROR(1+B3)=TRUE,1,1+B3),IF(ISNUMBER(B3),B3,1))","v":1},{"$f":"Simulador!Q7","v":"2024-06-01"},{"$f":"MONTH(C4)","v":6},{"$f":"IF(ISERROR(MATCH(D4,Simulador!$H$16:$H$17,0))=FALSE,\"C\",IF(ISERROR(MATCH(D4,Simulador!$H$18:$H$19,0))=FALSE,\"D\",\"\"))","v":""},{"$f":"IF(E4=\"C\",0,IF(E4 =\"D\",ROUND(1/((1+Simulador!$Q$13)^A4),9) * 2,ROUND(1/((1+Simulador!$Q$13)^A4),9)))","v":0.98471515300000001},{"$f":"ROUND(F4,9)","v":0.98471515300000001}]
[{"$f":"A4+1","v":2},{"$f":"IF(E5<>\"C\",IF(ISERROR(1+B4)=TRUE,1,1+B4),IF(ISNUMBER(B4),B4,1))","v":2},{"$f":"DATE(YEAR(C4) + 1/12,MONTH(C4)+1,DAY(C4))","v":"2024-07-01"},7,{"$f":"IF(ISERROR(MATCH(D5,Simulador!$H$16:$H$17,0))=FALSE,\"C\",IF(ISERROR(MATCH(D5,Simulador!$H$18:$H$19,0))=FALSE,\"D\",\"\"))","v":""},{"$f":"IF(E5=\"C\",0,IF(E5 =\"D\",ROUND(1/((1+Simulador!$Q$13)^A5),9) * 2,ROUND(1/((1+Simulador!$Q$13)^A5),9)))","v":0.96966393200000001},{"$f":"G4+ROUND(F5,9)","v":1.954379085}]
[3,3,"2024-08-01",8,{"$f":"IF(ISERROR(MATCH(D6,Simulador!$H$16:$H$17,0))=FALSE,\"C\",IF(ISERROR(MATCH(D6,Simulador!$H$18:$H$19,0))=FALSE,\"D\",\"\"))","v":""},{"$f":"IF(E6=\"C\",0,IF(E6 =\"D\",ROUND(1/((1+Simulador!$Q$13)^A6),9) * 2,ROUND(1/((1+Simulador!$Q$13)^A6),9)))","v":0.95484276700000004},{"$f":"G5+ROUND(F6,9)","v":2.9092218519999999}]
[4,4,"2024-09-01",9,{"$f":"IF(ISERROR(MATCH(D7,Simulador!$H$16:$H$17,0))=FALSE,\"C\",IF(ISERROR(MATCH(D7,Simulador!$H$18:$H$19,0))=FALSE,\"D\",\"\"))","v":""},{"$f":"IF(E7=\"C\",0,IF(E7 =\"D\",ROUND(1/((1+Simulador!$Q$13)^A7),9) * 2,ROUND(1/((1+Simulador!$Q$13)^A7),9)))","v":0.94024814199999995},3.8494699939999997]
[5,5,"2024-10-01",10,{"$f":"IF(ISERROR(MATCH(D8,Simulador!$H$16:$H$17,0))=FALSE,\"C\",IF(ISERROR(MATCH(D8,Simulador!$H$18:$H$19,0))=FALSE,\"D\",\"\"))","v":""},{"$f":"IF(E8=\"C\",0,IF(E8 =\"D\",ROUND(1/((1+Simulador!$Q$13)^A8),9) * 2,ROUND(1/((1+Simulador!$Q$13)^A8),9)))","v":0.92587659300000003},4.7753465869999996]
[6,6,"2024-11-01",11,{"$f":"IF(ISERROR(MATCH(D9,Simulador!$H$16:$H$17,0))=FALSE,\"C\",IF(ISERROR(MATCH(D9,Simulador!$H$18:$H$19,0))=FALSE,\"D\",\"\"))","v":""},{"$f":"IF(E9=\"C\",0,IF(E9 =\"D\",ROUND(1/((1+Simulador!$Q$13)^A9),9) * 2,ROUND(1/((1+Simulador!$Q$13)^A9),9)))","v":0.91172471099999997},5.6870712979999993]
[7,7,"2024-12-01",12,{"$f":"IF(ISERROR(MATCH(D10,Simulador!$H$16:$H$17,0))=FALSE,\"C\",IF(ISERROR(MATCH(D10,Simulador!$H$18:$H$19,0))=FALSE,\"D\",\"\"))","v":""},{"$f":"IF(E10=\"C\",0,IF(E10 =\"D\",ROUND(1/((1+Simulador!$Q$13)^A10),9) * 2,ROUND(1/((1+Simulador!$Q$13)^A10),9)))","v":0.89778913800000004},6.5848604359999996]
[8,8,"2025-01-01",1,{"$f":"IF(ISERROR(MATCH(D11,Simulador!$H$16:$H$17,0))=FALSE,\"C\",IF(ISERROR(MATCH(D11,Simulador!$H$18:$H$19,0))=FALSE,\"D\",\"\"))","v":""},{"$f":"IF(E11=\"C\",0,IF(E11 =\"D\",ROUND(1/((1+Simulador!$Q$13)^A11),9) * 2,ROUND(1/((1+Simulador!$Q$13)^A11),9)))","v":0.88406656800000005},7.4689270039999993]
[9,9,"2025-02-01",2,{"$f":"IF(ISERROR(MATCH(D12,Simulador!$H$16:$H$17,0))=FALSE,\"C\",IF(ISERROR(MATCH(D12,Simulador!$H$18:$H$19,0))=FALSE,\"D\",\"\"))","v":""},{"$f":"IF(E12=\"C\",0,IF(E12 =\"D\",ROUND(1/((1+Simulador!$Q$13)^A12),9) * 2,ROUND(1/((1+Simulador!$Q$13)^A12),9)))","v":0.87055374600000002},8.3394807499999999]
[10,10,"2025-03-01",3,{"$f":"IF(ISERROR(MATCH(D13,Simulador!$H$16:$H$17,0))=FALSE,\"C\",IF(ISERROR(MATCH(D13,Simulador!$H$18:$H$19,0))=FALSE,\"D\",\"\"))","v":""},{"$f":"IF(E13=\"C\",0,IF(E13 =\"D\",ROUND(1/((1+Simulador!$Q$13)^A13),9) * 2,ROUND(1/((1+Simulador!$Q$13)^A13),9)))","v":0.85724746500000004},9.1967282150000003]
[11,11,"2025-04-01",4,{"$f":"IF(ISERROR(MATCH(D14,Simulador!$H$16:$H$17,0))=FALSE,\"C\",IF(ISERROR(MATCH(D14,Simulador!$H$18:$H$19,0))=FALSE,\"D\",\"\"))","v":""},{"$f":"IF(E14=\"C\",0,IF(E14 =\"D\",ROUND(1/((1+Simulador!$Q$13)^A14),9) * 2,ROUND(1/((1+Simulador!$Q$13)^A14),9)))","v":0.84414456900000001},10.040872784000001]
[12,12,"2025-05-01",5,{"$f":"IF(ISERROR(MATCH(D15,Simulador!$H$16:$H$17,0))=FALSE,\"C\",IF(ISERROR(MATCH(D15,Simulador!$H$18:$H$19,0))=FALSE,\"D\",\"\"))","v":""},{"$f":"IF(E15=\"C\",0,IF(E15 =\"D\",ROUND(1/((1+Simulador!$Q$13)^A15),9) * 2,ROUND(1/((1+Simulador!$Q$13)^A15),9)))","v":0.83124194799999995},10.872114732000002]
[13,13,"2025-06-01",6,{"$f":"IF(ISERROR(MATCH(D16,Simulador!$H$16:$H$17,0))=FALSE,\"C\",IF(ISERROR(MATCH(D16,Simulador!$H$18:$H$19,0))=FALSE,\"D\",\"\"))","v":""},{"$f":"IF(E16=\"C\",0,IF(E16 =\"D\",ROUND(1/((1+Simulador!$Q$13)^A16),9) * 2,ROUND(1/((1+Simulador!$Q$13)^A16),9)))","v":0.81853654200000003},11.690651274000002]
[14,14,"2025-07-01",7,{"$f":"IF(ISERROR(MATCH(D17,Simulador!$H$16:$H$17,0))=FALSE,\"C\",IF(ISERROR(MATCH(D17,Simulador!$H$18:$H$19,0))=FALSE,\"D\",\"\"))","v":""},{"$f":"IF(E17=\"C\",0,IF(E17 =\"D\",ROUND(1/((1+Simulador!$Q$13)^A17),9) * 2,ROUND(1/((1+Simulador!$Q$13)^A17),9)))","v":0.80602533600000004},12.496676610000002]
[15,15,"2025-08-01",8,{"$f":"IF(ISERROR(MATCH(D18,Simulador!$H$16:$H$17,0))=FALSE,\"C\",IF(ISERROR(MATCH(D18,Simulador!$H$18:$H$19,0))=FALSE,\"D\",\"\"))","v":""},{"$f":"IF(E18=\"C\",0,IF(E18 =\"D\",ROUND(1/((1+Simulador!$Q$13)^A18),9) * 2,ROUND(1/((1+Simulador!$Q$13)^A18),9)))","v":0.79370536199999997},13.290381972000002]
[16,16,"2025-09-01",9,{"$f":"IF(ISERROR(MATCH(D19,Simulador!$H$16:$H$17,0))=FALSE,\"C\",IF(ISERROR(MATCH(D19,Simulador!$H$18:$H$19,0))=FALSE,\"D\",\"\"))","v":""},{"$f":"IF(E19=\"C\",0,IF(E19 =\"D\",ROUND(1/((1+Simulador!$Q$13)^A19),9) * 2,ROUND(1/((1+Simulador!$Q$13)^A19),9)))","v":0.78157369700000001},14.071955669000003]
[17,17,"2025-10-01",10,{"$f":"IF(ISERROR(MATCH(D20,Simulador!$H$16:$H$17,0))=FALSE,\"C\",IF(ISERROR(MATCH(D20,Simulador!$H$18:$H$19,0))=FALSE,\"D\",\"\"))","v":""},{"$f":"IF(E20=\"C\",0,IF(E20 =\"D\",ROUND(1/((1+Simulador!$Q$13)^A20),9) * 2,ROUND(1/((1+Simulador!$Q$13)^A20),9)))","v":0.76962746199999998},14.841583131000004]
[18,18,"2025-11-01",11,{"$f":"IF(ISERROR(MATCH(D21,Simulador!$H$16:$H$17,0))=FALSE,\"C\",IF(ISERROR(MATCH(D21,Simulador!$H$18:$H$19,0))=FALSE,\"D\",\"\"))","v":""},{"$f":"IF(E21=\"C\",0,IF(E21 =\"D\",ROUND(1/((1+Simulador!$Q$13)^A21),9) * 2,ROUND(1/((1+Simulador!$Q$13)^A21),9)))","v":0.75786382399999996},15.599446955000003]
[19,19,"2025-12-01",12,{"$f":"IF(ISERROR(MATCH(D22,Simulador!$H$16:$H$17,0))=FALSE,\"C\",IF(ISERROR(MATCH(D22,Simulador!$H$18:$H$19,0))=FALSE,\"D\",\"\"))","v":""},{"$f":"IF(E22=\"C\",0,IF(E22 =\"D\",ROUND(1/((1+Simulador!$Q$13)^A22),9) * 2,ROUND(1/((1+Simulador!$Q$13)^A22),9)))","v":0.74627999199999995},16.345726947000003]
[20,20,"2026-01-01",1,{"$f":"IF(ISERROR(MATCH(D23,Simulador!$H$16:$H$17,0))=FALSE,\"C\",IF(ISERROR(MATCH(D23,Simulador!$H$18:$H$19,0))=FALSE,\"D\",\"\"))","v":""},{"$f":"IF(E23=\"C\",0,IF(E23 =\"D\",ROUND(1/((1+Simulador!$Q$13)^A23),9) * 2,ROUND(1/((1+Simulador!$Q$13)^A23),9)))","v":0.734873216},17.080600163000003]
[21,21,"2026-02-01",2,{"$f":"IF(ISERROR(MATCH(D24,Simulador!$H$16:$H$17,0))=FALSE,\"C\",IF(ISERROR(MATCH(D24,Simulador!$H$18:$H$19,0))=FALSE,\"D\",\"\"))","v":""},{"$f":"IF(E24=\"C\",0,IF(E24 =\"D\",ROUND(1/((1+Simulador!$Q$13)^A24),9) * 2,ROUND(1/((1+Simulador!$Q$13)^A24),9)))","v":0.72364079100000001},17.804240954000004]
[22,22,"2026-03-01",3,{"$f":"IF(ISERROR(MATCH(D25,Simulador!$H$16:$H$17,0))=FALSE,\"C\",IF(ISERROR(MATCH(D25,Simulador!$H$18:$H$19,0))=FALSE,\"D\",\"\"))","v":""},{"$f":"IF(E25=\"C\",0,IF(E25 =\"D\",ROUND(1/((1+Simulador!$Q$13)^A25),9) * 2,ROUND(1/((1+Simulador!$Q$13)^A25),9)))","v":0.71258005300000005},18.516821007000004]
[23,23,"2026-04-01",4,{"$f":"IF(ISERROR(MATCH(D26,Simulador!$H$16:$H$17,0))=FALSE,\"C\",IF(ISERROR(MATCH(D26,Simulador!$H$18:$H$19,0))=FALSE,\"D\",\"\"))","v":""},{"$f":"IF(E26=\"C\",0,IF(E26 =\"D\",ROUND(1/((1+Simulador!$Q$13)^A26),9) * 2,ROUND(1/((1+Simulador!$Q$13)^A26),9)))","v":0.701688376},19.218509383000004]
[24,24,"2026-05-01",5,{"$f":"IF(ISERROR(MATCH(D27,Simulador!$H$16:$H$17,0))=FALSE,\"C\",IF(ISERROR(MATCH(D27,Simulador!$H$18:$H$19,0))=FALSE,\"D\",\"\"))","v":""},{"$f":"IF(E27=\"C\",0,IF(E27 =\"D\",ROUND(1/((1+Simulador!$Q$13)^A27),9) * 2,ROUND(1/((1+Simulador!$Q$13)^A27),9)))","v":0.69096317600000001},19.909472559000005]
[25,25,"2026-06-01",6,{"$f":"IF(ISERROR(MATCH(D28,Simulador!$H$16:$H$17,0))=FALSE,\"C\",IF(ISERROR(MATCH(D28,Simulador!$H$18:$H$19,0))=FALSE,\"D\",\"\"))","v":""},{"$f":"IF(E28=\"C\",0,IF(E28 =\"D\",ROUND(1/((1+Simulador!$Q$13)^A28),9) * 2,ROUND(1/((1+Simulador!$Q$13)^A28),9)))","v":0.68040191000000005},20.589874469000005]
[26,26,"2026-07-01",7,{"$f":"IF(ISERROR(MATCH(D29,Simulador!$H$16:$H$17,0))=FALSE,\"C\",IF(ISERROR(MATCH(D29,Simulador!$H$18:$H$19,0))=FALSE,\"D\",\"\"))","v":""},{"$f":"IF(E29=\"C\",0,IF(E29 =\"D\",ROUND(1/((1+Simulador!$Q$13)^A29),9) * 2,ROUND(1/((1+Simulador!$Q$13)^A29),9)))","v":0.67000207000000001},21.259876539000004]
[27,27,"2026-08-01",8,{"$f":"IF(ISERROR(MATCH(D30,Simulador!$H$16:$H$17,0))=FALSE,\"C\",IF(ISERROR(MATCH(D30,Simulador!$H$18:$H$19,0))=FALSE,\"D\",\"\"))","v":""},{"$f":"IF(E30=\"C\",0,IF(E30 =\"D\",ROUND(1/((1+Simulador!$Q$13)^A30),9) * 2,ROUND(1/((1+Simulador!$Q$13)^A30),9)))","v":0.65976119099999997},21.919637730000005]
[28,28,"2026-09-01",9,{"$f":"IF(ISERROR(MATCH(D31,Simulador!$H$16:$H$17,0))=FALSE,\"C\",IF(ISERROR(MATCH(D31,Simulador!$H$18:$H$19,0))=FALSE,\"D\",\"\"))","v":""},{"$f":"IF(E31=\"C\",0,IF(E31 =\"D\",ROUND(1/((1+Simulador!$Q$13)^A31),9) * 2,ROUND(1/((1+Simulador!$Q$13)^A31),9)))","v":0.64967684199999998},22.569314572000007]
[29,29,"2026-10-01",10,{"$f":"IF(ISERROR(MATCH(D32,Simulador!$H$16:$H$17,0))=FALSE,\"C\",IF(ISERROR(MATCH(D32,Simulador!$H$18:$H$19,0))=FALSE,\"D\",\"\"))","v":""},{"$f":"IF(E32=\"C\",0,IF(E32 =\"D\",ROUND(1/((1+Simulador!$Q$13)^A32),9) * 2,ROUND(1/((1+Simulador!$Q$13)^A32),9)))","v":0.63974663099999995},23.209061203000008]
[30,30,"2026-11-01",11,{"$f":"IF(ISERROR(MATCH(D33,Simulador!$H$16:$H$17,0))=FALSE,\"C\",IF(ISERROR(MATCH(D33,Simulador!$H$18:$H$19,0))=FALSE,\"D\",\"\"))","v":""},{"$f":"IF(E33=\"C\",0,IF(E33 =\"D\",ROUND(1/((1+Simulador!$Q$13)^A33),9) * 2,ROUND(1/((1+Simulador!$Q$13)^A33),9)))","v":0.62996820200000003},23.839029405000009]
[31,31,"2026-12-01",12,{"$f":"IF(ISERROR(MATCH(D34,Simulador!$H$16:$H$17,0))=FALSE,\"C\",IF(ISERROR(MATCH(D34,Simulador!$H$18:$H$19,0))=FALSE,\"D\",\"\"))","v":""},{"$f":"IF(E34=\"C\",0,IF(E34 =\"D\",ROUND(1/((1+Simulador!$Q$13)^A34),9) * 2,ROUND(1/((1+Simulador!$Q$13)^A34),9)))","v":0.62033923400000002},24.459368639000008]
[32,32,"2027-01-01",1,{"$f":"IF(ISERROR(MATCH(D35,Simulador!$H$16:$H$17,0))=FALSE,\"C\",IF(ISERROR(MATCH(D35,Simulador!$H$18:$H$19,0))=FALSE,\"D\",\"\"))","v":""},{"$f":"IF(E35=\"C\",0,IF(E35 =\"D\",ROUND(1/((1+Simulador!$Q$13)^A35),9) * 2,ROUND(1/((1+Simulador!$Q$13)^A35),9)))","v":0.61085744399999997},25.070226083000009]
[33,33,"2027-02-01",2,{"$f":"IF(ISERROR(MATCH(D36,Simulador!$H$16:$H$17,0))=FALSE,\"C\",IF(ISERROR(MATCH(D36,Simulador!$H$18:$H$19,0))=FALSE,\"D\",\"\"))","v":""},{"$f":"IF(E36=\"C\",0,IF(E36 =\"D\",ROUND(1/((1+Simulador!$Q$13)^A36),9) * 2,ROUND(1/((1+Simulador!$Q$13)^A36),9)))","v":0.60152058100000005},25.671746664000008]
[34,34,"2027-03-01",3,{"$f":"IF(ISERROR(MATCH(D37,Simulador!$H$16:$H$17,0))=FALSE,\"C\",IF(ISERROR(MATCH(D37,Simulador!$H$18:$H$19,0))=FALSE,\"D\",\"\"))","v":""},{"$f":"IF(E37=\"C\",0,IF(E37 =\"D\",ROUND(1/((1+Simulador!$Q$13)^A37),9) * 2,ROUND(1/((1+Simulador!$Q$13)^A37),9)))","v":0.59232643100000004},26.264073095000008]
[35,35,"2027-04-01",4,{"$f":"IF(ISERROR(MATCH(D38,Simulador!$H$16:$H$17,0))=FALSE,\"C\",IF(ISERROR(MATCH(D38,Simulador!$H$18:$H$19,0))=FALSE,\"D\",\"\"))","v":""},{"$f":"IF(E38=\"C\",0,IF(E38 =\"D\",ROUND(1/((1+Simulador!$Q$13)^A38),9) * 2,ROUND(1/((1+Simulador!$Q$13)^A38),9)))","v":0.58327281200000003},26.847345907000008]
[36,36,"2027-05-01",5,{"$f":"IF(ISERROR(MATCH(D39,Simulador!$H$16:$H$17,0))=FALSE,\"C\",IF(ISERROR(MATCH(D39,Simulador!$H$18:$H$19,0))=FALSE,\"D\",\"\"))","v":""},{"$f":"IF(E39=\"C\",0,IF(E39 =\"D\",ROUND(1/((1+Simulador!$Q$13)^A39),9) * 2,ROUND(1/((1+Simulador!$Q$13)^A39),9)))","v":0.57435757600000004},27.421703483000009]
[37,37,"2027-06-01",6,{"$f":"IF(ISERROR(MATCH(D40,Simulador!$H$16:$H$17,0))=FALSE,\"C\",IF(ISERROR(MATCH(D40,Simulador!$H$18:$H$19,0))=FALSE,\"D\",\"\"))","v":""},{"$f":"IF(E40=\"C\",0,IF(E40 =\"D\",ROUND(1/((1+Simulador!$Q$13)^A40),9) * 2,ROUND(1/((1+Simulador!$Q$13)^A40),9)))","v":0.56557860900000001},27.987282092000008]
[38,38,"2027-07-01",7,{"$f":"IF(ISERROR(MATCH(D41,Simulador!$H$16:$H$17,0))=FALSE,\"C\",IF(ISERROR(MATCH(D41,Simulador!$H$18:$H$19,0))=FALSE,\"D\",\"\"))","v":""},{"$f":"IF(E41=\"C\",0,IF(E41 =\"D\",ROUND(1/((1+Simulador!$Q$13)^A41),9) * 2,ROUND(1/((1+Simulador!$Q$13)^A41),9)))","v":0.55693382599999997},28.54421591800001]
[39,39,"2027-08-01",8,{"$f":"IF(ISERROR(MATCH(D42,Simulador!$H$16:$H$17,0))=FALSE,\"C\",IF(ISERROR(MATCH(D42,Simulador!$H$18:$H$19,0))=FALSE,\"D\",\"\"))","v":""},{"$f":"IF(E42=\"C\",0,IF(E42 =\"D\",ROUND(1/((1+Simulador!$Q$13)^A42),9) * 2,ROUND(1/((1+Simulador!$Q$13)^A42),9)))","v":0.54842117800000001},29.092637096000011]
[40,40,"2027-09-01",9,{"$f":"IF(ISERROR(MATCH(D43,Simulador!$H$16:$H$17,0))=FALSE,\"C\",IF(ISERROR(MATCH(D43,Simulador!$H$18:$H$19,0))=FALSE,\"D\",\"\"))","v":""},{"$f":"IF(E43=\"C\",0,IF(E43 =\"D\",ROUND(1/((1+Simulador!$Q$13)^A43),9) * 2,ROUND(1/((1+Simulador!$Q$13)^A43),9)))","v":0.54003864400000001},29.63267574000001]
[41,41,"2027-10-01",10,{"$f":"IF(ISERROR(MATCH(D44,Simulador!$H$16:$H$17,0))=FALSE,\"C\",IF(ISERROR(MATCH(D44,Simulador!$H$18:$H$19,0))=FALSE,\"D\",\"\"))","v":""},{"$f":"IF(E44=\"C\",0,IF(E44 =\"D\",ROUND(1/((1+Simulador!$Q$13)^A44),9) * 2,ROUND(1/((1+Simulador!$Q$13)^A44),9)))","v":0.53178423600000002},30.16445997600001]
[42,42,"2027-11-01",11,{"$f":"IF(ISERROR(MATCH(D45,Simulador!$H$16:$H$17,0))=FALSE,\"C\",IF(ISERROR(MATCH(D45,Simulador!$H$18:$H$19,0))=FALSE,\"D\",\"\"))","v":""},{"$f":"IF(E45=\"C\",0,IF(E45 =\"D\",ROUND(1/((1+Simulador!$Q$13)^A45),9) * 2,ROUND(1/((1+Simulador!$Q$13)^A45),9)))","v":0.52365599500000004},30.688115971000009]
[43,43,"2027-12-01",12,{"$f":"IF(ISERROR(MATCH(D46,Simulador!$H$16:$H$17,0))=FALSE,\"C\",IF(ISERROR(MATCH(D46,Simulador!$H$18:$H$19,0))=FALSE,\"D\",\"\"))","v":""},{"$f":"IF(E46=\"C\",0,IF(E46 =\"D\",ROUND(1/((1+Simulador!$Q$13)^A46),9) * 2,ROUND(1/((1+Simulador!$Q$13)^A46),9)))","v":0.51565199299999998},31.203767964000008]
[44,44,"2028-01-01",1,{"$f":"IF(ISERROR(MATCH(D47,Simulador!$H$16:$H$17,0))=FALSE,\"C\",IF(ISERROR(MATCH(D47,Simulador!$H$18:$H$19,0))=FALSE,\"D\",\"\"))","v":""},{"$f":"IF(E47=\"C\",0,IF(E47 =\"D\",ROUND(1/((1+Simulador!$Q$13)^A47),9) * 2,ROUND(1/((1+Simulador!$Q$13)^A47),9)))","v":0.50777033100000002},31.711538295000008]
[45,45,"2028-02-01",2,{"$f":"IF(ISERROR(MATCH(D48,Simulador!$H$16:$H$17,0))=FALSE,\"C\",IF(ISERROR(MATCH(D48,Simulador!$H$18:$H$19,0))=FALSE,\"D\",\"\"))","v":""},{"$f":"IF(E48=\"C\",0,IF(E48 =\"D\",ROUND(1/((1+Simulador!$Q$13)^A48),9) * 2,ROUND(1/((1+Simulador!$Q$13)^A48),9)))","v":0.50000913999999996},32.211547435000007]
[46,46,"2028-03-01",3,{"$f":"IF(ISERROR(MATCH(D49,Simulador!$H$16:$H$17,0))=FALSE,\"C\",IF(ISERROR(MATCH(D49,Simulador!$H$18:$H$19,0))=FALSE,\"D\",\"\"))","v":""},{"$f":"IF(E49=\"C\",0,IF(E49 =\"D\",ROUND(1/((1+Simulador!$Q$13)^A49),9) * 2,ROUND(1/((1+Simulador!$Q$13)^A49),9)))","v":0.492366576},32.703914011000009]
[47,47,"2028-04-01",4,{"$f":"IF(ISERROR(MATCH(D50,Simulador!$H$16:$H$17,0))=FALSE,\"C\",IF(ISERROR(MATCH(D50,Simulador!$H$18:$H$19,0))=FALSE,\"D\",\"\"))","v":""},{"$f":"IF(E50=\"C\",0,IF(E50 =\"D\",ROUND(1/((1+Simulador!$Q$13)^A50),9) * 2,ROUND(1/((1+Simulador!$Q$13)^A50),9)))","v":0.48484082899999997},33.188754840000009]
[48,48,"2028-05-01",5,{"$f":"IF(ISERROR(MATCH(D51,Simulador!$H$16:$H$17,0))=FALSE,\"C\",IF(ISERROR(MATCH(D51,Simulador!$H$18:$H$19,0))=FALSE,\"D\",\"\"))","v":""},{"$f":"IF(E51=\"C\",0,IF(E51 =\"D\",ROUND(1/((1+Simulador!$Q$13)^A51),9) * 2,ROUND(1/((1+Simulador!$Q$13)^A51),9)))","v":0.47743011099999999},33.666184951000005]
[49,49,"2028-06-01",6,{"$f":"IF(ISERROR(MATCH(D52,Simulador!$H$16:$H$17,0))=FALSE,\"C\",IF(ISERROR(MATCH(D52,Simulador!$H$18:$H$19,0))=FALSE,\"D\",\"\"))","v":""},{"$f":"IF(E52=\"C\",0,IF(E52 =\"D\",ROUND(1/((1+Simulador!$Q$13)^A52),9) * 2,ROUND(1/((1+Simulador!$Q$13)^A52),9)))","v":0.47013266399999998},34.136317615000003]
[50,50,"2028-07-01",7,{"$f":"IF(ISERROR(MATCH(D53,Simulador!$H$16:$H$17,0))=FALSE,\"C\",IF(ISERROR(MATCH(D53,Simulador!$H$18:$H$19,0))=FALSE,\"D\",\"\"))","v":""},{"$f":"IF(E53=\"C\",0,IF(E53 =\"D\",ROUND(1/((1+Simulador!$Q$13)^A53),9) * 2,ROUND(1/((1+Simulador!$Q$13)^A53),9)))","v":0.46294675800000001},34.599264373000004]
[51,51,"2028-08-01",8,{"$f":"IF(ISERROR(MATCH(D54,Simulador!$H$16:$H$17,0))=FALSE,\"C\",IF(ISERROR(MATCH(D54,Simulador!$H$18:$H$19,0))=FALSE,\"D\",\"\"))","v":""},{"$f":"IF(E54=\"C\",0,IF(E54 =\"D\",ROUND(1/((1+Simulador!$Q$13)^A54),9) * 2,ROUND(1/((1+Simulador!$Q$13)^A54),9)))","v":0.45587068800000002},35.055135061000001]
[52,52,"2028-09-01",9,{"$f":"IF(ISERROR(MATCH(D55,Simulador!$H$16:$H$17,0))=FALSE,\"C\",IF(ISERROR(MATCH(D55,Simulador!$H$18:$H$19,0))=FALSE,\"D\",\"\"))","v":""},{"$f":"IF(E55=\"C\",0,IF(E55 =\"D\",ROUND(1/((1+Simulador!$Q$13)^A55),9) * 2,ROUND(1/((1+Simulador!$Q$13)^A55),9)))","v":0.448902774},35.504037834999998]
[53,53,"2028-10-01",10,{"$f":"IF(ISERROR(MATCH(D56,Simulador!$H$16:$H$17,0))=FALSE,\"C\",IF(ISERROR(MATCH(D56,Simulador!$H$18:$H$19,0))=FALSE,\"D\",\"\"))","v":""},{"$f":"IF(E56=\"C\",0,IF(E56 =\"D\",ROUND(1/((1+Simulador!$Q$13)^A56),9) * 2,ROUND(1/((1+Simulador!$Q$13)^A56),9)))","v":0.44204136399999999},35.946079198999996]
[54,54,"2028-11-01",11,{"$f":"IF(ISERROR(MATCH(D57,Simulador!$H$16:$H$17,0))=FALSE,\"C\",IF(ISERROR(MATCH(D57,Simulador!$H$18:$H$19,0))=FALSE,\"D\",\"\"))","v":""},{"$f":"IF(E57=\"C\",0,IF(E57 =\"D\",ROUND(1/((1+Simulador!$Q$13)^A57),9) * 2,ROUND(1/((1+Simulador!$Q$13)^A57),9)))","v":0.43528482899999998},36.381364027999993]
[55,55,"2028-12-01",12,{"$f":"IF(ISERROR(MATCH(D58,Simulador!$H$16:$H$17,0))=FALSE,\"C\",IF(ISERROR(MATCH(D58,Simulador!$H$18:$H$19,0))=FALSE,\"D\",\"\"))","v":""},{"$f":"IF(E58=\"C\",0,IF(E58 =\"D\",ROUND(1/((1+Simulador!$Q$13)^A58),9) * 2,ROUND(1/((1+Simulador!$Q$13)^A58),9)))","v":0.42863156699999999},36.80999559499999]
[56,56,"2029-01-01",1,{"$f":"IF(ISERROR(MATCH(D59,Simulador!$H$16:$H$17,0))=FALSE,\"C\",IF(ISERROR(MATCH(D59,Simulador!$H$18:$H$19,0))=FALSE,\"D\",\"\"))","v":""},{"$f":"IF(E59=\"C\",0,IF(E59 =\"D\",ROUND(1/((1+Simulador!$Q$13)^A59),9) * 2,ROUND(1/((1+Simulador!$Q$13)^A59),9)))","v":0.42207999899999998},37.232075593999987]
[57,57,"2029-02-01",2,{"$f":"IF(ISERROR(MATCH(D60,Simulador!$H$16:$H$17,0))=FALSE,\"C\",IF(ISERROR(MATCH(D60,Simulador!$H$18:$H$19,0))=FALSE,\"D\",\"\"))","v":""},{"$f":"IF(E60=\"C\",0,IF(E60 =\"D\",ROUND(1/((1+Simulador!$Q$13)^A60),9) * 2,ROUND(1/((1+Simulador!$Q$13)^A60),9)))","v":0.415628571},37.647704164999986]
[58,58,"2029-03-01",3,{"$f":"IF(ISERROR(MATCH(D61,Simulador!$H$16:$H$17,0))=FALSE,\"C\",IF(ISERROR(MATCH(D61,Simulador!$H$18:$H$19,0))=FALSE,\"D\",\"\"))","v":""},{"$f":"IF(E61=\"C\",0,IF(E61 =\"D\",ROUND(1/((1+Simulador!$Q$13)^A61),9) * 2,ROUND(1/((1+Simulador!$Q$13)^A61),9)))","v":0.40927575199999999},38.056979916999985]
[59,59,"2029-04-01",4,{"$f":"IF(ISERROR(MATCH(D62,Simulador!$H$16:$H$17,0))=FALSE,\"C\",IF(ISERROR(MATCH(D62,Simulador!$H$18:$H$19,0))=FALSE,\"D\",\"\"))","v":""},{"$f":"IF(E62=\"C\",0,IF(E62 =\"D\",ROUND(1/((1+Simulador!$Q$13)^A62),9) * 2,ROUND(1/((1+Simulador!$Q$13)^A62),9)))","v":0.403020035},38.459999951999983]
[60,60,"2029-05-01",5,{"$f":"IF(ISERROR(MATCH(D63,Simulador!$H$16:$H$17,0))=FALSE,\"C\",IF(ISERROR(MATCH(D63,Simulador!$H$18:$H$19,0))=FALSE,\"D\",\"\"))","v":""},{"$f":"IF(E63=\"C\",0,IF(E63 =\"D\",ROUND(1/((1+Simulador!$Q$13)^A63),9) * 2,ROUND(1/((1+Simulador!$Q$13)^A63),9)))","v":0.396859935},38.856859886999985]
[61,61,"2029-06-01",6,{"$f":"IF(ISERROR(MATCH(D64,Simulador!$H$16:$H$17,0))=FALSE,\"C\",IF(ISERROR(MATCH(D64,Simulador!$H$18:$H$19,0))=FALSE,\"D\",\"\"))","v":""},{"$f":"IF(E64=\"C\",0,IF(E64 =\"D\",ROUND(1/((1+Simulador!$Q$13)^A64),9) * 2,ROUND(1/((1+Simulador!$Q$13)^A64),9)))","v":0.39079399199999998},39.247653878999984]
[62,62,"2029-07-01",7,{"$f":"IF(ISERROR(MATCH(D65,Simulador!$H$16:$H$17,0))=FALSE,\"C\",IF(ISERROR(MATCH(D65,Simulador!$H$18:$H$19,0))=FALSE,\"D\",\"\"))","v":""},{"$f":"IF(E65=\"C\",0,IF(E65 =\"D\",ROUND(1/((1+Simulador!$Q$13)^A65),9) * 2,ROUND(1/((1+Simulador!$Q$13)^A65),9)))","v":0.38482076500000001},39.632474643999984]
[63,63,"2029-08-01",8,{"$f":"IF(ISERROR(MATCH(D66,Simulador!$H$16:$H$17,0))=FALSE,\"C\",IF(ISERROR(MATCH(D66,Simulador!$H$18:$H$19,0))=FALSE,\"D\",\"\"))","v":""},{"$f":"IF(E66=\"C\",0,IF(E66 =\"D\",ROUND(1/((1+Simulador!$Q$13)^A66),9) * 2,ROUND(1/((1+Simulador!$Q$13)^A66),9)))","v":0.37893883900000003},40.011413482999984]
[64,64,"2029-09-01",9,{"$f":"IF(ISERROR(MATCH(D67,Simulador!$H$16:$H$17,0))=FALSE,\"C\",IF(ISERROR(MATCH(D67,Simulador!$H$18:$H$19,0))=FALSE,\"D\",\"\"))","v":""},{"$f":"IF(E67=\"C\",0,IF(E67 =\"D\",ROUND(1/((1+Simulador!$Q$13)^A67),9) * 2,ROUND(1/((1+Simulador!$Q$13)^A67),9)))","v":0.37314681700000002},40.384560299999983]
[65,65,"2029-10-01",{"$f":"MONTH(C68)","v":10},{"$f":"IF(ISERROR(MATCH(D68,Simulador!$H$16:$H$17,0))=FALSE,\"C\",IF(ISERROR(MATCH(D68,Simulador!$H$18:$H$19,0))=FALSE,\"D\",\"\"))","v":""},{"$f":"IF(E68=\"C\",0,IF(E68 =\"D\",ROUND(1/((1+Simulador!$Q$13)^A68),9) * 2,ROUND(1/((1+Simulador!$Q$13)^A68),9)))","v":0.36744332499999999},40.752003624999986]
[{"$f":"A68+1","v":66},{"$f":"IF(E69<>\"C\",IF(ISERROR(1+B68)=TRUE,1,1+B68),IF(ISNUMBER(B68),B68,1))","v":66},{"$f":"DATE(YEAR(C68) + 1/12,MONTH(C68)+1,DAY(C68))","v":"2029-11-01"},11,{"$f":"IF(ISERROR(MATCH(D69,Simulador!$H$16:$H$17,0))=FALSE,\"C\",IF(ISERROR(MATCH(D69,Simulador!$H$18:$H$19,0))=FALSE,\"D\",\"\"))","v":""},{"$f":"IF(E69=\"C\",0,IF(E69 =\"D\",ROUND(1/((1+Simulador!$Q$13)^A69),9) * 2,ROUND(1/((1+Simulador!$Q$13)^A69),9)))","v":0.36182701},41.113830634999985]
[67,67,"2029-12-01",12,{"$f":"IF(ISERROR(MATCH(D70,Simulador!$H$16:$H$17,0))=FALSE,\"C\",IF(ISERROR(MATCH(D70,Simulador!$H$18:$H$19,0))=FALSE,\"D\",\"\"))","v":""},{"$f":"IF(E70=\"C\",0,IF(E70 =\"D\",ROUND(1/((1+Simulador!$Q$13)^A70),9) * 2,ROUND(1/((1+Simulador!$Q$13)^A70),9)))","v":0.35629653900000002},{"$f":"G69+ROUND(F70,9)","v":41.470127173999984}]
[68,68,"2030-01-01",1,{"$f":"IF(ISERROR(MATCH(D71,Simulador!$H$16:$H$17,0))=FALSE,\"C\",IF(ISERROR(MATCH(D71,Simulador!$H$18:$H$19,0))=FALSE,\"D\",\"\"))","v":""},{"$f":"IF(E71=\"C\",0,IF(E71 =\"D\",ROUND(1/((1+Simulador!$Q$13)^A71),9) * 2,ROUND(1/((1+Simulador!$Q$13)^A71),9)))","v":0.35085060099999998},41.820977774999982]
[69,69,"2030-02-01",2,{"$f":"IF(ISERROR(MATCH(D72,Simulador!$H$16:$H$17,0))=FALSE,\"C\",IF(ISERROR(MATCH(D72,Simulador!$H$18:$H$19,0))=FALSE,\"D\",\"\"))","v":""},{"$f":"IF(E72=\"C\",0,IF(E72 =\"D\",ROUND(1/((1+Simulador!$Q$13)^A72),9) * 2,ROUND(1/((1+Simulador!$Q$13)^A72),9)))","v":0.34548790299999999},42.16646567799998]
[70,70,"2030-03-01",3,{"$f":"IF(ISERROR(MATCH(D73,Simulador!$H$16:$H$17,0))=FALSE,\"C\",IF(ISERROR(MATCH(D73,Simulador!$H$18:$H$19,0))=FALSE,\"D\",\"\"))","v":""},{"$f":"IF(E73=\"C\",0,IF(E73 =\"D\",ROUND(1/((1+Simulador!$Q$13)^A73),9) * 2,ROUND(1/((1+Simulador!$Q$13)^A73),9)))","v":0.34020717299999997},42.506672850999983]
[71,71,"2030-04-01",4,{"$f":"IF(ISERROR(MATCH(D74,Simulador!$H$16:$H$17,0))=FALSE,\"C\",IF(ISERROR(MATCH(D74,Simulador!$H$18:$H$19,0))=FALSE,\"D\",\"\"))","v":""},{"$f":"IF(E74=\"C\",0,IF(E74 =\"D\",ROUND(1/((1+Simulador!$Q$13)^A74),9) * 2,ROUND(1/((1+Simulador!$Q$13)^A74),9)))","v":0.335007159},42.841680009999983]
[72,72,"2030-05-01",5,{"$f":"IF(ISERROR(MATCH(D75,Simulador!$H$16:$H$17,0))=FALSE,\"C\",IF(ISERROR(MATCH(D75,Simulador!$H$18:$H$19,0))=FALSE,\"D\",\"\"))","v":""},{"$f":"IF(E75=\"C\",0,IF(E75 =\"D\",ROUND(1/((1+Simulador!$Q$13)^A75),9) * 2,ROUND(1/((1+Simulador!$Q$13)^A75),9)))","v":0.32988662600000002},43.17156663599998]
[73,73,"2030-06-01",6,{"$f":"IF(ISERROR(MATCH(D76,Simulador!$H$16:$H$17,0))=FALSE,\"C\",IF(ISERROR(MATCH(D76,Simulador!$H$18:$H$19,0))=FALSE,\"D\",\"\"))","v":""},{"$f":"IF(E76=\"C\",0,IF(E76 =\"D\",ROUND(1/((1+Simulador!$Q$13)^A76),9) * 2,ROUND(1/((1+Simulador!$Q$13)^A76),9)))","v":0.32484435900000003},43.496410994999977]
[74,74,"2030-07-01",7,{"$f":"IF(ISERROR(MATCH(D77,Simulador!$H$16:$H$17,0))=FALSE,\"C\",IF(ISERROR(MATCH(D77,Simulador!$H$18:$H$19,0))=FALSE,\"D\",\"\"))","v":""},{"$f":"IF(E77=\"C\",0,IF(E77 =\"D\",ROUND(1/((1+Simulador!$Q$13)^A77),9) * 2,ROUND(1/((1+Simulador!$Q$13)^A77),9)))","v":0.31987916300000002},43.81629015799998]
[75,75,"2030-08-01",8,{"$f":"IF(ISERROR(MATCH(D78,Simulador!$H$16:$H$17,0))=FALSE,\"C\",IF(ISERROR(MATCH(D78,Simulador!$H$18:$H$19,0))=FALSE,\"D\",\"\"))","v":""},{"$f":"IF(E78=\"C\",0,IF(E78 =\"D\",ROUND(1/((1+Simulador!$Q$13)^A78),9) * 2,ROUND(1/((1+Simulador!$Q$13)^A78),9)))","v":0.31498985800000001},44.131280015999977]
[76,76,"2030-09-01",9,{"$f":"IF(ISERROR(MATCH(D79,Simulador!$H$16:$H$17,0))=FALSE,\"C\",IF(ISERROR(MATCH(D79,Simulador!$H$18:$H$19,0))=FALSE,\"D\",\"\"))","v":""},{"$f":"IF(E79=\"C\",0,IF(E79 =\"D\",ROUND(1/((1+Simulador!$Q$13)^A79),9) * 2,ROUND(1/((1+Simulador!$Q$13)^A79),9)))","v":0.31017528700000002},44.441455302999977]
[77,77,"2030-10-01",10,{"$f":"IF(ISERROR(MATCH(D80,Simulador!$H$16:$H$17,0))=FALSE,\"C\",IF(ISERROR(MATCH(D80,Simulador!$H$18:$H$19,0))=FALSE,\"D\",\"\"))","v":""},{"$f":"IF(E80=\"C\",0,IF(E80 =\"D\",ROUND(1/((1+Simulador!$Q$13)^A80),9) * 2,ROUND(1/((1+Simulador!$Q$13)^A80),9)))","v":0.30543430500000002},44.746889607999975]
[78,78,"2030-11-01",11,{"$f":"IF(ISERROR(MATCH(D81,Simulador!$H$16:$H$17,0))=FALSE,\"C\",IF(ISERROR(MATCH(D81,Simulador!$H$18:$H$19,0))=FALSE,\"D\",\"\"))","v":""},{"$f":"IF(E81=\"C\",0,IF(E81 =\"D\",ROUND(1/((1+Simulador!$Q$13)^A81),9) * 2,ROUND(1/((1+Simulador!$Q$13)^A81),9)))","v":0.30076578799999998},45.047655395999975]
[79,79,"2030-12-01",12,{"$f":"IF(ISERROR(MATCH(D82,Simulador!$H$16:$H$17,0))=FALSE,\"C\",IF(ISERROR(MATCH(D82,Simulador!$H$18:$H$19,0))=FALSE,\"D\",\"\"))","v":""},{"$f":"IF(E82=\"C\",0,IF(E82 =\"D\",ROUND(1/((1+Simulador!$Q$13)^A82),9) * 2,ROUND(1/((1+Simulador!$Q$13)^A82),9)))","v":0.29616862900000002},45.343824024999975]
[80,80,"2031-01-01",1,{"$f":"IF(ISERROR(MATCH(D83,Simulador!$H$16:$H$17,0))=FALSE,\"C\",IF(ISERROR(MATCH(D83,Simulador!$H$18:$H$19,0))=FALSE,\"D\",\"\"))","v":""},{"$f":"IF(E83=\"C\",0,IF(E83 =\"D\",ROUND(1/((1+Simulador!$Q$13)^A83),9) * 2,ROUND(1/((1+Simulador!$Q$13)^A83),9)))","v":0.29164173700000001},45.635465761999974]
[81,81,"2031-02-01",2,{"$f":"IF(ISERROR(MATCH(D84,Simulador!$H$16:$H$17,0))=FALSE,\"C\",IF(ISERROR(MATCH(D84,Simulador!$H$18:$H$19,0))=FALSE,\"D\",\"\"))","v":""},{"$f":"IF(E84=\"C\",0,IF(E84 =\"D\",ROUND(1/((1+Simulador!$Q$13)^A84),9) * 2,ROUND(1/((1+Simulador!$Q$13)^A84),9)))","v":0.28718403799999997},45.922649799999974]
[82,82,"2031-03-01",3,{"$f":"IF(ISERROR(MATCH(D85,Simulador!$H$16:$H$17,0))=FALSE,\"C\",IF(ISERROR(MATCH(D85,Simulador!$H$18:$H$19,0))=FALSE,\"D\",\"\"))","v":""},{"$f":"IF(E85=\"C\",0,IF(E85 =\"D\",ROUND(1/((1+Simulador!$Q$13)^A85),9) * 2,ROUND(1/((1+Simulador!$Q$13)^A85),9)))","v":0.28279447299999999},46.205444272999976]
[83,83,"2031-04-01",4,{"$f":"IF(ISERROR(MATCH(D86,Simulador!$H$16:$H$17,0))=FALSE,\"C\",IF(ISERROR(MATCH(D86,Simulador!$H$18:$H$19,0))=FALSE,\"D\",\"\"))","v":""},{"$f":"IF(E86=\"C\",0,IF(E86 =\"D\",ROUND(1/((1+Simulador!$Q$13)^A86),9) * 2,ROUND(1/((1+Simulador!$Q$13)^A86),9)))","v":0.27847200300000002},46.483916275999974]
[84,84,"2031-05-01",5,{"$f":"IF(ISERROR(MATCH(D87,Simulador!$H$16:$H$17,0))=FALSE,\"C\",IF(ISERROR(MATCH(D87,Simulador!$H$18:$H$19,0))=FALSE,\"D\",\"\"))","v":""},{"$f":"IF(E87=\"C\",0,IF(E87 =\"D\",ROUND(1/((1+Simulador!$Q$13)^A87),9) * 2,ROUND(1/((1+Simulador!$Q$13)^A87),9)))","v":0.27421560099999998},46.758131876999975]
[85,85,"2031-06-01",6,{"$f":"IF(ISERROR(MATCH(D88,Simulador!$H$16:$H$17,0))=FALSE,\"C\",IF(ISERROR(MATCH(D88,Simulador!$H$18:$H$19,0))=FALSE,\"D\",\"\"))","v":""},{"$f":"IF(E88=\"C\",0,IF(E88 =\"D\",ROUND(1/((1+Simulador!$Q$13)^A88),9) * 2,ROUND(1/((1+Simulador!$Q$13)^A88),9)))","v":0.27002425800000002},47.028156134999975]
[86,86,"2031-07-01",7,{"$f":"IF(ISERROR(MATCH(D89,Simulador!$H$16:$H$17,0))=FALSE,\"C\",IF(ISERROR(MATCH(D89,Simulador!$H$18:$H$19,0))=FALSE,\"D\",\"\"))","v":""},{"$f":"IF(E89=\"C\",0,IF(E89 =\"D\",ROUND(1/((1+Simulador!$Q$13)^A89),9) * 2,ROUND(1/((1+Simulador!$Q$13)^A89),9)))","v":0.26589697800000001},47.294053112999975]
[87,87,"2031-08-01",8,{"$f":"IF(ISERROR(MATCH(D90,Simulador!$H$16:$H$17,0))=FALSE,\"C\",IF(ISERROR(MATCH(D90,Simulador!$H$18:$H$19,0))=FALSE,\"D\",\"\"))","v":""},{"$f":"IF(E90=\"C\",0,IF(E90 =\"D\",ROUND(1/((1+Simulador!$Q$13)^A90),9) * 2,ROUND(1/((1+Simulador!$Q$13)^A90),9)))","v":0.26183278399999999},47.555885896999975]
[88,88,"2031-09-01",9,{"$f":"IF(ISERROR(MATCH(D91,Simulador!$H$16:$H$17,0))=FALSE,\"C\",IF(ISERROR(MATCH(D91,Simulador!$H$18:$H$19,0))=FALSE,\"D\",\"\"))","v":""},{"$f":"IF(E91=\"C\",0,IF(E91 =\"D\",ROUND(1/((1+Simulador!$Q$13)^A91),9) * 2,ROUND(1/((1+Simulador!$Q$13)^A91),9)))","v":0.25783070899999999},47.813716605999971]
[89,89,"2031-10-01",10,{"$f":"IF(ISERROR(MATCH(D92,Simulador!$H$16:$H$17,0))=FALSE,\"C\",IF(ISERROR(MATCH(D92,Simulador!$H$18:$H$19,0))=FALSE,\"D\",\"\"))","v":""},{"$f":"IF(E92=\"C\",0,IF(E92 =\"D\",ROUND(1/((1+Simulador!$Q$13)^A92),9) * 2,ROUND(1/((1+Simulador!$Q$13)^A92),9)))","v":0.25388980700000002},48.067606412999972]
[90,90,"2031-11-01",11,{"$f":"IF(ISERROR(MATCH(D93,Simulador!$H$16:$H$17,0))=FALSE,\"C\",IF(ISERROR(MATCH(D93,Simulador!$H$18:$H$19,0))=FALSE,\"D\",\"\"))","v":""},{"$f":"IF(E93=\"C\",0,IF(E93 =\"D\",ROUND(1/((1+Simulador!$Q$13)^A93),9) * 2,ROUND(1/((1+Simulador!$Q$13)^A93),9)))","v":0.25000914000000002},48.317615552999975]
[91,91,"2031-12-01",12,{"$f":"IF(ISERROR(MATCH(D94,Simulador!$H$16:$H$17,0))=FALSE,\"C\",IF(ISERROR(MATCH(D94,Simulador!$H$18:$H$19,0))=FALSE,\"D\",\"\"))","v":""},{"$f":"IF(E94=\"C\",0,IF(E94 =\"D\",ROUND(1/((1+Simulador!$Q$13)^A94),9) * 2,ROUND(1/((1+Simulador!$Q$13)^A94),9)))","v":0.24618778799999999},48.563803340999975]
[92,92,"2032-01-01",1,{"$f":"IF(ISERROR(MATCH(D95,Simulador!$H$16:$H$17,0))=FALSE,\"C\",IF(ISERROR(MATCH(D95,Simulador!$H$18:$H$19,0))=FALSE,\"D\",\"\"))","v":""},{"$f":"IF(E95=\"C\",0,IF(E95 =\"D\",ROUND(1/((1+Simulador!$Q$13)^A95),9) * 2,ROUND(1/((1+Simulador!$Q$13)^A95),9)))","v":0.242424845},48.806228185999977]
[93,93,"2032-02-01",2,{"$f":"IF(ISERROR(MATCH(D96,Simulador!$H$16:$H$17,0))=FALSE,\"C\",IF(ISERROR(MATCH(D96,Simulador!$H$18:$H$19,0))=FALSE,\"D\",\"\"))","v":""},{"$f":"IF(E96=\"C\",0,IF(E96 =\"D\",ROUND(1/((1+Simulador!$Q$13)^A96),9) * 2,ROUND(1/((1+Simulador!$Q$13)^A96),9)))","v":0.23871941899999999},49.044947604999976]
[94,94,"2032-03-01",3,{"$f":"IF(ISERROR(MATCH(D97,Simulador!$H$16:$H$17,0))=FALSE,\"C\",IF(ISERROR(MATCH(D97,Simulador!$H$18:$H$19,0))=FALSE,\"D\",\"\"))","v":""},{"$f":"IF(E97=\"C\",0,IF(E97 =\"D\",ROUND(1/((1+Simulador!$Q$13)^A97),9) * 2,ROUND(1/((1+Simulador!$Q$13)^A97),9)))","v":0.235070629},49.280018233999975]
[95,95,"2032-04-01",4,{"$f":"IF(ISERROR(MATCH(D98,Simulador!$H$16:$H$17,0))=FALSE,\"C\",IF(ISERROR(MATCH(D98,Simulador!$H$18:$H$19,0))=FALSE,\"D\",\"\"))","v":""},{"$f":"IF(E98=\"C\",0,IF(E98 =\"D\",ROUND(1/((1+Simulador!$Q$13)^A98),9) * 2,ROUND(1/((1+Simulador!$Q$13)^A98),9)))","v":0.23147761},49.511495843999974]
[96,96,"2032-05-01",5,{"$f":"IF(ISERROR(MATCH(D99,Simulador!$H$16:$H$17,0))=FALSE,\"C\",IF(ISERROR(MATCH(D99,Simulador!$H$18:$H$19,0))=FALSE,\"D\",\"\"))","v":""},{"$f":"IF(E99=\"C\",0,IF(E99 =\"D\",ROUND(1/((1+Simulador!$Q$13)^A99),9) * 2,ROUND(1/((1+Simulador!$Q$13)^A99),9)))","v":0.22793951000000001},49.739435353999973]
[97,97,"2032-06-01",6,{"$f":"IF(ISERROR(MATCH(D100,Simulador!$H$16:$H$17,0))=FALSE,\"C\",IF(ISERROR(MATCH(D100,Simulador!$H$18:$H$19,0))=FALSE,\"D\",\"\"))","v":""},{"$f":"IF(E100=\"C\",0,IF(E100 =\"D\",ROUND(1/((1+Simulador!$Q$13)^A100),9) * 2,ROUND(1/((1+Simulador!$Q$13)^A100),9)))","v":0.22445549000000001},49.96389084399997]
[98,98,"2032-07-01",7,{"$f":"IF(ISERROR(MATCH(D101,Simulador!$H$16:$H$17,0))=FALSE,\"C\",IF(ISERROR(MATCH(D101,Simulador!$H$18:$H$19,0))=FALSE,\"D\",\"\"))","v":""},{"$f":"IF(E101=\"C\",0,IF(E101 =\"D\",ROUND(1/((1+Simulador!$Q$13)^A101),9) * 2,ROUND(1/((1+Simulador!$Q$13)^A101),9)))","v":0.22102472200000001},50.184915565999972]
[99,99,"2032-08-01",8,{"$f":"IF(ISERROR(MATCH(D102,Simulador!$H$16:$H$17,0))=FALSE,\"C\",IF(ISERROR(MATCH(D102,Simulador!$H$18:$H$19,0))=FALSE,\"D\",\"\"))","v":""},{"$f":"IF(E102=\"C\",0,IF(E102 =\"D\",ROUND(1/((1+Simulador!$Q$13)^A102),9) * 2,ROUND(1/((1+Simulador!$Q$13)^A102),9)))","v":0.21764639299999999},50.402561958999975]
[100,100,"2032-09-01",9,{"$f":"IF(ISERROR(MATCH(D103,Simulador!$H$16:$H$17,0))=FALSE,\"C\",IF(ISERROR(MATCH(D103,Simulador!$H$18:$H$19,0))=FALSE,\"D\",\"\"))","v":""},{"$f":"IF(E103=\"C\",0,IF(E103 =\"D\",ROUND(1/((1+Simulador!$Q$13)^A103),9) * 2,ROUND(1/((1+Simulador!$Q$13)^A103),9)))","v":0.214319701},50.616881659999976]
[101,101,"2032-10-01",10,{"$f":"IF(ISERROR(MATCH(D104,Simulador!$H$16:$H$17,0))=FALSE,\"C\",IF(ISERROR(MATCH(D104,Simulador!$H$18:$H$19,0))=FALSE,\"D\",\"\"))","v":""},{"$f":"IF(E104=\"C\",0,IF(E104 =\"D\",ROUND(1/((1+Simulador!$Q$13)^A104),9) * 2,ROUND(1/((1+Simulador!$Q$13)^A104),9)))","v":0.211043857},50.827925516999976]
[102,102,"2032-11-01",11,{"$f":"IF(ISERROR(MATCH(D105,Simulador!$H$16:$H$17,0))=FALSE,\"C\",IF(ISERROR(MATCH(D105,Simulador!$H$18:$H$19,0))=FALSE,\"D\",\"\"))","v":""},{"$f":"IF(E105=\"C\",0,IF(E105 =\"D\",ROUND(1/((1+Simulador!$Q$13)^A105),9) * 2,ROUND(1/((1+Simulador!$Q$13)^A105),9)))","v":0.20781808399999999},51.035743600999979]
[103,103,"2032-12-01",12,{"$f":"IF(ISERROR(MATCH(D106,Simulador!$H$16:$H$17,0))=FALSE,\"C\",IF(ISERROR(MATCH(D106,Simulador!$H$18:$H$19,0))=FALSE,\"D\",\"\"))","v":""},{"$f":"IF(E106=\"C\",0,IF(E106 =\"D\",ROUND(1/((1+Simulador!$Q$13)^A106),9) * 2,ROUND(1/((1+Simulador!$Q$13)^A106),9)))","v":0.204641617},51.240385217999979]
[104,104,"2033-01-01",1,{"$f":"IF(ISERROR(MATCH(D107,Simulador!$H$16:$H$17,0))=FALSE,\"C\",IF(ISERROR(MATCH(D107,Simulador!$H$18:$H$19,0))=FALSE,\"D\",\"\"))","v":""},{"$f":"IF(E107=\"C\",0,IF(E107 =\"D\",ROUND(1/((1+Simulador!$Q$13)^A107),9) * 2,ROUND(1/((1+Simulador!$Q$13)^A107),9)))","v":0.20151370099999999},51.441898918999982]
[105,105,"2033-02-01",2,{"$f":"IF(ISERROR(MATCH(D108,Simulador!$H$16:$H$17,0))=FALSE,\"C\",IF(ISERROR(MATCH(D108,Simulador!$H$18:$H$19,0))=FALSE,\"D\",\"\"))","v":""},{"$f":"IF(E108=\"C\",0,IF(E108 =\"D\",ROUND(1/((1+Simulador!$Q$13)^A108),9) * 2,ROUND(1/((1+Simulador!$Q$13)^A108),9)))","v":0.19843359499999999},51.640332513999979]
[106,106,"2033-03-01",3,{"$f":"IF(ISERROR(MATCH(D109,Simulador!$H$16:$H$17,0))=FALSE,\"C\",IF(ISERROR(MATCH(D109,Simulador!$H$18:$H$19,0))=FALSE,\"D\",\"\"))","v":""},{"$f":"IF(E109=\"C\",0,IF(E109 =\"D\",ROUND(1/((1+Simulador!$Q$13)^A109),9) * 2,ROUND(1/((1+Simulador!$Q$13)^A109),9)))","v":0.195400568},51.835733081999976]
[107,107,"2033-04-01",4,{"$f":"IF(ISERROR(MATCH(D110,Simulador!$H$16:$H$17,0))=FALSE,\"C\",IF(ISERROR(MATCH(D110,Simulador!$H$18:$H$19,0))=FALSE,\"D\",\"\"))","v":""},{"$f":"IF(E110=\"C\",0,IF(E110 =\"D\",ROUND(1/((1+Simulador!$Q$13)^A110),9) * 2,ROUND(1/((1+Simulador!$Q$13)^A110),9)))","v":0.1924139},52.028146981999974]
[108,108,"2033-05-01",5,{"$f":"IF(ISERROR(MATCH(D111,Simulador!$H$16:$H$17,0))=FALSE,\"C\",IF(ISERROR(MATCH(D111,Simulador!$H$18:$H$19,0))=FALSE,\"D\",\"\"))","v":""},{"$f":"IF(E111=\"C\",0,IF(E111 =\"D\",ROUND(1/((1+Simulador!$Q$13)^A111),9) * 2,ROUND(1/((1+Simulador!$Q$13)^A111),9)))","v":0.18947288300000001},52.217619864999975]
[109,109,"2033-06-01",6,{"$f":"IF(ISERROR(MATCH(D112,Simulador!$H$16:$H$17,0))=FALSE,\"C\",IF(ISERROR(MATCH(D112,Simulador!$H$18:$H$19,0))=FALSE,\"D\",\"\"))","v":""},{"$f":"IF(E112=\"C\",0,IF(E112 =\"D\",ROUND(1/((1+Simulador!$Q$13)^A112),9) * 2,ROUND(1/((1+Simulador!$Q$13)^A112),9)))","v":0.186576819},52.404196683999977]
[110,110,"2033-07-01",7,{"$f":"IF(ISERROR(MATCH(D113,Simulador!$H$16:$H$17,0))=FALSE,\"C\",IF(ISERROR(MATCH(D113,Simulador!$H$18:$H$19,0))=FALSE,\"D\",\"\"))","v":""},{"$f":"IF(E113=\"C\",0,IF(E113 =\"D\",ROUND(1/((1+Simulador!$Q$13)^A113),9) * 2,ROUND(1/((1+Simulador!$Q$13)^A113),9)))","v":0.18372502099999999},52.587921704999978]
[111,111,"2033-08-01",8,{"$f":"IF(ISERROR(MATCH(D114,Simulador!$H$16:$H$17,0))=FALSE,\"C\",IF(ISERROR(MATCH(D114,Simulador!$H$18:$H$19,0))=FALSE,\"D\",\"\"))","v":""},{"$f":"IF(E114=\"C\",0,IF(E114 =\"D\",ROUND(1/((1+Simulador!$Q$13)^A114),9) * 2,ROUND(1/((1+Simulador!$Q$13)^A114),9)))","v":0.18091681200000001},52.768838516999978]
[112,112,"2033-09-01",9,{"$f":"IF(ISERROR(MATCH(D115,Simulador!$H$16:$H$17,0))=FALSE,\"C\",IF(ISERROR(MATCH(D115,Simulador!$H$18:$H$19,0))=FALSE,\"D\",\"\"))","v":""},{"$f":"IF(E115=\"C\",0,IF(E115 =\"D\",ROUND(1/((1+Simulador!$Q$13)^A115),9) * 2,ROUND(1/((1+Simulador!$Q$13)^A115),9)))","v":0.178151526},52.946990042999978]
[113,113,"2033-10-01",10,{"$f":"IF(ISERROR(MATCH(D116,Simulador!$H$16:$H$17,0))=FALSE,\"C\",IF(ISERROR(MATCH(D116,Simulador!$H$18:$H$19,0))=FALSE,\"D\",\"\"))","v":""},{"$f":"IF(E116=\"C\",0,IF(E116 =\"D\",ROUND(1/((1+Simulador!$Q$13)^A116),9) * 2,ROUND(1/((1+Simulador!$Q$13)^A116),9)))","v":0.17542850700000001},53.122418549999978]
[114,114,"2033-11-01",11,{"$f":"IF(ISERROR(MATCH(D117,Simulador!$H$16:$H$17,0))=FALSE,\"C\",IF(ISERROR(MATCH(D117,Simulador!$H$18:$H$19,0))=FALSE,\"D\",\"\"))","v":""},{"$f":"IF(E117=\"C\",0,IF(E117 =\"D\",ROUND(1/((1+Simulador!$Q$13)^A117),9) * 2,ROUND(1/((1+Simulador!$Q$13)^A117),9)))","v":0.17274710900000001},53.295165658999977]
[115,115,"2033-12-01",12,{"$f":"IF(ISERROR(MATCH(D118,Simulador!$H$16:$H$17,0))=FALSE,\"C\",IF(ISERROR(MATCH(D118,Simulador!$H$18:$H$19,0))=FALSE,\"D\",\"\"))","v":""},{"$f":"IF(E118=\"C\",0,IF(E118 =\"D\",ROUND(1/((1+Simulador!$Q$13)^A118),9) * 2,ROUND(1/((1+Simulador!$Q$13)^A118),9)))","v":0.170106696},53.465272354999975]
[116,116,"2034-01-01",1,{"$f":"IF(ISERROR(MATCH(D119,Simulador!$H$16:$H$17,0))=FALSE,\"C\",IF(ISERROR(MATCH(D119,Simulador!$H$18:$H$19,0))=FALSE,\"D\",\"\"))","v":""},{"$f":"IF(E119=\"C\",0,IF(E119 =\"D\",ROUND(1/((1+Simulador!$Q$13)^A119),9) * 2,ROUND(1/((1+Simulador!$Q$13)^A119),9)))","v":0.16750664100000001},53.632778995999978]
[117,117,"2034-02-01",2,{"$f":"IF(ISERROR(MATCH(D120,Simulador!$H$16:$H$17,0))=FALSE,\"C\",IF(ISERROR(MATCH(D120,Simulador!$H$18:$H$19,0))=FALSE,\"D\",\"\"))","v":""},{"$f":"IF(E120=\"C\",0,IF(E120 =\"D\",ROUND(1/((1+Simulador!$Q$13)^A120),9) * 2,ROUND(1/((1+Simulador!$Q$13)^A120),9)))","v":0.164946328},53.797725323999977]
[118,118,"2034-03-01",3,{"$f":"IF(ISERROR(MATCH(D121,Simulador!$H$16:$H$17,0))=FALSE,\"C\",IF(ISERROR(MATCH(D121,Simulador!$H$18:$H$19,0))=FALSE,\"D\",\"\"))","v":""},{"$f":"IF(E121=\"C\",0,IF(E121 =\"D\",ROUND(1/((1+Simulador!$Q$13)^A121),9) * 2,ROUND(1/((1+Simulador!$Q$13)^A121),9)))","v":0.16242514799999999},53.960150471999974]
[119,119,"2034-04-01",4,{"$f":"IF(ISERROR(MATCH(D122,Simulador!$H$16:$H$17,0))=FALSE,\"C\",IF(ISERROR(MATCH(D122,Simulador!$H$18:$H$19,0))=FALSE,\"D\",\"\"))","v":""},{"$f":"IF(E122=\"C\",0,IF(E122 =\"D\",ROUND(1/((1+Simulador!$Q$13)^A122),9) * 2,ROUND(1/((1+Simulador!$Q$13)^A122),9)))","v":0.15994250500000001},54.12009297699997]
[120,120,"2034-05-01",5,{"$f":"IF(ISERROR(MATCH(D123,Simulador!$H$16:$H$17,0))=FALSE,\"C\",IF(ISERROR(MATCH(D123,Simulador!$H$18:$H$19,0))=FALSE,\"D\",\"\"))","v":""},{"$f":"IF(E123=\"C\",0,IF(E123 =\"D\",ROUND(1/((1+Simulador!$Q$13)^A123),9) * 2,ROUND(1/((1+Simulador!$Q$13)^A123),9)))","v":0.15749780799999999},54.277590784999973]
[121,121,"2034-06-01",6,{"$f":"IF(ISERROR(MATCH(D124,Simulador!$H$16:$H$17,0))=FALSE,\"C\",IF(ISERROR(MATCH(D124,Simulador!$H$18:$H$19,0))=FALSE,\"D\",\"\"))","v":""},{"$f":"IF(E124=\"C\",0,IF(E124 =\"D\",ROUND(1/((1+Simulador!$Q$13)^A124),9) * 2,ROUND(1/((1+Simulador!$Q$13)^A124),9)))","v":0.155090478},54.432681262999971]
[122,122,"2034-07-01",7,{"$f":"IF(ISERROR(MATCH(D125,Simulador!$H$16:$H$17,0))=FALSE,\"C\",IF(ISERROR(MATCH(D125,Simulador!$H$18:$H$19,0))=FALSE,\"D\",\"\"))","v":""},{"$f":"IF(E125=\"C\",0,IF(E125 =\"D\",ROUND(1/((1+Simulador!$Q$13)^A125),9) * 2,ROUND(1/((1+Simulador!$Q$13)^A125),9)))","v":0.152719944},54.585401206999968]
[123,123,"2034-08-01",8,{"$f":"IF(ISERROR(MATCH(D126,Simulador!$H$16:$H$17,0))=FALSE,\"C\",IF(ISERROR(MATCH(D126,Simulador!$H$18:$H$19,0))=FALSE,\"D\",\"\"))","v":""},{"$f":"IF(E126=\"C\",0,IF(E126 =\"D\",ROUND(1/((1+Simulador!$Q$13)^A126),9) * 2,ROUND(1/((1+Simulador!$Q$13)^A126),9)))","v":0.15038564300000001},54.735786849999968]
[124,124,"2034-09-01",9,{"$f":"IF(ISERROR(MATCH(D127,Simulador!$H$16:$H$17,0))=FALSE,\"C\",IF(ISERROR(MATCH(D127,Simulador!$H$18:$H$19,0))=FALSE,\"D\",\"\"))","v":""},{"$f":"IF(E127=\"C\",0,IF(E127 =\"D\",ROUND(1/((1+Simulador!$Q$13)^A127),9) * 2,ROUND(1/((1+Simulador!$Q$13)^A127),9)))","v":0.14808702100000001},54.88387387099997]
[125,125,"2034-10-01",10,{"$f":"IF(ISERROR(MATCH(D128,Simulador!$H$16:$H$17,0))=FALSE,\"C\",IF(ISERROR(MATCH(D128,Simulador!$H$18:$H$19,0))=FALSE,\"D\",\"\"))","v":""},{"$f":"IF(E128=\"C\",0,IF(E128 =\"D\",ROUND(1/((1+Simulador!$Q$13)^A128),9) * 2,ROUND(1/((1+Simulador!$Q$13)^A128),9)))","v":0.145823534},55.029697404999972]
[126,126,"2034-11-01",11,{"$f":"IF(ISERROR(MATCH(D129,Simulador!$H$16:$H$17,0))=FALSE,\"C\",IF(ISERROR(MATCH(D129,Simulador!$H$18:$H$19,0))=FALSE,\"D\",\"\"))","v":""},{"$f":"IF(E129=\"C\",0,IF(E129 =\"D\",ROUND(1/((1+Simulador!$Q$13)^A129),9) * 2,ROUND(1/((1+Simulador!$Q$13)^A129),9)))","v":0.14359464399999999},55.173292048999969]
[127,127,"2034-12-01",12,{"$f":"IF(ISERROR(MATCH(D130,Simulador!$H$16:$H$17,0))=FALSE,\"C\",IF(ISERROR(MATCH(D130,Simulador!$H$18:$H$19,0))=FALSE,\"D\",\"\"))","v":""},{"$f":"IF(E130=\"C\",0,IF(E130 =\"D\",ROUND(1/((1+Simulador!$Q$13)^A130),9) * 2,ROUND(1/((1+Simulador!$Q$13)^A130),9)))","v":0.14139982100000001},55.314691869999969]
[128,128,"2035-01-01",1,{"$f":"IF(ISERROR(MATCH(D131,Simulador!$H$16:$H$17,0))=FALSE,\"C\",IF(ISERROR(MATCH(D131,Simulador!$H$18:$H$19,0))=FALSE,\"D\",\"\"))","v":""},{"$f":"IF(E131=\"C\",0,IF(E131 =\"D\",ROUND(1/((1+Simulador!$Q$13)^A131),9) * 2,ROUND(1/((1+Simulador!$Q$13)^A131),9)))","v":0.13923854699999999},55.453930416999967]
[129,129,"2035-02-01",{"$f":"MONTH(C132)","v":2},{"$f":"IF(ISERROR(MATCH(D132,Simulador!$H$16:$H$17,0))=FALSE,\"C\",IF(ISERROR(MATCH(D132,Simulador!$H$18:$H$19,0))=FALSE,\"D\",\"\"))","v":""},{"$f":"IF(E132=\"C\",0,IF(E132 =\"D\",ROUND(1/((1+Simulador!$Q$13)^A132),9) * 2,ROUND(1/((1+Simulador!$Q$13)^A132),9)))","v":0.13711030699999999},55.591040723999967]
[{"$f":"A132+1","v":130},{"$f":"IF(E133<>\"C\",IF(ISERROR(1+B132)=TRUE,1,1+B132),IF(ISNUMBER(B132),B132,1))","v":130},{"$f":"DATE(YEAR(C132) + 1/12,MONTH(C132)+1,DAY(C132))","v":"2035-03-01"},3,{"$f":"IF(ISERROR(MATCH(D133,Simulador!$H$16:$H$17,0))=FALSE,\"C\",IF(ISERROR(MATCH(D133,Simulador!$H$18:$H$19,0))=FALSE,\"D\",\"\"))","v":""},{"$f":"IF(E133=\"C\",0,IF(E133 =\"D\",ROUND(1/((1+Simulador!$Q$13)^A133),9) * 2,ROUND(1/((1+Simulador!$Q$13)^A133),9)))","v":0.13501459699999999},55.726055320999969]
[131,131,"2035-04-01",4,{"$f":"IF(ISERROR(MATCH(D134,Simulador!$H$16:$H$17,0))=FALSE,\"C\",IF(ISERROR(MATCH(D134,Simulador!$H$18:$H$19,0))=FALSE,\"D\",\"\"))","v":""},{"$f":"IF(E134=\"C\",0,IF(E134 =\"D\",ROUND(1/((1+Simulador!$Q$13)^A134),9) * 2,ROUND(1/((1+Simulador!$Q$13)^A134),9)))","v":0.132950919},{"$f":"G133+ROUND(F134,9)","v":55.859006239999971}]
[132,132,"2035-05-01",5,{"$f":"IF(ISERROR(MATCH(D135,Simulador!$H$16:$H$17,0))=FALSE,\"C\",IF(ISERROR(MATCH(D135,Simulador!$H$18:$H$19,0))=FALSE,\"D\",\"\"))","v":""},{"$f":"IF(E135=\"C\",0,IF(E135 =\"D\",ROUND(1/((1+Simulador!$Q$13)^A135),9) * 2,ROUND(1/((1+Simulador!$Q$13)^A135),9)))","v":0.13091878500000001},55.98992502499997]
[133,133,"2035-06-01",6,{"$f":"IF(ISERROR(MATCH(D136,Simulador!$H$16:$H$17,0))=FALSE,\"C\",IF(ISERROR(MATCH(D136,Simulador!$H$18:$H$19,0))=FALSE,\"D\",\"\"))","v":""},{"$f":"IF(E136=\"C\",0,IF(E136 =\"D\",ROUND(1/((1+Simulador!$Q$13)^A136),9) * 2,ROUND(1/((1+Simulador!$Q$13)^A136),9)))","v":0.12891771099999999},56.118842735999969]
[134,134,"2035-07-01",7,{"$f":"IF(ISERROR(MATCH(D137,Simulador!$H$16:$H$17,0))=FALSE,\"C\",IF(ISERROR(MATCH(D137,Simulador!$H$18:$H$19,0))=FALSE,\"D\",\"\"))","v":""},{"$f":"IF(E137=\"C\",0,IF(E137 =\"D\",ROUND(1/((1+Simulador!$Q$13)^A137),9) * 2,ROUND(1/((1+Simulador!$Q$13)^A137),9)))","v":0.126947224},56.245789959999968]
[135,135,"2035-08-01",8,{"$f":"IF(ISERROR(MATCH(D138,Simulador!$H$16:$H$17,0))=FALSE,\"C\",IF(ISERROR(MATCH(D138,Simulador!$H$18:$H$19,0))=FALSE,\"D\",\"\"))","v":""},{"$f":"IF(E138=\"C\",0,IF(E138 =\"D\",ROUND(1/((1+Simulador!$Q$13)^A138),9) * 2,ROUND(1/((1+Simulador!$Q$13)^A138),9)))","v":0.125006855},56.37079681499997]
[136,136,"2035-09-01",9,{"$f":"IF(ISERROR(MATCH(D139,Simulador!$H$16:$H$17,0))=FALSE,\"C\",IF(ISERROR(MATCH(D139,Simulador!$H$18:$H$19,0))=FALSE,\"D\",\"\"))","v":""},{"$f":"IF(E139=\"C\",0,IF(E139 =\"D\",ROUND(1/((1+Simulador!$Q$13)^A139),9) * 2,ROUND(1/((1+Simulador!$Q$13)^A139),9)))","v":0.123096144},56.493892958999972]
[137,137,"2035-10-01",10,{"$f":"IF(ISERROR(MATCH(D140,Simulador!$H$16:$H$17,0))=FALSE,\"C\",IF(ISERROR(MATCH(D140,Simulador!$H$18:$H$19,0))=FALSE,\"D\",\"\"))","v":""},{"$f":"IF(E140=\"C\",0,IF(E140 =\"D\",ROUND(1/((1+Simulador!$Q$13)^A140),9) * 2,ROUND(1/((1+Simulador!$Q$13)^A140),9)))","v":0.121214638},56.61510759699997]
[138,138,"2035-11-01",11,{"$f":"IF(ISERROR(MATCH(D141,Simulador!$H$16:$H$17,0))=FALSE,\"C\",IF(ISERROR(MATCH(D141,Simulador!$H$18:$H$19,0))=FALSE,\"D\",\"\"))","v":""},{"$f":"IF(E141=\"C\",0,IF(E141 =\"D\",ROUND(1/((1+Simulador!$Q$13)^A141),9) * 2,ROUND(1/((1+Simulador!$Q$13)^A141),9)))","v":0.119361891},56.734469487999966]
[139,139,"2035-12-01",12,{"$f":"IF(ISERROR(MATCH(D142,Simulador!$H$16:$H$17,0))=FALSE,\"C\",IF(ISERROR(MATCH(D142,Simulador!$H$18:$H$19,0))=FALSE,\"D\",\"\"))","v":""},{"$f":"IF(E142=\"C\",0,IF(E142 =\"D\",ROUND(1/((1+Simulador!$Q$13)^A142),9) * 2,ROUND(1/((1+Simulador!$Q$13)^A142),9)))","v":0.11753746299999999},56.852006950999964]
[140,140,"2036-01-01",1,{"$f":"IF(ISERROR(MATCH(D143,Simulador!$H$16:$H$17,0))=FALSE,\"C\",IF(ISERROR(MATCH(D143,Simulador!$H$18:$H$19,0))=FALSE,\"D\",\"\"))","v":""},{"$f":"IF(E143=\"C\",0,IF(E143 =\"D\",ROUND(1/((1+Simulador!$Q$13)^A143),9) * 2,ROUND(1/((1+Simulador!$Q$13)^A143),9)))","v":0.115740921},56.967747871999961]
[141,141,"2036-02-01",2,{"$f":"IF(ISERROR(MATCH(D144,Simulador!$H$16:$H$17,0))=FALSE,\"C\",IF(ISERROR(MATCH(D144,Simulador!$H$18:$H$19,0))=FALSE,\"D\",\"\"))","v":""},{"$f":"IF(E144=\"C\",0,IF(E144 =\"D\",ROUND(1/((1+Simulador!$Q$13)^A144),9) * 2,ROUND(1/((1+Simulador!$Q$13)^A144),9)))","v":0.11397183900000001},57.081719710999963]
[142,142,"2036-03-01",3,{"$f":"IF(ISERROR(MATCH(D145,Simulador!$H$16:$H$17,0))=FALSE,\"C\",IF(ISERROR(MATCH(D145,Simulador!$H$18:$H$19,0))=FALSE,\"D\",\"\"))","v":""},{"$f":"IF(E145=\"C\",0,IF(E145 =\"D\",ROUND(1/((1+Simulador!$Q$13)^A145),9) * 2,ROUND(1/((1+Simulador!$Q$13)^A145),9)))","v":0.11222979600000001},57.193949506999964]
[143,143,"2036-04-01",4,{"$f":"IF(ISERROR(MATCH(D146,Simulador!$H$16:$H$17,0))=FALSE,\"C\",IF(ISERROR(MATCH(D146,Simulador!$H$18:$H$19,0))=FALSE,\"D\",\"\"))","v":""},{"$f":"IF(E146=\"C\",0,IF(E146 =\"D\",ROUND(1/((1+Simulador!$Q$13)^A146),9) * 2,ROUND(1/((1+Simulador!$Q$13)^A146),9)))","v":0.11051438099999999},57.304463887999965]
[144,144,"2036-05-01",5,{"$f":"IF(ISERROR(MATCH(D147,Simulador!$H$16:$H$17,0))=FALSE,\"C\",IF(ISERROR(MATCH(D147,Simulador!$H$18:$H$19,0))=FALSE,\"D\",\"\"))","v":""},{"$f":"IF(E147=\"C\",0,IF(E147 =\"D\",ROUND(1/((1+Simulador!$Q$13)^A147),9) * 2,ROUND(1/((1+Simulador!$Q$13)^A147),9)))","v":0.108825186},57.413289073999962]
[145,145,"2036-06-01",6,{"$f":"IF(ISERROR(MATCH(D148,Simulador!$H$16:$H$17,0))=FALSE,\"C\",IF(ISERROR(MATCH(D148,Simulador!$H$18:$H$19,0))=FALSE,\"D\",\"\"))","v":""},{"$f":"IF(E148=\"C\",0,IF(E148 =\"D\",ROUND(1/((1+Simulador!$Q$13)^A148),9) * 2,ROUND(1/((1+Simulador!$Q$13)^A148),9)))","v":0.107161809},57.52045088299996]
[146,146,"2036-07-01",7,{"$f":"IF(ISERROR(MATCH(D149,Simulador!$H$16:$H$17,0))=FALSE,\"C\",IF(ISERROR(MATCH(D149,Simulador!$H$18:$H$19,0))=FALSE,\"D\",\"\"))","v":""},{"$f":"IF(E149=\"C\",0,IF(E149 =\"D\",ROUND(1/((1+Simulador!$Q$13)^A149),9) * 2,ROUND(1/((1+Simulador!$Q$13)^A149),9)))","v":0.105523858},57.625974740999958]
[147,147,"2036-08-01",8,{"$f":"IF(ISERROR(MATCH(D150,Simulador!$H$16:$H$17,0))=FALSE,\"C\",IF(ISERROR(MATCH(D150,Simulador!$H$18:$H$19,0))=FALSE,\"D\",\"\"))","v":""},{"$f":"IF(E150=\"C\",0,IF(E150 =\"D\",ROUND(1/((1+Simulador!$Q$13)^A150),9) * 2,ROUND(1/((1+Simulador!$Q$13)^A150),9)))","v":0.10391094100000001},57.72988568199996]
[148,148,"2036-09-01",9,{"$f":"IF(ISERROR(MATCH(D151,Simulador!$H$16:$H$17,0))=FALSE,\"C\",IF(ISERROR(MATCH(D151,Simulador!$H$18:$H$19,0))=FALSE,\"D\",\"\"))","v":""},{"$f":"IF(E151=\"C\",0,IF(E151 =\"D\",ROUND(1/((1+Simulador!$Q$13)^A151),9) * 2,ROUND(1/((1+Simulador!$Q$13)^A151),9)))","v":0.102322679},57.832208360999957]
[149,149,"2036-10-01",10,{"$f":"IF(ISERROR(MATCH(D152,Simulador!$H$16:$H$17,0))=FALSE,\"C\",IF(ISERROR(MATCH(D152,Simulador!$H$18:$H$19,0))=FALSE,\"D\",\"\"))","v":""},{"$f":"IF(E152=\"C\",0,IF(E152 =\"D\",ROUND(1/((1+Simulador!$Q$13)^A152),9) * 2,ROUND(1/((1+Simulador!$Q$13)^A152),9)))","v":0.100758692},57.932967052999956]
[150,150,"2036-11-01",11,{"$f":"IF(ISERROR(MATCH(D153,Simulador!$H$16:$H$17,0))=FALSE,\"C\",IF(ISERROR(MATCH(D153,Simulador!$H$18:$H$19,0))=FALSE,\"D\",\"\"))","v":""},{"$f":"IF(E153=\"C\",0,IF(E153 =\"D\",ROUND(1/((1+Simulador!$Q$13)^A153),9) * 2,ROUND(1/((1+Simulador!$Q$13)^A153),9)))","v":9.9218610999999998E-2},58.032185663999954]
[151,151,"2036-12-01",12,{"$f":"IF(ISERROR(MATCH(D154,Simulador!$H$16:$H$17,0))=FALSE,\"C\",IF(ISERROR(MATCH(D154,Simulador!$H$18:$H$19,0))=FALSE,\"D\",\"\"))","v":""},{"$f":"IF(E154=\"C\",0,IF(E154 =\"D\",ROUND(1/((1+Simulador!$Q$13)^A154),9) * 2,ROUND(1/((1+Simulador!$Q$13)^A154),9)))","v":9.7702070000000002E-2},58.129887733999951]
[152,152,"2037-01-01",1,{"$f":"IF(ISERROR(MATCH(D155,Simulador!$H$16:$H$17,0))=FALSE,\"C\",IF(ISERROR(MATCH(D155,Simulador!$H$18:$H$19,0))=FALSE,\"D\",\"\"))","v":""},{"$f":"IF(E155=\"C\",0,IF(E155 =\"D\",ROUND(1/((1+Simulador!$Q$13)^A155),9) * 2,ROUND(1/((1+Simulador!$Q$13)^A155),9)))","v":9.6208708000000004E-2},58.22609644199995]
[153,153,"2037-02-01",2,{"$f":"IF(ISERROR(MATCH(D156,Simulador!$H$16:$H$17,0))=FALSE,\"C\",IF(ISERROR(MATCH(D156,Simulador!$H$18:$H$19,0))=FALSE,\"D\",\"\"))","v":""},{"$f":"IF(E156=\"C\",0,IF(E156 =\"D\",ROUND(1/((1+Simulador!$Q$13)^A156),9) * 2,ROUND(1/((1+Simulador!$Q$13)^A156),9)))","v":9.4738172999999995E-2},58.320834614999953]
[154,154,"2037-03-01",3,{"$f":"IF(ISERROR(MATCH(D157,Simulador!$H$16:$H$17,0))=FALSE,\"C\",IF(ISERROR(MATCH(D157,Simulador!$H$18:$H$19,0))=FALSE,\"D\",\"\"))","v":""},{"$f":"IF(E157=\"C\",0,IF(E157 =\"D\",ROUND(1/((1+Simulador!$Q$13)^A157),9) * 2,ROUND(1/((1+Simulador!$Q$13)^A157),9)))","v":9.3290115000000007E-2},58.414124729999955]
[155,155,"2037-04-01",4,{"$f":"IF(ISERROR(MATCH(D158,Simulador!$H$16:$H$17,0))=FALSE,\"C\",IF(ISERROR(MATCH(D158,Simulador!$H$18:$H$19,0))=FALSE,\"D\",\"\"))","v":""},{"$f":"IF(E158=\"C\",0,IF(E158 =\"D\",ROUND(1/((1+Simulador!$Q$13)^A158),9) * 2,ROUND(1/((1+Simulador!$Q$13)^A158),9)))","v":9.1864188999999999E-2},58.505988918999954]
[156,156,"2037-05-01",5,{"$f":"IF(ISERROR(MATCH(D159,Simulador!$H$16:$H$17,0))=FALSE,\"C\",IF(ISERROR(MATCH(D159,Simulador!$H$18:$H$19,0))=FALSE,\"D\",\"\"))","v":""},{"$f":"IF(E159=\"C\",0,IF(E159 =\"D\",ROUND(1/((1+Simulador!$Q$13)^A159),9) * 2,ROUND(1/((1+Simulador!$Q$13)^A159),9)))","v":9.0460058999999995E-2},58.596448977999955]
[157,157,"2037-06-01",6,{"$f":"IF(ISERROR(MATCH(D160,Simulador!$H$16:$H$17,0))=FALSE,\"C\",IF(ISERROR(MATCH(D160,Simulador!$H$18:$H$19,0))=FALSE,\"D\",\"\"))","v":""},{"$f":"IF(E160=\"C\",0,IF(E160 =\"D\",ROUND(1/((1+Simulador!$Q$13)^A160),9) * 2,ROUND(1/((1+Simulador!$Q$13)^A160),9)))","v":8.9077391000000006E-2},58.685526368999959]
[158,158,"2037-07-01",7,{"$f":"IF(ISERROR(MATCH(D161,Simulador!$H$16:$H$17,0))=FALSE,\"C\",IF(ISERROR(MATCH(D161,Simulador!$H$18:$H$19,0))=FALSE,\"D\",\"\"))","v":""},{"$f":"IF(E161=\"C\",0,IF(E161 =\"D\",ROUND(1/((1+Simulador!$Q$13)^A161),9) * 2,ROUND(1/((1+Simulador!$Q$13)^A161),9)))","v":8.7715856999999994E-2},58.773242225999958]
[159,159,"2037-08-01",8,{"$f":"IF(ISERROR(MATCH(D162,Simulador!$H$16:$H$17,0))=FALSE,\"C\",IF(ISERROR(MATCH(D162,Simulador!$H$18:$H$19,0))=FALSE,\"D\",\"\"))","v":""},{"$f":"IF(E162=\"C\",0,IF(E162 =\"D\",ROUND(1/((1+Simulador!$Q$13)^A162),9) * 2,ROUND(1/((1+Simulador!$Q$13)^A162),9)))","v":8.6375133000000007E-2},58.859617358999955]
[160,160,"2037-09-01",9,{"$f":"IF(ISERROR(MATCH(D163,Simulador!$H$16:$H$17,0))=FALSE,\"C\",IF(ISERROR(MATCH(D163,Simulador!$H$18:$H$19,0))=FALSE,\"D\",\"\"))","v":""},{"$f":"IF(E163=\"C\",0,IF(E163 =\"D\",ROUND(1/((1+Simulador!$Q$13)^A163),9) * 2,ROUND(1/((1+Simulador!$Q$13)^A163),9)))","v":8.5054903000000001E-2},58.944672261999955]
[161,161,"2037-10-01",10,{"$f":"IF(ISERROR(MATCH(D164,Simulador!$H$16:$H$17,0))=FALSE,\"C\",IF(ISERROR(MATCH(D164,Simulador!$H$18:$H$19,0))=FALSE,\"D\",\"\"))","v":""},{"$f":"IF(E164=\"C\",0,IF(E164 =\"D\",ROUND(1/((1+Simulador!$Q$13)^A164),9) * 2,ROUND(1/((1+Simulador!$Q$13)^A164),9)))","v":8.3754852000000005E-2},59.028427113999953]
[162,162,"2037-11-01",11,{"$f":"IF(ISERROR(MATCH(D165,Simulador!$H$16:$H$17,0))=FALSE,\"C\",IF(ISERROR(MATCH(D165,Simulador!$H$18:$H$19,0))=FALSE,\"D\",\"\"))","v":""},{"$f":"IF(E165=\"C\",0,IF(E165 =\"D\",ROUND(1/((1+Simulador!$Q$13)^A165),9) * 2,ROUND(1/((1+Simulador!$Q$13)^A165),9)))","v":8.2474670999999999E-2},59.110901784999953]
[163,163,"2037-12-01",12,{"$f":"IF(ISERROR(MATCH(D166,Simulador!$H$16:$H$17,0))=FALSE,\"C\",IF(ISERROR(MATCH(D166,Simulador!$H$18:$H$19,0))=FALSE,\"D\",\"\"))","v":""},{"$f":"IF(E166=\"C\",0,IF(E166 =\"D\",ROUND(1/((1+Simulador!$Q$13)^A166),9) * 2,ROUND(1/((1+Simulador!$Q$13)^A166),9)))","v":8.1214059000000005E-2},59.19211584399995]
[164,164,"2038-01-01",1,{"$f":"IF(ISERROR(MATCH(D167,Simulador!$H$16:$H$17,0))=FALSE,\"C\",IF(ISERROR(MATCH(D167,Simulador!$H$18:$H$19,0))=FALSE,\"D\",\"\"))","v":""},{"$f":"IF(E167=\"C\",0,IF(E167 =\"D\",ROUND(1/((1+Simulador!$Q$13)^A167),9) * 2,ROUND(1/((1+Simulador!$Q$13)^A167),9)))","v":7.9972714E-2},59.27208855799995]
[165,165,"2038-02-01",2,{"$f":"IF(ISERROR(MATCH(D168,Simulador!$H$16:$H$17,0))=FALSE,\"C\",IF(ISERROR(MATCH(D168,Simulador!$H$18:$H$19,0))=FALSE,\"D\",\"\"))","v":""},{"$f":"IF(E168=\"C\",0,IF(E168 =\"D\",ROUND(1/((1+Simulador!$Q$13)^A168),9) * 2,ROUND(1/((1+Simulador!$Q$13)^A168),9)))","v":7.8750344E-2},59.35083890199995]
[166,166,"2038-03-01",3,{"$f":"IF(ISERROR(MATCH(D169,Simulador!$H$16:$H$17,0))=FALSE,\"C\",IF(ISERROR(MATCH(D169,Simulador!$H$18:$H$19,0))=FALSE,\"D\",\"\"))","v":""},{"$f":"IF(E169=\"C\",0,IF(E169 =\"D\",ROUND(1/((1+Simulador!$Q$13)^A169),9) * 2,ROUND(1/((1+Simulador!$Q$13)^A169),9)))","v":7.7546657000000005E-2},59.428385558999949]
[167,167,"2038-04-01",4,{"$f":"IF(ISERROR(MATCH(D170,Simulador!$H$16:$H$17,0))=FALSE,\"C\",IF(ISERROR(MATCH(D170,Simulador!$H$18:$H$19,0))=FALSE,\"D\",\"\"))","v":""},{"$f":"IF(E170=\"C\",0,IF(E170 =\"D\",ROUND(1/((1+Simulador!$Q$13)^A170),9) * 2,ROUND(1/((1+Simulador!$Q$13)^A170),9)))","v":7.6361367999999999E-2},59.50474692699995]
[168,168,"2038-05-01",5,{"$f":"IF(ISERROR(MATCH(D171,Simulador!$H$16:$H$17,0))=FALSE,\"C\",IF(ISERROR(MATCH(D171,Simulador!$H$18:$H$19,0))=FALSE,\"D\",\"\"))","v":""},{"$f":"IF(E171=\"C\",0,IF(E171 =\"D\",ROUND(1/((1+Simulador!$Q$13)^A171),9) * 2,ROUND(1/((1+Simulador!$Q$13)^A171),9)))","v":7.5194196000000005E-2},59.579941122999948]
[169,169,"2038-06-01",6,{"$f":"IF(ISERROR(MATCH(D172,Simulador!$H$16:$H$17,0))=FALSE,\"C\",IF(ISERROR(MATCH(D172,Simulador!$H$18:$H$19,0))=FALSE,\"D\",\"\"))","v":""},{"$f":"IF(E172=\"C\",0,IF(E172 =\"D\",ROUND(1/((1+Simulador!$Q$13)^A172),9) * 2,ROUND(1/((1+Simulador!$Q$13)^A172),9)))","v":7.4044864000000002E-2},59.653985986999949]
[170,170,"2038-07-01",7,{"$f":"IF(ISERROR(MATCH(D173,Simulador!$H$16:$H$17,0))=FALSE,\"C\",IF(ISERROR(MATCH(D173,Simulador!$H$18:$H$19,0))=FALSE,\"D\",\"\"))","v":""},{"$f":"IF(E173=\"C\",0,IF(E173 =\"D\",ROUND(1/((1+Simulador!$Q$13)^A173),9) * 2,ROUND(1/((1+Simulador!$Q$13)^A173),9)))","v":7.2913099999999995E-2},59.72689908699995]
[171,171,"2038-08-01",8,{"$f":"IF(ISERROR(MATCH(D174,Simulador!$H$16:$H$17,0))=FALSE,\"C\",IF(ISERROR(MATCH(D174,Simulador!$H$18:$H$19,0))=FALSE,\"D\",\"\"))","v":""},{"$f":"IF(E174=\"C\",0,IF(E174 =\"D\",ROUND(1/((1+Simulador!$Q$13)^A174),9) * 2,ROUND(1/((1+Simulador!$Q$13)^A174),9)))","v":7.1798634E-2},59.798697720999947]
[172,172,"2038-09-01",9,{"$f":"IF(ISERROR(MATCH(D175,Simulador!$H$16:$H$17,0))=FALSE,\"C\",IF(ISERROR(MATCH(D175,Simulador!$H$18:$H$19,0))=FALSE,\"D\",\"\"))","v":""},{"$f":"IF(E175=\"C\",0,IF(E175 =\"D\",ROUND(1/((1+Simulador!$Q$13)^A175),9) * 2,ROUND(1/((1+Simulador!$Q$13)^A175),9)))","v":7.0701203000000004E-2},59.869398923999945]
[173,173,"2038-10-01",10,{"$f":"IF(ISERROR(MATCH(D176,Simulador!$H$16:$H$17,0))=FALSE,\"C\",IF(ISERROR(MATCH(D176,Simulador!$H$18:$H$19,0))=FALSE,\"D\",\"\"))","v":""},{"$f":"IF(E176=\"C\",0,IF(E176 =\"D\",ROUND(1/((1+Simulador!$Q$13)^A176),9) * 2,ROUND(1/((1+Simulador!$Q$13)^A176),9)))","v":6.9620546000000005E-2},59.939019469999948]
[174,174,"2038-11-01",11,{"$f":"IF(ISERROR(MATCH(D177,Simulador!$H$16:$H$17,0))=FALSE,\"C\",IF(ISERROR(MATCH(D177,Simulador!$H$18:$H$19,0))=FALSE,\"D\",\"\"))","v":""},{"$f":"IF(E177=\"C\",0,IF(E177 =\"D\",ROUND(1/((1+Simulador!$Q$13)^A177),9) * 2,ROUND(1/((1+Simulador!$Q$13)^A177),9)))","v":6.8556407E-2},60.007575876999951]
[175,175,"2038-12-01",12,{"$f":"IF(ISERROR(MATCH(D178,Simulador!$H$16:$H$17,0))=FALSE,\"C\",IF(ISERROR(MATCH(D178,Simulador!$H$18:$H$19,0))=FALSE,\"D\",\"\"))","v":""},{"$f":"IF(E178=\"C\",0,IF(E178 =\"D\",ROUND(1/((1+Simulador!$Q$13)^A178),9) * 2,ROUND(1/((1+Simulador!$Q$13)^A178),9)))","v":6.7508531999999996E-2},60.075084408999949]
[176,176,"2039-01-01",1,{"$f":"IF(ISERROR(MATCH(D179,Simulador!$H$16:$H$17,0))=FALSE,\"C\",IF(ISERROR(MATCH(D179,Simulador!$H$18:$H$19,0))=FALSE,\"D\",\"\"))","v":""},{"$f":"IF(E179=\"C\",0,IF(E179 =\"D\",ROUND(1/((1+Simulador!$Q$13)^A179),9) * 2,ROUND(1/((1+Simulador!$Q$13)^A179),9)))","v":6.6476674999999999E-2},60.141561083999946]
[177,177,"2039-02-01",2,{"$f":"IF(ISERROR(MATCH(D180,Simulador!$H$16:$H$17,0))=FALSE,\"C\",IF(ISERROR(MATCH(D180,Simulador!$H$18:$H$19,0))=FALSE,\"D\",\"\"))","v":""},{"$f":"IF(E180=\"C\",0,IF(E180 =\"D\",ROUND(1/((1+Simulador!$Q$13)^A180),9) * 2,ROUND(1/((1+Simulador!$Q$13)^A180),9)))","v":6.5460589E-2},60.207021672999943]
[178,178,"2039-03-01",3,{"$f":"IF(ISERROR(MATCH(D181,Simulador!$H$16:$H$17,0))=FALSE,\"C\",IF(ISERROR(MATCH(D181,Simulador!$H$18:$H$19,0))=FALSE,\"D\",\"\"))","v":""},{"$f":"IF(E181=\"C\",0,IF(E181 =\"D\",ROUND(1/((1+Simulador!$Q$13)^A181),9) * 2,ROUND(1/((1+Simulador!$Q$13)^A181),9)))","v":6.4460033999999999E-2},60.271481706999943]
[179,179,"2039-04-01",4,{"$f":"IF(ISERROR(MATCH(D182,Simulador!$H$16:$H$17,0))=FALSE,\"C\",IF(ISERROR(MATCH(D182,Simulador!$H$18:$H$19,0))=FALSE,\"D\",\"\"))","v":""},{"$f":"IF(E182=\"C\",0,IF(E182 =\"D\",ROUND(1/((1+Simulador!$Q$13)^A182),9) * 2,ROUND(1/((1+Simulador!$Q$13)^A182),9)))","v":6.3474771999999999E-2},60.334956478999942]
[180,180,"2039-05-01",5,{"$f":"IF(ISERROR(MATCH(D183,Simulador!$H$16:$H$17,0))=FALSE,\"C\",IF(ISERROR(MATCH(D183,Simulador!$H$18:$H$19,0))=FALSE,\"D\",\"\"))","v":""},{"$f":"IF(E183=\"C\",0,IF(E183 =\"D\",ROUND(1/((1+Simulador!$Q$13)^A183),9) * 2,ROUND(1/((1+Simulador!$Q$13)^A183),9)))","v":6.2504569999999995E-2},60.397461048999944]
[181,181,"2039-06-01",6,{"$f":"IF(ISERROR(MATCH(D184,Simulador!$H$16:$H$17,0))=FALSE,\"C\",IF(ISERROR(MATCH(D184,Simulador!$H$18:$H$19,0))=FALSE,\"D\",\"\"))","v":""},{"$f":"IF(E184=\"C\",0,IF(E184 =\"D\",ROUND(1/((1+Simulador!$Q$13)^A184),9) * 2,ROUND(1/((1+Simulador!$Q$13)^A184),9)))","v":6.1549197E-2},60.459010245999941]
[182,182,"2039-07-01",7,{"$f":"IF(ISERROR(MATCH(D185,Simulador!$H$16:$H$17,0))=FALSE,\"C\",IF(ISERROR(MATCH(D185,Simulador!$H$18:$H$19,0))=FALSE,\"D\",\"\"))","v":""},{"$f":"IF(E185=\"C\",0,IF(E185 =\"D\",ROUND(1/((1+Simulador!$Q$13)^A185),9) * 2,ROUND(1/((1+Simulador!$Q$13)^A185),9)))","v":6.0608426999999999E-2},60.51961867299994]
[183,183,"2039-08-01",8,{"$f":"IF(ISERROR(MATCH(D186,Simulador!$H$16:$H$17,0))=FALSE,\"C\",IF(ISERROR(MATCH(D186,Simulador!$H$18:$H$19,0))=FALSE,\"D\",\"\"))","v":""},{"$f":"IF(E186=\"C\",0,IF(E186 =\"D\",ROUND(1/((1+Simulador!$Q$13)^A186),9) * 2,ROUND(1/((1+Simulador!$Q$13)^A186),9)))","v":5.9682037E-2},60.579300709999941]
[184,184,"2039-09-01",9,{"$f":"IF(ISERROR(MATCH(D187,Simulador!$H$16:$H$17,0))=FALSE,\"C\",IF(ISERROR(MATCH(D187,Simulador!$H$18:$H$19,0))=FALSE,\"D\",\"\"))","v":""},{"$f":"IF(E187=\"C\",0,IF(E187 =\"D\",ROUND(1/((1+Simulador!$Q$13)^A187),9) * 2,ROUND(1/((1+Simulador!$Q$13)^A187),9)))","v":5.8769806000000001E-2},60.638070515999942]
[185,185,"2039-10-01",10,{"$f":"IF(ISERROR(MATCH(D188,Simulador!$H$16:$H$17,0))=FALSE,\"C\",IF(ISERROR(MATCH(D188,Simulador!$H$18:$H$19,0))=FALSE,\"D\",\"\"))","v":""},{"$f":"IF(E188=\"C\",0,IF(E188 =\"D\",ROUND(1/((1+Simulador!$Q$13)^A188),9) * 2,ROUND(1/((1+Simulador!$Q$13)^A188),9)))","v":5.7871517999999997E-2},60.695942033999941]
[186,186,"2039-11-01",11,{"$f":"IF(ISERROR(MATCH(D189,Simulador!$H$16:$H$17,0))=FALSE,\"C\",IF(ISERROR(MATCH(D189,Simulador!$H$18:$H$19,0))=FALSE,\"D\",\"\"))","v":""},{"$f":"IF(E189=\"C\",0,IF(E189 =\"D\",ROUND(1/((1+Simulador!$Q$13)^A189),9) * 2,ROUND(1/((1+Simulador!$Q$13)^A189),9)))","v":5.6986961000000003E-2},60.752928994999941]
[187,187,"2039-12-01",12,{"$f":"IF(ISERROR(MATCH(D190,Simulador!$H$16:$H$17,0))=FALSE,\"C\",IF(ISERROR(MATCH(D190,Simulador!$H$18:$H$19,0))=FALSE,\"D\",\"\"))","v":""},{"$f":"IF(E190=\"C\",0,IF(E190 =\"D\",ROUND(1/((1+Simulador!$Q$13)^A190),9) * 2,ROUND(1/((1+Simulador!$Q$13)^A190),9)))","v":5.6115923999999998E-2},60.809044918999938]
[188,188,"2040-01-01",1,{"$f":"IF(ISERROR(MATCH(D191,Simulador!$H$16:$H$17,0))=FALSE,\"C\",IF(ISERROR(MATCH(D191,Simulador!$H$18:$H$19,0))=FALSE,\"D\",\"\"))","v":""},{"$f":"IF(E191=\"C\",0,IF(E191 =\"D\",ROUND(1/((1+Simulador!$Q$13)^A191),9) * 2,ROUND(1/((1+Simulador!$Q$13)^A191),9)))","v":5.5258201E-2},60.864303119999938]
[189,189,"2040-02-01",2,{"$f":"IF(ISERROR(MATCH(D192,Simulador!$H$16:$H$17,0))=FALSE,\"C\",IF(ISERROR(MATCH(D192,Simulador!$H$18:$H$19,0))=FALSE,\"D\",\"\"))","v":""},{"$f":"IF(E192=\"C\",0,IF(E192 =\"D\",ROUND(1/((1+Simulador!$Q$13)^A192),9) * 2,ROUND(1/((1+Simulador!$Q$13)^A192),9)))","v":5.4413586999999999E-2},60.918716706999938]
[190,190,"2040-03-01",3,{"$f":"IF(ISERROR(MATCH(D193,Simulador!$H$16:$H$17,0))=FALSE,\"C\",IF(ISERROR(MATCH(D193,Simulador!$H$18:$H$19,0))=FALSE,\"D\",\"\"))","v":""},{"$f":"IF(E193=\"C\",0,IF(E193 =\"D\",ROUND(1/((1+Simulador!$Q$13)^A193),9) * 2,ROUND(1/((1+Simulador!$Q$13)^A193),9)))","v":5.3581884000000003E-2},60.972298590999941]
[191,191,"2040-04-01",4,{"$f":"IF(ISERROR(MATCH(D194,Simulador!$H$16:$H$17,0))=FALSE,\"C\",IF(ISERROR(MATCH(D194,Simulador!$H$18:$H$19,0))=FALSE,\"D\",\"\"))","v":""},{"$f":"IF(E194=\"C\",0,IF(E194 =\"D\",ROUND(1/((1+Simulador!$Q$13)^A194),9) * 2,ROUND(1/((1+Simulador!$Q$13)^A194),9)))","v":5.2762892999999998E-2},61.025061483999941]
[192,192,"2040-05-01",5,{"$f":"IF(ISERROR(MATCH(D195,Simulador!$H$16:$H$17,0))=FALSE,\"C\",IF(ISERROR(MATCH(D195,Simulador!$H$18:$H$19,0))=FALSE,\"D\",\"\"))","v":""},{"$f":"IF(E195=\"C\",0,IF(E195 =\"D\",ROUND(1/((1+Simulador!$Q$13)^A195),9) * 2,ROUND(1/((1+Simulador!$Q$13)^A195),9)))","v":5.1956420000000003E-2},61.077017903999945]
[193,193,"2040-06-01",{"$f":"MONTH(C196)","v":6},{"$f":"IF(ISERROR(MATCH(D196,Simulador!$H$16:$H$17,0))=FALSE,\"C\",IF(ISERROR(MATCH(D196,Simulador!$H$18:$H$19,0))=FALSE,\"D\",\"\"))","v":""},{"$f":"IF(E196=\"C\",0,IF(E196 =\"D\",ROUND(1/((1+Simulador!$Q$13)^A196),9) * 2,ROUND(1/((1+Simulador!$Q$13)^A196),9)))","v":5.1162275E-2},61.128180178999948]
[{"$f":"A196+1","v":194},{"$f":"IF(E197<>\"C\",IF(ISERROR(1+B196)=TRUE,1,1+B196),IF(ISNUMBER(B196),B196,1))","v":194},{"$f":"DATE(YEAR(C196) + 1/12,MONTH(C196)+1,DAY(C196))","v":"2040-07-01"},7,{"$f":"IF(ISERROR(MATCH(D197,Simulador!$H$16:$H$17,0))=FALSE,\"C\",IF(ISERROR(MATCH(D197,Simulador!$H$18:$H$19,0))=FALSE,\"D\",\"\"))","v":""},{"$f":"IF(E197=\"C\",0,IF(E197 =\"D\",ROUND(1/((1+Simulador!$Q$13)^A197),9) * 2,ROUND(1/((1+Simulador!$Q$13)^A197),9)))","v":5.0380266999999999E-2},61.178560445999949]
[195,195,"2040-08-01",8,{"$f":"IF(ISERROR(MATCH(D198,Simulador!$H$16:$H$17,0))=FALSE,\"C\",IF(ISERROR(MATCH(D198,Simulador!$H$18:$H$19,0))=FALSE,\"D\",\"\"))","v":""},{"$f":"IF(E198=\"C\",0,IF(E198 =\"D\",ROUND(1/((1+Simulador!$Q$13)^A198),9) * 2,ROUND(1/((1+Simulador!$Q$13)^A198),9)))","v":4.9610212000000001E-2},{"$f":"G197+ROUND(F198,9)","v":61.228170657999947}]
[196,196,"2040-09-01",9,{"$f":"IF(ISERROR(MATCH(D199,Simulador!$H$16:$H$17,0))=FALSE,\"C\",IF(ISERROR(MATCH(D199,Simulador!$H$18:$H$19,0))=FALSE,\"D\",\"\"))","v":""},{"$f":"IF(E199=\"C\",0,IF(E199 =\"D\",ROUND(1/((1+Simulador!$Q$13)^A199),9) * 2,ROUND(1/((1+Simulador!$Q$13)^A199),9)))","v":4.8851928000000003E-2},61.277022585999944]
[197,197,"2040-10-01",10,{"$f":"IF(ISERROR(MATCH(D200,Simulador!$H$16:$H$17,0))=FALSE,\"C\",IF(ISERROR(MATCH(D200,Simulador!$H$18:$H$19,0))=FALSE,\"D\",\"\"))","v":""},{"$f":"IF(E200=\"C\",0,IF(E200 =\"D\",ROUND(1/((1+Simulador!$Q$13)^A200),9) * 2,ROUND(1/((1+Simulador!$Q$13)^A200),9)))","v":4.8105233999999997E-2},61.325127819999942]
[198,198,"2040-11-01",11,{"$f":"IF(ISERROR(MATCH(D201,Simulador!$H$16:$H$17,0))=FALSE,\"C\",IF(ISERROR(MATCH(D201,Simulador!$H$18:$H$19,0))=FALSE,\"D\",\"\"))","v":""},{"$f":"IF(E201=\"C\",0,IF(E201 =\"D\",ROUND(1/((1+Simulador!$Q$13)^A201),9) * 2,ROUND(1/((1+Simulador!$Q$13)^A201),9)))","v":4.7369952E-2},61.372497771999939]
[199,199,"2040-12-01",12,{"$f":"IF(ISERROR(MATCH(D202,Simulador!$H$16:$H$17,0))=FALSE,\"C\",IF(ISERROR(MATCH(D202,Simulador!$H$18:$H$19,0))=FALSE,\"D\",\"\"))","v":""},{"$f":"IF(E202=\"C\",0,IF(E202 =\"D\",ROUND(1/((1+Simulador!$Q$13)^A202),9) * 2,ROUND(1/((1+Simulador!$Q$13)^A202),9)))","v":4.6645909999999999E-2},61.419143681999941]
[200,200,"2041-01-01",1,{"$f":"IF(ISERROR(MATCH(D203,Simulador!$H$16:$H$17,0))=FALSE,\"C\",IF(ISERROR(MATCH(D203,Simulador!$H$18:$H$19,0))=FALSE,\"D\",\"\"))","v":""},{"$f":"IF(E203=\"C\",0,IF(E203 =\"D\",ROUND(1/((1+Simulador!$Q$13)^A203),9) * 2,ROUND(1/((1+Simulador!$Q$13)^A203),9)))","v":4.5932934000000002E-2},61.465076615999941]
[201,201,"2041-02-01",2,{"$f":"IF(ISERROR(MATCH(D204,Simulador!$H$16:$H$17,0))=FALSE,\"C\",IF(ISERROR(MATCH(D204,Simulador!$H$18:$H$19,0))=FALSE,\"D\",\"\"))","v":""},{"$f":"IF(E204=\"C\",0,IF(E204 =\"D\",ROUND(1/((1+Simulador!$Q$13)^A204),9) * 2,ROUND(1/((1+Simulador!$Q$13)^A204),9)))","v":4.5230856E-2},61.510307471999944]
[202,202,"2041-03-01",3,{"$f":"IF(ISERROR(MATCH(D205,Simulador!$H$16:$H$17,0))=FALSE,\"C\",IF(ISERROR(MATCH(D205,Simulador!$H$18:$H$19,0))=FALSE,\"D\",\"\"))","v":""},{"$f":"IF(E205=\"C\",0,IF(E205 =\"D\",ROUND(1/((1+Simulador!$Q$13)^A205),9) * 2,ROUND(1/((1+Simulador!$Q$13)^A205),9)))","v":4.4539509999999997E-2},61.554846981999944]
[203,203,"2041-04-01",4,{"$f":"IF(ISERROR(MATCH(D206,Simulador!$H$16:$H$17,0))=FALSE,\"C\",IF(ISERROR(MATCH(D206,Simulador!$H$18:$H$19,0))=FALSE,\"D\",\"\"))","v":""},{"$f":"IF(E206=\"C\",0,IF(E206 =\"D\",ROUND(1/((1+Simulador!$Q$13)^A206),9) * 2,ROUND(1/((1+Simulador!$Q$13)^A206),9)))","v":4.3858729999999999E-2},61.598705711999941]
[204,204,"2041-05-01",5,{"$f":"IF(ISERROR(MATCH(D207,Simulador!$H$16:$H$17,0))=FALSE,\"C\",IF(ISERROR(MATCH(D207,Simulador!$H$18:$H$19,0))=FALSE,\"D\",\"\"))","v":""},{"$f":"IF(E207=\"C\",0,IF(E207 =\"D\",ROUND(1/((1+Simulador!$Q$13)^A207),9) * 2,ROUND(1/((1+Simulador!$Q$13)^A207),9)))","v":4.3188355999999997E-2},61.641894067999942]
[205,205,"2041-06-01",6,{"$f":"IF(ISERROR(MATCH(D208,Simulador!$H$16:$H$17,0))=FALSE,\"C\",IF(ISERROR(MATCH(D208,Simulador!$H$18:$H$19,0))=FALSE,\"D\",\"\"))","v":""},{"$f":"IF(E208=\"C\",0,IF(E208 =\"D\",ROUND(1/((1+Simulador!$Q$13)^A208),9) * 2,ROUND(1/((1+Simulador!$Q$13)^A208),9)))","v":4.2528229000000001E-2},61.684422296999941]
[206,206,"2041-07-01",7,{"$f":"IF(ISERROR(MATCH(D209,Simulador!$H$16:$H$17,0))=FALSE,\"C\",IF(ISERROR(MATCH(D209,Simulador!$H$18:$H$19,0))=FALSE,\"D\",\"\"))","v":""},{"$f":"IF(E209=\"C\",0,IF(E209 =\"D\",ROUND(1/((1+Simulador!$Q$13)^A209),9) * 2,ROUND(1/((1+Simulador!$Q$13)^A209),9)))","v":4.1878191000000002E-2},61.726300487999943]
[207,207,"2041-08-01",8,{"$f":"IF(ISERROR(MATCH(D210,Simulador!$H$16:$H$17,0))=FALSE,\"C\",IF(ISERROR(MATCH(D210,Simulador!$H$18:$H$19,0))=FALSE,\"D\",\"\"))","v":""},{"$f":"IF(E210=\"C\",0,IF(E210 =\"D\",ROUND(1/((1+Simulador!$Q$13)^A210),9) * 2,ROUND(1/((1+Simulador!$Q$13)^A210),9)))","v":4.1238088999999999E-2},61.767538576999939]
[208,208,"2041-09-01",9,{"$f":"IF(ISERROR(MATCH(D211,Simulador!$H$16:$H$17,0))=FALSE,\"C\",IF(ISERROR(MATCH(D211,Simulador!$H$18:$H$19,0))=FALSE,\"D\",\"\"))","v":""},{"$f":"IF(E211=\"C\",0,IF(E211 =\"D\",ROUND(1/((1+Simulador!$Q$13)^A211),9) * 2,ROUND(1/((1+Simulador!$Q$13)^A211),9)))","v":4.0607772E-2},61.808146348999941]
[209,209,"2041-10-01",10,{"$f":"IF(ISERROR(MATCH(D212,Simulador!$H$16:$H$17,0))=FALSE,\"C\",IF(ISERROR(MATCH(D212,Simulador!$H$18:$H$19,0))=FALSE,\"D\",\"\"))","v":""},{"$f":"IF(E212=\"C\",0,IF(E212 =\"D\",ROUND(1/((1+Simulador!$Q$13)^A212),9) * 2,ROUND(1/((1+Simulador!$Q$13)^A212),9)))","v":3.9987087999999997E-2},61.848133436999937]
[210,210,"2041-11-01",11,{"$f":"IF(ISERROR(MATCH(D213,Simulador!$H$16:$H$17,0))=FALSE,\"C\",IF(ISERROR(MATCH(D213,Simulador!$H$18:$H$19,0))=FALSE,\"D\",\"\"))","v":""},{"$f":"IF(E213=\"C\",0,IF(E213 =\"D\",ROUND(1/((1+Simulador!$Q$13)^A213),9) * 2,ROUND(1/((1+Simulador!$Q$13)^A213),9)))","v":3.9375892000000003E-2},61.88750932899994]
[211,211,"2041-12-01",12,{"$f":"IF(ISERROR(MATCH(D214,Simulador!$H$16:$H$17,0))=FALSE,\"C\",IF(ISERROR(MATCH(D214,Simulador!$H$18:$H$19,0))=FALSE,\"D\",\"\"))","v":""},{"$f":"IF(E214=\"C\",0,IF(E214 =\"D\",ROUND(1/((1+Simulador!$Q$13)^A214),9) * 2,ROUND(1/((1+Simulador!$Q$13)^A214),9)))","v":3.8774036999999997E-2},61.926283365999943]
[212,212,"2042-01-01",1,{"$f":"IF(ISERROR(MATCH(D215,Simulador!$H$16:$H$17,0))=FALSE,\"C\",IF(ISERROR(MATCH(D215,Simulador!$H$18:$H$19,0))=FALSE,\"D\",\"\"))","v":""},{"$f":"IF(E215=\"C\",0,IF(E215 =\"D\",ROUND(1/((1+Simulador!$Q$13)^A215),9) * 2,ROUND(1/((1+Simulador!$Q$13)^A215),9)))","v":3.8181382E-2},61.964464747999941]
[213,213,"2042-02-01",2,{"$f":"IF(ISERROR(MATCH(D216,Simulador!$H$16:$H$17,0))=FALSE,\"C\",IF(ISERROR(MATCH(D216,Simulador!$H$18:$H$19,0))=FALSE,\"D\",\"\"))","v":""},{"$f":"IF(E216=\"C\",0,IF(E216 =\"D\",ROUND(1/((1+Simulador!$Q$13)^A216),9) * 2,ROUND(1/((1+Simulador!$Q$13)^A216),9)))","v":3.7597785000000002E-2},62.002062532999943]
[214,214,"2042-03-01",3,{"$f":"IF(ISERROR(MATCH(D217,Simulador!$H$16:$H$17,0))=FALSE,\"C\",IF(ISERROR(MATCH(D217,Simulador!$H$18:$H$19,0))=FALSE,\"D\",\"\"))","v":""},{"$f":"IF(E217=\"C\",0,IF(E217 =\"D\",ROUND(1/((1+Simulador!$Q$13)^A217),9) * 2,ROUND(1/((1+Simulador!$Q$13)^A217),9)))","v":3.7023108999999998E-2},62.039085641999947]
[215,215,"2042-04-01",4,{"$f":"IF(ISERROR(MATCH(D218,Simulador!$H$16:$H$17,0))=FALSE,\"C\",IF(ISERROR(MATCH(D218,Simulador!$H$18:$H$19,0))=FALSE,\"D\",\"\"))","v":""},{"$f":"IF(E218=\"C\",0,IF(E218 =\"D\",ROUND(1/((1+Simulador!$Q$13)^A218),9) * 2,ROUND(1/((1+Simulador!$Q$13)^A218),9)))","v":3.6457216000000001E-2},62.075542857999949]
[216,216,"2042-05-01",5,{"$f":"IF(ISERROR(MATCH(D219,Simulador!$H$16:$H$17,0))=FALSE,\"C\",IF(ISERROR(MATCH(D219,Simulador!$H$18:$H$19,0))=FALSE,\"D\",\"\"))","v":""},{"$f":"IF(E219=\"C\",0,IF(E219 =\"D\",ROUND(1/((1+Simulador!$Q$13)^A219),9) * 2,ROUND(1/((1+Simulador!$Q$13)^A219),9)))","v":3.5899973000000002E-2},62.111442830999948]
[217,217,"2042-06-01",6,{"$f":"IF(ISERROR(MATCH(D220,Simulador!$H$16:$H$17,0))=FALSE,\"C\",IF(ISERROR(MATCH(D220,Simulador!$H$18:$H$19,0))=FALSE,\"D\",\"\"))","v":""},{"$f":"IF(E220=\"C\",0,IF(E220 =\"D\",ROUND(1/((1+Simulador!$Q$13)^A220),9) * 2,ROUND(1/((1+Simulador!$Q$13)^A220),9)))","v":3.5351248000000002E-2},62.146794078999946]
[218,218,"2042-07-01",7,{"$f":"IF(ISERROR(MATCH(D221,Simulador!$H$16:$H$17,0))=FALSE,\"C\",IF(ISERROR(MATCH(D221,Simulador!$H$18:$H$19,0))=FALSE,\"D\",\"\"))","v":""},{"$f":"IF(E221=\"C\",0,IF(E221 =\"D\",ROUND(1/((1+Simulador!$Q$13)^A221),9) * 2,ROUND(1/((1+Simulador!$Q$13)^A221),9)))","v":3.4810909000000001E-2},62.181604987999947]
[219,219,"2042-08-01",8,{"$f":"IF(ISERROR(MATCH(D222,Simulador!$H$16:$H$17,0))=FALSE,\"C\",IF(ISERROR(MATCH(D222,Simulador!$H$18:$H$19,0))=FALSE,\"D\",\"\"))","v":""},{"$f":"IF(E222=\"C\",0,IF(E222 =\"D\",ROUND(1/((1+Simulador!$Q$13)^A222),9) * 2,ROUND(1/((1+Simulador!$Q$13)^A222),9)))","v":3.4278830000000003E-2},62.215883817999945]
[220,220,"2042-09-01",9,{"$f":"IF(ISERROR(MATCH(D223,Simulador!$H$16:$H$17,0))=FALSE,\"C\",IF(ISERROR(MATCH(D223,Simulador!$H$18:$H$19,0))=FALSE,\"D\",\"\"))","v":""},{"$f":"IF(E223=\"C\",0,IF(E223 =\"D\",ROUND(1/((1+Simulador!$Q$13)^A223),9) * 2,ROUND(1/((1+Simulador!$Q$13)^A223),9)))","v":3.3754882999999999E-2},62.249638700999945]
[221,221,"2042-10-01",10,{"$f":"IF(ISERROR(MATCH(D224,Simulador!$H$16:$H$17,0))=FALSE,\"C\",IF(ISERROR(MATCH(D224,Simulador!$H$18:$H$19,0))=FALSE,\"D\",\"\"))","v":""},{"$f":"IF(E224=\"C\",0,IF(E224 =\"D\",ROUND(1/((1+Simulador!$Q$13)^A224),9) * 2,ROUND(1/((1+Simulador!$Q$13)^A224),9)))","v":3.3238944999999999E-2},62.282877645999946]
[222,222,"2042-11-01",11,{"$f":"IF(ISERROR(MATCH(D225,Simulador!$H$16:$H$17,0))=FALSE,\"C\",IF(ISERROR(MATCH(D225,Simulador!$H$18:$H$19,0))=FALSE,\"D\",\"\"))","v":""},{"$f":"IF(E225=\"C\",0,IF(E225 =\"D\",ROUND(1/((1+Simulador!$Q$13)^A225),9) * 2,ROUND(1/((1+Simulador!$Q$13)^A225),9)))","v":3.2730892999999997E-2},62.315608538999946]
[223,223,"2042-12-01",12,{"$f":"IF(ISERROR(MATCH(D226,Simulador!$H$16:$H$17,0))=FALSE,\"C\",IF(ISERROR(MATCH(D226,Simulador!$H$18:$H$19,0))=FALSE,\"D\",\"\"))","v":""},{"$f":"IF(E226=\"C\",0,IF(E226 =\"D\",ROUND(1/((1+Simulador!$Q$13)^A226),9) * 2,ROUND(1/((1+Simulador!$Q$13)^A226),9)))","v":3.2230606000000002E-2},62.347839144999945]
[224,224,"2043-01-01",1,{"$f":"IF(ISERROR(MATCH(D227,Simulador!$H$16:$H$17,0))=FALSE,\"C\",IF(ISERROR(MATCH(D227,Simulador!$H$18:$H$19,0))=FALSE,\"D\",\"\"))","v":""},{"$f":"IF(E227=\"C\",0,IF(E227 =\"D\",ROUND(1/((1+Simulador!$Q$13)^A227),9) * 2,ROUND(1/((1+Simulador!$Q$13)^A227),9)))","v":3.1737965999999999E-2},62.379577110999946]
[225,225,"2043-02-01",2,{"$f":"IF(ISERROR(MATCH(D228,Simulador!$H$16:$H$17,0))=FALSE,\"C\",IF(ISERROR(MATCH(D228,Simulador!$H$18:$H$19,0))=FALSE,\"D\",\"\"))","v":""},{"$f":"IF(E228=\"C\",0,IF(E228 =\"D\",ROUND(1/((1+Simulador!$Q$13)^A228),9) * 2,ROUND(1/((1+Simulador!$Q$13)^A228),9)))","v":3.1252856000000002E-2},62.410829966999948]
[226,226,"2043-03-01",3,{"$f":"IF(ISERROR(MATCH(D229,Simulador!$H$16:$H$17,0))=FALSE,\"C\",IF(ISERROR(MATCH(D229,Simulador!$H$18:$H$19,0))=FALSE,\"D\",\"\"))","v":""},{"$f":"IF(E229=\"C\",0,IF(E229 =\"D\",ROUND(1/((1+Simulador!$Q$13)^A229),9) * 2,ROUND(1/((1+Simulador!$Q$13)^A229),9)))","v":3.0775160999999999E-2},62.441605127999949]
[227,227,"2043-04-01",4,{"$f":"IF(ISERROR(MATCH(D230,Simulador!$H$16:$H$17,0))=FALSE,\"C\",IF(ISERROR(MATCH(D230,Simulador!$H$18:$H$19,0))=FALSE,\"D\",\"\"))","v":""},{"$f":"IF(E230=\"C\",0,IF(E230 =\"D\",ROUND(1/((1+Simulador!$Q$13)^A230),9) * 2,ROUND(1/((1+Simulador!$Q$13)^A230),9)))","v":3.0304767E-2},62.471909894999946]
[228,228,"2043-05-01",5,{"$f":"IF(ISERROR(MATCH(D231,Simulador!$H$16:$H$17,0))=FALSE,\"C\",IF(ISERROR(MATCH(D231,Simulador!$H$18:$H$19,0))=FALSE,\"D\",\"\"))","v":""},{"$f":"IF(E231=\"C\",0,IF(E231 =\"D\",ROUND(1/((1+Simulador!$Q$13)^A231),9) * 2,ROUND(1/((1+Simulador!$Q$13)^A231),9)))","v":2.9841564000000001E-2},62.501751458999948]
[229,229,"2043-06-01",6,{"$f":"IF(ISERROR(MATCH(D232,Simulador!$H$16:$H$17,0))=FALSE,\"C\",IF(ISERROR(MATCH(D232,Simulador!$H$18:$H$19,0))=FALSE,\"D\",\"\"))","v":""},{"$f":"IF(E232=\"C\",0,IF(E232 =\"D\",ROUND(1/((1+Simulador!$Q$13)^A232),9) * 2,ROUND(1/((1+Simulador!$Q$13)^A232),9)))","v":2.9385439999999999E-2},62.531136898999947]
[230,230,"2043-07-01",7,{"$f":"IF(ISERROR(MATCH(D233,Simulador!$H$16:$H$17,0))=FALSE,\"C\",IF(ISERROR(MATCH(D233,Simulador!$H$18:$H$19,0))=FALSE,\"D\",\"\"))","v":""},{"$f":"IF(E233=\"C\",0,IF(E233 =\"D\",ROUND(1/((1+Simulador!$Q$13)^A233),9) * 2,ROUND(1/((1+Simulador!$Q$13)^A233),9)))","v":2.8936288000000001E-2},62.560073186999944]
[231,231,"2043-08-01",8,{"$f":"IF(ISERROR(MATCH(D234,Simulador!$H$16:$H$17,0))=FALSE,\"C\",IF(ISERROR(MATCH(D234,Simulador!$H$18:$H$19,0))=FALSE,\"D\",\"\"))","v":""},{"$f":"IF(E234=\"C\",0,IF(E234 =\"D\",ROUND(1/((1+Simulador!$Q$13)^A234),9) * 2,ROUND(1/((1+Simulador!$Q$13)^A234),9)))","v":2.8494001000000001E-2},62.588567187999942]
[232,232,"2043-09-01",9,{"$f":"IF(ISERROR(MATCH(D235,Simulador!$H$16:$H$17,0))=FALSE,\"C\",IF(ISERROR(MATCH(D235,Simulador!$H$18:$H$19,0))=FALSE,\"D\",\"\"))","v":""},{"$f":"IF(E235=\"C\",0,IF(E235 =\"D\",ROUND(1/((1+Simulador!$Q$13)^A235),9) * 2,ROUND(1/((1+Simulador!$Q$13)^A235),9)))","v":2.8058474999999999E-2},62.616625662999944]
[233,233,"2043-10-01",10,{"$f":"IF(ISERROR(MATCH(D236,Simulador!$H$16:$H$17,0))=FALSE,\"C\",IF(ISERROR(MATCH(D236,Simulador!$H$18:$H$19,0))=FALSE,\"D\",\"\"))","v":""},{"$f":"IF(E236=\"C\",0,IF(E236 =\"D\",ROUND(1/((1+Simulador!$Q$13)^A236),9) * 2,ROUND(1/((1+Simulador!$Q$13)^A236),9)))","v":2.7629605000000002E-2},62.644255267999945]
[234,234,"2043-11-01",11,{"$f":"IF(ISERROR(MATCH(D237,Simulador!$H$16:$H$17,0))=FALSE,\"C\",IF(ISERROR(MATCH(D237,Simulador!$H$18:$H$19,0))=FALSE,\"D\",\"\"))","v":""},{"$f":"IF(E237=\"C\",0,IF(E237 =\"D\",ROUND(1/((1+Simulador!$Q$13)^A237),9) * 2,ROUND(1/((1+Simulador!$Q$13)^A237),9)))","v":2.7207291000000002E-2},62.671462558999949]
[235,235,"2043-12-01",12,{"$f":"IF(ISERROR(MATCH(D238,Simulador!$H$16:$H$17,0))=FALSE,\"C\",IF(ISERROR(MATCH(D238,Simulador!$H$18:$H$19,0))=FALSE,\"D\",\"\"))","v":""},{"$f":"IF(E238=\"C\",0,IF(E238 =\"D\",ROUND(1/((1+Simulador!$Q$13)^A238),9) * 2,ROUND(1/((1+Simulador!$Q$13)^A238),9)))","v":2.6791432E-2},62.698253990999952]
[236,236,"2044-01-01",1,{"$f":"IF(ISERROR(MATCH(D239,Simulador!$H$16:$H$17,0))=FALSE,\"C\",IF(ISERROR(MATCH(D239,Simulador!$H$18:$H$19,0))=FALSE,\"D\",\"\"))","v":""},{"$f":"IF(E239=\"C\",0,IF(E239 =\"D\",ROUND(1/((1+Simulador!$Q$13)^A239),9) * 2,ROUND(1/((1+Simulador!$Q$13)^A239),9)))","v":2.6381928999999998E-2},62.724635919999955]
[237,237,"2044-02-01",2,{"$f":"IF(ISERROR(MATCH(D240,Simulador!$H$16:$H$17,0))=FALSE,\"C\",IF(ISERROR(MATCH(D240,Simulador!$H$18:$H$19,0))=FALSE,\"D\",\"\"))","v":""},{"$f":"IF(E240=\"C\",0,IF(E240 =\"D\",ROUND(1/((1+Simulador!$Q$13)^A240),9) * 2,ROUND(1/((1+Simulador!$Q$13)^A240),9)))","v":2.5978685000000001E-2},62.750614604999953]
[238,238,"2044-03-01",3,{"$f":"IF(ISERROR(MATCH(D241,Simulador!$H$16:$H$17,0))=FALSE,\"C\",IF(ISERROR(MATCH(D241,Simulador!$H$18:$H$19,0))=FALSE,\"D\",\"\"))","v":""},{"$f":"IF(E241=\"C\",0,IF(E241 =\"D\",ROUND(1/((1+Simulador!$Q$13)^A241),9) * 2,ROUND(1/((1+Simulador!$Q$13)^A241),9)))","v":2.5581605E-2},62.776196209999952]
[239,239,"2044-04-01",4,{"$f":"IF(ISERROR(MATCH(D242,Simulador!$H$16:$H$17,0))=FALSE,\"C\",IF(ISERROR(MATCH(D242,Simulador!$H$18:$H$19,0))=FALSE,\"D\",\"\"))","v":""},{"$f":"IF(E242=\"C\",0,IF(E242 =\"D\",ROUND(1/((1+Simulador!$Q$13)^A242),9) * 2,ROUND(1/((1+Simulador!$Q$13)^A242),9)))","v":2.5190594E-2},62.801386803999954]
[240,240,"2044-05-01",5,{"$f":"IF(ISERROR(MATCH(D243,Simulador!$H$16:$H$17,0))=FALSE,\"C\",IF(ISERROR(MATCH(D243,Simulador!$H$18:$H$19,0))=FALSE,\"D\",\"\"))","v":""},{"$f":"IF(E243=\"C\",0,IF(E243 =\"D\",ROUND(1/((1+Simulador!$Q$13)^A243),9) * 2,ROUND(1/((1+Simulador!$Q$13)^A243),9)))","v":2.4805560000000001E-2},62.826192363999951]
[241,241,"2044-06-01",6,{"$f":"IF(ISERROR(MATCH(D244,Simulador!$H$16:$H$17,0))=FALSE,\"C\",IF(ISERROR(MATCH(D244,Simulador!$H$18:$H$19,0))=FALSE,\"D\",\"\"))","v":""},{"$f":"IF(E244=\"C\",0,IF(E244 =\"D\",ROUND(1/((1+Simulador!$Q$13)^A244),9) * 2,ROUND(1/((1+Simulador!$Q$13)^A244),9)))","v":2.4426409999999999E-2},62.850618773999948]
[242,242,"2044-07-01",7,{"$f":"IF(ISERROR(MATCH(D245,Simulador!$H$16:$H$17,0))=FALSE,\"C\",IF(ISERROR(MATCH(D245,Simulador!$H$18:$H$19,0))=FALSE,\"D\",\"\"))","v":""},{"$f":"IF(E245=\"C\",0,IF(E245 =\"D\",ROUND(1/((1+Simulador!$Q$13)^A245),9) * 2,ROUND(1/((1+Simulador!$Q$13)^A245),9)))","v":2.4053056E-2},62.874671829999947]
[243,243,"2044-08-01",8,{"$f":"IF(ISERROR(MATCH(D246,Simulador!$H$16:$H$17,0))=FALSE,\"C\",IF(ISERROR(MATCH(D246,Simulador!$H$18:$H$19,0))=FALSE,\"D\",\"\"))","v":""},{"$f":"IF(E246=\"C\",0,IF(E246 =\"D\",ROUND(1/((1+Simulador!$Q$13)^A246),9) * 2,ROUND(1/((1+Simulador!$Q$13)^A246),9)))","v":2.3685409000000001E-2},62.898357238999949]
[244,244,"2044-09-01",9,{"$f":"IF(ISERROR(MATCH(D247,Simulador!$H$16:$H$17,0))=FALSE,\"C\",IF(ISERROR(MATCH(D247,Simulador!$H$18:$H$19,0))=FALSE,\"D\",\"\"))","v":""},{"$f":"IF(E247=\"C\",0,IF(E247 =\"D\",ROUND(1/((1+Simulador!$Q$13)^A247),9) * 2,ROUND(1/((1+Simulador!$Q$13)^A247),9)))","v":2.3323381000000001E-2},62.921680619999947]
[245,245,"2044-10-01",10,{"$f":"IF(ISERROR(MATCH(D248,Simulador!$H$16:$H$17,0))=FALSE,\"C\",IF(ISERROR(MATCH(D248,Simulador!$H$18:$H$19,0))=FALSE,\"D\",\"\"))","v":""},{"$f":"IF(E248=\"C\",0,IF(E248 =\"D\",ROUND(1/((1+Simulador!$Q$13)^A248),9) * 2,ROUND(1/((1+Simulador!$Q$13)^A248),9)))","v":2.2966886999999998E-2},62.944647506999949]
[246,246,"2044-11-01",11,{"$f":"IF(ISERROR(MATCH(D249,Simulador!$H$16:$H$17,0))=FALSE,\"C\",IF(ISERROR(MATCH(D249,Simulador!$H$18:$H$19,0))=FALSE,\"D\",\"\"))","v":""},{"$f":"IF(E249=\"C\",0,IF(E249 =\"D\",ROUND(1/((1+Simulador!$Q$13)^A249),9) * 2,ROUND(1/((1+Simulador!$Q$13)^A249),9)))","v":2.2615842000000001E-2},62.96726334899995]
[247,247,"2044-12-01",12,{"$f":"IF(ISERROR(MATCH(D250,Simulador!$H$16:$H$17,0))=FALSE,\"C\",IF(ISERROR(MATCH(D250,Simulador!$H$18:$H$19,0))=FALSE,\"D\",\"\"))","v":""},{"$f":"IF(E250=\"C\",0,IF(E250 =\"D\",ROUND(1/((1+Simulador!$Q$13)^A250),9) * 2,ROUND(1/((1+Simulador!$Q$13)^A250),9)))","v":2.2270162E-2},62.989533510999948]
[248,248,"2045-01-01",1,{"$f":"IF(ISERROR(MATCH(D251,Simulador!$H$16:$H$17,0))=FALSE,\"C\",IF(ISERROR(MATCH(D251,Simulador!$H$18:$H$19,0))=FALSE,\"D\",\"\"))","v":""},{"$f":"IF(E251=\"C\",0,IF(E251 =\"D\",ROUND(1/((1+Simulador!$Q$13)^A251),9) * 2,ROUND(1/((1+Simulador!$Q$13)^A251),9)))","v":2.1929766E-2},63.011463276999947]
[249,249,"2045-02-01",2,{"$f":"IF(ISERROR(MATCH(D252,Simulador!$H$16:$H$17,0))=FALSE,\"C\",IF(ISERROR(MATCH(D252,Simulador!$H$18:$H$19,0))=FALSE,\"D\",\"\"))","v":""},{"$f":"IF(E252=\"C\",0,IF(E252 =\"D\",ROUND(1/((1+Simulador!$Q$13)^A252),9) * 2,ROUND(1/((1+Simulador!$Q$13)^A252),9)))","v":2.1594572999999999E-2},63.033057849999949]
[250,250,"2045-03-01",3,{"$f":"IF(ISERROR(MATCH(D253,Simulador!$H$16:$H$17,0))=FALSE,\"C\",IF(ISERROR(MATCH(D253,Simulador!$H$18:$H$19,0))=FALSE,\"D\",\"\"))","v":""},{"$f":"IF(E253=\"C\",0,IF(E253 =\"D\",ROUND(1/((1+Simulador!$Q$13)^A253),9) * 2,ROUND(1/((1+Simulador!$Q$13)^A253),9)))","v":2.1264503000000001E-2},63.054322352999947]
[251,251,"2045-04-01",4,{"$f":"IF(ISERROR(MATCH(D254,Simulador!$H$16:$H$17,0))=FALSE,\"C\",IF(ISERROR(MATCH(D254,Simulador!$H$18:$H$19,0))=FALSE,\"D\",\"\"))","v":""},{"$f":"IF(E254=\"C\",0,IF(E254 =\"D\",ROUND(1/((1+Simulador!$Q$13)^A254),9) * 2,ROUND(1/((1+Simulador!$Q$13)^A254),9)))","v":2.0939478000000001E-2},63.075261830999949]
[252,252,"2045-05-01",5,{"$f":"IF(ISERROR(MATCH(D255,Simulador!$H$16:$H$17,0))=FALSE,\"C\",IF(ISERROR(MATCH(D255,Simulador!$H$18:$H$19,0))=FALSE,\"D\",\"\"))","v":""},{"$f":"IF(E255=\"C\",0,IF(E255 =\"D\",ROUND(1/((1+Simulador!$Q$13)^A255),9) * 2,ROUND(1/((1+Simulador!$Q$13)^A255),9)))","v":2.0619421999999998E-2},63.095881252999952]
[253,253,"2045-06-01",6,{"$f":"IF(ISERROR(MATCH(D256,Simulador!$H$16:$H$17,0))=FALSE,\"C\",IF(ISERROR(MATCH(D256,Simulador!$H$18:$H$19,0))=FALSE,\"D\",\"\"))","v":""},{"$f":"IF(E256=\"C\",0,IF(E256 =\"D\",ROUND(1/((1+Simulador!$Q$13)^A256),9) * 2,ROUND(1/((1+Simulador!$Q$13)^A256),9)))","v":2.0304256999999999E-2},63.116185509999951]
[254,254,"2045-07-01",7,{"$f":"IF(ISERROR(MATCH(D257,Simulador!$H$16:$H$17,0))=FALSE,\"C\",IF(ISERROR(MATCH(D257,Simulador!$H$18:$H$19,0))=FALSE,\"D\",\"\"))","v":""},{"$f":"IF(E257=\"C\",0,IF(E257 =\"D\",ROUND(1/((1+Simulador!$Q$13)^A257),9) * 2,ROUND(1/((1+Simulador!$Q$13)^A257),9)))","v":1.9993909000000001E-2},63.136179418999951]
[255,255,"2045-08-01",8,{"$f":"IF(ISERROR(MATCH(D258,Simulador!$H$16:$H$17,0))=FALSE,\"C\",IF(ISERROR(MATCH(D258,Simulador!$H$18:$H$19,0))=FALSE,\"D\",\"\"))","v":""},{"$f":"IF(E258=\"C\",0,IF(E258 =\"D\",ROUND(1/((1+Simulador!$Q$13)^A258),9) * 2,ROUND(1/((1+Simulador!$Q$13)^A258),9)))","v":1.9688305999999999E-2},63.15586772499995]
[256,256,"2045-09-01",9,{"$f":"IF(ISERROR(MATCH(D259,Simulador!$H$16:$H$17,0))=FALSE,\"C\",IF(ISERROR(MATCH(D259,Simulador!$H$18:$H$19,0))=FALSE,\"D\",\"\"))","v":""},{"$f":"IF(E259=\"C\",0,IF(E259 =\"D\",ROUND(1/((1+Simulador!$Q$13)^A259),9) * 2,ROUND(1/((1+Simulador!$Q$13)^A259),9)))","v":1.9387372999999999E-2},63.175255097999951]
[257,257,"2045-10-01",{"$f":"MONTH(C260)","v":10},{"$f":"IF(ISERROR(MATCH(D260,Simulador!$H$16:$H$17,0))=FALSE,\"C\",IF(ISERROR(MATCH(D260,Simulador!$H$18:$H$19,0))=FALSE,\"D\",\"\"))","v":""},{"$f":"IF(E260=\"C\",0,IF(E260 =\"D\",ROUND(1/((1+Simulador!$Q$13)^A260),9) * 2,ROUND(1/((1+Simulador!$Q$13)^A260),9)))","v":1.909104E-2},63.19434613799995]
[{"$f":"A260+1","v":258},{"$f":"IF(E261<>\"C\",IF(ISERROR(1+B260)=TRUE,1,1+B260),IF(ISNUMBER(B260),B260,1))","v":258},{"$f":"DATE(YEAR(C260) + 1/12,MONTH(C260)+1,DAY(C260))","v":"2045-11-01"},11,{"$f":"IF(ISERROR(MATCH(D261,Simulador!$H$16:$H$17,0))=FALSE,\"C\",IF(ISERROR(MATCH(D261,Simulador!$H$18:$H$19,0))=FALSE,\"D\",\"\"))","v":""},{"$f":"IF(E261=\"C\",0,IF(E261 =\"D\",ROUND(1/((1+Simulador!$Q$13)^A261),9) * 2,ROUND(1/((1+Simulador!$Q$13)^A261),9)))","v":1.8799236E-2},63.21314537399995]
[259,259,"2045-12-01",12,{"$f":"IF(ISERROR(MATCH(D262,Simulador!$H$16:$H$17,0))=FALSE,\"C\",IF(ISERROR(MATCH(D262,Simulador!$H$18:$H$19,0))=FALSE,\"D\",\"\"))","v":""},{"$f":"IF(E262=\"C\",0,IF(E262 =\"D\",ROUND(1/((1+Simulador!$Q$13)^A262),9) * 2,ROUND(1/((1+Simulador!$Q$13)^A262),9)))","v":1.8511893000000001E-2},{"$f":"G261+ROUND(F262,9)","v":63.231657266999953}]
[260,260,"2046-01-01",1,{"$f":"IF(ISERROR(MATCH(D263,Simulador!$H$16:$H$17,0))=FALSE,\"C\",IF(ISERROR(MATCH(D263,Simulador!$H$18:$H$19,0))=FALSE,\"D\",\"\"))","v":""},{"$f":"IF(E263=\"C\",0,IF(E263 =\"D\",ROUND(1/((1+Simulador!$Q$13)^A263),9) * 2,ROUND(1/((1+Simulador!$Q$13)^A263),9)))","v":1.8228940999999999E-2},63.24988620799995]
[261,261,"2046-02-01",2,{"$f":"IF(ISERROR(MATCH(D264,Simulador!$H$16:$H$17,0))=FALSE,\"C\",IF(ISERROR(MATCH(D264,Simulador!$H$18:$H$19,0))=FALSE,\"D\",\"\"))","v":""},{"$f":"IF(E264=\"C\",0,IF(E264 =\"D\",ROUND(1/((1+Simulador!$Q$13)^A264),9) * 2,ROUND(1/((1+Simulador!$Q$13)^A264),9)))","v":1.7950315000000001E-2},63.26783652299995]
[262,262,"2046-03-01",3,{"$f":"IF(ISERROR(MATCH(D265,Simulador!$H$16:$H$17,0))=FALSE,\"C\",IF(ISERROR(MATCH(D265,Simulador!$H$18:$H$19,0))=FALSE,\"D\",\"\"))","v":""},{"$f":"IF(E265=\"C\",0,IF(E265 =\"D\",ROUND(1/((1+Simulador!$Q$13)^A265),9) * 2,ROUND(1/((1+Simulador!$Q$13)^A265),9)))","v":1.7675947000000001E-2},63.285512469999951]
[263,263,"2046-04-01",4,{"$f":"IF(ISERROR(MATCH(D266,Simulador!$H$16:$H$17,0))=FALSE,\"C\",IF(ISERROR(MATCH(D266,Simulador!$H$18:$H$19,0))=FALSE,\"D\",\"\"))","v":""},{"$f":"IF(E266=\"C\",0,IF(E266 =\"D\",ROUND(1/((1+Simulador!$Q$13)^A266),9) * 2,ROUND(1/((1+Simulador!$Q$13)^A266),9)))","v":1.7405772999999999E-2},63.302918242999951]
[264,264,"2046-05-01",5,{"$f":"IF(ISERROR(MATCH(D267,Simulador!$H$16:$H$17,0))=FALSE,\"C\",IF(ISERROR(MATCH(D267,Simulador!$H$18:$H$19,0))=FALSE,\"D\",\"\"))","v":""},{"$f":"IF(E267=\"C\",0,IF(E267 =\"D\",ROUND(1/((1+Simulador!$Q$13)^A267),9) * 2,ROUND(1/((1+Simulador!$Q$13)^A267),9)))","v":1.7139728E-2},63.320057970999947]
[265,265,"2046-06-01",6,{"$f":"IF(ISERROR(MATCH(D268,Simulador!$H$16:$H$17,0))=FALSE,\"C\",IF(ISERROR(MATCH(D268,Simulador!$H$18:$H$19,0))=FALSE,\"D\",\"\"))","v":""},{"$f":"IF(E268=\"C\",0,IF(E268 =\"D\",ROUND(1/((1+Simulador!$Q$13)^A268),9) * 2,ROUND(1/((1+Simulador!$Q$13)^A268),9)))","v":1.687775E-2},63.336935720999946]
[266,266,"2046-07-01",7,{"$f":"IF(ISERROR(MATCH(D269,Simulador!$H$16:$H$17,0))=FALSE,\"C\",IF(ISERROR(MATCH(D269,Simulador!$H$18:$H$19,0))=FALSE,\"D\",\"\"))","v":""},{"$f":"IF(E269=\"C\",0,IF(E269 =\"D\",ROUND(1/((1+Simulador!$Q$13)^A269),9) * 2,ROUND(1/((1+Simulador!$Q$13)^A269),9)))","v":1.6619775999999999E-2},63.353555496999945]
[267,267,"2046-08-01",8,{"$f":"IF(ISERROR(MATCH(D270,Simulador!$H$16:$H$17,0))=FALSE,\"C\",IF(ISERROR(MATCH(D270,Simulador!$H$18:$H$19,0))=FALSE,\"D\",\"\"))","v":""},{"$f":"IF(E270=\"C\",0,IF(E270 =\"D\",ROUND(1/((1+Simulador!$Q$13)^A270),9) * 2,ROUND(1/((1+Simulador!$Q$13)^A270),9)))","v":1.6365746E-2},63.369921242999943]
[268,268,"2046-09-01",9,{"$f":"IF(ISERROR(MATCH(D271,Simulador!$H$16:$H$17,0))=FALSE,\"C\",IF(ISERROR(MATCH(D271,Simulador!$H$18:$H$19,0))=FALSE,\"D\",\"\"))","v":""},{"$f":"IF(E271=\"C\",0,IF(E271 =\"D\",ROUND(1/((1+Simulador!$Q$13)^A271),9) * 2,ROUND(1/((1+Simulador!$Q$13)^A271),9)))","v":1.6115597999999998E-2},63.386036840999942]
[269,269,"2046-10-01",10,{"$f":"IF(ISERROR(MATCH(D272,Simulador!$H$16:$H$17,0))=FALSE,\"C\",IF(ISERROR(MATCH(D272,Simulador!$H$18:$H$19,0))=FALSE,\"D\",\"\"))","v":""},{"$f":"IF(E272=\"C\",0,IF(E272 =\"D\",ROUND(1/((1+Simulador!$Q$13)^A272),9) * 2,ROUND(1/((1+Simulador!$Q$13)^A272),9)))","v":1.5869273E-2},63.401906113999942]
[270,270,"2046-11-01",11,{"$f":"IF(ISERROR(MATCH(D273,Simulador!$H$16:$H$17,0))=FALSE,\"C\",IF(ISERROR(MATCH(D273,Simulador!$H$18:$H$19,0))=FALSE,\"D\",\"\"))","v":""},{"$f":"IF(E273=\"C\",0,IF(E273 =\"D\",ROUND(1/((1+Simulador!$Q$13)^A273),9) * 2,ROUND(1/((1+Simulador!$Q$13)^A273),9)))","v":1.5626714E-2},63.417532827999942]
[271,271,"2046-12-01",12,{"$f":"IF(ISERROR(MATCH(D274,Simulador!$H$16:$H$17,0))=FALSE,\"C\",IF(ISERROR(MATCH(D274,Simulador!$H$18:$H$19,0))=FALSE,\"D\",\"\"))","v":""},{"$f":"IF(E274=\"C\",0,IF(E274 =\"D\",ROUND(1/((1+Simulador!$Q$13)^A274),9) * 2,ROUND(1/((1+Simulador!$Q$13)^A274),9)))","v":1.5387862E-2},63.432920689999939]
[272,272,"2047-01-01",1,{"$f":"IF(ISERROR(MATCH(D275,Simulador!$H$16:$H$17,0))=FALSE,\"C\",IF(ISERROR(MATCH(D275,Simulador!$H$18:$H$19,0))=FALSE,\"D\",\"\"))","v":""},{"$f":"IF(E275=\"C\",0,IF(E275 =\"D\",ROUND(1/((1+Simulador!$Q$13)^A275),9) * 2,ROUND(1/((1+Simulador!$Q$13)^A275),9)))","v":1.5152661E-2},63.448073350999941]
[273,273,"2047-02-01",2,{"$f":"IF(ISERROR(MATCH(D276,Simulador!$H$16:$H$17,0))=FALSE,\"C\",IF(ISERROR(MATCH(D276,Simulador!$H$18:$H$19,0))=FALSE,\"D\",\"\"))","v":""},{"$f":"IF(E276=\"C\",0,IF(E276 =\"D\",ROUND(1/((1+Simulador!$Q$13)^A276),9) * 2,ROUND(1/((1+Simulador!$Q$13)^A276),9)))","v":1.4921055000000001E-2},63.462994405999943]
[274,274,"2047-03-01",3,{"$f":"IF(ISERROR(MATCH(D277,Simulador!$H$16:$H$17,0))=FALSE,\"C\",IF(ISERROR(MATCH(D277,Simulador!$H$18:$H$19,0))=FALSE,\"D\",\"\"))","v":""},{"$f":"IF(E277=\"C\",0,IF(E277 =\"D\",ROUND(1/((1+Simulador!$Q$13)^A277),9) * 2,ROUND(1/((1+Simulador!$Q$13)^A277),9)))","v":1.4692989E-2},63.47768739499994]
[275,275,"2047-04-01",4,{"$f":"IF(ISERROR(MATCH(D278,Simulador!$H$16:$H$17,0))=FALSE,\"C\",IF(ISERROR(MATCH(D278,Simulador!$H$18:$H$19,0))=FALSE,\"D\",\"\"))","v":""},{"$f":"IF(E278=\"C\",0,IF(E278 =\"D\",ROUND(1/((1+Simulador!$Q$13)^A278),9) * 2,ROUND(1/((1+Simulador!$Q$13)^A278),9)))","v":1.4468408E-2},63.492155802999939]
[276,276,"2047-05-01",5,{"$f":"IF(ISERROR(MATCH(D279,Simulador!$H$16:$H$17,0))=FALSE,\"C\",IF(ISERROR(MATCH(D279,Simulador!$H$18:$H$19,0))=FALSE,\"D\",\"\"))","v":""},{"$f":"IF(E279=\"C\",0,IF(E279 =\"D\",ROUND(1/((1+Simulador!$Q$13)^A279),9) * 2,ROUND(1/((1+Simulador!$Q$13)^A279),9)))","v":1.4247261000000001E-2},63.50640306399994]
[277,277,"2047-06-01",6,{"$f":"IF(ISERROR(MATCH(D280,Simulador!$H$16:$H$17,0))=FALSE,\"C\",IF(ISERROR(MATCH(D280,Simulador!$H$18:$H$19,0))=FALSE,\"D\",\"\"))","v":""},{"$f":"IF(E280=\"C\",0,IF(E280 =\"D\",ROUND(1/((1+Simulador!$Q$13)^A280),9) * 2,ROUND(1/((1+Simulador!$Q$13)^A280),9)))","v":1.4029494E-2},63.520432557999939]
[278,278,"2047-07-01",7,{"$f":"IF(ISERROR(MATCH(D281,Simulador!$H$16:$H$17,0))=FALSE,\"C\",IF(ISERROR(MATCH(D281,Simulador!$H$18:$H$19,0))=FALSE,\"D\",\"\"))","v":""},{"$f":"IF(E281=\"C\",0,IF(E281 =\"D\",ROUND(1/((1+Simulador!$Q$13)^A281),9) * 2,ROUND(1/((1+Simulador!$Q$13)^A281),9)))","v":1.3815055E-2},63.534247612999941]
[279,279,"2047-08-01",8,{"$f":"IF(ISERROR(MATCH(D282,Simulador!$H$16:$H$17,0))=FALSE,\"C\",IF(ISERROR(MATCH(D282,Simulador!$H$18:$H$19,0))=FALSE,\"D\",\"\"))","v":""},{"$f":"IF(E282=\"C\",0,IF(E282 =\"D\",ROUND(1/((1+Simulador!$Q$13)^A282),9) * 2,ROUND(1/((1+Simulador!$Q$13)^A282),9)))","v":1.3603894E-2},63.54785150699994]
[280,280,"2047-09-01",9,{"$f":"IF(ISERROR(MATCH(D283,Simulador!$H$16:$H$17,0))=FALSE,\"C\",IF(ISERROR(MATCH(D283,Simulador!$H$18:$H$19,0))=FALSE,\"D\",\"\"))","v":""},{"$f":"IF(E283=\"C\",0,IF(E283 =\"D\",ROUND(1/((1+Simulador!$Q$13)^A283),9) * 2,ROUND(1/((1+Simulador!$Q$13)^A283),9)))","v":1.3395961E-2},63.561247467999941]
[281,281,"2047-10-01",10,{"$f":"IF(ISERROR(MATCH(D284,Simulador!$H$16:$H$17,0))=FALSE,\"C\",IF(ISERROR(MATCH(D284,Simulador!$H$18:$H$19,0))=FALSE,\"D\",\"\"))","v":""},{"$f":"IF(E284=\"C\",0,IF(E284 =\"D\",ROUND(1/((1+Simulador!$Q$13)^A284),9) * 2,ROUND(1/((1+Simulador!$Q$13)^A284),9)))","v":1.3191206E-2},63.574438673999943]
[282,282,"2047-11-01",11,{"$f":"IF(ISERROR(MATCH(D285,Simulador!$H$16:$H$17,0))=FALSE,\"C\",IF(ISERROR(MATCH(D285,Simulador!$H$18:$H$19,0))=FALSE,\"D\",\"\"))","v":""},{"$f":"IF(E285=\"C\",0,IF(E285 =\"D\",ROUND(1/((1+Simulador!$Q$13)^A285),9) * 2,ROUND(1/((1+Simulador!$Q$13)^A285),9)))","v":1.2989580000000001E-2},63.587428253999946]
[283,283,"2047-12-01",12,{"$f":"IF(ISERROR(MATCH(D286,Simulador!$H$16:$H$17,0))=FALSE,\"C\",IF(ISERROR(MATCH(D286,Simulador!$H$18:$H$19,0))=FALSE,\"D\",\"\"))","v":""},{"$f":"IF(E286=\"C\",0,IF(E286 =\"D\",ROUND(1/((1+Simulador!$Q$13)^A286),9) * 2,ROUND(1/((1+Simulador!$Q$13)^A286),9)))","v":1.2791036E-2},63.600219289999949]
[284,284,"2048-01-01",1,{"$f":"IF(ISERROR(MATCH(D287,Simulador!$H$16:$H$17,0))=FALSE,\"C\",IF(ISERROR(MATCH(D287,Simulador!$H$18:$H$19,0))=FALSE,\"D\",\"\"))","v":""},{"$f":"IF(E287=\"C\",0,IF(E287 =\"D\",ROUND(1/((1+Simulador!$Q$13)^A287),9) * 2,ROUND(1/((1+Simulador!$Q$13)^A287),9)))","v":1.2595527E-2},63.612814816999951]
[285,285,"2048-02-01",2,{"$f":"IF(ISERROR(MATCH(D288,Simulador!$H$16:$H$17,0))=FALSE,\"C\",IF(ISERROR(MATCH(D288,Simulador!$H$18:$H$19,0))=FALSE,\"D\",\"\"))","v":""},{"$f":"IF(E288=\"C\",0,IF(E288 =\"D\",ROUND(1/((1+Simulador!$Q$13)^A288),9) * 2,ROUND(1/((1+Simulador!$Q$13)^A288),9)))","v":1.2403005999999999E-2},63.62521782299995]
[286,286,"2048-03-01",3,{"$f":"IF(ISERROR(MATCH(D289,Simulador!$H$16:$H$17,0))=FALSE,\"C\",IF(ISERROR(MATCH(D289,Simulador!$H$18:$H$19,0))=FALSE,\"D\",\"\"))","v":""},{"$f":"IF(E289=\"C\",0,IF(E289 =\"D\",ROUND(1/((1+Simulador!$Q$13)^A289),9) * 2,ROUND(1/((1+Simulador!$Q$13)^A289),9)))","v":1.2213428E-2},63.637431250999953]
[287,287,"2048-04-01",4,{"$f":"IF(ISERROR(MATCH(D290,Simulador!$H$16:$H$17,0))=FALSE,\"C\",IF(ISERROR(MATCH(D290,Simulador!$H$18:$H$19,0))=FALSE,\"D\",\"\"))","v":""},{"$f":"IF(E290=\"C\",0,IF(E290 =\"D\",ROUND(1/((1+Simulador!$Q$13)^A290),9) * 2,ROUND(1/((1+Simulador!$Q$13)^A290),9)))","v":1.2026748E-2},63.649457998999949]
[288,288,"2048-05-01",5,{"$f":"IF(ISERROR(MATCH(D291,Simulador!$H$16:$H$17,0))=FALSE,\"C\",IF(ISERROR(MATCH(D291,Simulador!$H$18:$H$19,0))=FALSE,\"D\",\"\"))","v":""},{"$f":"IF(E291=\"C\",0,IF(E291 =\"D\",ROUND(1/((1+Simulador!$Q$13)^A291),9) * 2,ROUND(1/((1+Simulador!$Q$13)^A291),9)))","v":1.1842920999999999E-2},63.661300919999952]
[289,289,"2048-06-01",6,{"$f":"IF(ISERROR(MATCH(D292,Simulador!$H$16:$H$17,0))=FALSE,\"C\",IF(ISERROR(MATCH(D292,Simulador!$H$18:$H$19,0))=FALSE,\"D\",\"\"))","v":""},{"$f":"IF(E292=\"C\",0,IF(E292 =\"D\",ROUND(1/((1+Simulador!$Q$13)^A292),9) * 2,ROUND(1/((1+Simulador!$Q$13)^A292),9)))","v":1.1661904000000001E-2},63.672962823999953]
[290,290,"2048-07-01",7,{"$f":"IF(ISERROR(MATCH(D293,Simulador!$H$16:$H$17,0))=FALSE,\"C\",IF(ISERROR(MATCH(D293,Simulador!$H$18:$H$19,0))=FALSE,\"D\",\"\"))","v":""},{"$f":"IF(E293=\"C\",0,IF(E293 =\"D\",ROUND(1/((1+Simulador!$Q$13)^A293),9) * 2,ROUND(1/((1+Simulador!$Q$13)^A293),9)))","v":1.1483653E-2},63.684446476999952]
[291,291,"2048-08-01",8,{"$f":"IF(ISERROR(MATCH(D294,Simulador!$H$16:$H$17,0))=FALSE,\"C\",IF(ISERROR(MATCH(D294,Simulador!$H$18:$H$19,0))=FALSE,\"D\",\"\"))","v":""},{"$f":"IF(E294=\"C\",0,IF(E294 =\"D\",ROUND(1/((1+Simulador!$Q$13)^A294),9) * 2,ROUND(1/((1+Simulador!$Q$13)^A294),9)))","v":1.1308128000000001E-2},63.695754604999955]
[292,292,"2048-09-01",9,{"$f":"IF(ISERROR(MATCH(D295,Simulador!$H$16:$H$17,0))=FALSE,\"C\",IF(ISERROR(MATCH(D295,Simulador!$H$18:$H$19,0))=FALSE,\"D\",\"\"))","v":""},{"$f":"IF(E295=\"C\",0,IF(E295 =\"D\",ROUND(1/((1+Simulador!$Q$13)^A295),9) * 2,ROUND(1/((1+Simulador!$Q$13)^A295),9)))","v":1.1135285E-2},63.706889889999957]
[293,293,"2048-10-01",10,{"$f":"IF(ISERROR(MATCH(D296,Simulador!$H$16:$H$17,0))=FALSE,\"C\",IF(ISERROR(MATCH(D296,Simulador!$H$18:$H$19,0))=FALSE,\"D\",\"\"))","v":""},{"$f":"IF(E296=\"C\",0,IF(E296 =\"D\",ROUND(1/((1+Simulador!$Q$13)^A296),9) * 2,ROUND(1/((1+Simulador!$Q$13)^A296),9)))","v":1.0965083E-2},63.717854972999959]
[294,294,"2048-11-01",11,{"$f":"IF(ISERROR(MATCH(D297,Simulador!$H$16:$H$17,0))=FALSE,\"C\",IF(ISERROR(MATCH(D297,Simulador!$H$18:$H$19,0))=FALSE,\"D\",\"\"))","v":""},{"$f":"IF(E297=\"C\",0,IF(E297 =\"D\",ROUND(1/((1+Simulador!$Q$13)^A297),9) * 2,ROUND(1/((1+Simulador!$Q$13)^A297),9)))","v":1.0797484E-2},63.72865245699996]
[295,295,"2048-12-01",12,{"$f":"IF(ISERROR(MATCH(D298,Simulador!$H$16:$H$17,0))=FALSE,\"C\",IF(ISERROR(MATCH(D298,Simulador!$H$18:$H$19,0))=FALSE,\"D\",\"\"))","v":""},{"$f":"IF(E298=\"C\",0,IF(E298 =\"D\",ROUND(1/((1+Simulador!$Q$13)^A298),9) * 2,ROUND(1/((1+Simulador!$Q$13)^A298),9)))","v":1.0632446E-2},63.739284902999962]
[296,296,"2049-01-01",1,{"$f":"IF(ISERROR(MATCH(D299,Simulador!$H$16:$H$17,0))=FALSE,\"C\",IF(ISERROR(MATCH(D299,Simulador!$H$18:$H$19,0))=FALSE,\"D\",\"\"))","v":""},{"$f":"IF(E299=\"C\",0,IF(E299 =\"D\",ROUND(1/((1+Simulador!$Q$13)^A299),9) * 2,ROUND(1/((1+Simulador!$Q$13)^A299),9)))","v":1.0469931E-2},63.749754833999965]
[297,297,"2049-02-01",2,{"$f":"IF(ISERROR(MATCH(D300,Simulador!$H$16:$H$17,0))=FALSE,\"C\",IF(ISERROR(MATCH(D300,Simulador!$H$18:$H$19,0))=FALSE,\"D\",\"\"))","v":""},{"$f":"IF(E300=\"C\",0,IF(E300 =\"D\",ROUND(1/((1+Simulador!$Q$13)^A300),9) * 2,ROUND(1/((1+Simulador!$Q$13)^A300),9)))","v":1.0309899000000001E-2},63.760064732999965]
[298,298,"2049-03-01",3,{"$f":"IF(ISERROR(MATCH(D301,Simulador!$H$16:$H$17,0))=FALSE,\"C\",IF(ISERROR(MATCH(D301,Simulador!$H$18:$H$19,0))=FALSE,\"D\",\"\"))","v":""},{"$f":"IF(E301=\"C\",0,IF(E301 =\"D\",ROUND(1/((1+Simulador!$Q$13)^A301),9) * 2,ROUND(1/((1+Simulador!$Q$13)^A301),9)))","v":1.0152314000000001E-2},63.770217046999967]
[299,299,"2049-04-01",4,{"$f":"IF(ISERROR(MATCH(D302,Simulador!$H$16:$H$17,0))=FALSE,\"C\",IF(ISERROR(MATCH(D302,Simulador!$H$18:$H$19,0))=FALSE,\"D\",\"\"))","v":""},{"$f":"IF(E302=\"C\",0,IF(E302 =\"D\",ROUND(1/((1+Simulador!$Q$13)^A302),9) * 2,ROUND(1/((1+Simulador!$Q$13)^A302),9)))","v":9.9971369999999997E-3},63.780214183999966]
[300,300,"2049-05-01",5,{"$f":"IF(ISERROR(MATCH(D303,Simulador!$H$16:$H$17,0))=FALSE,\"C\",IF(ISERROR(MATCH(D303,Simulador!$H$18:$H$19,0))=FALSE,\"D\",\"\"))","v":""},{"$f":"IF(E303=\"C\",0,IF(E303 =\"D\",ROUND(1/((1+Simulador!$Q$13)^A303),9) * 2,ROUND(1/((1+Simulador!$Q$13)^A303),9)))","v":9.8443330000000002E-3},63.790058516999963]
[301,301,"2049-06-01",6,{"$f":"IF(ISERROR(MATCH(D304,Simulador!$H$16:$H$17,0))=FALSE,\"C\",IF(ISERROR(MATCH(D304,Simulador!$H$18:$H$19,0))=FALSE,\"D\",\"\"))","v":""},{"$f":"IF(E304=\"C\",0,IF(E304 =\"D\",ROUND(1/((1+Simulador!$Q$13)^A304),9) * 2,ROUND(1/((1+Simulador!$Q$13)^A304),9)))","v":9.693864E-3},63.799752380999962]
[302,302,"2049-07-01",7,{"$f":"IF(ISERROR(MATCH(D305,Simulador!$H$16:$H$17,0))=FALSE,\"C\",IF(ISERROR(MATCH(D305,Simulador!$H$18:$H$19,0))=FALSE,\"D\",\"\"))","v":""},{"$f":"IF(E305=\"C\",0,IF(E305 =\"D\",ROUND(1/((1+Simulador!$Q$13)^A305),9) * 2,ROUND(1/((1+Simulador!$Q$13)^A305),9)))","v":9.5456940000000004E-3},63.809298074999965]
[303,303,"2049-08-01",8,{"$f":"IF(ISERROR(MATCH(D306,Simulador!$H$16:$H$17,0))=FALSE,\"C\",IF(ISERROR(MATCH(D306,Simulador!$H$18:$H$19,0))=FALSE,\"D\",\"\"))","v":""},{"$f":"IF(E306=\"C\",0,IF(E306 =\"D\",ROUND(1/((1+Simulador!$Q$13)^A306),9) * 2,ROUND(1/((1+Simulador!$Q$13)^A306),9)))","v":9.3997899999999999E-3},63.818697864999969]
[304,304,"2049-09-01",9,{"$f":"IF(ISERROR(MATCH(D307,Simulador!$H$16:$H$17,0))=FALSE,\"C\",IF(ISERROR(MATCH(D307,Simulador!$H$18:$H$19,0))=FALSE,\"D\",\"\"))","v":""},{"$f":"IF(E307=\"C\",0,IF(E307 =\"D\",ROUND(1/((1+Simulador!$Q$13)^A307),9) * 2,ROUND(1/((1+Simulador!$Q$13)^A307),9)))","v":9.256116E-3},63.827953980999972]
[305,305,"2049-10-01",10,{"$f":"IF(ISERROR(MATCH(D308,Simulador!$H$16:$H$17,0))=FALSE,\"C\",IF(ISERROR(MATCH(D308,Simulador!$H$18:$H$19,0))=FALSE,\"D\",\"\"))","v":""},{"$f":"IF(E308=\"C\",0,IF(E308 =\"D\",ROUND(1/((1+Simulador!$Q$13)^A308),9) * 2,ROUND(1/((1+Simulador!$Q$13)^A308),9)))","v":9.1146370000000001E-3},63.837068617999975]
[306,306,"2049-11-01",11,{"$f":"IF(ISERROR(MATCH(D309,Simulador!$H$16:$H$17,0))=FALSE,\"C\",IF(ISERROR(MATCH(D309,Simulador!$H$18:$H$19,0))=FALSE,\"D\",\"\"))","v":""},{"$f":"IF(E309=\"C\",0,IF(E309 =\"D\",ROUND(1/((1+Simulador!$Q$13)^A309),9) * 2,ROUND(1/((1+Simulador!$Q$13)^A309),9)))","v":8.9753209999999996E-3},63.846043938999976]
[307,307,"2049-12-01",12,{"$f":"IF(ISERROR(MATCH(D310,Simulador!$H$16:$H$17,0))=FALSE,\"C\",IF(ISERROR(MATCH(D310,Simulador!$H$18:$H$19,0))=FALSE,\"D\",\"\"))","v":""},{"$f":"IF(E310=\"C\",0,IF(E310 =\"D\",ROUND(1/((1+Simulador!$Q$13)^A310),9) * 2,ROUND(1/((1+Simulador!$Q$13)^A310),9)))","v":8.8381350000000004E-3},63.854882073999974]
[308,308,"2050-01-01",1,{"$f":"IF(ISERROR(MATCH(D311,Simulador!$H$16:$H$17,0))=FALSE,\"C\",IF(ISERROR(MATCH(D311,Simulador!$H$18:$H$19,0))=FALSE,\"D\",\"\"))","v":""},{"$f":"IF(E311=\"C\",0,IF(E311 =\"D\",ROUND(1/((1+Simulador!$Q$13)^A311),9) * 2,ROUND(1/((1+Simulador!$Q$13)^A311),9)))","v":8.7030449999999995E-3},63.863585118999971]
[309,309,"2050-02-01",2,{"$f":"IF(ISERROR(MATCH(D312,Simulador!$H$16:$H$17,0))=FALSE,\"C\",IF(ISERROR(MATCH(D312,Simulador!$H$18:$H$19,0))=FALSE,\"D\",\"\"))","v":""},{"$f":"IF(E312=\"C\",0,IF(E312 =\"D\",ROUND(1/((1+Simulador!$Q$13)^A312),9) * 2,ROUND(1/((1+Simulador!$Q$13)^A312),9)))","v":8.5700210000000006E-3},63.872155139999968]
[310,310,"2050-03-01",3,{"$f":"IF(ISERROR(MATCH(D313,Simulador!$H$16:$H$17,0))=FALSE,\"C\",IF(ISERROR(MATCH(D313,Simulador!$H$18:$H$19,0))=FALSE,\"D\",\"\"))","v":""},{"$f":"IF(E313=\"C\",0,IF(E313 =\"D\",ROUND(1/((1+Simulador!$Q$13)^A313),9) * 2,ROUND(1/((1+Simulador!$Q$13)^A313),9)))","v":8.4390290000000007E-3},63.88059416899997]
[311,311,"2050-04-01",4,{"$f":"IF(ISERROR(MATCH(D314,Simulador!$H$16:$H$17,0))=FALSE,\"C\",IF(ISERROR(MATCH(D314,Simulador!$H$18:$H$19,0))=FALSE,\"D\",\"\"))","v":""},{"$f":"IF(E314=\"C\",0,IF(E314 =\"D\",ROUND(1/((1+Simulador!$Q$13)^A314),9) * 2,ROUND(1/((1+Simulador!$Q$13)^A314),9)))","v":8.3100399999999994E-3},63.888904208999968]
[312,312,"2050-05-01",5,{"$f":"IF(ISERROR(MATCH(D315,Simulador!$H$16:$H$17,0))=FALSE,\"C\",IF(ISERROR(MATCH(D315,Simulador!$H$18:$H$19,0))=FALSE,\"D\",\"\"))","v":""},{"$f":"IF(E315=\"C\",0,IF(E315 =\"D\",ROUND(1/((1+Simulador!$Q$13)^A315),9) * 2,ROUND(1/((1+Simulador!$Q$13)^A315),9)))","v":8.1830219999999999E-3},63.897087230999965]
[313,313,"2050-06-01",6,{"$f":"IF(ISERROR(MATCH(D316,Simulador!$H$16:$H$17,0))=FALSE,\"C\",IF(ISERROR(MATCH(D316,Simulador!$H$18:$H$19,0))=FALSE,\"D\",\"\"))","v":""},{"$f":"IF(E316=\"C\",0,IF(E316 =\"D\",ROUND(1/((1+Simulador!$Q$13)^A316),9) * 2,ROUND(1/((1+Simulador!$Q$13)^A316),9)))","v":8.0579459999999999E-3},63.905145176999966]
[314,314,"2050-07-01",7,{"$f":"IF(ISERROR(MATCH(D317,Simulador!$H$16:$H$17,0))=FALSE,\"C\",IF(ISERROR(MATCH(D317,Simulador!$H$18:$H$19,0))=FALSE,\"D\",\"\"))","v":""},{"$f":"IF(E317=\"C\",0,IF(E317 =\"D\",ROUND(1/((1+Simulador!$Q$13)^A317),9) * 2,ROUND(1/((1+Simulador!$Q$13)^A317),9)))","v":7.9347819999999996E-3},63.913079958999965]
[315,315,"2050-08-01",8,{"$f":"IF(ISERROR(MATCH(D318,Simulador!$H$16:$H$17,0))=FALSE,\"C\",IF(ISERROR(MATCH(D318,Simulador!$H$18:$H$19,0))=FALSE,\"D\",\"\"))","v":""},{"$f":"IF(E318=\"C\",0,IF(E318 =\"D\",ROUND(1/((1+Simulador!$Q$13)^A318),9) * 2,ROUND(1/((1+Simulador!$Q$13)^A318),9)))","v":7.8134999999999993E-3},63.920893458999963]
[316,316,"2050-09-01",9,{"$f":"IF(ISERROR(MATCH(D319,Simulador!$H$16:$H$17,0))=FALSE,\"C\",IF(ISERROR(MATCH(D319,Simulador!$H$18:$H$19,0))=FALSE,\"D\",\"\"))","v":""},{"$f":"IF(E319=\"C\",0,IF(E319 =\"D\",ROUND(1/((1+Simulador!$Q$13)^A319),9) * 2,ROUND(1/((1+Simulador!$Q$13)^A319),9)))","v":7.6940719999999997E-3},63.928587530999962]
[317,317,"2050-10-01",10,{"$f":"IF(ISERROR(MATCH(D320,Simulador!$H$16:$H$17,0))=FALSE,\"C\",IF(ISERROR(MATCH(D320,Simulador!$H$18:$H$19,0))=FALSE,\"D\",\"\"))","v":""},{"$f":"IF(E320=\"C\",0,IF(E320 =\"D\",ROUND(1/((1+Simulador!$Q$13)^A320),9) * 2,ROUND(1/((1+Simulador!$Q$13)^A320),9)))","v":7.5764689999999997E-3},63.936163999999962]
[318,318,"2050-11-01",11,{"$f":"IF(ISERROR(MATCH(D321,Simulador!$H$16:$H$17,0))=FALSE,\"C\",IF(ISERROR(MATCH(D321,Simulador!$H$18:$H$19,0))=FALSE,\"D\",\"\"))","v":""},{"$f":"IF(E321=\"C\",0,IF(E321 =\"D\",ROUND(1/((1+Simulador!$Q$13)^A321),9) * 2,ROUND(1/((1+Simulador!$Q$13)^A321),9)))","v":7.4606639999999997E-3},63.943624663999962]
[319,319,"2050-12-01",12,{"$f":"IF(ISERROR(MATCH(D322,Simulador!$H$16:$H$17,0))=FALSE,\"C\",IF(ISERROR(MATCH(D322,Simulador!$H$18:$H$19,0))=FALSE,\"D\",\"\"))","v":""},{"$f":"IF(E322=\"C\",0,IF(E322 =\"D\",ROUND(1/((1+Simulador!$Q$13)^A322),9) * 2,ROUND(1/((1+Simulador!$Q$13)^A322),9)))","v":7.3466290000000004E-3},63.950971292999959]
[320,320,"2051-01-01",1,{"$f":"IF(ISERROR(MATCH(D323,Simulador!$H$16:$H$17,0))=FALSE,\"C\",IF(ISERROR(MATCH(D323,Simulador!$H$18:$H$19,0))=FALSE,\"D\",\"\"))","v":""},{"$f":"IF(E323=\"C\",0,IF(E323 =\"D\",ROUND(1/((1+Simulador!$Q$13)^A323),9) * 2,ROUND(1/((1+Simulador!$Q$13)^A323),9)))","v":7.2343360000000001E-3},63.958205628999963]
[321,321,"2051-02-01",{"$f":"MONTH(C324)","v":2},{"$f":"IF(ISERROR(MATCH(D324,Simulador!$H$16:$H$17,0))=FALSE,\"C\",IF(ISERROR(MATCH(D324,Simulador!$H$18:$H$19,0))=FALSE,\"D\",\"\"))","v":""},{"$f":"IF(E324=\"C\",0,IF(E324 =\"D\",ROUND(1/((1+Simulador!$Q$13)^A324),9) * 2,ROUND(1/((1+Simulador!$Q$13)^A324),9)))","v":7.1237610000000002E-3},63.965329389999965]
[{"$f":"A324+1","v":322},{"$f":"IF(E325<>\"C\",IF(ISERROR(1+B324)=TRUE,1,1+B324),IF(ISNUMBER(B324),B324,1))","v":322},{"$f":"DATE(YEAR(C324) + 1/12,MONTH(C324)+1,DAY(C324))","v":"2051-03-01"},3,{"$f":"IF(ISERROR(MATCH(D325,Simulador!$H$16:$H$17,0))=FALSE,\"C\",IF(ISERROR(MATCH(D325,Simulador!$H$18:$H$19,0))=FALSE,\"D\",\"\"))","v":""},{"$f":"IF(E325=\"C\",0,IF(E325 =\"D\",ROUND(1/((1+Simulador!$Q$13)^A325),9) * 2,ROUND(1/((1+Simulador!$Q$13)^A325),9)))","v":7.0148750000000003E-3},63.972344264999968]
[323,323,"2051-04-01",4,{"$f":"IF(ISERROR(MATCH(D326,Simulador!$H$16:$H$17,0))=FALSE,\"C\",IF(ISERROR(MATCH(D326,Simulador!$H$18:$H$19,0))=FALSE,\"D\",\"\"))","v":""},{"$f":"IF(E326=\"C\",0,IF(E326 =\"D\",ROUND(1/((1+Simulador!$Q$13)^A326),9) * 2,ROUND(1/((1+Simulador!$Q$13)^A326),9)))","v":6.9076540000000001E-3},{"$f":"G325+ROUND(F326,9)","v":63.979251918999971}]
[324,324,"2051-05-01",5,{"$f":"IF(ISERROR(MATCH(D327,Simulador!$H$16:$H$17,0))=FALSE,\"C\",IF(ISERROR(MATCH(D327,Simulador!$H$18:$H$19,0))=FALSE,\"D\",\"\"))","v":""},{"$f":"IF(E327=\"C\",0,IF(E327 =\"D\",ROUND(1/((1+Simulador!$Q$13)^A327),9) * 2,ROUND(1/((1+Simulador!$Q$13)^A327),9)))","v":6.8020709999999998E-3},63.986053989999974]
[325,325,"2051-06-01",6,{"$f":"IF(ISERROR(MATCH(D328,Simulador!$H$16:$H$17,0))=FALSE,\"C\",IF(ISERROR(MATCH(D328,Simulador!$H$18:$H$19,0))=FALSE,\"D\",\"\"))","v":""},{"$f":"IF(E328=\"C\",0,IF(E328 =\"D\",ROUND(1/((1+Simulador!$Q$13)^A328),9) * 2,ROUND(1/((1+Simulador!$Q$13)^A328),9)))","v":6.6981030000000004E-3},63.992752092999972]
[326,326,"2051-07-01",7,{"$f":"IF(ISERROR(MATCH(D329,Simulador!$H$16:$H$17,0))=FALSE,\"C\",IF(ISERROR(MATCH(D329,Simulador!$H$18:$H$19,0))=FALSE,\"D\",\"\"))","v":""},{"$f":"IF(E329=\"C\",0,IF(E329 =\"D\",ROUND(1/((1+Simulador!$Q$13)^A329),9) * 2,ROUND(1/((1+Simulador!$Q$13)^A329),9)))","v":6.5957230000000004E-3},63.999347815999968]
[327,327,"2051-08-01",8,{"$f":"IF(ISERROR(MATCH(D330,Simulador!$H$16:$H$17,0))=FALSE,\"C\",IF(ISERROR(MATCH(D330,Simulador!$H$18:$H$19,0))=FALSE,\"D\",\"\"))","v":""},{"$f":"IF(E330=\"C\",0,IF(E330 =\"D\",ROUND(1/((1+Simulador!$Q$13)^A330),9) * 2,ROUND(1/((1+Simulador!$Q$13)^A330),9)))","v":6.4949090000000001E-3},64.005842724999965]
[328,328,"2051-09-01",9,{"$f":"IF(ISERROR(MATCH(D331,Simulador!$H$16:$H$17,0))=FALSE,\"C\",IF(ISERROR(MATCH(D331,Simulador!$H$18:$H$19,0))=FALSE,\"D\",\"\"))","v":""},{"$f":"IF(E331=\"C\",0,IF(E331 =\"D\",ROUND(1/((1+Simulador!$Q$13)^A331),9) * 2,ROUND(1/((1+Simulador!$Q$13)^A331),9)))","v":6.3956350000000002E-3},64.012238359999969]
[329,329,"2051-10-01",10,{"$f":"IF(ISERROR(MATCH(D332,Simulador!$H$16:$H$17,0))=FALSE,\"C\",IF(ISERROR(MATCH(D332,Simulador!$H$18:$H$19,0))=FALSE,\"D\",\"\"))","v":""},{"$f":"IF(E332=\"C\",0,IF(E332 =\"D\",ROUND(1/((1+Simulador!$Q$13)^A332),9) * 2,ROUND(1/((1+Simulador!$Q$13)^A332),9)))","v":6.2978790000000002E-3},64.018536238999971]
[330,330,"2051-11-01",11,{"$f":"IF(ISERROR(MATCH(D333,Simulador!$H$16:$H$17,0))=FALSE,\"C\",IF(ISERROR(MATCH(D333,Simulador!$H$18:$H$19,0))=FALSE,\"D\",\"\"))","v":""},{"$f":"IF(E333=\"C\",0,IF(E333 =\"D\",ROUND(1/((1+Simulador!$Q$13)^A333),9) * 2,ROUND(1/((1+Simulador!$Q$13)^A333),9)))","v":6.2016170000000004E-3},64.024737855999973]
[331,331,"2051-12-01",12,{"$f":"IF(ISERROR(MATCH(D334,Simulador!$H$16:$H$17,0))=FALSE,\"C\",IF(ISERROR(MATCH(D334,Simulador!$H$18:$H$19,0))=FALSE,\"D\",\"\"))","v":""},{"$f":"IF(E334=\"C\",0,IF(E334 =\"D\",ROUND(1/((1+Simulador!$Q$13)^A334),9) * 2,ROUND(1/((1+Simulador!$Q$13)^A334),9)))","v":6.1068260000000001E-3},64.03084468199998]
[332,332,"2052-01-01",1,{"$f":"IF(ISERROR(MATCH(D335,Simulador!$H$16:$H$17,0))=FALSE,\"C\",IF(ISERROR(MATCH(D335,Simulador!$H$18:$H$19,0))=FALSE,\"D\",\"\"))","v":""},{"$f":"IF(E335=\"C\",0,IF(E335 =\"D\",ROUND(1/((1+Simulador!$Q$13)^A335),9) * 2,ROUND(1/((1+Simulador!$Q$13)^A335),9)))","v":6.0134840000000004E-3},64.036858165999973]
[333,333,"2052-02-01",2,{"$f":"IF(ISERROR(MATCH(D336,Simulador!$H$16:$H$17,0))=FALSE,\"C\",IF(ISERROR(MATCH(D336,Simulador!$H$18:$H$19,0))=FALSE,\"D\",\"\"))","v":""},{"$f":"IF(E336=\"C\",0,IF(E336 =\"D\",ROUND(1/((1+Simulador!$Q$13)^A336),9) * 2,ROUND(1/((1+Simulador!$Q$13)^A336),9)))","v":5.9215689999999998E-3},64.042779734999968]
[334,334,"2052-03-01",3,{"$f":"IF(ISERROR(MATCH(D337,Simulador!$H$16:$H$17,0))=FALSE,\"C\",IF(ISERROR(MATCH(D337,Simulador!$H$18:$H$19,0))=FALSE,\"D\",\"\"))","v":""},{"$f":"IF(E337=\"C\",0,IF(E337 =\"D\",ROUND(1/((1+Simulador!$Q$13)^A337),9) * 2,ROUND(1/((1+Simulador!$Q$13)^A337),9)))","v":5.8310580000000001E-3},64.048610792999966]
[335,335,"2052-04-01",4,{"$f":"IF(ISERROR(MATCH(D338,Simulador!$H$16:$H$17,0))=FALSE,\"C\",IF(ISERROR(MATCH(D338,Simulador!$H$18:$H$19,0))=FALSE,\"D\",\"\"))","v":""},{"$f":"IF(E338=\"C\",0,IF(E338 =\"D\",ROUND(1/((1+Simulador!$Q$13)^A338),9) * 2,ROUND(1/((1+Simulador!$Q$13)^A338),9)))","v":5.7419319999999999E-3},64.054352724999973]
[336,336,"2052-05-01",5,{"$f":"IF(ISERROR(MATCH(D339,Simulador!$H$16:$H$17,0))=FALSE,\"C\",IF(ISERROR(MATCH(D339,Simulador!$H$18:$H$19,0))=FALSE,\"D\",\"\"))","v":""},{"$f":"IF(E339=\"C\",0,IF(E339 =\"D\",ROUND(1/((1+Simulador!$Q$13)^A339),9) * 2,ROUND(1/((1+Simulador!$Q$13)^A339),9)))","v":5.6541669999999999E-3},64.060006891999976]
[337,337,"2052-06-01",6,{"$f":"IF(ISERROR(MATCH(D340,Simulador!$H$16:$H$17,0))=FALSE,\"C\",IF(ISERROR(MATCH(D340,Simulador!$H$18:$H$19,0))=FALSE,\"D\",\"\"))","v":""},{"$f":"IF(E340=\"C\",0,IF(E340 =\"D\",ROUND(1/((1+Simulador!$Q$13)^A340),9) * 2,ROUND(1/((1+Simulador!$Q$13)^A340),9)))","v":5.5677440000000003E-3},64.06557463599998]
[338,338,"2052-07-01",7,{"$f":"IF(ISERROR(MATCH(D341,Simulador!$H$16:$H$17,0))=FALSE,\"C\",IF(ISERROR(MATCH(D341,Simulador!$H$18:$H$19,0))=FALSE,\"D\",\"\"))","v":""},{"$f":"IF(E341=\"C\",0,IF(E341 =\"D\",ROUND(1/((1+Simulador!$Q$13)^A341),9) * 2,ROUND(1/((1+Simulador!$Q$13)^A341),9)))","v":5.4826420000000002E-3},64.071057277999984]
[339,339,"2052-08-01",8,{"$f":"IF(ISERROR(MATCH(D342,Simulador!$H$16:$H$17,0))=FALSE,\"C\",IF(ISERROR(MATCH(D342,Simulador!$H$18:$H$19,0))=FALSE,\"D\",\"\"))","v":""},{"$f":"IF(E342=\"C\",0,IF(E342 =\"D\",ROUND(1/((1+Simulador!$Q$13)^A342),9) * 2,ROUND(1/((1+Simulador!$Q$13)^A342),9)))","v":5.3988409999999997E-3},64.076456118999985]
[340,340,"2052-09-01",9,{"$f":"IF(ISERROR(MATCH(D343,Simulador!$H$16:$H$17,0))=FALSE,\"C\",IF(ISERROR(MATCH(D343,Simulador!$H$18:$H$19,0))=FALSE,\"D\",\"\"))","v":""},{"$f":"IF(E343=\"C\",0,IF(E343 =\"D\",ROUND(1/((1+Simulador!$Q$13)^A343),9) * 2,ROUND(1/((1+Simulador!$Q$13)^A343),9)))","v":5.3163200000000002E-3},64.081772438999991]
[341,341,"2052-10-01",10,{"$f":"IF(ISERROR(MATCH(D344,Simulador!$H$16:$H$17,0))=FALSE,\"C\",IF(ISERROR(MATCH(D344,Simulador!$H$18:$H$19,0))=FALSE,\"D\",\"\"))","v":""},{"$f":"IF(E344=\"C\",0,IF(E344 =\"D\",ROUND(1/((1+Simulador!$Q$13)^A344),9) * 2,ROUND(1/((1+Simulador!$Q$13)^A344),9)))","v":5.2350610000000001E-3},64.087007499999984]
[342,342,"2052-11-01",11,{"$f":"IF(ISERROR(MATCH(D345,Simulador!$H$16:$H$17,0))=FALSE,\"C\",IF(ISERROR(MATCH(D345,Simulador!$H$18:$H$19,0))=FALSE,\"D\",\"\"))","v":""},{"$f":"IF(E345=\"C\",0,IF(E345 =\"D\",ROUND(1/((1+Simulador!$Q$13)^A345),9) * 2,ROUND(1/((1+Simulador!$Q$13)^A345),9)))","v":5.1550440000000001E-3},64.09216254399999]
[343,343,"2052-12-01",12,{"$f":"IF(ISERROR(MATCH(D346,Simulador!$H$16:$H$17,0))=FALSE,\"C\",IF(ISERROR(MATCH(D346,Simulador!$H$18:$H$19,0))=FALSE,\"D\",\"\"))","v":""},{"$f":"IF(E346=\"C\",0,IF(E346 =\"D\",ROUND(1/((1+Simulador!$Q$13)^A346),9) * 2,ROUND(1/((1+Simulador!$Q$13)^A346),9)))","v":5.07625E-3},64.097238793999992]
[344,344,"2053-01-01",1,{"$f":"IF(ISERROR(MATCH(D347,Simulador!$H$16:$H$17,0))=FALSE,\"C\",IF(ISERROR(MATCH(D347,Simulador!$H$18:$H$19,0))=FALSE,\"D\",\"\"))","v":""},{"$f":"IF(E347=\"C\",0,IF(E347 =\"D\",ROUND(1/((1+Simulador!$Q$13)^A347),9) * 2,ROUND(1/((1+Simulador!$Q$13)^A347),9)))","v":4.9986600000000003E-3},64.10223745399999]
[345,345,"2053-02-01",2,{"$f":"IF(ISERROR(MATCH(D348,Simulador!$H$16:$H$17,0))=FALSE,\"C\",IF(ISERROR(MATCH(D348,Simulador!$H$18:$H$19,0))=FALSE,\"D\",\"\"))","v":""},{"$f":"IF(E348=\"C\",0,IF(E348 =\"D\",ROUND(1/((1+Simulador!$Q$13)^A348),9) * 2,ROUND(1/((1+Simulador!$Q$13)^A348),9)))","v":4.9222559999999999E-3},64.107159709999991]
[346,346,"2053-03-01",3,{"$f":"IF(ISERROR(MATCH(D349,Simulador!$H$16:$H$17,0))=FALSE,\"C\",IF(ISERROR(MATCH(D349,Simulador!$H$18:$H$19,0))=FALSE,\"D\",\"\"))","v":""},{"$f":"IF(E349=\"C\",0,IF(E349 =\"D\",ROUND(1/((1+Simulador!$Q$13)^A349),9) * 2,ROUND(1/((1+Simulador!$Q$13)^A349),9)))","v":4.8470199999999996E-3},64.11200672999999]
[347,347,"2053-04-01",4,{"$f":"IF(ISERROR(MATCH(D350,Simulador!$H$16:$H$17,0))=FALSE,\"C\",IF(ISERROR(MATCH(D350,Simulador!$H$18:$H$19,0))=FALSE,\"D\",\"\"))","v":""},{"$f":"IF(E350=\"C\",0,IF(E350 =\"D\",ROUND(1/((1+Simulador!$Q$13)^A350),9) * 2,ROUND(1/((1+Simulador!$Q$13)^A350),9)))","v":4.7729340000000004E-3},64.116779663999992]
[348,348,"2053-05-01",5,{"$f":"IF(ISERROR(MATCH(D351,Simulador!$H$16:$H$17,0))=FALSE,\"C\",IF(ISERROR(MATCH(D351,Simulador!$H$18:$H$19,0))=FALSE,\"D\",\"\"))","v":""},{"$f":"IF(E351=\"C\",0,IF(E351 =\"D\",ROUND(1/((1+Simulador!$Q$13)^A351),9) * 2,ROUND(1/((1+Simulador!$Q$13)^A351),9)))","v":4.6999809999999998E-3},64.121479644999994]
[349,349,"2053-06-01",6,{"$f":"IF(ISERROR(MATCH(D352,Simulador!$H$16:$H$17,0))=FALSE,\"C\",IF(ISERROR(MATCH(D352,Simulador!$H$18:$H$19,0))=FALSE,\"D\",\"\"))","v":""},{"$f":"IF(E352=\"C\",0,IF(E352 =\"D\",ROUND(1/((1+Simulador!$Q$13)^A352),9) * 2,ROUND(1/((1+Simulador!$Q$13)^A352),9)))","v":4.628142E-3},64.126107786999995]
[350,350,"2053-07-01",7,{"$f":"IF(ISERROR(MATCH(D353,Simulador!$H$16:$H$17,0))=FALSE,\"C\",IF(ISERROR(MATCH(D353,Simulador!$H$18:$H$19,0))=FALSE,\"D\",\"\"))","v":""},{"$f":"IF(E353=\"C\",0,IF(E353 =\"D\",ROUND(1/((1+Simulador!$Q$13)^A353),9) * 2,ROUND(1/((1+Simulador!$Q$13)^A353),9)))","v":4.5574020000000003E-3},64.130665188999998]
[351,351,"2053-08-01",8,{"$f":"IF(ISERROR(MATCH(D354,Simulador!$H$16:$H$17,0))=FALSE,\"C\",IF(ISERROR(MATCH(D354,Simulador!$H$18:$H$19,0))=FALSE,\"D\",\"\"))","v":""},{"$f":"IF(E354=\"C\",0,IF(E354 =\"D\",ROUND(1/((1+Simulador!$Q$13)^A354),9) * 2,ROUND(1/((1+Simulador!$Q$13)^A354),9)))","v":4.4877429999999998E-3},64.135152931999997]
[352,352,"2053-09-01",9,{"$f":"IF(ISERROR(MATCH(D355,Simulador!$H$16:$H$17,0))=FALSE,\"C\",IF(ISERROR(MATCH(D355,Simulador!$H$18:$H$19,0))=FALSE,\"D\",\"\"))","v":""},{"$f":"IF(E355=\"C\",0,IF(E355 =\"D\",ROUND(1/((1+Simulador!$Q$13)^A355),9) * 2,ROUND(1/((1+Simulador!$Q$13)^A355),9)))","v":4.4191480000000003E-3},64.139572079999994]
[353,353,"2053-10-01",10,{"$f":"IF(ISERROR(MATCH(D356,Simulador!$H$16:$H$17,0))=FALSE,\"C\",IF(ISERROR(MATCH(D356,Simulador!$H$18:$H$19,0))=FALSE,\"D\",\"\"))","v":""},{"$f":"IF(E356=\"C\",0,IF(E356 =\"D\",ROUND(1/((1+Simulador!$Q$13)^A356),9) * 2,ROUND(1/((1+Simulador!$Q$13)^A356),9)))","v":4.3516020000000004E-3},64.143923681999993]
[354,354,"2053-11-01",11,{"$f":"IF(ISERROR(MATCH(D357,Simulador!$H$16:$H$17,0))=FALSE,\"C\",IF(ISERROR(MATCH(D357,Simulador!$H$18:$H$19,0))=FALSE,\"D\",\"\"))","v":""},{"$f":"IF(E357=\"C\",0,IF(E357 =\"D\",ROUND(1/((1+Simulador!$Q$13)^A357),9) * 2,ROUND(1/((1+Simulador!$Q$13)^A357),9)))","v":4.2850889999999997E-3},64.148208771]
[355,355,"2053-12-01",12,{"$f":"IF(ISERROR(MATCH(D358,Simulador!$H$16:$H$17,0))=FALSE,\"C\",IF(ISERROR(MATCH(D358,Simulador!$H$18:$H$19,0))=FALSE,\"D\",\"\"))","v":""},{"$f":"IF(E358=\"C\",0,IF(E358 =\"D\",ROUND(1/((1+Simulador!$Q$13)^A358),9) * 2,ROUND(1/((1+Simulador!$Q$13)^A358),9)))","v":4.2195920000000003E-3},64.152428362999999]
[356,356,"2054-01-01",1,{"$f":"IF(ISERROR(MATCH(D359,Simulador!$H$16:$H$17,0))=FALSE,\"C\",IF(ISERROR(MATCH(D359,Simulador!$H$18:$H$19,0))=FALSE,\"D\",\"\"))","v":""},{"$f":"IF(E359=\"C\",0,IF(E359 =\"D\",ROUND(1/((1+Simulador!$Q$13)^A359),9) * 2,ROUND(1/((1+Simulador!$Q$13)^A359),9)))","v":4.1550959999999996E-3},64.156583459000004]
[357,357,"2054-02-01",2,{"$f":"IF(ISERROR(MATCH(D360,Simulador!$H$16:$H$17,0))=FALSE,\"C\",IF(ISERROR(MATCH(D360,Simulador!$H$18:$H$19,0))=FALSE,\"D\",\"\"))","v":""},{"$f":"IF(E360=\"C\",0,IF(E360 =\"D\",ROUND(1/((1+Simulador!$Q$13)^A360),9) * 2,ROUND(1/((1+Simulador!$Q$13)^A360),9)))","v":4.0915860000000004E-3},64.160675045000005]
[358,358,"2054-03-01",3,{"$f":"IF(ISERROR(MATCH(D361,Simulador!$H$16:$H$17,0))=FALSE,\"C\",IF(ISERROR(MATCH(D361,Simulador!$H$18:$H$19,0))=FALSE,\"D\",\"\"))","v":""},{"$f":"IF(E361=\"C\",0,IF(E361 =\"D\",ROUND(1/((1+Simulador!$Q$13)^A361),9) * 2,ROUND(1/((1+Simulador!$Q$13)^A361),9)))","v":4.029047E-3},64.164704092000008]
[359,359,"2054-04-01",4,{"$f":"IF(ISERROR(MATCH(D362,Simulador!$H$16:$H$17,0))=FALSE,\"C\",IF(ISERROR(MATCH(D362,Simulador!$H$18:$H$19,0))=FALSE,\"D\",\"\"))","v":""},{"$f":"IF(E362=\"C\",0,IF(E362 =\"D\",ROUND(1/((1+Simulador!$Q$13)^A362),9) * 2,ROUND(1/((1+Simulador!$Q$13)^A362),9)))","v":3.9674630000000001E-3},64.168671555000003]
[360,360,"2054-05-01",5,{"$f":"IF(ISERROR(MATCH(D363,Simulador!$H$16:$H$17,0))=FALSE,\"C\",IF(ISERROR(MATCH(D363,Simulador!$H$18:$H$19,0))=FALSE,\"D\",\"\"))","v":""},{"$f":"IF(E363=\"C\",0,IF(E363 =\"D\",ROUND(1/((1+Simulador!$Q$13)^A363),9) * 2,ROUND(1/((1+Simulador!$Q$13)^A363),9)))","v":3.9068210000000004E-3},64.172578376000004]
[361,361,"2054-06-01",6,{"$f":"IF(ISERROR(MATCH(D364,Simulador!$H$16:$H$17,0))=FALSE,\"C\",IF(ISERROR(MATCH(D364,Simulador!$H$18:$H$19,0))=FALSE,\"D\",\"\"))","v":""},{"$f":"IF(E364=\"C\",0,IF(E364 =\"D\",ROUND(1/((1+Simulador!$Q$13)^A364),9) * 2,ROUND(1/((1+Simulador!$Q$13)^A364),9)))","v":3.8471059999999999E-3},64.176425481999999]
[362,362,"2054-07-01",7,{"$f":"IF(ISERROR(MATCH(D365,Simulador!$H$16:$H$17,0))=FALSE,\"C\",IF(ISERROR(MATCH(D365,Simulador!$H$18:$H$19,0))=FALSE,\"D\",\"\"))","v":""},{"$f":"IF(E365=\"C\",0,IF(E365 =\"D\",ROUND(1/((1+Simulador!$Q$13)^A365),9) * 2,ROUND(1/((1+Simulador!$Q$13)^A365),9)))","v":3.7883040000000002E-3},64.180213785999996]
[363,363,"2054-08-01",8,{"$f":"IF(ISERROR(MATCH(D366,Simulador!$H$16:$H$17,0))=FALSE,\"C\",IF(ISERROR(MATCH(D366,Simulador!$H$18:$H$19,0))=FALSE,\"D\",\"\"))","v":""},{"$f":"IF(E366=\"C\",0,IF(E366 =\"D\",ROUND(1/((1+Simulador!$Q$13)^A366),9) * 2,ROUND(1/((1+Simulador!$Q$13)^A366),9)))","v":3.7304E-3},64.183944185999991]
[364,364,"2054-09-01",9,{"$f":"IF(ISERROR(MATCH(D367,Simulador!$H$16:$H$17,0))=FALSE,\"C\",IF(ISERROR(MATCH(D367,Simulador!$H$18:$H$19,0))=FALSE,\"D\",\"\"))","v":""},{"$f":"IF(E367=\"C\",0,IF(E367 =\"D\",ROUND(1/((1+Simulador!$Q$13)^A367),9) * 2,ROUND(1/((1+Simulador!$Q$13)^A367),9)))","v":3.6733809999999999E-3},64.18761756699999]
[365,365,"2054-10-01",10,{"$f":"IF(ISERROR(MATCH(D368,Simulador!$H$16:$H$17,0))=FALSE,\"C\",IF(ISERROR(MATCH(D368,Simulador!$H$18:$H$19,0))=FALSE,\"D\",\"\"))","v":""},{"$f":"IF(E368=\"C\",0,IF(E368 =\"D\",ROUND(1/((1+Simulador!$Q$13)^A368),9) * 2,ROUND(1/((1+Simulador!$Q$13)^A368),9)))","v":3.617234E-3},64.191234800999993]
[366,366,"2054-11-01",11,{"$f":"IF(ISERROR(MATCH(D369,Simulador!$H$16:$H$17,0))=FALSE,\"C\",IF(ISERROR(MATCH(D369,Simulador!$H$18:$H$19,0))=FALSE,\"D\",\"\"))","v":""},{"$f":"IF(E369=\"C\",0,IF(E369 =\"D\",ROUND(1/((1+Simulador!$Q$13)^A369),9) * 2,ROUND(1/((1+Simulador!$Q$13)^A369),9)))","v":3.561945E-3},64.194796745999994]
[367,367,"2054-12-01",12,{"$f":"IF(ISERROR(MATCH(D370,Simulador!$H$16:$H$17,0))=FALSE,\"C\",IF(ISERROR(MATCH(D370,Simulador!$H$18:$H$19,0))=FALSE,\"D\",\"\"))","v":""},{"$f":"IF(E370=\"C\",0,IF(E370 =\"D\",ROUND(1/((1+Simulador!$Q$13)^A370),9) * 2,ROUND(1/((1+Simulador!$Q$13)^A370),9)))","v":3.507502E-3},64.198304247999999]
[368,368,"2055-01-01",1,{"$f":"IF(ISERROR(MATCH(D371,Simulador!$H$16:$H$17,0))=FALSE,\"C\",IF(ISERROR(MATCH(D371,Simulador!$H$18:$H$19,0))=FALSE,\"D\",\"\"))","v":""},{"$f":"IF(E371=\"C\",0,IF(E371 =\"D\",ROUND(1/((1+Simulador!$Q$13)^A371),9) * 2,ROUND(1/((1+Simulador!$Q$13)^A371),9)))","v":3.4538899999999998E-3},64.201758138000002]
[369,369,"2055-02-01",2,{"$f":"IF(ISERROR(MATCH(D372,Simulador!$H$16:$H$17,0))=FALSE,\"C\",IF(ISERROR(MATCH(D372,Simulador!$H$18:$H$19,0))=FALSE,\"D\",\"\"))","v":""},{"$f":"IF(E372=\"C\",0,IF(E372 =\"D\",ROUND(1/((1+Simulador!$Q$13)^A372),9) * 2,ROUND(1/((1+Simulador!$Q$13)^A372),9)))","v":3.401098E-3},64.205159236]
[370,370,"2055-03-01",3,{"$f":"IF(ISERROR(MATCH(D373,Simulador!$H$16:$H$17,0))=FALSE,\"C\",IF(ISERROR(MATCH(D373,Simulador!$H$18:$H$19,0))=FALSE,\"D\",\"\"))","v":""},{"$f":"IF(E373=\"C\",0,IF(E373 =\"D\",ROUND(1/((1+Simulador!$Q$13)^A373),9) * 2,ROUND(1/((1+Simulador!$Q$13)^A373),9)))","v":3.3491129999999999E-3},64.208508348999999]
[371,371,"2055-04-01",4,{"$f":"IF(ISERROR(MATCH(D374,Simulador!$H$16:$H$17,0))=FALSE,\"C\",IF(ISERROR(MATCH(D374,Simulador!$H$18:$H$19,0))=FALSE,\"D\",\"\"))","v":""},{"$f":"IF(E374=\"C\",0,IF(E374 =\"D\",ROUND(1/((1+Simulador!$Q$13)^A374),9) * 2,ROUND(1/((1+Simulador!$Q$13)^A374),9)))","v":3.297922E-3},64.211806271]
[372,372,"2055-05-01",5,{"$f":"IF(ISERROR(MATCH(D375,Simulador!$H$16:$H$17,0))=FALSE,\"C\",IF(ISERROR(MATCH(D375,Simulador!$H$18:$H$19,0))=FALSE,\"D\",\"\"))","v":""},{"$f":"IF(E375=\"C\",0,IF(E375 =\"D\",ROUND(1/((1+Simulador!$Q$13)^A375),9) * 2,ROUND(1/((1+Simulador!$Q$13)^A375),9)))","v":3.247514E-3},64.215053784999995]
[373,373,"2055-06-01",6,{"$f":"IF(ISERROR(MATCH(D376,Simulador!$H$16:$H$17,0))=FALSE,\"C\",IF(ISERROR(MATCH(D376,Simulador!$H$18:$H$19,0))=FALSE,\"D\",\"\"))","v":""},{"$f":"IF(E376=\"C\",0,IF(E376 =\"D\",ROUND(1/((1+Simulador!$Q$13)^A376),9) * 2,ROUND(1/((1+Simulador!$Q$13)^A376),9)))","v":3.1978760000000001E-3},64.218251660999996]
[374,374,"2055-07-01",7,{"$f":"IF(ISERROR(MATCH(D377,Simulador!$H$16:$H$17,0))=FALSE,\"C\",IF(ISERROR(MATCH(D377,Simulador!$H$18:$H$19,0))=FALSE,\"D\",\"\"))","v":""},{"$f":"IF(E377=\"C\",0,IF(E377 =\"D\",ROUND(1/((1+Simulador!$Q$13)^A377),9) * 2,ROUND(1/((1+Simulador!$Q$13)^A377),9)))","v":3.1489970000000002E-3},64.221400657999993]
[375,375,"2055-08-01",8,{"$f":"IF(ISERROR(MATCH(D378,Simulador!$H$16:$H$17,0))=FALSE,\"C\",IF(ISERROR(MATCH(D378,Simulador!$H$18:$H$19,0))=FALSE,\"D\",\"\"))","v":""},{"$f":"IF(E378=\"C\",0,IF(E378 =\"D\",ROUND(1/((1+Simulador!$Q$13)^A378),9) * 2,ROUND(1/((1+Simulador!$Q$13)^A378),9)))","v":3.100865E-3},64.224501522999986]
[376,376,"2055-09-01",9,{"$f":"IF(ISERROR(MATCH(D379,Simulador!$H$16:$H$17,0))=FALSE,\"C\",IF(ISERROR(MATCH(D379,Simulador!$H$18:$H$19,0))=FALSE,\"D\",\"\"))","v":""},{"$f":"IF(E379=\"C\",0,IF(E379 =\"D\",ROUND(1/((1+Simulador!$Q$13)^A379),9) * 2,ROUND(1/((1+Simulador!$Q$13)^A379),9)))","v":3.0534690000000001E-3},64.22755499199998]
[377,377,"2055-10-01",10,{"$f":"IF(ISERROR(MATCH(D380,Simulador!$H$16:$H$17,0))=FALSE,\"C\",IF(ISERROR(MATCH(D380,Simulador!$H$18:$H$19,0))=FALSE,\"D\",\"\"))","v":""},{"$f":"IF(E380=\"C\",0,IF(E380 =\"D\",ROUND(1/((1+Simulador!$Q$13)^A380),9) * 2,ROUND(1/((1+Simulador!$Q$13)^A380),9)))","v":3.0067969999999999E-3},64.230561788999978]
[378,378,"2055-11-01",11,{"$f":"IF(ISERROR(MATCH(D381,Simulador!$H$16:$H$17,0))=FALSE,\"C\",IF(ISERROR(MATCH(D381,Simulador!$H$18:$H$19,0))=FALSE,\"D\",\"\"))","v":""},{"$f":"IF(E381=\"C\",0,IF(E381 =\"D\",ROUND(1/((1+Simulador!$Q$13)^A381),9) * 2,ROUND(1/((1+Simulador!$Q$13)^A381),9)))","v":2.9608389999999998E-3},64.233522627999974]
[379,379,"2055-12-01",12,{"$f":"IF(ISERROR(MATCH(D382,Simulador!$H$16:$H$17,0))=FALSE,\"C\",IF(ISERROR(MATCH(D382,Simulador!$H$18:$H$19,0))=FALSE,\"D\",\"\"))","v":""},{"$f":"IF(E382=\"C\",0,IF(E382 =\"D\",ROUND(1/((1+Simulador!$Q$13)^A382),9) * 2,ROUND(1/((1+Simulador!$Q$13)^A382),9)))","v":2.9155829999999998E-3},64.236438210999978]
[380,380,"2056-01-01",1,{"$f":"IF(ISERROR(MATCH(D383,Simulador!$H$16:$H$17,0))=FALSE,\"C\",IF(ISERROR(MATCH(D383,Simulador!$H$18:$H$19,0))=FALSE,\"D\",\"\"))","v":""},{"$f":"IF(E383=\"C\",0,IF(E383 =\"D\",ROUND(1/((1+Simulador!$Q$13)^A383),9) * 2,ROUND(1/((1+Simulador!$Q$13)^A383),9)))","v":2.8710179999999999E-3},64.239309228999971]
[381,381,"2056-02-01",2,{"$f":"IF(ISERROR(MATCH(D384,Simulador!$H$16:$H$17,0))=FALSE,\"C\",IF(ISERROR(MATCH(D384,Simulador!$H$18:$H$19,0))=FALSE,\"D\",\"\"))","v":""},{"$f":"IF(E384=\"C\",0,IF(E384 =\"D\",ROUND(1/((1+Simulador!$Q$13)^A384),9) * 2,ROUND(1/((1+Simulador!$Q$13)^A384),9)))","v":2.8271350000000002E-3},64.242136363999975]
[382,382,"2056-03-01",3,{"$f":"IF(ISERROR(MATCH(D385,Simulador!$H$16:$H$17,0))=FALSE,\"C\",IF(ISERROR(MATCH(D385,Simulador!$H$18:$H$19,0))=FALSE,\"D\",\"\"))","v":""},{"$f":"IF(E385=\"C\",0,IF(E385 =\"D\",ROUND(1/((1+Simulador!$Q$13)^A385),9) * 2,ROUND(1/((1+Simulador!$Q$13)^A385),9)))","v":2.7839230000000002E-3},64.244920286999971]
[383,383,"2056-04-01",4,{"$f":"IF(ISERROR(MATCH(D386,Simulador!$H$16:$H$17,0))=FALSE,\"C\",IF(ISERROR(MATCH(D386,Simulador!$H$18:$H$19,0))=FALSE,\"D\",\"\"))","v":""},{"$f":"IF(E386=\"C\",0,IF(E386 =\"D\",ROUND(1/((1+Simulador!$Q$13)^A386),9) * 2,ROUND(1/((1+Simulador!$Q$13)^A386),9)))","v":2.7413709999999998E-3},64.24766165799997]