{"text_format":"1","workbook":"xlsx","n_sheets":6,"sheets":["Simulador Credito Hipotecario","Hoja1","Cronograma","Simulador CHIP Final","Calculos CHIP","Parametros"],"not_rendered":{"charts":0,"images":16,"macros":1,"external_links":0,"defined_names":2,"comments":1,"pivot_tables":0},"unopened":[],"bounds":{"document_bytes":16777216,"sheet_cells":100000,"rows_first":2000,"rows_last":500,"rows_between":2000,"halvings":0,"cell_chars":16384,"cell_head_chars":4096},"cells_cut":0,"cells_raw":0,"read":"whole","date_system":"1900"}

{"sheet":"Simulador Credito Hipotecario","index":0,"n_rows":47,"n_cols":8,"rows_kept":47,"cut":false,"hidden":false,"merged":[[46,0,49,8],[41,3,41,5],[12,3,12,5],[13,3,13,5],[4,3,4,5],[15,3,15,5],[11,3,11,5],[20,3,20,5],[40,3,40,5],[42,3,42,5],[30,3,30,5],[31,3,31,5],[24,3,24,5],[9,3,9,5],[3,3,3,5],[6,3,6,5],[7,3,7,5],[8,3,8,5],[10,3,10,5],[1,1,1,7],[33,3,33,5],[35,3,35,5],[14,3,14,5],[29,3,29,5],[19,3,19,5],[23,3,23,5],[22,3,22,5],[21,3,21,5],[26,3,26,5],[25,3,25,5],[27,3,27,5],[18,3,18,5],[28,3,28,5],[16,3,16,5],[17,3,17,5]]}
[]
[null,"SIMULADOR CRÉDITO HIPOTECARIO"]
[]
[null,"  Moneda"]
[null,"  Producto"]
[]
[null,"  Fecha de solicitud",null,"2025-01-14",null,null,"(dd/mm/aaaa)"]
[null,"  Plazo en meses",null,0]
[null,"  Días de Gracia",null,0]
[]
[null,"  Fecha de vencimiento (1° cuota)",null,"2025-02-14"]
[null,"  Cuota de Interés por periodo de gracia",null,0]
[null,"  Valor del bien (inmueble)",null,0]
[null,"  Valor Comercial / Valor Reconstrucción ",null,0]
[null,"  Cuota Inicial",null,0]
[]
[]
[]
[]
[null,"  Monto del préstamo",null,0]
[null,"  Gastos Previos",null,0]
[]
[]
[null,"  Monto financiamento total",null,0]
[]
[null,"  Tasa de interés efectiva anual % (base a 360 días) fija.",null,0]
[null,"  Tipo de seguro de desgravamen"]
[null,"  Tasa mensual de seguro de desgravamen",null,0]
[null,"  Tipo de seguro de inmueble",null,"SEGURO TODO RIESGO (*) "]
[null,"  Tasa mensual de seguro Todo Riesgo",null,0]
[null,"  Tipo de envío estado de cuenta"]
[null,"  Monto de envío de estado de cuenta",null,0]
[]
[null,"  Cuota doble Mes 1"]
[]
[null,"  Cuota doble Mes 2"]
[]
[]
[]
[]
[null,"Cuota Total Mensual",null,0]
[]
[null,"TCEA (base de 360 días)",null,0]
[]
[null,"Amortización","Interés","Cuota de Gracia","Com. Envío Inf. Perio.","Seguro Desgravamen","Seguro Todo Riesgo","Total de Cuotas"]
[null,0,0,0,0,0,0,0]
["NOTA: Para hacer uso del simulador, debe tener habilitado la opción de macros \n- La simulación obtenida no representa la aprobación del crédito, la cual esta sujeta a evaluación crediticia del Banco.                                                                                                                                                                                                                                                                                                                                              - Las cuotas son referenciales, sujetas a calificación y a la fecha de desembolso del crédito. No incluye ITF.                                                                                                                                                                                                                                                                                                                                                                           - La TEA aplicada a esta simulación es fija.                                                                                                                                                                                                                                                                                                                                                                                                                                                                                                                                               - La TCEA (Tasa de Costo Efectivo Anual) es referencial, Incluye comisiones y seguros asociados al crédito.                                                                                                                                                                                                                                                                                                                                                                                                                                                                                                                        - El seguro desgravamen es obligatorio y se calcula sobre el saldo insoluto de la deuda. El costo del seguro es el cobrado por la aseguradora.                                                                                                                                                                                                                                                                                              - El cliente podrá adquirir el seguro de desgravamen en nuestras oficinas o de forma particular. En este último caso, deberá endosarlo a favor del Banco, y el seguro deberá tener las mismas coberturas que el /los comercializado(s) por el Banco y cubrir el 100% el importe de capital adeudado.                                                                                                                                                                                                                                                                                                                                                                                                                                                                                                                                                       - En relación al Seguro de desgravamen con devolución, aplica solo para créditos financiados desde 25 meses a más. Devolución del 25% de las primas pagadas al término del cronograma inicial.                                                                                                                                                                - La cuata de gracia es el periodo de gracia que transcurre entre la fecha de desembolso del crédito y el día en que se inicia el devengo de la cuota a pagar, lo cual ocurre un mes antes del primer vencimiento de pago. - Esta información se proporciona de acuerdo con el Reglamento de Gestión de Conducta de Mercado del Sistema Financiero\n(*) Téngase en cuenta que en caso de tratarse de un Crédito Hipotecario de bien futuro, se empezará a cobrar el Seguro Todo Riesgo a razón de un 0.0308% mensual del valor comercial del inmueble según tasación, a partir de la fecha de entrega del mismo consignada en la minuta compraventa."]

{"sheet":"Hoja1","index":1,"n_rows":0,"n_cols":0,"rows_kept":0,"cut":false,"hidden":true,"merged":[]}

{"sheet":"Cronograma","index":2,"n_rows":308,"n_cols":11,"rows_kept":308,"cut":false,"hidden":false,"merged":[[1,1,1,10],[2,1,3,10],[5,1,5,3],[0,1,0,10]]}
[]
[null,"SIMULADOR CRÉDITO HIPOTECARIO"]
[null,"NOTA: Todo crédito se encuentra sujeto a evaluación crediticia del Banco, quien determina el monto y plazo a otorgar. Este documento ha sido emitido en base a la información proporcionada por el cliente y tiene carácter referencial"]
[]
[null,null,null,null,"Amortización","Interés","Cuota de Gracia","Com. Envío Inf. Perio.","Seguro Desgravamen","Seguro Todo Riesgo","Cuota"]
[null,"    TOTALES A PAGAR",null,null,199000.28000015041,327649.25999999983,0,0,19684.960000000025,22175.999999999876,568510.50000014959]
[]
[null,"Nº","Fecha de Pago","Saldo Capital","Amortización","Interés","Cuota de Gracia","Com. Envío Inf. Perio.","Seguro Desgravamen","Seguro Todo Riesgo","Cuota"]
[null,1,"2025-02-14",199000,119.05500000050147,1608.53,0,0,93.53,73.92,1895.0350000005014]
[null,2,"2025-03-14",198880.95,282.44500000050135,1451.43,0,0,87.24,73.92,1895.0350000005014]
[null,3,"2025-04-14",198598.51,119.38500000050148,1605.28,0,0,96.45,73.92,1895.0350000005017]
[null,4,"2025-05-14",198479.13,175.4650000005015,1552.36,0,0,93.29,73.92,1895.0350000005014]
[null,5,"2025-06-14",198303.67,121.90500000050135,1602.9,0,0,96.31,73.92,1895.0350000005014]
[null,6,"2025-07-14",198181.77,177.92500000050148,1550.04,0,0,93.15,73.92,1895.0350000005017]
[null,7,"2025-08-14",198003.84,124.47500000050142,1600.48,0,0,96.16,73.92,1895.0350000005017]
[null,8,"2025-09-14",197879.36,125.54500000050142,1599.47,0,0,96.1,73.92,1895.0350000005014]
[null,9,"2025-10-14",197753.81,181.48500000050137,1546.69,0,0,92.94,73.92,1895.0350000005014]
[null,10,"2025-11-14",197572.32,128.17500000050143,1596.99,0,0,95.95,73.92,1895.0350000005017]
[null,11,"2025-12-14",197444.14,184.04500000050143,1544.27,0,0,92.8,73.92,1895.0350000005014]
[null,12,"2026-01-14",197260.1,130.85500000050138,1594.46,0,0,95.8,73.92,1895.0350000005014]
[null,13,"2026-02-14",197129.25,131.96500000050133,1593.41,0,0,95.74,73.92,1895.0350000005014]
[null,14,"2026-03-14",196997.29,297.01500000050135,1437.68,0,0,86.42,73.92,1895.0350000005014]
[null,15,"2026-04-14",196700.27,135.6450000005014,1589.94,0,0,95.53,73.92,1895.0350000005014]
[null,16,"2026-05-14",196564.62,191.33500000050134,1537.39,0,0,92.39,73.92,1895.0350000005017]
[null,17,"2026-06-14",196373.28,138.44500000050147,1587.3,0,0,95.37,73.92,1895.0350000005014]
[null,18,"2026-07-14",196234.83,194.07500000050146,1534.81,0,0,92.23,73.92,1895.0350000005014]
[null,19,"2026-08-14",196040.75,141.29500000050155,1584.61,0,0,95.21,73.92,1895.0350000005014]
[null,20,"2026-09-14",195899.45,142.50500000050141,1583.47,0,0,95.14,73.92,1895.0350000005017]
[null,21,"2026-10-14",195756.95,198.0350000005015,1531.07,0,0,92.01,73.92,1895.0350000005014]
[null,22,"2026-11-14",195558.92,145.42500000050137,1580.71,0,0,94.98,73.92,1895.0350000005014]
[null,23,"2026-12-14",195413.5,200.88500000050129,1528.39,0,0,91.84,73.92,1895.0350000005014]
[null,24,"2027-01-14",195212.61,148.39500000050134,1577.91,0,0,94.81,73.92,1895.0350000005014]
[null,25,"2027-02-14",195064.21,149.66500000050138,1576.71,0,0,94.74,73.92,1895.0350000005014]
[null,26,"2027-03-14",194914.54,313.13500000050141,1422.48,0,0,85.5,73.92,1895.0350000005014]
[null,27,"2027-04-14",194601.41,153.63500000050141,1572.97,0,0,94.51,73.92,1895.0350000005014]
[null,28,"2027-05-14",194447.77,208.89500000050151,1520.83,0,0,91.39,73.92,1895.0350000005017]
[null,29,"2027-06-14",194238.87,156.73500000050149,1570.04,0,0,94.34,73.92,1895.0350000005014]
[null,30,"2027-07-14",194082.13,211.92500000050137,1517.97,0,0,91.22,73.92,1895.0350000005014]
[null,31,"2027-08-14",193870.2,159.89500000050151,1567.06,0,0,94.16,73.92,1895.0350000005017]
[null,32,"2027-09-14",193710.3,161.26500000050146,1565.77,0,0,94.08,73.92,1895.0350000005014]
[null,33,"2027-10-14",193549.03,216.34500000050144,1513.8,0,0,90.97,73.92,1895.0350000005014]
[null,34,"2027-11-14",193332.69,164.49500000050142,1562.72,0,0,93.9,73.92,1895.0350000005017]
[null,35,"2027-12-14",193168.2,219.50500000050147,1510.82,0,0,90.79,73.92,1895.0350000005014]
[null,36,"2028-01-14",192948.7,167.79500000050155,1559.61,0,0,93.71,73.92,1895.0350000005014]
[null,37,"2028-02-14",192780.91,169.22500000050144,1558.26,0,0,93.63,73.92,1895.0350000005014]
[null,38,"2028-03-14",192611.69,277.5350000005015,1456.07,0,0,87.51,73.92,1895.0350000005014]
[null,39,"2028-04-14",192334.16,173.05500000050137,1554.65,0,0,93.41,73.92,1895.0350000005017]
[null,40,"2028-05-14",192161.11,227.84500000050139,1502.95,0,0,90.32,73.92,1895.0350000005014]
[null,41,"2028-06-14",191933.26,176.48500000050137,1551.41,0,0,93.22,73.92,1895.0350000005017]
[null,42,"2028-07-14",191756.77,231.19500000050147,1499.79,0,0,90.13,73.92,1895.0350000005014]
[null,43,"2028-08-14",191525.57,179.98500000050154,1548.11,0,0,93.02,73.92,1895.0350000005014]
[null,44,"2028-09-14",191345.58,181.52500000050134,1546.66,0,0,92.93,73.92,1895.0350000005017]
[null,45,"2028-10-14",191164.05,236.11500000050131,1495.15,0,0,89.85,73.92,1895.0350000005014]
[null,46,"2028-11-14",190927.93,185.10500000050143,1543.28,0,0,92.73,73.92,1895.0350000005014]
[null,47,"2028-12-14",190742.82,239.61500000050154,1491.85,0,0,89.65,73.92,1895.0350000005017]
[null,48,"2029-01-14",190503.2,188.74500000050153,1539.85,0,0,92.52,73.92,1895.0350000005014]
[null,49,"2029-02-14",190314.46,190.36500000050148,1538.32,0,0,92.43,73.92,1895.0350000005017]
[null,50,"2029-03-14",190124.09,350.19500000050147,1387.52,0,0,83.4,73.92,1895.0350000005017]
[null,51,"2029-04-14",189773.89,194.99500000050136,1533.95,0,0,92.17,73.92,1895.0350000005014]
[null,52,"2029-05-14",189578.9,249.2650000005014,1482.75,0,0,89.1,73.92,1895.0350000005014]
[null,53,"2029-06-14",189329.63,198.80500000050154,1530.36,0,0,91.95,73.92,1895.0350000005017]
[null,54,"2029-07-14",189130.83,252.97500000050144,1479.25,0,0,88.89,73.92,1895.0350000005017]
[null,55,"2029-08-14",188877.85,202.67500000050137,1526.71,0,0,91.73,73.92,1895.0350000005014]
[null,56,"2029-09-14",188675.17,204.41500000050149,1525.07,0,0,91.63,73.92,1895.0350000005014]
[null,57,"2029-10-14",188470.76,258.45500000050151,1474.08,0,0,88.58,73.92,1895.0350000005014]
[null,58,"2029-11-14",188212.3,208.37500000050153,1521.33,0,0,91.41,73.92,1895.0350000005017]
[null,59,"2029-12-14",188003.92,262.32500000050135,1470.43,0,0,88.36,73.92,1895.0350000005014]
[null,60,"2030-01-14",187741.6,212.41500000050144,1517.52,0,0,91.18,73.92,1895.0350000005017]
[null,61,"2030-02-14",187529.19,214.2250000005015,1515.81,0,0,91.08,73.92,1895.0350000005014]
[null,62,"2030-03-14",187314.97,371.92500000050143,1367.02,0,0,82.17,73.92,1895.0350000005014]
[null,63,"2030-04-14",186943.04,219.25500000050147,1511.07,0,0,90.79,73.92,1895.0350000005014]
[null,64,"2030-05-14",186723.79,272.93500000050136,1460.42,0,0,87.76,73.92,1895.0350000005014]
[null,65,"2030-06-14",186450.86,223.4750000005015,1507.09,0,0,90.55,73.92,1895.0350000005014]
[null,66,"2030-07-14",186227.38,277.04500000050149,1456.54,0,0,87.53,73.92,1895.0350000005014]
[null,67,"2030-08-14",185950.33,227.75500000050147,1503.05,0,0,90.31,73.92,1895.0350000005014]
[null,68,"2030-09-14",185722.57,229.71500000050139,1501.2,0,0,90.2,73.92,1895.0350000005017]
[null,69,"2030-10-14",185492.86,283.14500000050145,1450.79,0,0,87.18,73.92,1895.0350000005017]
[null,70,"2030-11-14",185209.71,234.10500000050149,1497.06,0,0,89.95,73.92,1895.0350000005017]
[null,71,"2030-12-14",184975.6,287.42500000050143,1446.75,0,0,86.94,73.92,1895.0350000005014]
[null,72,"2031-01-14",184688.17,238.57500000050152,1492.84,0,0,89.7,73.92,1895.0350000005017]
[null,73,"2031-02-14",184449.6,240.61500000050137,1490.92,0,0,89.58,73.92,1895.0350000005014]
[null,74,"2031-03-14",184208.98,395.95500000050151,1344.35,0,0,80.81,73.92,1895.0350000005014]
[null,75,"2031-04-14",183813.02,246.07500000050146,1485.77,0,0,89.27,73.92,1895.0350000005014]
[null,76,"2031-05-14",183566.94,299.10500000050143,1435.73,0,0,86.28,73.92,1895.0350000005014]
[null,77,"2031-06-14",183267.83,250.74500000050153,1481.36,0,0,89.01,73.92,1895.0350000005014]
[null,78,"2031-07-14",183017.08,303.66500000050138,1431.43,0,0,86.02,73.92,1895.0350000005014]
[null,79,"2031-08-14",182713.41,255.49500000050131,1476.88,0,0,88.74,73.92,1895.0350000005014]
[null,80,"2031-09-14",182457.92,257.68500000050147,1474.82,0,0,88.61,73.92,1895.0350000005014]
[null,81,"2031-10-14",182200.24,310.44500000050147,1425.04,0,0,85.63,73.92,1895.0350000005014]
[null,82,"2031-11-14",181889.79,262.55500000050137,1470.22,0,0,88.34,73.92,1895.0350000005014]
[null,83,"2031-12-14",181627.24,315.19500000050147,1420.56,0,0,85.36,73.92,1895.0350000005014]
[null,84,"2032-01-14",181312.04,267.50500000050147,1465.55,0,0,88.06,73.92,1895.0350000005014]
[null,85,"2032-02-14",181044.54,269.79500000050132,1463.39,0,0,87.93,73.92,1895.0350000005017]
[null,86,"2032-03-14",180774.75,372.4050000005015,1366.58,0,0,82.13,73.92,1895.0350000005014]
[null,87,"2032-04-14",180402.35,275.29500000050137,1458.2,0,0,87.62,73.92,1895.0350000005014]
[null,88,"2032-05-14",180127.05,327.62500000050153,1408.83,0,0,84.66,73.92,1895.0350000005017]
[null,89,"2032-06-14",179799.42,280.4650000005015,1453.33,0,0,87.32,73.92,1895.0350000005014]
[null,90,"2032-07-14",179518.96,332.67500000050148,1404.07,0,0,84.37,73.92,1895.0350000005014]
[null,91,"2032-08-14",179186.28,285.72500000050155,1448.37,0,0,87.02,73.92,1895.0350000005014]
[null,92,"2032-09-14",178900.55,288.16500000050149,1446.06,0,0,86.89,73.92,1895.0350000005017]
[null,93,"2032-10-14",178612.38,340.18500000050142,1396.98,0,0,83.95,73.92,1895.0350000005017]
[null,94,"2032-11-14",178272.2,293.55500000050142,1440.98,0,0,86.58,73.92,1895.0350000005014]
[null,95,"2032-12-14",177978.65,345.44500000050147,1392.02,0,0,83.65,73.92,1895.0350000005017]
[null,96,"2033-01-14",177633.2,299.02500000050151,1435.82,0,0,86.27,73.92,1895.0350000005014]
[null,97,"2033-02-14",177334.18,301.58500000050134,1433.4,0,0,86.13,73.92,1895.0350000005014]
[null,98,"2033-03-14",177032.59,451.47500000050144,1291.98,0,0,77.66,73.92,1895.0350000005017]
[null,99,"2033-04-14",176581.11,308.04500000050149,1427.31,0,0,85.76,73.92,1895.0350000005014]
[null,100,"2033-05-14",176273.06,359.58500000050134,1378.68,0,0,82.85,73.92,1895.0350000005014]
[null,101,"2033-06-14",175913.47,313.75500000050135,1421.92,0,0,85.44,73.92,1895.0350000005014]
[null,102,"2033-07-14",175599.72,365.16500000050138,1373.42,0,0,82.53,73.92,1895.0350000005014]
[null,103,"2033-08-14",175234.55,319.57500000050135,1416.43,0,0,85.11,73.92,1895.0350000005014]
[null,104,"2033-09-14",174914.97,322.31500000050153,1413.85,0,0,84.95,73.92,1895.0350000005017]
[null,105,"2033-10-14",174592.66,373.51500000050146,1365.54,0,0,82.06,73.92,1895.0350000005014]
[null,106,"2033-11-14",174219.14,328.28500000050138,1408.22,0,0,84.61,73.92,1895.0350000005014]
[null,107,"2033-12-14",173890.86,379.33500000050145,1360.05,0,0,81.73,73.92,1895.0350000005014]
[null,108,"2034-01-14",173511.52,334.34500000050144,1402.5,0,0,84.27,73.92,1895.0350000005014]
[null,109,"2034-02-14",173177.17,337.20500000050146,1399.8,0,0,84.11,73.92,1895.0350000005014]
[null,110,"2034-03-14",172839.97,483.91500000050138,1261.3800000000001,0,0,75.819999999999993,73.92,1895.0350000005014]
[null,111,"2034-04-14",172356.05,344.24500000050136,1393.16,0,0,83.71,73.92,1895.0350000005014]
[null,112,"2034-05-14",172011.8,394.91500000050149,1345.35,0,0,80.849999999999994,73.92,1895.0350000005014]
[null,113,"2034-06-14",171616.88,350.57500000050135,1387.19,0,0,83.35,73.92,1895.0350000005014]
[null,114,"2034-07-14",171266.3,401.09500000050144,1339.52,0,0,80.5,73.92,1895.0350000005014]
[null,115,"2034-08-14",170865.2,357.02500000050151,1381.11,0,0,82.98,73.92,1895.0350000005014]
[null,116,"2034-09-14",170508.18,360.0750000005014,1378.23,0,0,82.81,73.92,1895.0350000005014]
[null,117,"2034-10-14",170148.1,410.36500000050142,1330.78,0,0,79.97,73.92,1895.0350000005014]
[null,118,"2034-11-14",169737.73,366.67500000050143,1372,0,0,82.44,73.92,1895.0350000005014]
[null,119,"2034-12-14",169371.05,416.81500000050136,1324.7,0,0,79.599999999999994,73.92,1895.0350000005014]
[null,120,"2035-01-14",168954.23,373.38500000050135,1365.67,0,0,82.06,73.92,1895.0350000005014]
[null,121,"2035-02-14",168580.85,376.59500000050133,1362.65,0,0,81.87,73.92,1895.0350000005014]
[null,122,"2035-03-14",168204.26,519.77500000050156,1227.55,0,0,73.790000000000006,73.92,1895.0350000005014]
[null,123,"2035-04-14",167684.49,384.27500000050134,1355.4,0,0,81.44,73.92,1895.0350000005014]
[null,124,"2035-05-14",167300.22,433.98500000050143,1308.5,0,0,78.63,73.92,1895.0350000005014]
[null,125,"2035-06-14",166866.23000000001,391.28500000050144,1348.79,0,0,81.040000000000006,73.92,1895.0350000005014]
[null,126,"2035-07-14",166474.95000000001,440.82500000050146,1302.05,0,0,78.239999999999995,73.92,1895.0350000005014]
[null,127,"2035-08-14",166034.13,398.41500000050149,1342.06,0,0,80.64,73.92,1895.0350000005017]
[null,128,"2035-09-14",165635.72,401.83500000050151,1338.84,0,0,80.44,73.92,1895.0350000005014]
[null,129,"2035-10-14",165233.88,451.11500000050154,1292.3399999999999,0,0,77.66,73.92,1895.0350000005017]
[null,130,"2035-11-14",164782.76,409.13500000050141,1331.95,0,0,80.03,73.92,1895.0350000005014]
[null,131,"2035-12-14",164373.63,458.24500000050153,1285.6099999999999,0,0,77.260000000000005,73.92,1895.0350000005014]
[null,132,"2036-01-14",163915.39000000001,416.56500000050136,1324.94,0,0,79.61,73.92,1895.0350000005014]
[null,133,"2036-02-14",163498.82999999999,420.13500000050152,1321.57,0,0,79.41,73.92,1895.0350000005017]
[null,134,"2036-03-14",163078.69,514.2150000005015,1232.81,0,0,74.09,73.92,1895.0350000005014]
[null,135,"2036-04-14",162564.48000000001,428.14500000050145,1314.02,0,0,78.95,73.92,1895.0350000005017]
[null,136,"2036-05-14",162136.32999999999,476.79500000050149,1268.1199999999999,0,0,76.2,73.92,1895.0350000005014]
[null,137,"2036-06-14",161659.53,435.90500000050139,1306.7,0,0,78.510000000000005,73.92,1895.0350000005014]
[null,138,"2036-07-14",161223.63,484.35500000050143,1260.98,0,0,75.78,73.92,1895.0350000005014]
[null,139,"2036-08-14",160739.26999999999,443.7850000005015,1299.26,0,0,78.069999999999993,73.92,1895.0350000005014]
[null,140,"2036-09-14",160295.48000000001,447.58500000050134,1295.68,0,0,77.849999999999994,73.92,1895.0350000005014]
[null,141,"2036-10-14",159847.89000000001,495.7650000005014,1250.22,0,0,75.13,73.92,1895.0350000005014]
[null,142,"2036-11-14",159352.13,455.67500000050148,1288.05,0,0,77.39,73.92,1895.0350000005017]
[null,143,"2036-12-14",158896.45000000001,503.65500000050139,1242.78,0,0,74.680000000000007,73.92,1895.0350000005014]
[null,144,"2037-01-14",158392.79999999999,463.88500000050141,1280.3,0,0,76.930000000000007,73.92,1895.0350000005014]
[null,145,"2037-02-14",157928.91,467.86500000050142,1276.55,0,0,76.7,73.92,1895.0350000005014]
[null,146,"2037-03-14",157461.04,602.89500000050145,1149.1500000000001,0,0,69.069999999999993,73.92,1895.0350000005017]
[null,147,"2037-04-14",156858.14000000001,477.04500000050126,1267.8900000000001,0,0,76.180000000000007,73.92,1895.0350000005014]
[null,148,"2037-05-14",156381.1,524.51500000050157,1223.0999999999999,0,0,73.5,73.92,1895.0350000005014]
[null,149,"2037-06-14",155856.57999999999,485.62500000050142,1259.8,0,0,75.69,73.92,1895.0350000005014]
[null,150,"2037-07-14",155370.95000000001,532.89500000050145,1215.2,0,0,73.02,73.92,1895.0350000005014]
[null,151,"2037-08-14",154838.04999999999,494.35500000050143,1251.56,0,0,75.2,73.92,1895.0350000005014]
[null,152,"2037-09-14",154343.69,498.58500000050145,1247.57,0,0,74.959999999999994,73.92,1895.0350000005014]
[null,153,"2037-10-14",153845.1,545.53500000050155,1203.27,0,0,72.31,73.92,1895.0350000005014]
[null,154,"2037-11-14",153299.57,507.53500000050127,1239.1300000000001,0,0,74.45,73.92,1895.0350000005014]
[null,155,"2037-12-14",152792.04,554.27500000050156,1195.03,0,0,71.81,73.92,1895.0350000005014]
[null,156,"2038-01-14",152237.76999999999,516.62500000050147,1230.55,0,0,73.94,73.92,1895.0350000005014]
[null,157,"2038-02-14",151721.14000000001,521.05500000050154,1226.3699999999999,0,0,73.69,73.92,1895.0350000005014]
[null,158,"2038-03-14",151200.09,651.3350000005014,1103.45,0,0,66.33,73.92,1895.0350000005014]
[null,159,"2038-04-14",150548.75,531.10500000050138,1216.8900000000001,0,0,73.12,73.92,1895.0350000005014]
[null,160,"2038-05-14",150017.64000000001,577.27500000050156,1173.33,0,0,70.510000000000005,73.92,1895.0350000005017]
[null,161,"2038-06-14",149440.37,540.60500000050138,1207.93,0,0,72.58,73.92,1895.0350000005014]
[null,162,"2038-07-14",148899.76,586.54500000050155,1164.5899999999999,0,0,69.98,73.92,1895.0350000005014]
[null,163,"2038-08-14",148313.22,550.26500000050157,1198.82,0,0,72.03,73.92,1895.0350000005017]
[null,164,"2038-09-14",147762.95000000001,554.97500000050138,1194.3800000000001,0,0,71.760000000000005,73.92,1895.0350000005017]
[null,165,"2038-10-14",147207.98000000001,600.56500000050153,1151.3599999999999,0,0,69.19,73.92,1895.0350000005014]
[null,166,"2038-11-14",146607.42000000001,564.87500000050147,1185.04,0,0,71.2,73.92,1895.0350000005017]
[null,167,"2038-12-14",146042.54999999999,610.23500000050149,1142.24,0,0,68.64,73.92,1895.0350000005017]
[null,168,"2039-01-14",145432.31,574.94500000050152,1175.54,0,0,70.63,73.92,1895.0350000005014]
[null,169,"2039-02-14",144857.35999999999,579.87500000050136,1170.8900000000001,0,0,70.349999999999994,73.92,1895.0350000005014]
[null,170,"2039-03-14",144277.48000000001,704.89500000050145,1052.93,0,0,63.29,73.92,1895.0350000005014]
[null,171,"2039-04-14",143572.57999999999,590.88500000050146,1160.5,0,0,69.73,73.92,1895.0350000005014]
[null,172,"2039-05-14",142981.69,635.61500000050148,1118.3,0,0,67.2,73.92,1895.0350000005017]
[null,173,"2039-06-14",142346.07,601.39500000050157,1150.5899999999999,0,0,69.13,73.92,1895.0350000005014]
[null,174,"2039-07-14",141744.67000000001,645.86500000050137,1108.6300000000001,0,0,66.62,73.92,1895.0350000005014]
[null,175,"2039-08-14",141098.79999999999,612.07500000050152,1140.51,0,0,68.53,73.92,1895.0350000005017]
[null,176,"2039-09-14",140486.72,617.32500000050152,1135.56,0,0,68.23,73.92,1895.0350000005014]
[null,177,"2039-10-14",139869.39000000001,661.41500000050144,1093.96,0,0,65.739999999999995,73.92,1895.0350000005017]
[null,178,"2039-11-14",139207.98000000001,628.27500000050145,1125.23,0,0,67.61,73.92,1895.0350000005014]
[null,179,"2039-12-14",138579.71,672.1150000005016,1083.8699999999999,0,0,65.13,73.92,1895.0350000005014]
[null,180,"2040-01-14",137907.59,639.42500000050143,1114.71,0,0,66.98,73.92,1895.0350000005014]
[null,181,"2040-02-14",137268.16,644.89500000050157,1109.55,0,0,66.67,73.92,1895.0350000005017]
[null,182,"2040-03-14",136623.26,726.2250000005015,1032.82,0,0,62.07,73.92,1895.0350000005014]
[null,183,"2040-04-14",135897.04,656.65500000050145,1098.46,0,0,66,73.92,1895.0350000005014]
[null,184,"2040-05-14",135240.39000000001,699.80500000050154,1057.75,0,0,63.56,73.92,1895.0350000005014]
[null,185,"2040-06-14",134540.59,668.27500000050145,1087.5,0,0,65.34,73.92,1895.0350000005014]
[null,186,"2040-07-14",133872.32000000001,711.14500000050157,1047.05,0,0,62.92,73.92,1895.0350000005017]
[null,187,"2040-08-14",133161.17000000001,680.09500000050161,1076.3499999999999,0,0,64.67,73.92,1895.0350000005017]
[null,188,"2040-09-14",132481.07999999999,685.92500000050154,1070.8499999999999,0,0,64.34,73.92,1895.0350000005014]
[null,189,"2040-10-14",131795.15,728.36500000050148,1030.81,0,0,61.94,73.92,1895.0350000005014]
[null,190,"2040-11-14",131066.78,698.04500000050143,1059.42,0,0,63.65,73.92,1895.0350000005017]
[null,191,"2040-12-14",130368.73,740.19500000050152,1019.65,0,0,61.27,73.92,1895.0350000005014]
[null,192,"2041-01-14",129628.53,710.36500000050148,1047.79,0,0,62.96,73.92,1895.0350000005014]
[null,193,"2041-02-14",128918.16,716.45500000050151,1042.05,0,0,62.61,73.92,1895.0350000005014]
[null,194,"2041-03-14",128201.71,829.26500000050146,935.61,0,0,56.24,73.92,1895.0350000005017]
[null,195,"2041-04-14",127372.45,729.69500000050152,1029.56,0,0,61.86,73.92,1895.0350000005014]
[null,196,"2041-05-14",126642.75,771.08500000050151,990.51,0,0,59.52,73.92,1895.0350000005014]
[null,197,"2041-06-14",125871.66,742.55500000050154,1017.43,0,0,61.13,73.92,1895.0350000005017]
[null,198,"2041-07-14",125129.11,783.63500000050146,978.67,0,0,58.81,73.92,1895.0350000005014]
[null,199,"2041-08-14",124345.47,755.63500000050146,1005.09,0,0,60.39,73.92,1895.0350000005017]
[null,200,"2041-09-14",123589.83,762.11500000050148,998.98,0,0,60.02,73.92,1895.0350000005014]
[null,201,"2041-10-14",122827.72,802.7150000005015,960.67,0,0,57.73,73.92,1895.0350000005014]
[null,202,"2041-11-14",122025,775.52500000050145,986.33,0,0,59.26,73.92,1895.0350000005017]
[null,203,"2041-12-14",121249.47,815.79500000050143,948.33,0,0,56.99,73.92,1895.0350000005017]
[null,204,"2042-01-14",120433.67,789.15500000050145,973.47,0,0,58.49,73.92,1895.0350000005017]
[null,205,"2042-02-14",119644.51,795.91500000050144,967.09,0,0,58.11,73.92,1895.0350000005014]
[null,206,"2042-03-14",118848.59,901.63500000050158,867.35,0,0,52.13,73.92,1895.0350000005019]
[null,207,"2042-04-14",117946.95,810.4650000005015,953.37,0,0,57.28,73.92,1895.0350000005017]
[null,208,"2042-05-14",117136.48,849.90500000050156,916.16,0,0,55.05,73.92,1895.0350000005017]
[null,209,"2042-06-14",116286.57,824.68500000050142,939.95,0,0,56.48,73.92,1895.0350000005014]
[null,210,"2042-07-14",115461.88,863.78500000050155,903.06,0,0,54.27,73.92,1895.0350000005014]
[null,211,"2042-08-14",114598.1,839.15500000050156,926.3,0,0,55.66,73.92,1895.0350000005017]
[null,212,"2042-09-14",113758.94,846.3450000005015,919.52,0,0,55.25,73.92,1895.0350000005014]
[null,213,"2042-10-14",112912.6,884.92500000050143,883.12,0,0,53.07,73.92,1895.0350000005014]
[null,214,"2042-11-14",112027.68,861.17500000050154,905.53,0,0,54.41,73.92,1895.0350000005017]
[null,215,"2042-12-14",111166.5,899.39500000050145,869.47,0,0,52.25,73.92,1895.0350000005014]
[null,216,"2043-01-14",110267.11,876.27500000050156,891.29,0,0,53.55,73.92,1895.0350000005017]
[null,217,"2043-02-14",109390.83,883.77500000050145,884.21,0,0,53.13,73.92,1895.0350000005017]
[null,218,"2043-03-14",108507.05,981.63500000050146,791.88,0,0,47.6,73.92,1895.0350000005014]
[null,219,"2043-04-14",107525.41,899.76500000050135,869.13,0,0,52.22,73.92,1895.0350000005014]
[null,220,"2043-05-14",106625.65,937.05500000050142,833.95,0,0,50.11,73.92,1895.0350000005014]
[null,221,"2043-06-14",105688.59,915.49500000050148,854.29,0,0,51.33,73.92,1895.0350000005014]
[null,222,"2043-07-14",104773.09,952.41500000050144,819.46,0,0,49.24,73.92,1895.0350000005017]
[null,223,"2043-08-14",103820.67,931.50500000050147,839.19,0,0,50.42,73.92,1895.0350000005017]
[null,224,"2043-09-14",102889.16,939.4850000005016,831.66,0,0,49.97,73.92,1895.0350000005017]
[null,225,"2043-10-14",101949.68,975.8150000005013,797.38,0,0,47.92,73.92,1895.0350000005014]
[null,226,"2043-11-14",100973.86,955.89500000050168,816.18,0,0,49.04,73.92,1895.0350000005017]
[null,227,"2043-12-14",100017.97,991.83500000050151,782.27,0,0,47.01,73.92,1895.0350000005017]
[null,228,"2044-01-14",99026.13,972.59500000050173,800.43,0,0,48.09,73.92,1895.0350000005017]
[null,229,"2044-02-14",98053.53,980.92500000050143,792.57,0,0,47.62,73.92,1895.0350000005014]
[null,230,"2044-03-14",97072.6,1043.1850000005015,733.83,0,0,44.1,73.92,1895.0350000005014]
[null,231,"2044-04-14",96029.41,998.26500000050135,776.21,0,0,46.64,73.92,1895.0350000005017]
[null,232,"2044-05-14",95031.14,1033.1850000005013,743.27,0,0,44.66,73.92,1895.0350000005014]
[null,233,"2044-06-14",93997.95,1015.6750000005014,759.79,0,0,45.65,73.92,1895.0350000005014]
[null,234,"2044-07-14",92982.27,1050.1750000005013,727.24,0,0,43.7,73.92,1895.0350000005014]
[null,235,"2044-08-14",91932.09,1033.3750000005011,743.09,0,0,44.65,73.92,1895.0350000005014]
[null,236,"2044-09-14",90898.71,1042.2250000005013,734.74,0,0,44.15,73.92,1895.0350000005014]
[null,237,"2044-10-14",89856.48,1076.0950000005014,702.79,0,0,42.23,73.92,1895.0350000005014]
[null,238,"2044-11-14",88780.38,1060.3750000005016,717.62,0,0,43.12,73.92,1895.0350000005014]
[null,239,"2044-12-14",87720,1093.8050000005014,686.08,0,0,41.23,73.92,1895.0350000005014]
[null,240,"2045-01-14",86626.19,1078.8450000005014,700.2,0,0,42.07,73.92,1895.0350000005014]
[null,241,"2045-02-14",85547.34,1088.0850000005014,691.48,0,0,41.55,73.92,1895.0350000005014]
[null,242,"2045-03-14",84459.25,1167.6850000005013,616.38,0,0,37.049999999999997,73.92,1895.0350000005012]
[null,243,"2045-04-14",83291.56,1107.4150000005013,673.25,0,0,40.450000000000003,73.92,1895.0350000005014]
[null,244,"2045-05-14",82184.14,1139.6950000005013,642.79,0,0,38.630000000000003,73.92,1895.0350000005014]
[null,245,"2045-06-14",81044.44,1126.6650000005013,655.09,0,0,39.36,73.92,1895.0350000005012]
[null,246,"2045-07-14",79917.77,1158.4950000005015,625.05999999999995,0,0,37.56,73.92,1895.0350000005014]
[null,247,"2045-08-14",78759.27,1146.2450000005015,636.62,0,0,38.25,73.92,1895.0350000005014]
[null,248,"2045-09-14",77613.02,1156.0750000005014,627.35,0,0,37.69,73.92,1895.0350000005014]
[null,249,"2045-10-14",76456.94,1187.1950000005013,597.99,0,0,35.93,73.92,1895.0350000005014]
[null,250,"2045-11-14",75269.740000000005,1176.1450000005016,608.41,0,0,36.56,73.92,1895.0350000005014]
[null,251,"2045-12-14",74093.59,1206.7850000005014,579.51,0,0,34.82,73.92,1895.0350000005014]
[null,252,"2046-01-14",72886.8,1196.5650000005012,589.15,0,0,35.4,73.92,1895.0350000005014]
[null,253,"2046-02-14",71690.23,1206.8150000005014,579.48,0,0,34.82,73.92,1895.0350000005014]
[null,254,"2046-03-14",70483.41,1275.8050000005014,514.39,0,0,30.92,73.92,1895.0350000005014]
[null,255,"2046-04-14",69207.600000000006,1228.0950000005016,559.41,0,0,33.61,73.92,1895.0350000005017]
[null,256,"2046-05-14",67979.5,1257.4750000005013,531.69000000000005,0,0,31.95,73.92,1895.0350000005014]
[null,257,"2046-06-14",66722.02,1249.3950000005011,539.32000000000005,0,0,32.4,73.92,1895.0350000005014]
[null,258,"2046-07-14",65472.62,1278.2650000005015,512.08000000000004,0,0,30.77,73.92,1895.0350000005014]
[null,259,"2046-08-14",64194.35,1271.0450000005014,518.89,0,0,31.18,73.92,1895.0350000005017]
[null,260,"2046-09-14",62923.3,1281.9450000005013,508.61,0,0,30.56,73.92,1895.0350000005014]
[null,261,"2046-10-14",61641.35,1310.0350000005012,482.11,0,0,28.97,73.92,1895.0350000005012]
[null,262,"2046-11-14",60331.31,1304.1550000005013,487.66,0,0,29.3,73.92,1895.0350000005014]
[null,263,"2046-12-14",59027.15,1331.7050000005013,461.67,0,0,27.74,73.92,1895.0350000005014]
[null,264,"2047-01-14",57695.44,1326.7350000005013,466.36,0,0,28.02,73.92,1895.0350000005014]
[null,265,"2047-02-14",56368.7,1338.1050000005011,455.63,0,0,27.38,73.92,1895.0350000005014]
[null,266,"2047-03-14",55030.59,1395.3650000005011,401.61,0,0,24.14,73.92,1895.0350000005012]
[null,267,"2047-04-14",53635.22,1361.5250000005014,433.54,0,0,26.05,73.92,1895.0350000005014]
[null,268,"2047-05-14",52273.69,1387.6950000005015,408.85,0,0,24.57,73.92,1895.0350000005017]
[null,269,"2047-06-14",50885.99,1385.0950000005014,411.31,0,0,24.71,73.92,1895.0350000005014]
[null,270,"2047-07-14",49500.89,1410.6850000005013,387.16,0,0,23.27,73.92,1895.0350000005014]
[null,271,"2047-08-14",48090.2,1409.0350000005014,388.72,0,0,23.36,73.92,1895.0350000005014]
[null,272,"2047-09-14",46681.16,1421.1150000005014,377.33,0,0,22.67,73.92,1895.0350000005014]
[null,273,"2047-10-14",45260.04,1445.8550000005014,353.99,0,0,21.27,73.92,1895.0350000005014]
[null,274,"2047-11-14",43814.18,1445.6850000005013,354.15,0,0,21.28,73.92,1895.0350000005012]
[null,275,"2047-12-14",42368.49,1469.8250000005012,331.38,0,0,19.91,73.92,1895.0350000005012]
[null,276,"2048-01-14",40898.660000000003,1470.6650000005015,330.59,0,0,19.86,73.92,1895.0350000005014]
[null,277,"2048-02-14",39427.99,1483.2650000005012,318.7,0,0,19.149999999999999,73.92,1895.0350000005014]
[null,278,"2048-03-14",37944.720000000001,1517.0250000005014,286.85000000000002,0,0,17.239999999999998,73.92,1895.0350000005017]
[null,279,"2048-04-14",36427.69,1508.9750000005013,294.45,0,0,17.690000000000001,73.92,1895.0350000005014]
[null,280,"2048-05-14",34918.71,1531.5950000005012,273.11,0,0,16.41,73.92,1895.0350000005012]
[null,281,"2048-06-14",33387.11,1535.0250000005014,269.87,0,0,16.22,73.92,1895.0350000005017]
[null,282,"2048-07-14",31852.080000000002,1557.0250000005014,249.12,0,0,14.97,73.92,1895.0350000005017]
[null,283,"2048-08-14",30295.05,1561.5250000005012,244.88,0,0,14.71,73.92,1895.0350000005014]
[null,284,"2048-09-14",28733.52,1574.9150000005013,232.25,0,0,13.95,73.92,1895.0350000005014]
[null,285,"2048-10-14",27158.6,1595.9350000005013,212.42,0,0,12.76,73.92,1895.0350000005014]
[null,286,"2048-11-14",25562.66,1602.0850000005014,206.62,0,0,12.41,73.92,1895.0350000005017]
[null,287,"2048-12-14",23960.57,1622.4550000005013,187.4,0,0,11.26,73.92,1895.0350000005014]
[null,288,"2049-01-14",22338.11,1629.7050000005015,180.56,0,0,10.85,73.92,1895.0350000005014]
[null,289,"2049-02-14",20708.400000000001,1643.6650000005015,167.39,0,0,10.06,73.92,1895.0350000005014]
[null,290,"2049-03-14",19064.73,1673.6250000005014,139.13,0,0,8.36,73.92,1895.0350000005012]
[null,291,"2049-04-14",17391.099999999999,1672.0950000005014,140.57,0,0,8.4499999999999993,73.92,1895.0350000005014]
[null,292,"2049-05-14",15719,1690.7850000005012,122.94,0,0,7.39,73.92,1895.0350000005014]
[null,293,"2049-06-14",14028.21,1700.9150000005013,113.39,0,0,6.81,73.92,1895.0350000005014]
[null,294,"2049-07-14",12327.29,1718.9050000005013,96.42,0,0,5.79,73.92,1895.0350000005014]
[null,295,"2049-08-14",10608.38,1730.2150000005013,85.75,0,0,5.15,73.92,1895.0350000005014]
[null,296,"2049-09-14",8878.16,1745.0450000005014,71.760000000000005,0,0,4.3099999999999996,73.92,1895.0350000005014]
[null,297,"2049-10-14",7133.11,1761.9750000005015,55.79,0,0,3.35,73.92,1895.0350000005014]
[null,298,"2049-11-14",5371.13,1775.0850000005014,43.42,0,0,2.61,73.92,1895.0350000005014]
[null,299,"2049-12-14",3596.04,1791.2950000005012,28.13,0,0,1.69,73.92,1895.0350000005014]
[null,300,"2050-01-14",1804.74,1805.6450000005013,14.59,0,0,0.88,73.92,1895.0350000005014]

{"sheet":"Simulador CHIP Final","index":3,"n_rows":336,"n_cols":47,"rows_kept":336,"cut":false,"hidden":true,"merged":[[31,37,31,38],[28,17,28,18],[1,2,1,24],[28,14,28,15]]}
[]
[null,null,"SIMULADOR DE CUOTAS - CRÉDITO HIPOTECARIO"]
[]
[]
[null,null,"Importe Solicitado",null,null,null,null,{"$f":"'Simulador Credito Hipotecario'!D24","v":0},null,null,null,"Fecha Desembolso",null,null,null,null,{"$f":"'Simulador Credito Hipotecario'!D7","v":"2025-01-14"}]
[null,null,"Saldo de Capital",null,null,null,null,{"$f":"H5","v":0},null,null,null,"Fecha Final de Gracia",null,null,null,null,{"$f":"+Q5+H15","v":"2025-01-14"}]
[null,null,"Saldo de Interes",null,null,null,null,0,null,null,null,"Fecha de la 1° cuota",null,null,null,null,{"$f":"DATE(YEAR(EDATE(Q6,1)),MONTH(EDATE(Q6,1)),DAY(EDATE(Q6,1)))","v":"2025-02-14"}]
[null,null,"Tasa Anual (TEA)",null,null,null,null,{"$f":"'Simulador Credito Hipotecario'!D26","v":0},null,null,null,"Fecha final de vencimiento",null,null,null,null,{"$f":"IF(OR($H$16>0,$H$17>0),VLOOKUP($H$14,$A$33:$C$332,3,0),DATE(YEAR(EDATE(Q6,H14)),MONTH(EDATE(Q6,H14)),DAY(EDATE(Q6,H14))))","v":"2025-01-14"}]
[null,null,"Tasa de Seguro de Desgravámen",null,null,null,null,{"$f":"'Simulador Credito Hipotecario'!D28","v":0},null,null,null,"Base",null,null,null,null,360]
[null,null,"Tasa Anual (TEA) - Ajustada",null,null,null,null,{"$f":"+H8","v":0},null,null,null,"Frecuencia pago en días",null,null,null,null,30]
[null,null,"Comision por Env. Inf",null,null,null,null,{"$f":"'Simulador Credito Hipotecario'!D32","v":0},null,null,null,"Tasa Equivalente - Ajustada",null,null,null,null,{"$f":"ROUND((((H10/100+1)^(1/(Q9/Q10))-1)*Q9/Q10)*100,6)","v":0},"tea conv. A tem luego nominal anual"]
[null,null,"Valor Asegurable",null,null,null,null,{"$f":"'Simulador Credito Hipotecario'!D14","v":0},null,2.1000000000000001E-4,null,"Días entre cuotas",null,null,null,null,{"$f":"(Q8-Q6)/H14","v":{"$error":"#DIV/0!"}},"dias promedio entre cuotas"]
[null,null,"Tasa de Seguro Todo Riesgo",null,null,null,null,{"$f":"'Simulador Credito Hipotecario'!D30","v":0},{"$f":"+H13*12","v":0},{"$f":"+I13/365*30*H12","v":0},null,"Factor Aplicado - Ajustada",null,null,null,null,{"$f":"ROUND(($Q$11/100)/($Q$9/$Q$12),8)","v":{"$error":"#DIV/0!"}},"tem convertida de manera nominal a los dias entre cuotas"]
[null,null,"Plazo y  Nro. Cuotas",null,null,null,null,{"$f":"'Simulador Credito Hipotecario'!D8","v":0},{"$f":"H14","v":0},null,null,"Factor Aplicado para la cuota - Ajustada",null,null,null,null,{"$f":"1/((1-((1+$Q$13)^(-1*$H$14)))/$Q$13)","v":{"$error":"#DIV/0!"}},"Factor de cuota (ok)"]
[null,null,"Días de Gracia",null,null,null,null,{"$f":"'Simulador Credito Hipotecario'!D9","v":0},null,null,null,"Interes de Gracia  (Se considera la TEA Normal)",null,null,null,null,{"$f":"IF(H15>0,ROUND(H6*(((1+H8/100)^(ABS(H15)/Q9))-1),4),ROUND(H6*(((1+H8/100)^(ABS(H15)/Q9))-1),4) * -1)","v":0},"Ok"]
[null,null,"Mes de No Pago 1",null,null,null,null,0,null,{"$f":"15*12","v":180},null,"Saldo Interes +/- Interes Gracia",null,null,null,null,{"$f":"IF(H7 + Q15>0,H7+ Q15,0)","v":0}]
[null,null,"Mes de No Pago 2",null,null,null,null,0,null,null,null,"Seg Desg de Gracia",null,null,null,null,{"$f":"IF(H15>0,ROUNDDOWN(H5*H9/30*H15,2),ROUNDDOWN(H5*H9/30*H15,2)*0)","v":0}]
[null,null,"Mes Cuota Doble 1",null,null,null,null,0,null,null,null,"TCEA",null,null,null,null,{"$f":"+$AJ$31","v":{"$error":"#DIV/0!"}}]
[null,null,"Mes Cuota Doble 2",null,null,null," ",0]
[]
[null,null,null,null,null,null,null,null,null,null,null,null,null,null,"Suavización",null,null,null,null,null,"Validador Cuota Doble"]
[null,null,null,null,null,null,null,null,null,null,null,null,null,null,"Ultimo saldo de Principal",null,{"$f":"VLOOKUP(I14,$F$32:$Y$332,20,FALSE)","v":{"$error":"#N/A"}},null,null,null,"Cuota Simple",null,{"$f":"+VLOOKUP(\"\",$D$33:$X$332,21,0)","v":{"$error":"#DIV/0!"}}]
[null,null,null,null,null,"Valor de cuota por dias de gracia",null,null,null,{"$f":"$Q$16/(($I$14+COUNTIF(D33:INDIRECT(CONCATENATE(\"C\",33+I14-1)),\"D\"))*(1/((1+0)^($Q$10/$Q$9))))","v":{"$error":"#DIV/0!"}},{"$f":"Q16/SUM(AP33:INDIRECT(CONCATENATE(\"AE\",32+I14-1)))","v":{"$error":"#DIV/0!"}},null,null,null,"Numero de Dias (Calculo Factor Ajuste)",null,{"$f":"Q8-Q6+SUMIF($D$33:$D$332,\"D\",$I$33:$I$332)+(Q8-Q6+SUMIF($D$33:$D$332,\"D\",$I$33:$I$332))/2","v":0},null,null,null,"Cuota Doble",null,{"$f":"+IFERROR(VLOOKUP(\"D\",$D$33:$X$332,21,0),\" \")","v":" "}]
[null,null,null,null,null,"Valor de cuota por capital",null,null,null,{"$f":"ROUND(IF(OR(H16 + H17 > 0,H18 + H19>0), ROUND(H6/VLOOKUP(H14,'Calculos CHIP'!$A$3:$G$303,7,FALSE),2),H6*$Q$14),2)+Q33+R33+S33+W33","v":{"$error":"#DIV/0!"}},{"$f":"J24+Q29","v":{"$error":"#DIV/0!"}},null,null,null,"Valor de Cuota Nivelada",null,{"$f":"ROUND(+Q22/ROUND(1*(((1+H10/100)^(Q23/Q9))-1),4),2)","v":{"$error":"#N/A"}},null,null,null,"Factor",null,{"$f":"+IFERROR(W23/W22,\" \")","v":" "},null,null,null,null,null,null,null,null,null,null,null,null,null,null,"RANGO DES.","INCRE. AJUSTE"]
[null,null,null,null,null,"Valor de Seg Desg por dia de gracia",null,null,null,{"$f":"$Q$17/(($I$14+COUNTIF(D33:INDIRECT(CONCATENATE(\"C\",32+I14-1)),\"D\"))*(1/((1+0)^($Q$10/$Q$9))))","v":{"$error":"#DIV/0!"}},null,null,null,null,null,null,null,null,null,null,null,null,null,null,null,null,null,null,null,null,null,null,null,null,null,null,null,"<100K",5.0000000000000001E-3]
[null,null,null,null,null,"Seguro de Desgravamen (FPF)",null,null,null,{"$f":"ROUNDDOWN($H$5*$H$9,2)","v":0},null,null,null,null,"Factor Ajuste",null,{"$f":"Q24*Q14","v":{"$error":"#N/A"}},null,"Se copia LO DEL COSTADO  a partir de la primera corrida",null,"Calce de Capital",null,null,null,null,null,null,null,null,null,null,null,null,null,null,null,null,">=100K<200K",2E-3]
[null,null,null,null,null,"Comision por Env.Inf",null,null,null,{"$f":"+H11","v":0},null,null,null,null,"Exceso de Int + Gracia",null,{"$f":"SUM(Z33:Z332)","v":0},{"$f":"ROUND(IF(OR(H16+ H17> 0,H18 + H19>0),ROUNDUP($Q$27/VLOOKUP(H14,'Calculos CHIP'!$A$3:$G$303,7,FALSE),2),$Q$27*$Q$14),2)","v":{"$error":"#DIV/0!"}},0,null,"Suma Capital (K)",null,{"$f":"+SUM($K$33:$K$332)","v":{"$error":"#DIV/0!"}},null,null,null,null,null,null,null,null,null,null,null,null,null,null,">=200K<300K",1.9E-3]
[null,null,null,null,null,"Seguro Todo Riesgo",null,null,null,{"$f":"ROUND($H$12*$H$13,2)","v":0},null,null,null,null,"Factor Ajuste 2",null,{"$f":"+Q22/(H14+COUNTIF(D33:$D$332,\"D\"))","v":{"$error":"#N/A"}},null,null,null,"Validador",null,{"$f":"+$H$5-W27","v":{"$error":"#DIV/0!"}},"<- El valor tiene que ser cercano a cero.",null,null,null,null,null,null,null,null,null,null,null,null,null,">=300K",1.5E-3]
[null,null,null,null,null,"Cuota",null,null,null,{"$f":"+J24","v":{"$error":"#DIV/0!"}},null,null,null,null,"Digite Factor de Ajuste Anterior  mas El Actual",null,-14.134999999498667,"Se actualiza en cada simulación (Validar que la celda W28 sea cercano a cero)"]
[null,null,null,null,null,null,null,null,null,null,null,null,null,null,null,null,"."]
[null,null,null,null,null,null,null,null,null,null,null,null,null,null,null,null,null,null,null,null,null,null,null,null,null,{"$f":"SUM(Z33:Z272)","v":0},null,null,null,null,null,null,null,null,"TIR (TCEA)",{"$f":"(1+XIRR(AJ32:AJ332,AI32:AI332))^(360/365)-1","v":{"$error":"#DIV/0!"}},null,"TCEA AJUS.",{"$f":"IF(H5<100000,AJ31+AM25,IF(AND(H5>=100000,H5<200000),AJ31+AM26,IF(AND(H5>=200000,H5<300000),AJ31+AM27,IF(H5>=300000,AJ31+AM28,0))))","v":{"$error":"#DIV/0!"}},null,"Minicronograma de Gracia"]
[null,null,"Fecha Vcto.","Marca","Nro. Cuota (De acuerdo a Plazo)","Nro. Cuota","Periodo Base","Tasa","Nro. Dias","Principal*","Capital","Interes","Interes de Gracia","Interes Total","Valor Cuota (variable)","Comision por Env. Inf","Tasa de Seguro de Desgravamen*","Importe de Gracia Desgravamen","Importe Desgravamen por No Pago","Seg. Desgravamen Total","Seguro Todo Riesgo","Importe de Gracias Todo Riesgo","Seguro Todo Riesgo Total","Cuota","Saldo Principal","Exceso ","Nuevo Interes I","Nuevo Desgravamen  I (no se utiliza)","Nuevo Interes (SF2INT)\nreplica columna K","Nuevo Desgravamen (SF2GRV)\nreplica columna Q","Desgravamen Gracia\nreplica columna R","Desgravamen No Pago S","Total Cuota (SF2PAG)\nigual a columna X",null,{"$f":"+Q5","v":"2025-01-14"},{"$f":"-H5","v":0},null,"VALIDADORES",null,null,"Dias Transcurridos Acumulados","Factor Simple Actualizacion","Principal","Capital","Interes","Cuota Gracia","Saldo Deuda"]
[1,{"$f":"IF(A33=\"\",\"\",IF(A33<=$H$22,0,1))","v":1},{"$f":"IF(A33=\"\",\"\",IF(OR(MONTH(EDATE($Q$6,E33))=$H$16,MONTH(EDATE($Q$6,E33))=$H$17),IF(ABS($H$17-$H$16)=1,EDATE($Q$6,E33+2),EDATE($Q$6,E33+1)),EDATE($Q$6,E33)))","v":"2025-02-14"},{"$f":"IF(A33=\"\",\"\",IF(OR(MONTH(C33)=$H$18,MONTH(C33)=$H$19),\"D\",\"\"))","v":""},{"$f":"IF(OR(MONTH(Q7)=H16, MONTH(Q7)=H17),IF(ABS(H17-H16)=1,3,2),1)","v":1},{"$f":"1","v":1},{"$f":"$Q$9","v":360},{"$f":"$H$10","v":0},{"$f":"C33-Q6","v":31},{"$f":"H6","v":0},{"$f":"IF(B33=\"\",\"\",IF(((IF(ISERROR(MATCH(MONTH(C33),$H$18:$H$19,0))=FALSE,$J$24 + $Q$29,0) + $J$24+$Q$29+$S$27)-(IF($J$24+$Q$29 + $S$27<ROUND(ROUND(J33*(((1+(H33/100))^(I33/G33))-1),4),2),$J$24+$Q$29 + $S$27-0.01,IF(ROUND(ROUND(J33*(((1+(H33/100))^(I33/G33))-1),4),2)+ $S$27>$J$24,$J$24+ $S$27+-0.01,ROUND(ROUND(J33*(((1+(H33/100))^(I33/G33))-1),4),2)+$S$27)))- Q33-R33-S33-W33)<0,0.01,IF(ISERROR(MATCH(MONTH(C33),$H$18:$H$19,0))=FALSE,$J$24 + $Q$29,0)+ ($J$24+$Q$29+$S$27)-(IF($J$24+$Q$29 + $S$27<ROUND(ROUND(J33*(((1+(H33/100))^(I33/G33))-1),4),2),$J$24+$Q$29 + $S$27-0.01,IF(ROUND(ROUND(J33*(((1+(H33/100))^(I33/G33))-1),4),2)+ $S$27>$J$24,$J$24+ $S$27+-0.01,ROUND(ROUND(J33*(((1+(H33/100))^(I33/G33))-1),4),2)+$S$27)))- Q33-R33-S33-W33))","v":{"$error":"#DIV/0!"}},{"$f":"IF(B33=\"\",\"\",IF(K33=0.01,+$J$24-K33-Q33-R33-S33-W33+$Q$29,IF($J$24+$Q$29 + $S$27<ROUND(ROUND(J33*(((1+(H33/100))^(I33/G33))-1),4),2),$J$24+$Q$29 + $S$27-0.01,IF(ROUND(ROUND(J33*(((1+(H33/100))^(I33/G33))-1),4),2)+ $S$27>$J$24,$J$24+ $S$27+-0.01,ROUND(ROUND(J33*(((1+(H33/100))^(I33/G33))-1),4),2)+$S$27))))","v":{"$error":"#DIV/0!"}},{"$f":"IF(ISERROR(MATCH(MONTH(C33),$H$18:$H$19,0))=FALSE,$J$23,0)  + $J$23","v":{"$error":"#DIV/0!"}},{"$f":"L33+M33","v":{"$error":"#DIV/0!"}},{"$f":"IF(B33=\"\",\"\",K33+N33)","v":{"$error":"#DIV/0!"}},{"$f":"$J$27","v":0},{"$f":"ROUND($H$9*J33,2)","v":0},{"$f":"IF(B33=\"\",\"\",(E33-F33)*ROUNDDOWN($H$5*$H$9/30*30,2) + ROUNDDOWN($H$5*$H$9/30*H15,2))","v":0},{"$f":"IF(B33=\"\",\"\",IF(E33-0>1,ROUNDDOWN($J33*$H$9/30*(DATE(YEAR($C33),MONTH($C33)-1,DAY($C33))-C32),2),0))","v":0},{"$f":"IF(B33=\"\",\"\",Q33+R33+S33)","v":0},{"$f":"$J$28","v":0},{"$f":"IF(B33=\"\",\"\",(E33-F33)*ROUND($H$12*$H$13/30*30,2) + ROUND($H$12*$H$13/30*H15,2))","v":0},{"$f":"+U33+V33","v":0},{"$f":"IF(B33=\"\",\"\",IF(B33=\"\",\"\",O33+P33+Q33+R33+S33+W33))","v":{"$error":"#DIV/0!"}},{"$f":"ROUND(J33-K33,2)","v":{"$error":"#DIV/0!"}},{"$f":"IFERROR(IF(ROUND(ROUND(J33*(((1+(H33/100))^(I33/G33))-1),4),2) - $J$24<0,0,ROUND(ROUND(J33*(((1+(H33/100))^(I33/G33))-1),4),2) - $J$24),0)","v":0},null,{"$f":"SUM(K33:M33)","v":{"$error":"#DIV/0!"}},{"$f":"+L33","v":{"$error":"#DIV/0!"}},{"$f":"+Q33","v":0},{"$f":"+R33","v":0},{"$f":"+S33","v":0},{"$f":"IF(B33=\"\",\"\",AC33+K33 + P33 + W33+AD33+AE33 + M33 + AF33)","v":{"$error":"#DIV/0!"}},{"$f":"IF(B33=\"\",\"\",IF(D33=\"D\",$J$24*2,$J$24)+Q33)","v":{"$error":"#DIV/0!"}},{"$f":"+IF(C33=\"\",0,C33)","v":"2025-02-14"},{"$f":"+IF(AG33=\"\",0,AG33)","v":{"$error":"#DIV/0!"}},null,{"$f":"+IFERROR(AG33-X33,0)","v":0},{"$f":"+IFERROR(AC33-L33,0)","v":0},null,{"$f":"I33","v":31},{"$f":"(1/((1+($J$8/100))^(AO33/$Q$9))*1) * IF(D33=\"D\",2,1)","v":1},{"$f":"Q16","v":0},{"$f":"AT33-AS33","v":{"$error":"#DIV/0!"}},{"$f":"(((1+($J$8/100))^((K33)/$Q$9))-1)*AQ33","v":{"$error":"#DIV/0!"}},{"$f":"IF(D33=\"D\",$K$23,0)+ $K$23","v":{"$error":"#DIV/0!"}},{"$f":"AQ33-AR33","v":{"$error":"#DIV/0!"}}]
[{"$f":"IF(A33>=$H$14,\"\",A33+1)","v":""},{"$f":"IF(A34=\"\",\"\",IF(A34<=$H$22,0,1))","v":""},{"$f":"IF(A34=\"\",\"\",IF(OR(MONTH(EDATE($Q$6,E34))=$H$16,MONTH(EDATE($Q$6,E34))=$H$17),IF(ABS($H$17-$H$16)=1,EDATE($Q$6,E34+2),EDATE($Q$6,E34+1)),EDATE($Q$6,E34)))","v":""},{"$f":"IF(A34=\"\",\"\",IF(OR(MONTH(C34)=$H$18,MONTH(C34)=$H$19),\"D\",\"\"))","v":""},{"$f":"IF(B34=\"\",\"\",IF(OR(MONTH(DATE(YEAR(C33) + 1/12,MONTH(C33)+1,DAY(C33)))=$H$16,MONTH(DATE(YEAR(C33) + 1/12,MONTH(C33)+1,DAY(C33)))=$H$17),IF(ABS($H$17-$H$16)=1,E33+1,E33 + 2),E33 + 1))","v":""},{"$f":"IF(B34=\"\",\"\",F33+1)","v":""},{"$f":"IF(B34=\"\",\"\",$Q$9)","v":""},{"$f":"IF(B34=\"\",\"\",$H$10)","v":""},{"$f":"IF(B34=\"\",\"\",C34-C33)","v":""},{"$f":"IF(B34=\"\",\"\",Y33)","v":""},{"$f":"IF(B34=\"\",\"\",IF(((IF(ISERROR(MATCH(MONTH(C34),$H$18:$H$19,0))=FALSE,$J$24 + $Q$29,0) + $J$24+$Q$29+$S$27)-(IF($J$24+$Q$29 + $S$27<ROUND(ROUND(J34*(((1+(H34/100))^(I34/G34))-1),4),2),$J$24+$Q$29 + $S$27-0.01,IF(ROUND(ROUND(J34*(((1+(H34/100))^(I34/G34))-1),4),2)+ $S$27>$J$24,$J$24+ $S$27+-0.01,ROUND(ROUND(J34*(((1+(H34/100))^(I34/G34))-1),4),2)+$S$27)))- Q34-R34-S34-W34)<0,0.01,IF(ISERROR(MATCH(MONTH(C34),$H$18:$H$19,0))=FALSE,$J$24 + $Q$29,0)+ ($J$24+$Q$29+$S$27)-(IF($J$24+$Q$29 + $S$27<ROUND(ROUND(J34*(((1+(H34/100))^(I34/G34))-1),4),2),$J$24+$Q$29 + $S$27-0.01,IF(ROUND(ROUND(J34*(((1+(H34/100))^(I34/G34))-1),4),2)+ $S$27>$J$24,$J$24+ $S$27+-0.01,ROUND(ROUND(J34*(((1+(H34/100))^(I34/G34))-1),4),2)+$S$27)))- Q34-R34-S34-W34))","v":""},{"$f":"IF(B34=\"\",\"\",IF(K34=0.01,+$J$24-K34-Q34-R34-S34-W34+$Q$29,IF($J$24+$Q$29 + $S$27<ROUND(ROUND(J34*(((1+(H34/100))^(I34/G34))-1),4),2),$J$24+$Q$29 + $S$27-0.01,IF(ROUND(ROUND(J34*(((1+(H34/100))^(I34/G34))-1),4),2)+ $S$27>$J$24,$J$24+ $S$27+-0.01,ROUND(ROUND(J34*(((1+(H34/100))^(I34/G34))-1),4),2)+$S$27))))","v":""},{"$f":"+IF(B34=\"\",\"\",IF(ISERROR(MATCH(MONTH(C34),$H$18:$H$19,0))=FALSE,$J$23,0)  + $J$23)","v":""},{"$f":"+IF(B34=\"\",\"\",L34+M34)","v":""},"",{"$f":"+IF(B34=\"\",\"\",$J$27)","v":""},{"$f":"+IF(B34=\"\",\"\",ROUND($H$9*J34/30*$I34,2)-S34)","v":""},null,{"$f":"IF(B34=\"\",\"\",IF(E34-E33>1,ROUNDDOWN($J34*$H$9/30*(DATE(YEAR($C34),MONTH($C34)-1,DAY($C34))-C33),2),0))","v":""},{"$f":"IF(B34=\"\",\"\",Q34+R34+S34)","v":""},{"$f":"+IF(B34=\"\",\"\",$J$28)","v":""},null,{"$f":"+IF(B34=\"\",\"\",U34+V34)","v":""},"",{"$f":"+IF(B34=\"\",\"\",ROUND(J34-K34,2))","v":""},{"$f":"IFERROR(IF(ROUND(ROUND(J34*(((1+(H34/100))^(I34/G34))-1),4),2) - $J$24<0,0,ROUND(ROUND(J34*(((1+(H34/100))^(I34/G34))-1),4),2) - $J$24),0)","v":0},null,0,{"$f":"+L34","v":""},"",0,"","",{"$f":"IF(B34=\"\",\"\",IF(D34=\"D\",$J$24*2,$J$24)+Q34)","v":""},{"$f":"+IF(C34=\"\",0,C34)","v":"00:00:00"},0,null,0,{"$f":"+IFERROR(AC34-L34,0)","v":0},null,{"$f":"I34 + AO33","v":{"$error":"#VALUE!"}},{"$error":"#VALUE!"},{"$f":"AU33","v":{"$error":"#DIV/0!"}},{"$error":"#DIV/0!"},{"$f":"(((1+($J$8/100))^((K34)/$Q$9))-1)*AQ34","v":{"$error":"#VALUE!"}},{"$error":"#DIV/0!"},{"$error":"#DIV/0!"}]
[{"$f":"IF(A34>=$H$14,\"\",A34+1)","v":""},"",{"$f":"IF(A35=\"\",\"\",IF(OR(MONTH(EDATE($Q$6,E35))=$H$16,MONTH(EDATE($Q$6,E35))=$H$17),IF(ABS($H$17-$H$16)=1,EDATE($Q$6,E35+2),EDATE($Q$6,E35+1)),EDATE($Q$6,E35)))","v":""},"",{"$f":"IF(B35=\"\",\"\",IF(OR(MONTH(DATE(YEAR(C34) + 1/12,MONTH(C34)+1,DAY(C34)))=$H$16,MONTH(DATE(YEAR(C34) + 1/12,MONTH(C34)+1,DAY(C34)))=$H$17),IF(ABS($H$17-$H$16)=1,E34+1,E34 + 2),E34 + 1))","v":""},{"$f":"IF(B35=\"\",\"\",F34+1)","v":""},{"$f":"IF(B35=\"\",\"\",$Q$9)","v":""},{"$f":"IF(B35=\"\",\"\",$H$10)","v":""},{"$f":"IF(B35=\"\",\"\",C35-C34)","v":""},{"$f":"IF(B35=\"\",\"\",Y34)","v":""},{"$f":"IF(B35=\"\",\"\",IF(((IF(ISERROR(MATCH(MONTH(C35),$H$18:$H$19,0))=FALSE,$J$24 + $Q$29,0) + $J$24+$Q$29+$S$27)-(IF($J$24+$Q$29 + $S$27<ROUND(ROUND(J35*(((1+(H35/100))^(I35/G35))-1),4),2),$J$24+$Q$29 + $S$27-0.01,IF(ROUND(ROUND(J35*(((1+(H35/100))^(I35/G35))-1),4),2)+ $S$27>$J$24,$J$24+ $S$27+-0.01,ROUND(ROUND(J35*(((1+(H35/100))^(I35/G35))-1),4),2)+$S$27)))- Q35-R35-S35-W35)<0,0.01,IF(ISERROR(MATCH(MONTH(C35),$H$18:$H$19,0))=FALSE,$J$24 + $Q$29,0)+ ($J$24+$Q$29+$S$27)-(IF($J$24+$Q$29 + $S$27<ROUND(ROUND(J35*(((1+(H35/100))^(I35/G35))-1),4),2),$J$24+$Q$29 + $S$27-0.01,IF(ROUND(ROUND(J35*(((1+(H35/100))^(I35/G35))-1),4),2)+ $S$27>$J$24,$J$24+ $S$27+-0.01,ROUND(ROUND(J35*(((1+(H35/100))^(I35/G35))-1),4),2)+$S$27)))- Q35-R35-S35-W35))","v":""},"","","","","",{"$f":"+IF(B35=\"\",\"\",ROUND($H$9*J35/30*$I35,2)-S35)","v":""},null,"","",{"$f":"+IF(B35=\"\",\"\",$J$28)","v":""},null,{"$f":"+IF(B35=\"\",\"\",U35+V35)","v":""},"","",0,null,0,"","",0,"","","","00:00:00",0,null,0,0,null,{"$error":"#VALUE!"},{"$error":"#VALUE!"},{"$error":"#DIV/0!"},{"$error":"#DIV/0!"},{"$error":"#VALUE!"},{"$error":"#DIV/0!"},{"$error":"#DIV/0!"}]
["","",{"$f":"IF(A36=\"\",\"\",IF(OR(MONTH(EDATE($Q$6,E36))=$H$16,MONTH(EDATE($Q$6,E36))=$H$17),IF(ABS($H$17-$H$16)=1,EDATE($Q$6,E36+2),EDATE($Q$6,E36+1)),EDATE($Q$6,E36)))","v":""},"","","","","","","","","","","","","","",null,"","","",null,"","","",0,null,0,"","",0,"","","","00:00:00",0,null,0,0,null,{"$error":"#VALUE!"},{"$error":"#VALUE!"},{"$error":"#DIV/0!"},{"$error":"#DIV/0!"},{"$error":"#VALUE!"},{"$error":"#DIV/0!"},{"$error":"#DIV/0!"}]
["","","","","","","","","","","","","","","","","",null,"","","",null,"","","",0,null,0,"","",0,"","","","00:00:00",0,null,0,0,null,{"$error":"#VALUE!"},{"$error":"#VALUE!"},{"$error":"#DIV/0!"},{"$error":"#DIV/0!"},{"$error":"#VALUE!"},{"$error":"#DIV/0!"},{"$error":"#DIV/0!"}]
["","","",{"$f":"IF(A38=\"\",\"\",IF(OR(MONTH(C38)=$H$18,MONTH(C38)=$H$19),\"D\",\"\"))","v":""},"","","","","","","","","","","","","",null,"","","",null,"","","",0,null,0,"","",0,"","","","00:00:00",0,{"$f":"+AG38*2","v":{"$error":"#VALUE!"}},0,0,null,{"$error":"#VALUE!"},{"$error":"#VALUE!"},{"$error":"#DIV/0!"},{"$error":"#DIV/0!"},{"$error":"#VALUE!"},{"$error":"#DIV/0!"},{"$error":"#DIV/0!"}]
["","","","","","","","","","","","","","","","","",null,"","","",null,"","","",0,null,0,"","",0,"","","","00:00:00",0,null,0,0,null,{"$error":"#VALUE!"},{"$error":"#VALUE!"},{"$error":"#DIV/0!"},{"$error":"#DIV/0!"},{"$error":"#VALUE!"},{"$error":"#DIV/0!"},{"$error":"#DIV/0!"}]
["","","","","","","","","","","","","","","","","",null,"","","",null,"","","",0,null,0,"","",0,"","","","00:00:00",0,null,0,0,null,{"$error":"#VALUE!"},{"$error":"#VALUE!"},{"$error":"#DIV/0!"},{"$error":"#DIV/0!"},{"$error":"#VALUE!"},{"$error":"#DIV/0!"},{"$error":"#DIV/0!"}]
["","","","","","","","","","","","","","","","","",null,"","","",null,"","","",0,null,0,"","",0,"","","","00:00:00",0,null,0,0,null,{"$error":"#VALUE!"},{"$error":"#VALUE!"},{"$error":"#DIV/0!"},{"$error":"#DIV/0!"},{"$error":"#VALUE!"},{"$error":"#DIV/0!"},{"$error":"#DIV/0!"}]
["","","","","","","","","","","","","","","","","",null,"","","",null,"","","",0,null,0,"","",0,"","","","00:00:00",0,null,0,0,null,{"$error":"#VALUE!"},{"$error":"#VALUE!"},{"$error":"#DIV/0!"},{"$error":"#DIV/0!"},{"$error":"#VALUE!"},{"$error":"#DIV/0!"},{"$error":"#DIV/0!"}]
["","","","","","","","","","","","","","","","","",null,"","","",null,"","","",0,null,0,"","",0,"","","","00:00:00",0,null,0,0,null,{"$error":"#VALUE!"},{"$error":"#VALUE!"},{"$error":"#DIV/0!"},{"$error":"#DIV/0!"},{"$error":"#VALUE!"},{"$error":"#DIV/0!"},{"$error":"#DIV/0!"}]
["","","","","","","","","","","","","","","","","",null,"","","",null,"","","",0,null,0,"","",0,"","","","00:00:00",0,null,0,0,null,{"$error":"#VALUE!"},{"$error":"#VALUE!"},{"$error":"#DIV/0!"},{"$error":"#DIV/0!"},{"$error":"#VALUE!"},{"$error":"#DIV/0!"},{"$error":"#DIV/0!"}]
["","","","","","","","","","","","","","","","","",null,"","","",null,"","","",0,null,0,"","",0,"","","","00:00:00",0,null,0,0,null,{"$error":"#VALUE!"},{"$error":"#VALUE!"},{"$error":"#DIV/0!"},{"$error":"#DIV/0!"},{"$error":"#VALUE!"},{"$error":"#DIV/0!"},{"$error":"#DIV/0!"}]
["","","","","","","","","","","","","","","","","",null,"","","",null,"","","",0,null,0,"","",0,"","","","00:00:00",0,null,0,0,null,{"$error":"#VALUE!"},{"$error":"#VALUE!"},{"$error":"#DIV/0!"},{"$error":"#DIV/0!"},{"$error":"#VALUE!"},{"$error":"#DIV/0!"},{"$error":"#DIV/0!"}]
["","","","","","","","","","","","","","","","","",null,"","","",null,"","","",0,null,0,"","",0,"","","","00:00:00",0,null,0,0,null,{"$error":"#VALUE!"},{"$error":"#VALUE!"},{"$error":"#DIV/0!"},{"$error":"#DIV/0!"},{"$error":"#VALUE!"},{"$error":"#DIV/0!"},{"$error":"#DIV/0!"}]
["","","","","","","","","","","","","","","","","",null,"","","",null,"","","",0,null,0,"","",0,"","","","00:00:00",0,null,0,0,null,{"$error":"#VALUE!"},{"$error":"#VALUE!"},{"$error":"#DIV/0!"},{"$error":"#DIV/0!"},{"$error":"#VALUE!"},{"$error":"#DIV/0!"},{"$error":"#DIV/0!"}]
["","","","","","","","","","","","","","","","","",null,"","","",null,"","","",0,null,0,"","",0,"","","","00:00:00",0,null,0,0,null,{"$error":"#VALUE!"},{"$error":"#VALUE!"},{"$error":"#DIV/0!"},{"$error":"#DIV/0!"},{"$error":"#VALUE!"},{"$error":"#DIV/0!"},{"$error":"#DIV/0!"}]
["","","","","","","","","","","","","","","","","",null,"","","",null,"","","",0,null,0,"","",0,"","","","00:00:00",0,null,0,0,null,{"$error":"#VALUE!"},{"$error":"#VALUE!"},{"$error":"#DIV/0!"},{"$error":"#DIV/0!"},{"$error":"#VALUE!"},{"$error":"#DIV/0!"},{"$error":"#DIV/0!"}]
["","","","","","","","","","","","","","","","","",null,"","","",null,"","","",0,null,0,"","",0,"","","","00:00:00",0,null,0,0,null,{"$error":"#VALUE!"},{"$error":"#VALUE!"},{"$error":"#DIV/0!"},{"$error":"#DIV/0!"},{"$error":"#VALUE!"},{"$error":"#DIV/0!"},{"$error":"#DIV/0!"}]
["","","","","","","","","","","","","","","","","",null,"","","",null,"","","",0,null,0,"","",0,"","","","00:00:00",0,null,0,0,null,{"$error":"#VALUE!"},{"$error":"#VALUE!"},{"$error":"#DIV/0!"},{"$error":"#DIV/0!"},{"$error":"#VALUE!"},{"$error":"#DIV/0!"},{"$error":"#DIV/0!"}]
["","","","","","","","","","","","","","","","","",null,"","","",null,"","","",0,null,0,"","",0,"","","","00:00:00",0,null,0,0,null,{"$error":"#VALUE!"},{"$error":"#VALUE!"},{"$error":"#DIV/0!"},{"$error":"#DIV/0!"},{"$error":"#VALUE!"},{"$error":"#DIV/0!"},{"$error":"#DIV/0!"}]
["","","","","","","","","","","","","","","","","",null,"","","",null,"","","",0,null,0,"","",0,"","","","00:00:00",0,null,0,0,null,{"$error":"#VALUE!"},{"$error":"#VALUE!"},{"$error":"#DIV/0!"},{"$error":"#DIV/0!"},{"$error":"#VALUE!"},{"$error":"#DIV/0!"},{"$error":"#DIV/0!"}]
["","","","","","","","","","","","","","","","","",null,"","","",null,"","","",0,null,0,"","",0,"","","","00:00:00",0,null,0,0,null,{"$error":"#VALUE!"},{"$error":"#VALUE!"},{"$error":"#DIV/0!"},{"$error":"#DIV/0!"},{"$error":"#VALUE!"},{"$error":"#DIV/0!"},{"$error":"#DIV/0!"}]
["","","","","","","","","","","","","","","","","",null,"","","",null,"","","",0,null,0,"","",0,"","","","00:00:00",0,null,0,0,null,{"$error":"#VALUE!"},{"$error":"#VALUE!"},{"$error":"#DIV/0!"},{"$error":"#DIV/0!"},{"$error":"#VALUE!"},{"$error":"#DIV/0!"},{"$error":"#DIV/0!"}]
["","","","","","","","","","","","","","","","","",null,"","","",null,"","","",0,null,0,"","",0,"","","","00:00:00",0,null,0,0,null,{"$error":"#VALUE!"},{"$error":"#VALUE!"},{"$error":"#DIV/0!"},{"$error":"#DIV/0!"},{"$error":"#VALUE!"},{"$error":"#DIV/0!"},{"$error":"#DIV/0!"}]
["","","","","","","","","","","","","","","","","",null,"","","",null,"","","",0,null,0,"","",0,"","","","00:00:00",0,null,0,0,null,{"$error":"#VALUE!"},{"$error":"#VALUE!"},{"$error":"#DIV/0!"},{"$error":"#DIV/0!"},{"$error":"#VALUE!"},{"$error":"#DIV/0!"},{"$error":"#DIV/0!"}]
["","","","","","","","","","","","","","","","","",null,"","","",null,"","","",0,null,0,"","",0,"","","","00:00:00",0,null,0,0,null,{"$error":"#VALUE!"},{"$error":"#VALUE!"},{"$error":"#DIV/0!"},{"$error":"#DIV/0!"},{"$error":"#VALUE!"},{"$error":"#DIV/0!"},{"$error":"#DIV/0!"}]
["","","","","","","","","","","","","","","","","",null,"","","",null,"","","",0,null,0,"","",0,"","","","00:00:00",0,null,0,0,null,{"$error":"#VALUE!"},{"$error":"#VALUE!"},{"$error":"#DIV/0!"},{"$error":"#DIV/0!"},{"$error":"#VALUE!"},{"$error":"#DIV/0!"},{"$error":"#DIV/0!"}]
["","","","","","","","","","","","","","","","","",null,"","","",null,"","","",0,null,0,"","",0,"","","","00:00:00",0,null,0,0,null,{"$error":"#VALUE!"},{"$error":"#VALUE!"},{"$error":"#DIV/0!"},{"$error":"#DIV/0!"},{"$error":"#VALUE!"},{"$error":"#DIV/0!"},{"$error":"#DIV/0!"}]
["","","","","","","","","","","","","","","","","",null,"","","",null,"","","",0,null,0,"","",0,"","","","00:00:00",0,null,0,0,null,{"$error":"#VALUE!"},{"$error":"#VALUE!"},{"$error":"#DIV/0!"},{"$error":"#DIV/0!"},{"$error":"#VALUE!"},{"$error":"#DIV/0!"},{"$error":"#DIV/0!"}]
["","","","","","","","","","","","","","","","","",null,"","","",null,"","","",0,null,0,"","",0,"","","","00:00:00",0,null,0,0,null,{"$error":"#VALUE!"},{"$error":"#VALUE!"},{"$error":"#DIV/0!"},{"$error":"#DIV/0!"},{"$error":"#VALUE!"},{"$error":"#DIV/0!"},{"$error":"#DIV/0!"}]
["","","","","","","","","","","","","","","","","",null,"","","",null,"","","",0,null,0,"","",0,"","","","00:00:00",0,null,0,0,null,{"$error":"#VALUE!"},{"$error":"#VALUE!"},{"$error":"#DIV/0!"},{"$error":"#DIV/0!"},{"$error":"#VALUE!"},{"$error":"#DIV/0!"},{"$error":"#DIV/0!"}]
["","","","","","","","","","","","","","","","","",null,"","","",null,"","","",0,null,0,"","",0,"","","","00:00:00",0,null,0,0,null,{"$error":"#VALUE!"},{"$error":"#VALUE!"},{"$error":"#DIV/0!"},{"$error":"#DIV/0!"},{"$error":"#VALUE!"},{"$error":"#DIV/0!"},{"$error":"#DIV/0!"}]
["","","","","","","","","","","","","","","","","",null,"","","",null,"","","",0,null,0,"","",0,"","","","00:00:00",0,null,0,0,null,{"$error":"#VALUE!"},{"$error":"#VALUE!"},{"$error":"#DIV/0!"},{"$error":"#DIV/0!"},{"$error":"#VALUE!"},{"$error":"#DIV/0!"},{"$error":"#DIV/0!"}]
["","","","","","","","","","","","","","","","","",null,"","","",null,"","","",0,null,0,"","",0,"","","","00:00:00",0,null,0,0,null,{"$error":"#VALUE!"},{"$error":"#VALUE!"},{"$error":"#DIV/0!"},{"$error":"#DIV/0!"},{"$error":"#VALUE!"},{"$error":"#DIV/0!"},{"$error":"#DIV/0!"}]
["","","","","","","","","","","","","","","","","",null,"","","",null,"","","",0,null,0,"","",0,"","","","00:00:00",0,null,0,0,null,{"$error":"#VALUE!"},{"$error":"#VALUE!"},{"$error":"#DIV/0!"},{"$error":"#DIV/0!"},{"$error":"#VALUE!"},{"$error":"#DIV/0!"},{"$error":"#DIV/0!"}]
["","","","","","","","","","","","","","","","","",null,"","","",null,"","","",0,null,0,"","",0,"","","","00:00:00",0,null,0,0,null,{"$error":"#VALUE!"},{"$error":"#VALUE!"},{"$error":"#DIV/0!"},{"$error":"#DIV/0!"},{"$error":"#VALUE!"},{"$error":"#DIV/0!"},{"$error":"#DIV/0!"}]
["","","","","","","","","","","","","","","","","",null,"","","",null,"","","",0,null,0,"","",0,"","","","00:00:00",0,null,0,0,null,{"$error":"#VALUE!"},{"$error":"#VALUE!"},{"$error":"#DIV/0!"},{"$error":"#DIV/0!"},{"$error":"#VALUE!"},{"$error":"#DIV/0!"},{"$error":"#DIV/0!"}]
["","","","","","","","","","","","","","","","","",null,"","","",null,"","","",0,null,0,"","",0,"","","","00:00:00",0,null,0,0,null,{"$error":"#VALUE!"},{"$error":"#VALUE!"},{"$error":"#DIV/0!"},{"$error":"#DIV/0!"},{"$error":"#VALUE!"},{"$error":"#DIV/0!"},{"$error":"#DIV/0!"}]
["","","","","","","","","","","","","","","","","",null,"","","",null,"","","",0,null,0,"","",0,"","","","00:00:00",0,null,0,0,null,{"$error":"#VALUE!"},{"$error":"#VALUE!"},{"$error":"#DIV/0!"},{"$error":"#DIV/0!"},{"$error":"#VALUE!"},{"$error":"#DIV/0!"},{"$error":"#DIV/0!"}]
["","","","","","","","","","","","","","","","","",null,"","","",null,"","","",0,null,0,"","",0,"","","","00:00:00",0,null,0,0,null,{"$error":"#VALUE!"},{"$error":"#VALUE!"},{"$error":"#DIV/0!"},{"$error":"#DIV/0!"},{"$error":"#VALUE!"},{"$error":"#DIV/0!"},{"$error":"#DIV/0!"}]
["","","","","","","","","","","","","","","","","",null,"","","",null,"","","",0,null,0,"","",0,"","","","00:00:00",0,null,0,0,null,{"$error":"#VALUE!"},{"$error":"#VALUE!"},{"$error":"#DIV/0!"},{"$error":"#DIV/0!"},{"$error":"#VALUE!"},{"$error":"#DIV/0!"},{"$error":"#DIV/0!"}]
["","","","","","","","","","","","","","","","","",null,"","","",null,"","","",0,null,0,"","",0,"","","","00:00:00",0,null,0,0,null,{"$error":"#VALUE!"},{"$error":"#VALUE!"},{"$error":"#DIV/0!"},{"$error":"#DIV/0!"},{"$error":"#VALUE!"},{"$error":"#DIV/0!"},{"$error":"#DIV/0!"}]
["","","","","","","","","","","","","","","","","",null,"","","",null,"","","",0,null,0,"","",0,"","","","00:00:00",0,null,0,0,null,{"$error":"#VALUE!"},{"$error":"#VALUE!"},{"$error":"#DIV/0!"},{"$error":"#DIV/0!"},{"$error":"#VALUE!"},{"$error":"#DIV/0!"},{"$error":"#DIV/0!"}]
["","","","","","","","","","","","","","","","","",null,"","","",null,"","","",0,null,0,"","",0,"","","","00:00:00",0,null,0,0,null,{"$error":"#VALUE!"},{"$error":"#VALUE!"},{"$error":"#DIV/0!"},{"$error":"#DIV/0!"},{"$error":"#VALUE!"},{"$error":"#DIV/0!"},{"$error":"#DIV/0!"}]
["","","","","","","","","","","","","","","","","",null,"","","",null,"","","",0,null,0,"","",0,"","","","00:00:00",0,null,0,0,null,{"$error":"#VALUE!"},{"$error":"#VALUE!"},{"$error":"#DIV/0!"},{"$error":"#DIV/0!"},{"$error":"#VALUE!"},{"$error":"#DIV/0!"},{"$error":"#DIV/0!"}]
["","","","","","","","","","","","","","","","","",null,"","","",null,"","","",0,null,0,"","",0,"","","","00:00:00",0,null,0,0,null,{"$error":"#VALUE!"},{"$error":"#VALUE!"},{"$error":"#DIV/0!"},{"$error":"#DIV/0!"},{"$error":"#VALUE!"},{"$error":"#DIV/0!"},{"$error":"#DIV/0!"}]
["","","","","","","","","","","","","","","","","",null,"","","",null,"","","",0,null,0,"","",0,"","","","00:00:00",0,null,0,0,null,{"$error":"#VALUE!"},{"$error":"#VALUE!"},{"$error":"#DIV/0!"},{"$error":"#DIV/0!"},{"$error":"#VALUE!"},{"$error":"#DIV/0!"},{"$error":"#DIV/0!"}]
["","","","","","","","","","","","","","","","","",null,"","","",null,"","","",0,null,0,"","",0,"","","","00:00:00",0,null,0,0,null,{"$error":"#VALUE!"},{"$error":"#VALUE!"},{"$error":"#DIV/0!"},{"$error":"#DIV/0!"},{"$error":"#VALUE!"},{"$error":"#DIV/0!"},{"$error":"#DIV/0!"}]
["","","","","","","","","","","","","","","","","",null,"","","",null,"","","",0,null,0,"","",0,"","","","00:00:00",0,null,0,0,null,{"$error":"#VALUE!"},{"$error":"#VALUE!"},{"$error":"#DIV/0!"},{"$error":"#DIV/0!"},{"$error":"#VALUE!"},{"$error":"#DIV/0!"},{"$error":"#DIV/0!"}]
["","","","","","","","","","","","","","","","","",null,"","","",null,"","","",0,null,0,"","",0,"","","","00:00:00",0,null,0,0,null,{"$error":"#VALUE!"},{"$error":"#VALUE!"},{"$error":"#DIV/0!"},{"$error":"#DIV/0!"},{"$error":"#VALUE!"},{"$error":"#DIV/0!"},{"$error":"#DIV/0!"}]
["","","","","","","","","","","","","","","","","",null,"","","",null,"","","",0,null,0,"","",0,"","","","00:00:00",0,null,0,0,null,{"$error":"#VALUE!"},{"$error":"#VALUE!"},{"$error":"#DIV/0!"},{"$error":"#DIV/0!"},{"$error":"#VALUE!"},{"$error":"#DIV/0!"},{"$error":"#DIV/0!"}]
["","","","","","","","","","","","","","","","","",null,"","","",null,"","","",0,null,0,"","",0,"","","","00:00:00",0,null,0,0,null,{"$error":"#VALUE!"},{"$error":"#VALUE!"},{"$error":"#DIV/0!"},{"$error":"#DIV/0!"},{"$error":"#VALUE!"},{"$error":"#DIV/0!"},{"$error":"#DIV/0!"}]
["","","","","","","","","","","","","","","","","",null,"","","",null,"","","",0,null,0,"","",0,"","","","00:00:00",0,null,0,0,null,{"$error":"#VALUE!"},{"$error":"#VALUE!"},{"$error":"#DIV/0!"},{"$error":"#DIV/0!"},{"$error":"#VALUE!"},{"$error":"#DIV/0!"},{"$error":"#DIV/0!"}]
["","","","","","","","","","","","","","","","","",null,"","","",null,"","","",0,null,0,"","",0,"","","","00:00:00",0,null,0,0,null,{"$error":"#VALUE!"},{"$error":"#VALUE!"},{"$error":"#DIV/0!"},{"$error":"#DIV/0!"},{"$error":"#VALUE!"},{"$error":"#DIV/0!"},{"$error":"#DIV/0!"}]
["","","","","","","","","","","","","","","","","",null,"","","",null,"","","",0,null,0,"","",0,"","","","00:00:00",0,null,0,0,null,{"$error":"#VALUE!"},{"$error":"#VALUE!"},{"$error":"#DIV/0!"},{"$error":"#DIV/0!"},{"$error":"#VALUE!"},{"$error":"#DIV/0!"},{"$error":"#DIV/0!"}]
["","","","","","","","","","","","","","","","","",null,"","","",null,"","","",0,null,0,"","",0,"","","","00:00:00",0,null,0,0,null,{"$error":"#VALUE!"},{"$error":"#VALUE!"},{"$error":"#DIV/0!"},{"$error":"#DIV/0!"},{"$error":"#VALUE!"},{"$error":"#DIV/0!"},{"$error":"#DIV/0!"}]
["","","","","","","","","","","","","","","","","",null,"","","",null,"","","",0,null,0,"","",0,"","","","00:00:00",0,null,0,0,null,{"$error":"#VALUE!"},{"$error":"#VALUE!"},{"$error":"#DIV/0!"},{"$error":"#DIV/0!"},{"$error":"#VALUE!"},{"$error":"#DIV/0!"},{"$error":"#DIV/0!"}]
["","","","","","","","","","","","","","","","","",null,"","","",null,"","","",0,null,0,"","",0,"","","","00:00:00",0,null,0,0,null,{"$error":"#VALUE!"},{"$error":"#VALUE!"},{"$error":"#DIV/0!"},{"$error":"#DIV/0!"},{"$error":"#VALUE!"},{"$error":"#DIV/0!"},{"$error":"#DIV/0!"}]
["","","","","","","","","","","","","","","","","",null,"","","",null,"","","",0,null,0,"","",0,"","","","00:00:00",0,null,0,0,null,{"$error":"#VALUE!"},{"$error":"#VALUE!"},{"$error":"#DIV/0!"},{"$error":"#DIV/0!"},{"$error":"#VALUE!"},{"$error":"#DIV/0!"},{"$error":"#DIV/0!"}]
["","","","","","","","","","","","","","","","","",null,"","","",null,"","","",0,null,0,"","",0,"","","","00:00:00",0,null,0,0,null,{"$error":"#VALUE!"},{"$error":"#VALUE!"},{"$error":"#DIV/0!"},{"$error":"#DIV/0!"},{"$error":"#VALUE!"},{"$error":"#DIV/0!"},{"$error":"#DIV/0!"}]
["","","","","","","","","","","","","","","","","",null,"","","",null,"","","",0,null,0,"","",0,"","","","00:00:00",0,null,0,0,null,{"$error":"#VALUE!"},{"$error":"#VALUE!"},{"$error":"#DIV/0!"},{"$error":"#DIV/0!"},{"$error":"#VALUE!"},{"$error":"#DIV/0!"},{"$error":"#DIV/0!"}]
["","","","","","","","","","","","","","","","","",null,"","","",null,"","","",0,null,0,"","",0,"","","","00:00:00",0,null,0,0,null,{"$error":"#VALUE!"},{"$error":"#VALUE!"},{"$error":"#DIV/0!"},{"$error":"#DIV/0!"},{"$error":"#VALUE!"},{"$error":"#DIV/0!"},{"$error":"#DIV/0!"}]
["","","","","","","","","","","","","","","","","",null,"","","",null,"","","",0,null,0,"","",0,"","","","00:00:00",0,null,0,0,null,{"$error":"#VALUE!"},{"$error":"#VALUE!"},{"$error":"#DIV/0!"},{"$error":"#DIV/0!"},{"$error":"#VALUE!"},{"$error":"#DIV/0!"},{"$error":"#DIV/0!"}]
["","","","","","","","","","","","","","",{"$f":"IF(B97=\"\",\"\",K97+N97)","v":""},"","",null,"","","",null,"",{"$f":"IF(B97=\"\",\"\",IF(B97=\"\",\"\",O97+P97+Q97+R97+S97+W97))","v":""},"",0,null,{"$f":"SUM(K97:M97)","v":0},{"$f":"+L97","v":""},{"$f":"+Q97","v":""},{"$f":"+R97","v":0},{"$f":"+S97","v":""},{"$f":"IF(B97=\"\",\"\",AC97+K97 + P97 + W97+AD97+AE97 + M97 + AF97)","v":""},"","00:00:00",{"$f":"+IF(AG97=\"\",0,AG97)","v":0},null,{"$f":"+IFERROR(AG97-X97,0)","v":0},0,null,{"$error":"#VALUE!"},{"$f":"(1/((1+($J$8/100))^(AO97/$Q$9))*1) * IF(D97=\"D\",2,1)","v":{"$error":"#VALUE!"}},{"$error":"#DIV/0!"},{"$f":"AT97-AS97","v":{"$error":"#DIV/0!"}},{"$error":"#VALUE!"},{"$f":"IF(D97=\"D\",$K$23,0)+ $K$23","v":{"$error":"#DIV/0!"}},{"$f":"AQ97-AR97","v":{"$error":"#DIV/0!"}}]
["",{"$f":"IF(A98=\"\",\"\",IF(A98<=$H$22,0,1))","v":""},"",{"$f":"IF(A98=\"\",\"\",IF(OR(MONTH(C98)=$H$18,MONTH(C98)=$H$19),\"D\",\"\"))","v":""},"","","","","","",{"$f":"IF(B98=\"\",\"\",IF(((IF(ISERROR(MATCH(MONTH(C98),$H$18:$H$19,0))=FALSE,$J$24 + $Q$29,0) + $J$24+$Q$29+$S$27)-(IF($J$24+$Q$29 + $S$27<ROUND(ROUND(J98*(((1+(H98/100))^(I98/G98))-1),4),2),$J$24+$Q$29 + $S$27-0.01,IF(ROUND(ROUND(J98*(((1+(H98/100))^(I98/G98))-1),4),2)+ $S$27>$J$24,$J$24+ $S$27+-0.01,ROUND(ROUND(J98*(((1+(H98/100))^(I98/G98))-1),4),2)+$S$27)))- Q98-R98-S98-W98)<0,0.01,IF(ISERROR(MATCH(MONTH(C98),$H$18:$H$19,0))=FALSE,$J$24 + $Q$29,0)+ ($J$24+$Q$29+$S$27)-(IF($J$24+$Q$29 + $S$27<ROUND(ROUND(J98*(((1+(H98/100))^(I98/G98))-1),4),2),$J$24+$Q$29 + $S$27-0.01,IF(ROUND(ROUND(J98*(((1+(H98/100))^(I98/G98))-1),4),2)+ $S$27>$J$24,$J$24+ $S$27+-0.01,ROUND(ROUND(J98*(((1+(H98/100))^(I98/G98))-1),4),2)+$S$27)))- Q98-R98-S98-W98))","v":""},{"$f":"IF(B98=\"\",\"\",IF(K98=0.01,+$J$24-K98-Q98-R98-S98-W98+$Q$29,IF($J$24+$Q$29 + $S$27<ROUND(ROUND(J98*(((1+(H98/100))^(I98/G98))-1),4),2),$J$24+$Q$29 + $S$27-0.01,IF(ROUND(ROUND(J98*(((1+(H98/100))^(I98/G98))-1),4),2)+ $S$27>$J$24,$J$24+ $S$27+-0.01,ROUND(ROUND(J98*(((1+(H98/100))^(I98/G98))-1),4),2)+$S$27))))","v":""},{"$f":"+IF(B98=\"\",\"\",IF(ISERROR(MATCH(MONTH(C98),$H$18:$H$19,0))=FALSE,$J$23,0)  + $J$23)","v":""},{"$f":"+IF(B98=\"\",\"\",L98+M98)","v":""},"",{"$f":"+IF(B98=\"\",\"\",$J$27)","v":""},"",null,{"$f":"IF(B98=\"\",\"\",IF(E98-E97>1,ROUNDDOWN($J98*$H$9/30*(DATE(YEAR($C98),MONTH($C98)-1,DAY($C98))-C97),2),0))","v":""},{"$f":"IF(B98=\"\",\"\",Q98+R98+S98)","v":""},"",null,"","",{"$f":"+IF(B98=\"\",\"\",ROUND(J98-K98,2))","v":""},{"$f":"IFERROR(IF(ROUND(ROUND(J98*(((1+(H98/100))^(I98/G98))-1),4),2) - $J$24<0,0,ROUND(ROUND(J98*(((1+(H98/100))^(I98/G98))-1),4),2) - $J$24),0)","v":0},null,0,"","",0,"","",{"$f":"IF(B98=\"\",\"\",IF(D98=\"D\",$J$24*2,$J$24)+Q98)","v":""},{"$f":"+IF(C98=\"\",0,C98)","v":"00:00:00"},0,null,0,{"$f":"+IFERROR(AC98-L98,0)","v":0},null,{"$f":"I98 + AO97","v":{"$error":"#VALUE!"}},{"$error":"#VALUE!"},{"$f":"AU97","v":{"$error":"#DIV/0!"}},{"$error":"#DIV/0!"},{"$f":"(((1+($J$8/100))^((K98)/$Q$9))-1)*AQ98","v":{"$error":"#VALUE!"}},{"$error":"#DIV/0!"},{"$error":"#DIV/0!"}]
[{"$f":"IF(A98>=$H$14,\"\",A98+1)","v":""},"",{"$f":"IF(A99=\"\",\"\",IF(OR(MONTH(EDATE($Q$6,E99))=$H$16,MONTH(EDATE($Q$6,E99))=$H$17),IF(ABS($H$17-$H$16)=1,EDATE($Q$6,E99+2),EDATE($Q$6,E99+1)),EDATE($Q$6,E99)))","v":""},"",{"$f":"IF(B99=\"\",\"\",IF(OR(MONTH(DATE(YEAR(C98) + 1/12,MONTH(C98)+1,DAY(C98)))=$H$16,MONTH(DATE(YEAR(C98) + 1/12,MONTH(C98)+1,DAY(C98)))=$H$17),IF(ABS($H$17-$H$16)=1,E98+1,E98 + 2),E98 + 1))","v":""},{"$f":"IF(B99=\"\",\"\",F98+1)","v":""},{"$f":"IF(B99=\"\",\"\",$Q$9)","v":""},{"$f":"IF(B99=\"\",\"\",$H$10)","v":""},{"$f":"IF(B99=\"\",\"\",C99-C98)","v":""},{"$f":"IF(B99=\"\",\"\",Y98)","v":""},"","","","","","",{"$f":"+IF(B99=\"\",\"\",ROUND($H$9*J99/30*$I99,2)-S99)","v":""},null,"","",{"$f":"+IF(B99=\"\",\"\",$J$28)","v":""},null,{"$f":"+IF(B99=\"\",\"\",U99+V99)","v":""},"","",0,null,0,"","",0,"","","","00:00:00",0,null,0,0,null,{"$error":"#VALUE!"},{"$error":"#VALUE!"},{"$error":"#DIV/0!"},{"$error":"#DIV/0!"},{"$error":"#VALUE!"},{"$error":"#DIV/0!"},{"$error":"#DIV/0!"}]
["","","","","","","","","","","","","","","","","",null,"","","",null,"","","",0,null,0,"","",0,"","","","00:00:00",0,null,0,0,null,{"$error":"#VALUE!"},{"$error":"#VALUE!"},{"$error":"#DIV/0!"},{"$error":"#DIV/0!"},{"$error":"#VALUE!"},{"$error":"#DIV/0!"},{"$error":"#DIV/0!"}]
["","","","","","","","","","","","","","","","","",null,"","","",null,"","","",0,null,0,"","",0,"","","","00:00:00",0,null,0,0,null,{"$error":"#VALUE!"},{"$error":"#VALUE!"},{"$error":"#DIV/0!"},{"$error":"#DIV/0!"},{"$error":"#VALUE!"},{"$error":"#DIV/0!"},{"$error":"#DIV/0!"}]
["","","","","","","","","","","","","","","","","",null,"","","",null,"","","",0,null,0,"","",0,"","","","00:00:00",0,null,0,0,null,{"$error":"#VALUE!"},{"$error":"#VALUE!"},{"$error":"#DIV/0!"},{"$error":"#DIV/0!"},{"$error":"#VALUE!"},{"$error":"#DIV/0!"},{"$error":"#DIV/0!"}]
["","","","","","","","","","","","","","","","","",null,"","","",null,"","","",0,null,0,"","",0,"","","","00:00:00",0,null,0,0,null,{"$error":"#VALUE!"},{"$error":"#VALUE!"},{"$error":"#DIV/0!"},{"$error":"#DIV/0!"},{"$error":"#VALUE!"},{"$error":"#DIV/0!"},{"$error":"#DIV/0!"}]
["","","","","","","","","","","","","","","","","",null,"","","",null,"","","",0,null,0,"","",0,"","","","00:00:00",0,null,0,0,null,{"$error":"#VALUE!"},{"$error":"#VALUE!"},{"$error":"#DIV/0!"},{"$error":"#DIV/0!"},{"$error":"#VALUE!"},{"$error":"#DIV/0!"},{"$error":"#DIV/0!"}]
["","","","","","","","","","","","","","","","","",null,"","","",null,"","","",0,null,0,"","",0,"","","","00:00:00",0,null,0,0,null,{"$error":"#VALUE!"},{"$error":"#VALUE!"},{"$error":"#DIV/0!"},{"$error":"#DIV/0!"},{"$error":"#VALUE!"},{"$error":"#DIV/0!"},{"$error":"#DIV/0!"}]
["","","","","","","","","","","","","","","","","",null,"","","",null,"","","",0,null,0,"","",0,"","","","00:00:00",0,null,0,0,null,{"$error":"#VALUE!"},{"$error":"#VALUE!"},{"$error":"#DIV/0!"},{"$error":"#DIV/0!"},{"$error":"#VALUE!"},{"$error":"#DIV/0!"},{"$error":"#DIV/0!"}]
["","","","","","","","","","","","","","","","","",null,"","","",null,"","","",0,null,0,"","",0,"","","","00:00:00",0,null,0,0,null,{"$error":"#VALUE!"},{"$error":"#VALUE!"},{"$error":"#DIV/0!"},{"$error":"#DIV/0!"},{"$error":"#VALUE!"},{"$error":"#DIV/0!"},{"$error":"#DIV/0!"}]
["","","","","","","","","","","","","","","","","",null,"","","",null,"","","",0,null,0,"","",0,"","","","00:00:00",0,null,0,0,null,{"$error":"#VALUE!"},{"$error":"#VALUE!"},{"$error":"#DIV/0!"},{"$error":"#DIV/0!"},{"$error":"#VALUE!"},{"$error":"#DIV/0!"},{"$error":"#DIV/0!"}]
["","","","","","","","","","","","","","","","","",null,"","","",null,"","","",0,null,0,"","",0,"","","","00:00:00",0,null,0,0,null,{"$error":"#VALUE!"},{"$error":"#VALUE!"},{"$error":"#DIV/0!"},{"$error":"#DIV/0!"},{"$error":"#VALUE!"},{"$error":"#DIV/0!"},{"$error":"#DIV/0!"}]
["","","","","","","","","","","","","","","","","",null,"","","",null,"","","",0,null,0,"","",0,"","","","00:00:00",0,null,0,0,null,{"$error":"#VALUE!"},{"$error":"#VALUE!"},{"$error":"#DIV/0!"},{"$error":"#DIV/0!"},{"$error":"#VALUE!"},{"$error":"#DIV/0!"},{"$error":"#DIV/0!"}]
["","","","","","","","","","","","","","","","","",null,"","","",null,"","","",0,null,0,"","",0,"","","","00:00:00",0,null,0,0,null,{"$error":"#VALUE!"},{"$error":"#VALUE!"},{"$error":"#DIV/0!"},{"$error":"#DIV/0!"},{"$error":"#VALUE!"},{"$error":"#DIV/0!"},{"$error":"#DIV/0!"}]
["","","","","","","","","","","","","","","","","",null,"","","",null,"","","",0,null,0,"","",0,"","","","00:00:00",0,null,0,0,null,{"$error":"#VALUE!"},{"$error":"#VALUE!"},{"$error":"#DIV/0!"},{"$error":"#DIV/0!"},{"$error":"#VALUE!"},{"$error":"#DIV/0!"},{"$error":"#DIV/0!"}]
["","","","","","","","","","","","","","","","","",null,"","","",null,"","","",0,null,0,"","",0,"","","","00:00:00",0,null,0,0,null,{"$error":"#VALUE!"},{"$error":"#VALUE!"},{"$error":"#DIV/0!"},{"$error":"#DIV/0!"},{"$error":"#VALUE!"},{"$error":"#DIV/0!"},{"$error":"#DIV/0!"}]
["","","","","","","","","","","","","","","","","",null,"","","",null,"","","",0,null,0,"","",0,"","","","00:00:00",0,null,0,0,null,{"$error":"#VALUE!"},{"$error":"#VALUE!"},{"$error":"#DIV/0!"},{"$error":"#DIV/0!"},{"$error":"#VALUE!"},{"$error":"#DIV/0!"},{"$error":"#DIV/0!"}]
["","","","","","","","","","","","","","","","","",null,"","","",null,"","","",0,null,0,"","",0,"","","","00:00:00",0,null,0,0,null,{"$error":"#VALUE!"},{"$error":"#VALUE!"},{"$error":"#DIV/0!"},{"$error":"#DIV/0!"},{"$error":"#VALUE!"},{"$error":"#DIV/0!"},{"$error":"#DIV/0!"}]
["","","","","","","","","","","","","","","","","",null,"","","",null,"","","",0,null,0,"","",0,"","","","00:00:00",0,null,0,0,null,{"$error":"#VALUE!"},{"$error":"#VALUE!"},{"$error":"#DIV/0!"},{"$error":"#DIV/0!"},{"$error":"#VALUE!"},{"$error":"#DIV/0!"},{"$error":"#DIV/0!"}]
["","","","","","","","","","","","","","","","","",null,"","","",null,"","","",0,null,0,"","",0,"","","","00:00:00",0,null,0,0,null,{"$error":"#VALUE!"},{"$error":"#VALUE!"},{"$error":"#DIV/0!"},{"$error":"#DIV/0!"},{"$error":"#VALUE!"},{"$error":"#DIV/0!"},{"$error":"#DIV/0!"}]
["","","","","","","","","","","","","","","","","",null,"","","",null,"","","",0,null,0,"","",0,"","","","00:00:00",0,null,0,0,null,{"$error":"#VALUE!"},{"$error":"#VALUE!"},{"$error":"#DIV/0!"},{"$error":"#DIV/0!"},{"$error":"#VALUE!"},{"$error":"#DIV/0!"},{"$error":"#DIV/0!"}]
["","","","","","","","","","","","","","","","","",null,"","","",null,"","","",0,null,0,"","",0,"","","","00:00:00",0,null,0,0,null,{"$error":"#VALUE!"},{"$error":"#VALUE!"},{"$error":"#DIV/0!"},{"$error":"#DIV/0!"},{"$error":"#VALUE!"},{"$error":"#DIV/0!"},{"$error":"#DIV/0!"}]
["","","","","","","","","","","","","","","","","",null,"","","",null,"","","",0,null,0,"","",0,"","","","00:00:00",0,null,0,0,null,{"$error":"#VALUE!"},{"$error":"#VALUE!"},{"$error":"#DIV/0!"},{"$error":"#DIV/0!"},{"$error":"#VALUE!"},{"$error":"#DIV/0!"},{"$error":"#DIV/0!"}]
["","","","","","","","","","","","","","","","","",null,"","","",null,"","","",0,null,0,"","",0,"","","","00:00:00",0,null,0,0,null,{"$error":"#VALUE!"},{"$error":"#VALUE!"},{"$error":"#DIV/0!"},{"$error":"#DIV/0!"},{"$error":"#VALUE!"},{"$error":"#DIV/0!"},{"$error":"#DIV/0!"}]
["","","","","","","","","","","","","","","","","",null,"","","",null,"","","",0,null,0,"","",0,"","","","00:00:00",0,null,0,0,null,{"$error":"#VALUE!"},{"$error":"#VALUE!"},{"$error":"#DIV/0!"},{"$error":"#DIV/0!"},{"$error":"#VALUE!"},{"$error":"#DIV/0!"},{"$error":"#DIV/0!"}]
["","","","","","","","","","","","","","","","","",null,"","","",null,"","","",0,null,0,"","",0,"","","","00:00:00",0,null,0,0,null,{"$error":"#VALUE!"},{"$error":"#VALUE!"},{"$error":"#DIV/0!"},{"$error":"#DIV/0!"},{"$error":"#VALUE!"},{"$error":"#DIV/0!"},{"$error":"#DIV/0!"}]
["","","","","","","","","","","","","","","","","",null,"","","",null,"","","",0,null,0,"","",0,"","","","00:00:00",0,null,0,0,null,{"$error":"#VALUE!"},{"$error":"#VALUE!"},{"$error":"#DIV/0!"},{"$error":"#DIV/0!"},{"$error":"#VALUE!"},{"$error":"#DIV/0!"},{"$error":"#DIV/0!"}]
["","","","","","","","","","","","","","","","","",null,"","","",null,"","","",0,null,0,"","",0,"","","","00:00:00",0,null,0,0,null,{"$error":"#VALUE!"},{"$error":"#VALUE!"},{"$error":"#DIV/0!"},{"$error":"#DIV/0!"},{"$error":"#VALUE!"},{"$error":"#DIV/0!"},{"$error":"#DIV/0!"}]
["","","","","","","","","","","","","","","","","",null,"","","",null,"","","",0,null,0,"","",0,"","","","00:00:00",0,null,0,0,null,{"$error":"#VALUE!"},{"$error":"#VALUE!"},{"$error":"#DIV/0!"},{"$error":"#DIV/0!"},{"$error":"#VALUE!"},{"$error":"#DIV/0!"},{"$error":"#DIV/0!"}]
["","","","","","","","","","","","","","","","","",null,"","","",null,"","","",0,null,0,"","",0,"","","","00:00:00",0,null,0,0,null,{"$error":"#VALUE!"},{"$error":"#VALUE!"},{"$error":"#DIV/0!"},{"$error":"#DIV/0!"},{"$error":"#VALUE!"},{"$error":"#DIV/0!"},{"$error":"#DIV/0!"}]
["","","","","","","","","","","","","","","","","",null,"","","",null,"","","",0,null,0,"","",0,"","","","00:00:00",0,null,0,0,null,{"$error":"#VALUE!"},{"$error":"#VALUE!"},{"$error":"#DIV/0!"},{"$error":"#DIV/0!"},{"$error":"#VALUE!"},{"$error":"#DIV/0!"},{"$error":"#DIV/0!"}]
["","","","","","","","","","","","","","","","","",null,"","","",null,"","","",0,null,0,"","",0,"","","","00:00:00",0,null,0,0,null,{"$error":"#VALUE!"},{"$error":"#VALUE!"},{"$error":"#DIV/0!"},{"$error":"#DIV/0!"},{"$error":"#VALUE!"},{"$error":"#DIV/0!"},{"$error":"#DIV/0!"}]
["","","","","","","","","","","","","","","","","",null,"","","",null,"","","",0,null,0,"","",0,"","","","00:00:00",0,null,0,0,null,{"$error":"#VALUE!"},{"$error":"#VALUE!"},{"$error":"#DIV/0!"},{"$error":"#DIV/0!"},{"$error":"#VALUE!"},{"$error":"#DIV/0!"},{"$error":"#DIV/0!"}]
["","","","","","","","","","","","","","","","","",null,"","","",null,"","","",0,null,0,"","",0,"","","","00:00:00",0,null,0,0,null,{"$error":"#VALUE!"},{"$error":"#VALUE!"},{"$error":"#DIV/0!"},{"$error":"#DIV/0!"},{"$error":"#VALUE!"},{"$error":"#DIV/0!"},{"$error":"#DIV/0!"}]
["","","","","","","","","","","","","","","","","",null,"","","",null,"","","",0,null,0,"","",0,"","","","00:00:00",0,null,0,0,null,{"$error":"#VALUE!"},{"$error":"#VALUE!"},{"$error":"#DIV/0!"},{"$error":"#DIV/0!"},{"$error":"#VALUE!"},{"$error":"#DIV/0!"},{"$error":"#DIV/0!"}]
["","","","","","","","","","","","","","","","","",null,"","","",null,"","","",0,null,0,"","",0,"","","","00:00:00",0,null,0,0,null,{"$error":"#VALUE!"},{"$error":"#VALUE!"},{"$error":"#DIV/0!"},{"$error":"#DIV/0!"},{"$error":"#VALUE!"},{"$error":"#DIV/0!"},{"$error":"#DIV/0!"}]
["","","","","","","","","","","","","","","","","",null,"","","",null,"","","",0,null,0,"","",0,"","","","00:00:00",0,null,0,0,null,{"$error":"#VALUE!"},{"$error":"#VALUE!"},{"$error":"#DIV/0!"},{"$error":"#DIV/0!"},{"$error":"#VALUE!"},{"$error":"#DIV/0!"},{"$error":"#DIV/0!"}]
["","","","","","","","","","","","","","","","","",null,"","","",null,"","","",0,null,0,"","",0,"","","","00:00:00",0,null,0,0,null,{"$error":"#VALUE!"},{"$error":"#VALUE!"},{"$error":"#DIV/0!"},{"$error":"#DIV/0!"},{"$error":"#VALUE!"},{"$error":"#DIV/0!"},{"$error":"#DIV/0!"}]
["","","","","","","","","","","","","","","","","",null,"","","",null,"","","",0,null,0,"","",0,"","","","00:00:00",0,null,0,0,null,{"$error":"#VALUE!"},{"$error":"#VALUE!"},{"$error":"#DIV/0!"},{"$error":"#DIV/0!"},{"$error":"#VALUE!"},{"$error":"#DIV/0!"},{"$error":"#DIV/0!"}]
["","","","","","","","","","","","","","","","","",null,"","","",null,"","","",0,null,0,"","",0,"","","","00:00:00",0,null,0,0,null,{"$error":"#VALUE!"},{"$error":"#VALUE!"},{"$error":"#DIV/0!"},{"$error":"#DIV/0!"},{"$error":"#VALUE!"},{"$error":"#DIV/0!"},{"$error":"#DIV/0!"}]
["","","","","","","","","","","","","","","","","",null,"","","",null,"","","",0,null,0,"","",0,"","","","00:00:00",0,null,0,0,null,{"$error":"#VALUE!"},{"$error":"#VALUE!"},{"$error":"#DIV/0!"},{"$error":"#DIV/0!"},{"$error":"#VALUE!"},{"$error":"#DIV/0!"},{"$error":"#DIV/0!"}]
["","","","","","","","","","","","","","","","","",null,"","","",null,"","","",0,null,0,"","",0,"","","","00:00:00",0,null,0,0,null,{"$error":"#VALUE!"},{"$error":"#VALUE!"},{"$error":"#DIV/0!"},{"$error":"#DIV/0!"},{"$error":"#VALUE!"},{"$error":"#DIV/0!"},{"$error":"#DIV/0!"}]
["","","","","","","","","","","","","","","","","",null,"","","",null,"","","",0,null,0,"","",0,"","","","00:00:00",0,null,0,0,null,{"$error":"#VALUE!"},{"$error":"#VALUE!"},{"$error":"#DIV/0!"},{"$error":"#DIV/0!"},{"$error":"#VALUE!"},{"$error":"#DIV/0!"},{"$error":"#DIV/0!"}]
["","","","","","","","","","","","","","","","","",null,"","","",null,"","","",0,null,0,"","",0,"","","","00:00:00",0,null,0,0,null,{"$error":"#VALUE!"},{"$error":"#VALUE!"},{"$error":"#DIV/0!"},{"$error":"#DIV/0!"},{"$error":"#VALUE!"},{"$error":"#DIV/0!"},{"$error":"#DIV/0!"}]
["","","","","","","","","","","","","","","","","",null,"","","",null,"","","",0,null,0,"","",0,"","","","00:00:00",0,null,0,0,null,{"$error":"#VALUE!"},{"$error":"#VALUE!"},{"$error":"#DIV/0!"},{"$error":"#DIV/0!"},{"$error":"#VALUE!"},{"$error":"#DIV/0!"},{"$error":"#DIV/0!"}]
["","","","","","","","","","","","","","","","","",null,"","","",null,"","","",0,null,0,"","",0,"","","","00:00:00",0,null,0,0,null,{"$error":"#VALUE!"},{"$error":"#VALUE!"},{"$error":"#DIV/0!"},{"$error":"#DIV/0!"},{"$error":"#VALUE!"},{"$error":"#DIV/0!"},{"$error":"#DIV/0!"}]
["","","","","","","","","","","","","","","","","",null,"","","",null,"","","",0,null,0,"","",0,"","","","00:00:00",0,null,0,0,null,{"$error":"#VALUE!"},{"$error":"#VALUE!"},{"$error":"#DIV/0!"},{"$error":"#DIV/0!"},{"$error":"#VALUE!"},{"$error":"#DIV/0!"},{"$error":"#DIV/0!"}]
["","","","","","","","","","","","","","","","","",null,"","","",null,"","","",0,null,0,"","",0,"","","","00:00:00",0,null,0,0,null,{"$error":"#VALUE!"},{"$error":"#VALUE!"},{"$error":"#DIV/0!"},{"$error":"#DIV/0!"},{"$error":"#VALUE!"},{"$error":"#DIV/0!"},{"$error":"#DIV/0!"}]
["","","","","","","","","","","","","","","","","",null,"","","",null,"","","",0,null,0,"","",0,"","","","00:00:00",0,null,0,0,null,{"$error":"#VALUE!"},{"$error":"#VALUE!"},{"$error":"#DIV/0!"},{"$error":"#DIV/0!"},{"$error":"#VALUE!"},{"$error":"#DIV/0!"},{"$error":"#DIV/0!"}]
["","","","","","","","","","","","","","","","","",null,"","","",null,"","","",0,null,0,"","",0,"","","","00:00:00",0,null,0,0,null,{"$error":"#VALUE!"},{"$error":"#VALUE!"},{"$error":"#DIV/0!"},{"$error":"#DIV/0!"},{"$error":"#VALUE!"},{"$error":"#DIV/0!"},{"$error":"#DIV/0!"}]
["","","","","","","","","","","","","","","","","",null,"","","",null,"","","",0,null,0,"","",0,"","","","00:00:00",0,null,0,0,null,{"$error":"#VALUE!"},{"$error":"#VALUE!"},{"$error":"#DIV/0!"},{"$error":"#DIV/0!"},{"$error":"#VALUE!"},{"$error":"#DIV/0!"},{"$error":"#DIV/0!"}]
["","","","","","","","","","","","","","","","","",null,"","","",null,"","","",0,null,0,"","",0,"","","","00:00:00",0,null,0,0,null,{"$error":"#VALUE!"},{"$error":"#VALUE!"},{"$error":"#DIV/0!"},{"$error":"#DIV/0!"},{"$error":"#VALUE!"},{"$error":"#DIV/0!"},{"$error":"#DIV/0!"}]
["","","","","","","","","","","","","","","","","",null,"","","",null,"","","",0,null,0,"","",0,"","","","00:00:00",0,null,0,0,null,{"$error":"#VALUE!"},{"$error":"#VALUE!"},{"$error":"#DIV/0!"},{"$error":"#DIV/0!"},{"$error":"#VALUE!"},{"$error":"#DIV/0!"},{"$error":"#DIV/0!"}]
["","","","","","","","","","","","","","","","","",null,"","","",null,"","","",0,null,0,"","",0,"","","","00:00:00",0,null,0,0,null,{"$error":"#VALUE!"},{"$error":"#VALUE!"},{"$error":"#DIV/0!"},{"$error":"#DIV/0!"},{"$error":"#VALUE!"},{"$error":"#DIV/0!"},{"$error":"#DIV/0!"}]
["","","","","","","","","","","","","","","","","",null,"","","",null,"","","",0,null,0,"","",0,"","","","00:00:00",0,null,0,0,null,{"$error":"#VALUE!"},{"$error":"#VALUE!"},{"$error":"#DIV/0!"},{"$error":"#DIV/0!"},{"$error":"#VALUE!"},{"$error":"#DIV/0!"},{"$error":"#DIV/0!"}]
["","","","","","","","","","","","","","","","","",null,"","","",null,"","","",0,null,0,"","",0,"","","","00:00:00",0,null,0,0,null,{"$error":"#VALUE!"},{"$error":"#VALUE!"},{"$error":"#DIV/0!"},{"$error":"#DIV/0!"},{"$error":"#VALUE!"},{"$error":"#DIV/0!"},{"$error":"#DIV/0!"}]
["","","","","","","","","","","","","","","","","",null,"","","",null,"","","",0,null,0,"","",0,"","","","00:00:00",0,null,0,0,null,{"$error":"#VALUE!"},{"$error":"#VALUE!"},{"$error":"#DIV/0!"},{"$error":"#DIV/0!"},{"$error":"#VALUE!"},{"$error":"#DIV/0!"},{"$error":"#DIV/0!"}]
["","","","","","","","","","","","","","","","","",null,"","","",null,"","","",0,null,0,"","",0,"","","","00:00:00",0,null,0,0,null,{"$error":"#VALUE!"},{"$error":"#VALUE!"},{"$error":"#DIV/0!"},{"$error":"#DIV/0!"},{"$error":"#VALUE!"},{"$error":"#DIV/0!"},{"$error":"#DIV/0!"}]
["","","","","","","","","","","","","","","","","",null,"","","",null,"","","",0,null,0,"","",0,"","","","00:00:00",0,null,0,0,null,{"$error":"#VALUE!"},{"$error":"#VALUE!"},{"$error":"#DIV/0!"},{"$error":"#DIV/0!"},{"$error":"#VALUE!"},{"$error":"#DIV/0!"},{"$error":"#DIV/0!"}]
["","","","","","","","","","","","","","","","","",null,"","","",null,"","","",0,null,0,"","",0,"","","","00:00:00",0,null,0,0,null,{"$error":"#VALUE!"},{"$error":"#VALUE!"},{"$error":"#DIV/0!"},{"$error":"#DIV/0!"},{"$error":"#VALUE!"},{"$error":"#DIV/0!"},{"$error":"#DIV/0!"}]
["","","","","","","","","","","","","","","","","",null,"","","",null,"","","",0,null,0,"","",0,"","","","00:00:00",0,null,0,0,null,{"$error":"#VALUE!"},{"$error":"#VALUE!"},{"$error":"#DIV/0!"},{"$error":"#DIV/0!"},{"$error":"#VALUE!"},{"$error":"#DIV/0!"},{"$error":"#DIV/0!"}]
["","","","","","","","","","","","","","","","","",null,"","","",null,"","","",0,null,0,"","",0,"","","","00:00:00",0,null,0,0,null,{"$error":"#VALUE!"},{"$error":"#VALUE!"},{"$error":"#DIV/0!"},{"$error":"#DIV/0!"},{"$error":"#VALUE!"},{"$error":"#DIV/0!"},{"$error":"#DIV/0!"}]
["","","","","","","","","","","","","","","","","",null,"","","",null,"","","",0,null,0,"","",0,"","","","00:00:00",0,null,0,0,null,{"$error":"#VALUE!"},{"$error":"#VALUE!"},{"$error":"#DIV/0!"},{"$error":"#DIV/0!"},{"$error":"#VALUE!"},{"$error":"#DIV/0!"},{"$error":"#DIV/0!"}]
["","","","","","","","","","","","","","",{"$f":"IF(B161=\"\",\"\",K161+N161)","v":""},"","",null,"","","",null,"",{"$f":"IF(B161=\"\",\"\",IF(B161=\"\",\"\",O161+P161+Q161+R161+S161+W161))","v":""},"",0,null,{"$f":"SUM(K161:M161)","v":0},{"$f":"+L161","v":""},{"$f":"+Q161","v":""},{"$f":"+R161","v":0},{"$f":"+S161","v":""},{"$f":"IF(B161=\"\",\"\",AC161+K161 + P161 + W161+AD161+AE161 + M161 + AF161)","v":""},"","00:00:00",{"$f":"+IF(AG161=\"\",0,AG161)","v":0},null,{"$f":"+IFERROR(AG161-X161,0)","v":0},0,null,{"$error":"#VALUE!"},{"$f":"(1/((1+($J$8/100))^(AO161/$Q$9))*1) * IF(D161=\"D\",2,1)","v":{"$error":"#VALUE!"}},{"$error":"#DIV/0!"},{"$f":"AT161-AS161","v":{"$error":"#DIV/0!"}},{"$error":"#VALUE!"},{"$f":"IF(D161=\"D\",$K$23,0)+ $K$23","v":{"$error":"#DIV/0!"}},{"$f":"AQ161-AR161","v":{"$error":"#DIV/0!"}}]
["",{"$f":"IF(A162=\"\",\"\",IF(A162<=$H$22,0,1))","v":""},"",{"$f":"IF(A162=\"\",\"\",IF(OR(MONTH(C162)=$H$18,MONTH(C162)=$H$19),\"D\",\"\"))","v":""},"","","","","","",{"$f":"IF(B162=\"\",\"\",IF(((IF(ISERROR(MATCH(MONTH(C162),$H$18:$H$19,0))=FALSE,$J$24 + $Q$29,0) + $J$24+$Q$29+$S$27)-(IF($J$24+$Q$29 + $S$27<ROUND(ROUND(J162*(((1+(H162/100))^(I162/G162))-1),4),2),$J$24+$Q$29 + $S$27-0.01,IF(ROUND(ROUND(J162*(((1+(H162/100))^(I162/G162))-1),4),2)+ $S$27>$J$24,$J$24+ $S$27+-0.01,ROUND(ROUND(J162*(((1+(H162/100))^(I162/G162))-1),4),2)+$S$27)))- Q162-R162-S162-W162)<0,0.01,IF(ISERROR(MATCH(MONTH(C162),$H$18:$H$19,0))=FALSE,$J$24 + $Q$29,0)+ ($J$24+$Q$29+$S$27)-(IF($J$24+$Q$29 + $S$27<ROUND(ROUND(J162*(((1+(H162/100))^(I162/G162))-1),4),2),$J$24+$Q$29 + $S$27-0.01,IF(ROUND(ROUND(J162*(((1+(H162/100))^(I162/G162))-1),4),2)+ $S$27>$J$24,$J$24+ $S$27+-0.01,ROUND(ROUND(J162*(((1+(H162/100))^(I162/G162))-1),4),2)+$S$27)))- Q162-R162-S162-W162))","v":""},{"$f":"IF(B162=\"\",\"\",IF(K162=0.01,+$J$24-K162-Q162-R162-S162-W162+$Q$29,IF($J$24+$Q$29 + $S$27<ROUND(ROUND(J162*(((1+(H162/100))^(I162/G162))-1),4),2),$J$24+$Q$29 + $S$27-0.01,IF(ROUND(ROUND(J162*(((1+(H162/100))^(I162/G162))-1),4),2)+ $S$27>$J$24,$J$24+ $S$27+-0.01,ROUND(ROUND(J162*(((1+(H162/100))^(I162/G162))-1),4),2)+$S$27))))","v":""},{"$f":"+IF(B162=\"\",\"\",IF(ISERROR(MATCH(MONTH(C162),$H$18:$H$19,0))=FALSE,$J$23,0)  + $J$23)","v":""},{"$f":"+IF(B162=\"\",\"\",L162+M162)","v":""},"",{"$f":"+IF(B162=\"\",\"\",$J$27)","v":""},"",null,{"$f":"IF(B162=\"\",\"\",IF(E162-E161>1,ROUNDDOWN($J162*$H$9/30*(DATE(YEAR($C162),MONTH($C162)-1,DAY($C162))-C161),2),0))","v":""},{"$f":"IF(B162=\"\",\"\",Q162+R162+S162)","v":""},"",null,"","",{"$f":"+IF(B162=\"\",\"\",ROUND(J162-K162,2))","v":""},{"$f":"IFERROR(IF(ROUND(ROUND(J162*(((1+(H162/100))^(I162/G162))-1),4),2) - $J$24<0,0,ROUND(ROUND(J162*(((1+(H162/100))^(I162/G162))-1),4),2) - $J$24),0)","v":0},null,0,"","",0,"","",{"$f":"IF(B162=\"\",\"\",IF(D162=\"D\",$J$24*2,$J$24)+Q162)","v":""},{"$f":"+IF(C162=\"\",0,C162)","v":"00:00:00"},0,null,0,{"$f":"+IFERROR(AC162-L162,0)","v":0},null,{"$f":"I162 + AO161","v":{"$error":"#VALUE!"}},{"$error":"#VALUE!"},{"$f":"AU161","v":{"$error":"#DIV/0!"}},{"$error":"#DIV/0!"},{"$f":"(((1+($J$8/100))^((K162)/$Q$9))-1)*AQ162","v":{"$error":"#VALUE!"}},{"$error":"#DIV/0!"},{"$error":"#DIV/0!"}]
[{"$f":"IF(A162>=$H$14,\"\",A162+1)","v":""},"",{"$f":"IF(A163=\"\",\"\",IF(OR(MONTH(EDATE($Q$6,E163))=$H$16,MONTH(EDATE($Q$6,E163))=$H$17),IF(ABS($H$17-$H$16)=1,EDATE($Q$6,E163+2),EDATE($Q$6,E163+1)),EDATE($Q$6,E163)))","v":""},"",{"$f":"IF(B163=\"\",\"\",IF(OR(MONTH(DATE(YEAR(C162) + 1/12,MONTH(C162)+1,DAY(C162)))=$H$16,MONTH(DATE(YEAR(C162) + 1/12,MONTH(C162)+1,DAY(C162)))=$H$17),IF(ABS($H$17-$H$16)=1,E162+1,E162 + 2),E162 + 1))","v":""},{"$f":"IF(B163=\"\",\"\",F162+1)","v":""},{"$f":"IF(B163=\"\",\"\",$Q$9)","v":""},{"$f":"IF(B163=\"\",\"\",$H$10)","v":""},{"$f":"IF(B163=\"\",\"\",C163-C162)","v":""},{"$f":"IF(B163=\"\",\"\",Y162)","v":""},"","","","","","",{"$f":"+IF(B163=\"\",\"\",ROUND($H$9*J163/30*$I163,2)-S163)","v":""},null,"","",{"$f":"+IF(B163=\"\",\"\",$J$28)","v":""},null,{"$f":"+IF(B163=\"\",\"\",U163+V163)","v":""},"","",0,null,0,"","",0,"","","","00:00:00",0,null,0,0,null,{"$error":"#VALUE!"},{"$error":"#VALUE!"},{"$error":"#DIV/0!"},{"$error":"#DIV/0!"},{"$error":"#VALUE!"},{"$error":"#DIV/0!"},{"$error":"#DIV/0!"}]
["","","","","","","","","","","","","","","","","",null,"","","",null,"","","",0,null,0,"","",0,"","","","00:00:00",0,null,0,0,null,{"$error":"#VALUE!"},{"$error":"#VALUE!"},{"$error":"#DIV/0!"},{"$error":"#DIV/0!"},{"$error":"#VALUE!"},{"$error":"#DIV/0!"},{"$error":"#DIV/0!"}]
["","","","","","","","","","","","","","","","","",null,"","","",null,"","","",0,null,0,"","",0,"","","","00:00:00",0,null,0,0,null,{"$error":"#VALUE!"},{"$error":"#VALUE!"},{"$error":"#DIV/0!"},{"$error":"#DIV/0!"},{"$error":"#VALUE!"},{"$error":"#DIV/0!"},{"$error":"#DIV/0!"}]
["","","","","","","","","","","","","","","","","",null,"","","",null,"","","",0,null,0,"","",0,"","","","00:00:00",0,null,0,0,null,{"$error":"#VALUE!"},{"$error":"#VALUE!"},{"$error":"#DIV/0!"},{"$error":"#DIV/0!"},{"$error":"#VALUE!"},{"$error":"#DIV/0!"},{"$error":"#DIV/0!"}]
["","","","","","","","","","","","","","","","","",null,"","","",null,"","","",0,null,0,"","",0,"","","","00:00:00",0,null,0,0,null,{"$error":"#VALUE!"},{"$error":"#VALUE!"},{"$error":"#DIV/0!"},{"$error":"#DIV/0!"},{"$error":"#VALUE!"},{"$error":"#DIV/0!"},{"$error":"#DIV/0!"}]
["","","","","","","","","","","","","","","","","",null,"","","",null,"","","",0,null,0,"","",0,"","","","00:00:00",0,null,0,0,null,{"$error":"#VALUE!"},{"$error":"#VALUE!"},{"$error":"#DIV/0!"},{"$error":"#DIV/0!"},{"$error":"#VALUE!"},{"$error":"#DIV/0!"},{"$error":"#DIV/0!"}]
["","","","","","","","","","","","","","","","","",null,"","","",null,"","","",0,null,0,"","",0,"","","","00:00:00",0,null,0,0,null,{"$error":"#VALUE!"},{"$error":"#VALUE!"},{"$error":"#DIV/0!"},{"$error":"#DIV/0!"},{"$error":"#VALUE!"},{"$error":"#DIV/0!"},{"$error":"#DIV/0!"}]
["","","","","","","","","","","","","","","","","",null,"","","",null,"","","",0,null,0,"","",0,"","","","00:00:00",0,null,0,0,null,{"$error":"#VALUE!"},{"$error":"#VALUE!"},{"$error":"#DIV/0!"},{"$error":"#DIV/0!"},{"$error":"#VALUE!"},{"$error":"#DIV/0!"},{"$error":"#DIV/0!"}]
["","","","","","","","","","","","","","","","","",null,"","","",null,"","","",0,null,0,"","",0,"","","","00:00:00",0,null,0,0,null,{"$error":"#VALUE!"},{"$error":"#VALUE!"},{"$error":"#DIV/0!"},{"$error":"#DIV/0!"},{"$error":"#VALUE!"},{"$error":"#DIV/0!"},{"$error":"#DIV/0!"}]
["","","","","","","","","","","","","","","","","",null,"","","",null,"","","",0,null,0,"","",0,"","","","00:00:00",0,null,0,0,null,{"$error":"#VALUE!"},{"$error":"#VALUE!"},{"$error":"#DIV/0!"},{"$error":"#DIV/0!"},{"$error":"#VALUE!"},{"$error":"#DIV/0!"},{"$error":"#DIV/0!"}]
["","","","","","","","","","","","","","","","","",null,"","","",null,"","","",0,null,0,"","",0,"","","","00:00:00",0,null,0,0,null,{"$error":"#VALUE!"},{"$error":"#VALUE!"},{"$error":"#DIV/0!"},{"$error":"#DIV/0!"},{"$error":"#VALUE!"},{"$error":"#DIV/0!"},{"$error":"#DIV/0!"}]
["","","","","","","","","","","","","","","","","",null,"","","",null,"","","",0,null,0,"","",0,"","","","00:00:00",0,null,0,0,null,{"$error":"#VALUE!"},{"$error":"#VALUE!"},{"$error":"#DIV/0!"},{"$error":"#DIV/0!"},{"$error":"#VALUE!"},{"$error":"#DIV/0!"},{"$error":"#DIV/0!"}]
["","","","","","","","","","","","","","","","","",null,"","","",null,"","","",0,null,0,"","",0,"","","","00:00:00",0,null,0,0,null,{"$error":"#VALUE!"},{"$error":"#VALUE!"},{"$error":"#DIV/0!"},{"$error":"#DIV/0!"},{"$error":"#VALUE!"},{"$error":"#DIV/0!"},{"$error":"#DIV/0!"}]
["","","","","","","","","","","","","","","","","",null,"","","",null,"","","",0,null,0,"","",0,"","","","00:00:00",0,null,0,0,null,{"$error":"#VALUE!"},{"$error":"#VALUE!"},{"$error":"#DIV/0!"},{"$error":"#DIV/0!"},{"$error":"#VALUE!"},{"$error":"#DIV/0!"},{"$error":"#DIV/0!"}]
["","","","","","","","","","","","","","","","","",null,"","","",null,"","","",0,null,0,"","",0,"","","","00:00:00",0,null,0,0,null,{"$error":"#VALUE!"},{"$error":"#VALUE!"},{"$error":"#DIV/0!"},{"$error":"#DIV/0!"},{"$error":"#VALUE!"},{"$error":"#DIV/0!"},{"$error":"#DIV/0!"}]
["","","","","","","","","","","","","","","","","",null,"","","",null,"","","",0,null,0,"","",0,"","","","00:00:00",0,null,0,0,null,{"$error":"#VALUE!"},{"$error":"#VALUE!"},{"$error":"#DIV/0!"},{"$error":"#DIV/0!"},{"$error":"#VALUE!"},{"$error":"#DIV/0!"},{"$error":"#DIV/0!"}]
["","","","","","","","","","","","","","","","","",null,"","","",null,"","","",0,null,0,"","",0,"","","","00:00:00",0,null,0,0,null,{"$error":"#VALUE!"},{"$error":"#VALUE!"},{"$error":"#DIV/0!"},{"$error":"#DIV/0!"},{"$error":"#VALUE!"},{"$error":"#DIV/0!"},{"$error":"#DIV/0!"}]
["","","","","","","","","","","","","","","","","",null,"","","",null,"","","",0,null,0,"","",0,"","","","00:00:00",0,null,0,0,null,{"$error":"#VALUE!"},{"$error":"#VALUE!"},{"$error":"#DIV/0!"},{"$error":"#DIV/0!"},{"$error":"#VALUE!"},{"$error":"#DIV/0!"},{"$error":"#DIV/0!"}]
["","","","","","","","","","","","","","","","","",null,"","","",null,"","","",0,null,0,"","",0,"","","","00:00:00",0,null,0,0,null,{"$error":"#VALUE!"},{"$error":"#VALUE!"},{"$error":"#DIV/0!"},{"$error":"#DIV/0!"},{"$error":"#VALUE!"},{"$error":"#DIV/0!"},{"$error":"#DIV/0!"}]
["","","","","","","","","","","","","","","","","",null,"","","",null,"","","",0,null,0,"","",0,"","","","00:00:00",0,null,0,0,null,{"$error":"#VALUE!"},{"$error":"#VALUE!"},{"$error":"#DIV/0!"},{"$error":"#DIV/0!"},{"$error":"#VALUE!"},{"$error":"#DIV/0!"},{"$error":"#DIV/0!"}]
["","","","","","","","","","","","","","","","","",null,"","","",null,"","","",0,null,0,"","",0,"","","","00:00:00",0,null,0,0,null,{"$error":"#VALUE!"},{"$error":"#VALUE!"},{"$error":"#DIV/0!"},{"$error":"#DIV/0!"},{"$error":"#VALUE!"},{"$error":"#DIV/0!"},{"$error":"#DIV/0!"}]
["","","","","","","","","","","","","","","","","",null,"","","",null,"","","",0,null,0,"","",0,"","","","00:00:00",0,null,0,0,null,{"$error":"#VALUE!"},{"$error":"#VALUE!"},{"$error":"#DIV/0!"},{"$error":"#DIV/0!"},{"$error":"#VALUE!"},{"$error":"#DIV/0!"},{"$error":"#DIV/0!"}]
["","","","","","","","","","","","","","","","","",null,"","","",null,"","","",0,null,0,"","",0,"","","","00:00:00",0,null,0,0,null,{"$error":"#VALUE!"},{"$error":"#VALUE!"},{"$error":"#DIV/0!"},{"$error":"#DIV/0!"},{"$error":"#VALUE!"},{"$error":"#DIV/0!"},{"$error":"#DIV/0!"}]
["","","","","","","","","","","","","","","","","",null,"","","",null,"","","",0,null,0,"","",0,"","","","00:00:00",0,null,0,0,null,{"$error":"#VALUE!"},{"$error":"#VALUE!"},{"$error":"#DIV/0!"},{"$error":"#DIV/0!"},{"$error":"#VALUE!"},{"$error":"#DIV/0!"},{"$error":"#DIV/0!"}]
["","","","","","","","","","","","","","","","","",null,"","","",null,"","","",0,null,0,"","",0,"","","","00:00:00",0,null,0,0,null,{"$error":"#VALUE!"},{"$error":"#VALUE!"},{"$error":"#DIV/0!"},{"$error":"#DIV/0!"},{"$error":"#VALUE!"},{"$error":"#DIV/0!"},{"$error":"#DIV/0!"}]
["","","","","","","","","","","","","","","","","",null,"","","",null,"","","",0,null,0,"","",0,"","","","00:00:00",0,null,0,0,null,{"$error":"#VALUE!"},{"$error":"#VALUE!"},{"$error":"#DIV/0!"},{"$error":"#DIV/0!"},{"$error":"#VALUE!"},{"$error":"#DIV/0!"},{"$error":"#DIV/0!"}]
["","","","","","","","","","","","","","","","","",null,"","","",null,"","","",0,null,0,"","",0,"","","","00:00:00",0,null,0,0,null,{"$error":"#VALUE!"},{"$error":"#VALUE!"},{"$error":"#DIV/0!"},{"$error":"#DIV/0!"},{"$error":"#VALUE!"},{"$error":"#DIV/0!"},{"$error":"#DIV/0!"}]
["","","","","","","","","","","","","","","","","",null,"","","",null,"","","",0,null,0,"","",0,"","","","00:00:00",0,null,0,0,null,{"$error":"#VALUE!"},{"$error":"#VALUE!"},{"$error":"#DIV/0!"},{"$error":"#DIV/0!"},{"$error":"#VALUE!"},{"$error":"#DIV/0!"},{"$error":"#DIV/0!"}]
["","","","","","","","","","","","","","","","","",null,"","","",null,"","","",0,null,0,"","",0,"","","","00:00:00",0,null,0,0,null,{"$error":"#VALUE!"},{"$error":"#VALUE!"},{"$error":"#DIV/0!"},{"$error":"#DIV/0!"},{"$error":"#VALUE!"},{"$error":"#DIV/0!"},{"$error":"#DIV/0!"}]
["","","","","","","","","","","","","","","","","",null,"","","",null,"","","",0,null,0,"","",0,"","","","00:00:00",0,null,0,0,null,{"$error":"#VALUE!"},{"$error":"#VALUE!"},{"$error":"#DIV/0!"},{"$error":"#DIV/0!"},{"$error":"#VALUE!"},{"$error":"#DIV/0!"},{"$error":"#DIV/0!"}]
["","","","","","","","","","","","","","","","","",null,"","","",null,"","","",0,null,0,"","",0,"","","","00:00:00",0,null,0,0,null,{"$error":"#VALUE!"},{"$error":"#VALUE!"},{"$error":"#DIV/0!"},{"$error":"#DIV/0!"},{"$error":"#VALUE!"},{"$error":"#DIV/0!"},{"$error":"#DIV/0!"}]
["","","","","","","","","","","","","","","","","",null,"","","",null,"","","",0,null,0,"","",0,"","","","00:00:00",0,null,0,0,null,{"$error":"#VALUE!"},{"$error":"#VALUE!"},{"$error":"#DIV/0!"},{"$error":"#DIV/0!"},{"$error":"#VALUE!"},{"$error":"#DIV/0!"},{"$error":"#DIV/0!"}]
["","","","","","","","","","","","","","","","","",null,"","","",null,"","","",0,null,0,"","",0,"","","","00:00:00",0,null,0,0,null,{"$error":"#VALUE!"},{"$error":"#VALUE!"},{"$error":"#DIV/0!"},{"$error":"#DIV/0!"},{"$error":"#VALUE!"},{"$error":"#DIV/0!"},{"$error":"#DIV/0!"}]
["","","","","","","","","","","","","","","","","",null,"","","",null,"","","",0,null,0,"","",0,"","","","00:00:00",0,null,0,0,null,{"$error":"#VALUE!"},{"$error":"#VALUE!"},{"$error":"#DIV/0!"},{"$error":"#DIV/0!"},{"$error":"#VALUE!"},{"$error":"#DIV/0!"},{"$error":"#DIV/0!"}]
["","","","","","","","","","","","","","","","","",null,"","","",null,"","","",0,null,0,"","",0,"","","","00:00:00",0,null,0,0,null,{"$error":"#VALUE!"},{"$error":"#VALUE!"},{"$error":"#DIV/0!"},{"$error":"#DIV/0!"},{"$error":"#VALUE!"},{"$error":"#DIV/0!"},{"$error":"#DIV/0!"}]
["","","","","","","","","","","","","","","","","",null,"","","",null,"","","",0,null,0,"","",0,"","","","00:00:00",0,null,0,0,null,{"$error":"#VALUE!"},{"$error":"#VALUE!"},{"$error":"#DIV/0!"},{"$error":"#DIV/0!"},{"$error":"#VALUE!"},{"$error":"#DIV/0!"},{"$error":"#DIV/0!"}]
["","","","","","","","","","","","","","","","","",null,"","","",null,"","","",0,null,0,"","",0,"","","","00:00:00",0,null,0,0,null,{"$error":"#VALUE!"},{"$error":"#VALUE!"},{"$error":"#DIV/0!"},{"$error":"#DIV/0!"},{"$error":"#VALUE!"},{"$error":"#DIV/0!"},{"$error":"#DIV/0!"}]
["","","","","","","","","","","","","","","","","",null,"","","",null,"","","",0,null,0,"","",0,"","","","00:00:00",0,null,0,0,null,{"$error":"#VALUE!"},{"$error":"#VALUE!"},{"$error":"#DIV/0!"},{"$error":"#DIV/0!"},{"$error":"#VALUE!"},{"$error":"#DIV/0!"},{"$error":"#DIV/0!"}]
["","","","","","","","","","","","","","","","","",null,"","","",null,"","","",0,null,0,"","",0,"","","","00:00:00",0,null,0,0,null,{"$error":"#VALUE!"},{"$error":"#VALUE!"},{"$error":"#DIV/0!"},{"$error":"#DIV/0!"},{"$error":"#VALUE!"},{"$error":"#DIV/0!"},{"$error":"#DIV/0!"}]
["","","","","","","","","","","","","","","","","",null,"","","",null,"","","",0,null,0,"","",0,"","","","00:00:00",0,null,0,0,null,{"$error":"#VALUE!"},{"$error":"#VALUE!"},{"$error":"#DIV/0!"},{"$error":"#DIV/0!"},{"$error":"#VALUE!"},{"$error":"#DIV/0!"},{"$error":"#DIV/0!"}]
["","","","","","","","","","","","","","","","","",null,"","","",null,"","","",0,null,0,"","",0,"","","","00:00:00",0,null,0,0,null,{"$error":"#VALUE!"},{"$error":"#VALUE!"},{"$error":"#DIV/0!"},{"$error":"#DIV/0!"},{"$error":"#VALUE!"},{"$error":"#DIV/0!"},{"$error":"#DIV/0!"}]
["","","","","","","","","","","","","","","","","",null,"","","",null,"","","",0,null,0,"","",0,"","","","00:00:00",0,null,0,0,null,{"$error":"#VALUE!"},{"$error":"#VALUE!"},{"$error":"#DIV/0!"},{"$error":"#DIV/0!"},{"$error":"#VALUE!"},{"$error":"#DIV/0!"},{"$error":"#DIV/0!"}]
["","","","","","","","","","","","","","","","","",null,"","","",null,"","","",0,null,0,"","",0,"","","","00:00:00",0,null,0,0,null,{"$error":"#VALUE!"},{"$error":"#VALUE!"},{"$error":"#DIV/0!"},{"$error":"#DIV/0!"},{"$error":"#VALUE!"},{"$error":"#DIV/0!"},{"$error":"#DIV/0!"}]
["","","","","","","","","","","","","","","","","",null,"","","",null,"","","",0,null,0,"","",0,"","","","00:00:00",0,null,0,0,null,{"$error":"#VALUE!"},{"$error":"#VALUE!"},{"$error":"#DIV/0!"},{"$error":"#DIV/0!"},{"$error":"#VALUE!"},{"$error":"#DIV/0!"},{"$error":"#DIV/0!"}]
["","","","","","","","","","","","","","","","","",null,"","","",null,"","","",0,null,0,"","",0,"","","","00:00:00",0,null,0,0,null,{"$error":"#VALUE!"},{"$error":"#VALUE!"},{"$error":"#DIV/0!"},{"$error":"#DIV/0!"},{"$error":"#VALUE!"},{"$error":"#DIV/0!"},{"$error":"#DIV/0!"}]
["","","","","","","","","","","","","","","","","",null,"","","",null,"","","",0,null,0,"","",0,"","","","00:00:00",0,null,0,0,null,{"$error":"#VALUE!"},{"$error":"#VALUE!"},{"$error":"#DIV/0!"},{"$error":"#DIV/0!"},{"$error":"#VALUE!"},{"$error":"#DIV/0!"},{"$error":"#DIV/0!"}]
["","","","","","","","","","","","","","","","","",null,"","","",null,"","","",0,null,0,"","",0,"","","","00:00:00",0,null,0,0,null,{"$error":"#VALUE!"},{"$error":"#VALUE!"},{"$error":"#DIV/0!"},{"$error":"#DIV/0!"},{"$error":"#VALUE!"},{"$error":"#DIV/0!"},{"$error":"#DIV/0!"}]
["","","","","","","","","","","","","","","","","",null,"","","",null,"","","",0,null,0,"","",0,"","","","00:00:00",0,null,0,0,null,{"$error":"#VALUE!"},{"$error":"#VALUE!"},{"$error":"#DIV/0!"},{"$error":"#DIV/0!"},{"$error":"#VALUE!"},{"$error":"#DIV/0!"},{"$error":"#DIV/0!"}]
["","","","","","","","","","","","","","","","","",null,"","","",null,"","","",0,null,0,"","",0,"","","","00:00:00",0,null,0,0,null,{"$error":"#VALUE!"},{"$error":"#VALUE!"},{"$error":"#DIV/0!"},{"$error":"#DIV/0!"},{"$error":"#VALUE!"},{"$error":"#DIV/0!"},{"$error":"#DIV/0!"}]
["","","","","","","","","","","","","","","","","",null,"","","",null,"","","",0,null,0,"","",0,"","","","00:00:00",0,null,0,0,null,{"$error":"#VALUE!"},{"$error":"#VALUE!"},{"$error":"#DIV/0!"},{"$error":"#DIV/0!"},{"$error":"#VALUE!"},{"$error":"#DIV/0!"},{"$error":"#DIV/0!"}]
["","","","","","","","","","","","","","","","","",null,"","","",null,"","","",0,null,0,"","",0,"","","","00:00:00",0,null,0,0,null,{"$error":"#VALUE!"},{"$error":"#VALUE!"},{"$error":"#DIV/0!"},{"$error":"#DIV/0!"},{"$error":"#VALUE!"},{"$error":"#DIV/0!"},{"$error":"#DIV/0!"}]
["","","","","","","","","","","","","","","","","",null,"","","",null,"","","",0,null,0,"","",0,"","","","00:00:00",0,null,0,0,null,{"$error":"#VALUE!"},{"$error":"#VALUE!"},{"$error":"#DIV/0!"},{"$error":"#DIV/0!"},{"$error":"#VALUE!"},{"$error":"#DIV/0!"},{"$error":"#DIV/0!"}]
["","","","","","","","","","","","","","","","","",null,"","","",null,"","","",0,null,0,"","",0,"","","","00:00:00",0,null,0,0,null,{"$error":"#VALUE!"},{"$error":"#VALUE!"},{"$error":"#DIV/0!"},{"$error":"#DIV/0!"},{"$error":"#VALUE!"},{"$error":"#DIV/0!"},{"$error":"#DIV/0!"}]
["","","","","","","","","","","","","","","","","",null,"","","",null,"","","",0,null,0,"","",0,"","","","00:00:00",0,null,0,0,null,{"$error":"#VALUE!"},{"$error":"#VALUE!"},{"$error":"#DIV/0!"},{"$error":"#DIV/0!"},{"$error":"#VALUE!"},{"$error":"#DIV/0!"},{"$error":"#DIV/0!"}]
["","","","","","","","","","","","","","","","","",null,"","","",null,"","","",0,null,0,"","",0,"","","","00:00:00",0,null,0,0,null,{"$error":"#VALUE!"},{"$error":"#VALUE!"},{"$error":"#DIV/0!"},{"$error":"#DIV/0!"},{"$error":"#VALUE!"},{"$error":"#DIV/0!"},{"$error":"#DIV/0!"}]
["","","","","","","","","","","","","","","","","",null,"","","",null,"","","",0,null,0,"","",0,"","","","00:00:00",0,null,0,0,null,{"$error":"#VALUE!"},{"$error":"#VALUE!"},{"$error":"#DIV/0!"},{"$error":"#DIV/0!"},{"$error":"#VALUE!"},{"$error":"#DIV/0!"},{"$error":"#DIV/0!"}]
["","","","","","","","","","","","","","","","","",null,"","","",null,"","","",0,null,0,"","",0,"","","","00:00:00",0,null,0,0,null,{"$error":"#VALUE!"},{"$error":"#VALUE!"},{"$error":"#DIV/0!"},{"$error":"#DIV/0!"},{"$error":"#VALUE!"},{"$error":"#DIV/0!"},{"$error":"#DIV/0!"}]
["","","","","","","","","","","","","","","","","",null,"","","",null,"","","",0,null,0,"","",0,"","","","00:00:00",0,null,0,0,null,{"$error":"#VALUE!"},{"$error":"#VALUE!"},{"$error":"#DIV/0!"},{"$error":"#DIV/0!"},{"$error":"#VALUE!"},{"$error":"#DIV/0!"},{"$error":"#DIV/0!"}]
["","","","","","","","","","","","","","","","","",null,"","","",null,"","","",0,null,0,"","",0,"","","","00:00:00",0,null,0,0,null,{"$error":"#VALUE!"},{"$error":"#VALUE!"},{"$error":"#DIV/0!"},{"$error":"#DIV/0!"},{"$error":"#VALUE!"},{"$error":"#DIV/0!"},{"$error":"#DIV/0!"}]
["","","","","","","","","","","","","","","","","",null,"","","",null,"","","",0,null,0,"","",0,"","","","00:00:00",0,null,0,0,null,{"$error":"#VALUE!"},{"$error":"#VALUE!"},{"$error":"#DIV/0!"},{"$error":"#DIV/0!"},{"$error":"#VALUE!"},{"$error":"#DIV/0!"},{"$error":"#DIV/0!"}]
["","","","","","","","","","","","","","","","","",null,"","","",null,"","","",0,null,0,"","",0,"","","","00:00:00",0,null,0,0,null,{"$error":"#VALUE!"},{"$error":"#VALUE!"},{"$error":"#DIV/0!"},{"$error":"#DIV/0!"},{"$error":"#VALUE!"},{"$error":"#DIV/0!"},{"$error":"#DIV/0!"}]
["","","","","","","","","","","","","","","","","",null,"","","",null,"","","",0,null,0,"","",0,"","","","00:00:00",0,null,0,0,null,{"$error":"#VALUE!"},{"$error":"#VALUE!"},{"$error":"#DIV/0!"},{"$error":"#DIV/0!"},{"$error":"#VALUE!"},{"$error":"#DIV/0!"},{"$error":"#DIV/0!"}]
["","","","","","","","","","","","","","",{"$f":"IF(B225=\"\",\"\",K225+N225)","v":""},"","",null,"","","",null,"",{"$f":"IF(B225=\"\",\"\",IF(B225=\"\",\"\",O225+P225+Q225+R225+S225+W225))","v":""},"",0,null,{"$f":"SUM(K225:M225)","v":0},{"$f":"+L225","v":""},{"$f":"+Q225","v":""},{"$f":"+R225","v":0},{"$f":"+S225","v":""},{"$f":"IF(B225=\"\",\"\",AC225+K225 + P225 + W225+AD225+AE225 + M225 + AF225)","v":""},"","00:00:00",{"$f":"+IF(AG225=\"\",0,AG225)","v":0},null,{"$f":"+IFERROR(AG225-X225,0)","v":0},0,null,{"$error":"#VALUE!"},{"$f":"(1/((1+($J$8/100))^(AO225/$Q$9))*1) * IF(D225=\"D\",2,1)","v":{"$error":"#VALUE!"}},{"$error":"#DIV/0!"},{"$f":"AT225-AS225","v":{"$error":"#DIV/0!"}},{"$error":"#VALUE!"},{"$f":"IF(D225=\"D\",$K$23,0)+ $K$23","v":{"$error":"#DIV/0!"}},{"$f":"AQ225-AR225","v":{"$error":"#DIV/0!"}}]
["",{"$f":"IF(A226=\"\",\"\",IF(A226<=$H$22,0,1))","v":""},"",{"$f":"IF(A226=\"\",\"\",IF(OR(MONTH(C226)=$H$18,MONTH(C226)=$H$19),\"D\",\"\"))","v":""},"","","","","","",{"$f":"IF(B226=\"\",\"\",IF(((IF(ISERROR(MATCH(MONTH(C226),$H$18:$H$19,0))=FALSE,$J$24 + $Q$29,0) + $J$24+$Q$29+$S$27)-(IF($J$24+$Q$29 + $S$27<ROUND(ROUND(J226*(((1+(H226/100))^(I226/G226))-1),4),2),$J$24+$Q$29 + $S$27-0.01,IF(ROUND(ROUND(J226*(((1+(H226/100))^(I226/G226))-1),4),2)+ $S$27>$J$24,$J$24+ $S$27+-0.01,ROUND(ROUND(J226*(((1+(H226/100))^(I226/G226))-1),4),2)+$S$27)))- Q226-R226-S226-W226)<0,0.01,IF(ISERROR(MATCH(MONTH(C226),$H$18:$H$19,0))=FALSE,$J$24 + $Q$29,0)+ ($J$24+$Q$29+$S$27)-(IF($J$24+$Q$29 + $S$27<ROUND(ROUND(J226*(((1+(H226/100))^(I226/G226))-1),4),2),$J$24+$Q$29 + $S$27-0.01,IF(ROUND(ROUND(J226*(((1+(H226/100))^(I226/G226))-1),4),2)+ $S$27>$J$24,$J$24+ $S$27+-0.01,ROUND(ROUND(J226*(((1+(H226/100))^(I226/G226))-1),4),2)+$S$27)))- Q226-R226-S226-W226))","v":""},{"$f":"IF(B226=\"\",\"\",IF(K226=0.01,+$J$24-K226-Q226-R226-S226-W226+$Q$29,IF($J$24+$Q$29 + $S$27<ROUND(ROUND(J226*(((1+(H226/100))^(I226/G226))-1),4),2),$J$24+$Q$29 + $S$27-0.01,IF(ROUND(ROUND(J226*(((1+(H226/100))^(I226/G226))-1),4),2)+ $S$27>$J$24,$J$24+ $S$27+-0.01,ROUND(ROUND(J226*(((1+(H226/100))^(I226/G226))-1),4),2)+$S$27))))","v":""},{"$f":"+IF(B226=\"\",\"\",IF(ISERROR(MATCH(MONTH(C226),$H$18:$H$19,0))=FALSE,$J$23,0)  + $J$23)","v":""},{"$f":"+IF(B226=\"\",\"\",L226+M226)","v":""},"",{"$f":"+IF(B226=\"\",\"\",$J$27)","v":""},"",null,{"$f":"IF(B226=\"\",\"\",IF(E226-E225>1,ROUNDDOWN($J226*$H$9/30*(DATE(YEAR($C226),MONTH($C226)-1,DAY($C226))-C225),2),0))","v":""},{"$f":"IF(B226=\"\",\"\",Q226+R226+S226)","v":""},"",null,"","",{"$f":"+IF(B226=\"\",\"\",ROUND(J226-K226,2))","v":""},{"$f":"IFERROR(IF(ROUND(ROUND(J226*(((1+(H226/100))^(I226/G226))-1),4),2) - $J$24<0,0,ROUND(ROUND(J226*(((1+(H226/100))^(I226/G226))-1),4),2) - $J$24),0)","v":0},null,0,"","",0,"","",{"$f":"IF(B226=\"\",\"\",IF(D226=\"D\",$J$24*2,$J$24)+Q226)","v":""},{"$f":"+IF(C226=\"\",0,C226)","v":"00:00:00"},0,null,0,{"$f":"+IFERROR(AC226-L226,0)","v":0},null,{"$f":"I226 + AO225","v":{"$error":"#VALUE!"}},{"$error":"#VALUE!"},{"$f":"AU225","v":{"$error":"#DIV/0!"}},{"$error":"#DIV/0!"},{"$f":"(((1+($J$8/100))^((K226)/$Q$9))-1)*AQ226","v":{"$error":"#VALUE!"}},{"$error":"#DIV/0!"},{"$error":"#DIV/0!"}]
[{"$f":"IF(A226>=$H$14,\"\",A226+1)","v":""},"",{"$f":"IF(A227=\"\",\"\",IF(OR(MONTH(EDATE($Q$6,E227))=$H$16,MONTH(EDATE($Q$6,E227))=$H$17),IF(ABS($H$17-$H$16)=1,EDATE($Q$6,E227+2),EDATE($Q$6,E227+1)),EDATE($Q$6,E227)))","v":""},"",{"$f":"IF(B227=\"\",\"\",IF(OR(MONTH(DATE(YEAR(C226) + 1/12,MONTH(C226)+1,DAY(C226)))=$H$16,MONTH(DATE(YEAR(C226) + 1/12,MONTH(C226)+1,DAY(C226)))=$H$17),IF(ABS($H$17-$H$16)=1,E226+1,E226 + 2),E226 + 1))","v":""},{"$f":"IF(B227=\"\",\"\",F226+1)","v":""},{"$f":"IF(B227=\"\",\"\",$Q$9)","v":""},{"$f":"IF(B227=\"\",\"\",$H$10)","v":""},{"$f":"IF(B227=\"\",\"\",C227-C226)","v":""},{"$f":"IF(B227=\"\",\"\",Y226)","v":""},"","","","","","",{"$f":"+IF(B227=\"\",\"\",ROUND($H$9*J227/30*$I227,2)-S227)","v":""},null,"","",{"$f":"+IF(B227=\"\",\"\",$J$28)","v":""},null,{"$f":"+IF(B227=\"\",\"\",U227+V227)","v":""},"","",0,null,0,"","",0,"","","","00:00:00",0,null,0,0,null,{"$error":"#VALUE!"},{"$error":"#VALUE!"},{"$error":"#DIV/0!"},{"$error":"#DIV/0!"},{"$error":"#VALUE!"},{"$error":"#DIV/0!"},{"$error":"#DIV/0!"}]
["","","","","","","","","","","","","","","","","",null,"","","",null,"","","",0,null,0,"","",0,"","","","00:00:00",0,null,0,0,null,{"$error":"#VALUE!"},{"$error":"#VALUE!"},{"$error":"#DIV/0!"},{"$error":"#DIV/0!"},{"$error":"#VALUE!"},{"$error":"#DIV/0!"},{"$error":"#DIV/0!"}]
["","","","","","","","","","","","","","","","","",null,"","","",null,"","","",0,null,0,"","",0,"","","","00:00:00",0,null,0,0,null,{"$error":"#VALUE!"},{"$error":"#VALUE!"},{"$error":"#DIV/0!"},{"$error":"#DIV/0!"},{"$error":"#VALUE!"},{"$error":"#DIV/0!"},{"$error":"#DIV/0!"}]
["","","","","","","","","","","","","","","","","",null,"","","",null,"","","",0,null,0,"","",0,"","","","00:00:00",0,null,0,0,null,{"$error":"#VALUE!"},{"$error":"#VALUE!"},{"$error":"#DIV/0!"},{"$error":"#DIV/0!"},{"$error":"#VALUE!"},{"$error":"#DIV/0!"},{"$error":"#DIV/0!"}]
["","","","","","","","","","","","","","","","","",null,"","","",null,"","","",0,null,0,"","",0,"","","","00:00:00",0,null,0,0,null,{"$error":"#VALUE!"},{"$error":"#VALUE!"},{"$error":"#DIV/0!"},{"$error":"#DIV/0!"},{"$error":"#VALUE!"},{"$error":"#DIV/0!"},{"$error":"#DIV/0!"}]
["","","","","","","","","","","","","","","","","",null,"","","",null,"","","",0,null,0,"","",0,"","","","00:00:00",0,null,0,0,null,{"$error":"#VALUE!"},{"$error":"#VALUE!"},{"$error":"#DIV/0!"},{"$error":"#DIV/0!"},{"$error":"#VALUE!"},{"$error":"#DIV/0!"},{"$error":"#DIV/0!"}]
["","","","","","","","","","","","","","","","","",null,"","","",null,"","","",0,null,0,"","",0,"","","","00:00:00",0,null,0,0,null,{"$error":"#VALUE!"},{"$error":"#VALUE!"},{"$error":"#DIV/0!"},{"$error":"#DIV/0!"},{"$error":"#VALUE!"},{"$error":"#DIV/0!"},{"$error":"#DIV/0!"}]
["","","","","","","","","","","","","","","","","",null,"","","",null,"","","",0,null,0,"","",0,"","","","00:00:00",0,null,0,0,null,{"$error":"#VALUE!"},{"$error":"#VALUE!"},{"$error":"#DIV/0!"},{"$error":"#DIV/0!"},{"$error":"#VALUE!"},{"$error":"#DIV/0!"},{"$error":"#DIV/0!"}]
["","","","","","","","","","","","","","","","","",null,"","","",null,"","","",0,null,0,"","",0,"","","","00:00:00",0,null,0,0,null,{"$error":"#VALUE!"},{"$error":"#VALUE!"},{"$error":"#DIV/0!"},{"$error":"#DIV/0!"},{"$error":"#VALUE!"},{"$error":"#DIV/0!"},{"$error":"#DIV/0!"}]
["","","","","","","","","","","","","","","","","",null,"","","",null,"","","",0,null,0,"","",0,"","","","00:00:00",0,null,0,0,null,{"$error":"#VALUE!"},{"$error":"#VALUE!"},{"$error":"#DIV/0!"},{"$error":"#DIV/0!"},{"$error":"#VALUE!"},{"$error":"#DIV/0!"},{"$error":"#DIV/0!"}]
["","","","","","","","","","","","","","","","","",null,"","","",null,"","","",0,null,0,"","",0,"","","","00:00:00",0,null,0,0,null,{"$error":"#VALUE!"},{"$error":"#VALUE!"},{"$error":"#DIV/0!"},{"$error":"#DIV/0!"},{"$error":"#VALUE!"},{"$error":"#DIV/0!"},{"$error":"#DIV/0!"}]
["","","","","","","","","","","","","","","","","",null,"","","",null,"","","",0,null,0,"","",0,"","","","00:00:00",0,null,0,0,null,{"$error":"#VALUE!"},{"$error":"#VALUE!"},{"$error":"#DIV/0!"},{"$error":"#DIV/0!"},{"$error":"#VALUE!"},{"$error":"#DIV/0!"},{"$error":"#DIV/0!"}]
["","","","","","","","","","","","","","","","","",null,"","","",null,"","","",0,null,0,"","",0,"","","","00:00:00",0,null,0,0,null,{"$error":"#VALUE!"},{"$error":"#VALUE!"},{"$error":"#DIV/0!"},{"$error":"#DIV/0!"},{"$error":"#VALUE!"},{"$error":"#DIV/0!"},{"$error":"#DIV/0!"}]
["","","","","","","","","","","","","","","","","",null,"","","",null,"","","",0,null,0,"","",0,"","","","00:00:00",0,null,0,0,null,{"$error":"#VALUE!"},{"$error":"#VALUE!"},{"$error":"#DIV/0!"},{"$error":"#DIV/0!"},{"$error":"#VALUE!"},{"$error":"#DIV/0!"},{"$error":"#DIV/0!"}]
["","","","","","","","","","","","","","","","","",null,"","","",null,"","","",0,null,0,"","",0,"","","","00:00:00",0,null,0,0,null,{"$error":"#VALUE!"},{"$error":"#VALUE!"},{"$error":"#DIV/0!"},{"$error":"#DIV/0!"},{"$error":"#VALUE!"},{"$error":"#DIV/0!"},{"$error":"#DIV/0!"}]
["","","","","","","","","","","","","","","","","",null,"","","",null,"","","",0,null,0,"","",0,"","","","00:00:00",0,null,0,0,null,{"$error":"#VALUE!"},{"$error":"#VALUE!"},{"$error":"#DIV/0!"},{"$error":"#DIV/0!"},{"$error":"#VALUE!"},{"$error":"#DIV/0!"},{"$error":"#DIV/0!"}]
["","","","","","","","","","","","","","","","","",null,"","","",null,"","","",0,null,0,"","",0,"","","","00:00:00",0,null,0,0,null,{"$error":"#VALUE!"},{"$error":"#VALUE!"},{"$error":"#DIV/0!"},{"$error":"#DIV/0!"},{"$error":"#VALUE!"},{"$error":"#DIV/0!"},{"$error":"#DIV/0!"}]
["","","","","","","","","","","","","","","","","",null,"","","",null,"","","",0,null,0,"","",0,"","","","00:00:00",0,null,0,0,null,{"$error":"#VALUE!"},{"$error":"#VALUE!"},{"$error":"#DIV/0!"},{"$error":"#DIV/0!"},{"$error":"#VALUE!"},{"$error":"#DIV/0!"},{"$error":"#DIV/0!"}]
["","","","","","","","","","","","","","","","","",null,"","","",null,"","","",0,null,0,"","",0,"","","","00:00:00",0,null,0,0,null,{"$error":"#VALUE!"},{"$error":"#VALUE!"},{"$error":"#DIV/0!"},{"$error":"#DIV/0!"},{"$error":"#VALUE!"},{"$error":"#DIV/0!"},{"$error":"#DIV/0!"}]
["","","","","","","","","","","","","","","","","",null,"","","",null,"","","",0,null,0,"","",0,"","","","00:00:00",0,null,0,0,null,{"$error":"#VALUE!"},{"$error":"#VALUE!"},{"$error":"#DIV/0!"},{"$error":"#DIV/0!"},{"$error":"#VALUE!"},{"$error":"#DIV/0!"},{"$error":"#DIV/0!"}]
["","","","","","","","","","","","","","","","","",null,"","","",null,"","","",0,null,0,"","",0,"","","","00:00:00",0,null,0,0,null,{"$error":"#VALUE!"},{"$error":"#VALUE!"},{"$error":"#DIV/0!"},{"$error":"#DIV/0!"},{"$error":"#VALUE!"},{"$error":"#DIV/0!"},{"$error":"#DIV/0!"}]
["","","","","","","","","","","","","","","","","",null,"","","",null,"","","",0,null,0,"","",0,"","","","00:00:00",0,null,0,0,null,{"$error":"#VALUE!"},{"$error":"#VALUE!"},{"$error":"#DIV/0!"},{"$error":"#DIV/0!"},{"$error":"#VALUE!"},{"$error":"#DIV/0!"},{"$error":"#DIV/0!"}]
["","","","","","","","","","","","","","","","","",null,"","","",null,"","","",0,null,0,"","",0,"","","","00:00:00",0,null,0,0,null,{"$error":"#VALUE!"},{"$error":"#VALUE!"},{"$error":"#DIV/0!"},{"$error":"#DIV/0!"},{"$error":"#VALUE!"},{"$error":"#DIV/0!"},{"$error":"#DIV/0!"}]
["","","","","","","","","","","","","","","","","",null,"","","",null,"","","",0,null,0,"","",0,"","","","00:00:00",0,null,0,0,null,{"$error":"#VALUE!"},{"$error":"#VALUE!"},{"$error":"#DIV/0!"},{"$error":"#DIV/0!"},{"$error":"#VALUE!"},{"$error":"#DIV/0!"},{"$error":"#DIV/0!"}]
["","","","","","","","","","","","","","","","","",null,"","","",null,"","","",0,null,0,"","",0,"","","","00:00:00",0,null,0,0,null,{"$error":"#VALUE!"},{"$error":"#VALUE!"},{"$error":"#DIV/0!"},{"$error":"#DIV/0!"},{"$error":"#VALUE!"},{"$error":"#DIV/0!"},{"$error":"#DIV/0!"}]
["","","","","","","","","","","","","","","","","",null,"","","",null,"","","",0,null,0,"","",0,"","","","00:00:00",0,null,0,0,null,{"$error":"#VALUE!"},{"$error":"#VALUE!"},{"$error":"#DIV/0!"},{"$error":"#DIV/0!"},{"$error":"#VALUE!"},{"$error":"#DIV/0!"},{"$error":"#DIV/0!"}]
["","","","","","","","","","","","","","","","","",null,"","","",null,"","","",0,null,0,"","",0,"","","","00:00:00",0,null,0,0,null,{"$error":"#VALUE!"},{"$error":"#VALUE!"},{"$error":"#DIV/0!"},{"$error":"#DIV/0!"},{"$error":"#VALUE!"},{"$error":"#DIV/0!"},{"$error":"#DIV/0!"}]
["","","","","","","","","","","","","","","","","",null,"","","",null,"","","",0,null,0,"","",0,"","","","00:00:00",0,null,0,0,null,{"$error":"#VALUE!"},{"$error":"#VALUE!"},{"$error":"#DIV/0!"},{"$error":"#DIV/0!"},{"$error":"#VALUE!"},{"$error":"#DIV/0!"},{"$error":"#DIV/0!"}]
["","","","","","","","","","","","","","","","","",null,"","","",null,"","","",0,null,0,"","",0,"","","","00:00:00",0,null,0,0,null,{"$error":"#VALUE!"},{"$error":"#VALUE!"},{"$error":"#DIV/0!"},{"$error":"#DIV/0!"},{"$error":"#VALUE!"},{"$error":"#DIV/0!"},{"$error":"#DIV/0!"}]
["","","","","","","","","","","","","","","","","",null,"","","",null,"","","",0,null,0,"","",0,"","","","00:00:00",0,null,0,0,null,{"$error":"#VALUE!"},{"$error":"#VALUE!"},{"$error":"#DIV/0!"},{"$error":"#DIV/0!"},{"$error":"#VALUE!"},{"$error":"#DIV/0!"},{"$error":"#DIV/0!"}]
["","","","","","","","","","","","","","","","","",null,"","","",null,"","","",0,null,0,"","",0,"","","","00:00:00",0,null,0,0,null,{"$error":"#VALUE!"},{"$error":"#VALUE!"},{"$error":"#DIV/0!"},{"$error":"#DIV/0!"},{"$error":"#VALUE!"},{"$error":"#DIV/0!"},{"$error":"#DIV/0!"}]
["","","","","","","","","","","","","","","","","",null,"","","",null,"","","",0,null,0,"","",0,"","","","00:00:00",0,null,0,0,null,{"$error":"#VALUE!"},{"$error":"#VALUE!"},{"$error":"#DIV/0!"},{"$error":"#DIV/0!"},{"$error":"#VALUE!"},{"$error":"#DIV/0!"},{"$error":"#DIV/0!"}]
["","","","","","","","","","","","","","","","","",null,"","","",null,"","","",0,null,0,"","",0,"","","","00:00:00",0,null,0,0,null,{"$error":"#VALUE!"},{"$error":"#VALUE!"},{"$error":"#DIV/0!"},{"$error":"#DIV/0!"},{"$error":"#VALUE!"},{"$error":"#DIV/0!"},{"$error":"#DIV/0!"}]
["","","","","","","","","","","","","","","","","",null,"","","",null,"","","",0,null,0,"","",0,"","","","00:00:00",0,null,0,0,null,{"$error":"#VALUE!"},{"$error":"#VALUE!"},{"$error":"#DIV/0!"},{"$error":"#DIV/0!"},{"$error":"#VALUE!"},{"$error":"#DIV/0!"},{"$error":"#DIV/0!"}]
["","","","","","","","","","","","","","","","","",null,"","","",null,"","","",0,null,0,"","",0,"","","","00:00:00",0,null,0,0,null,{"$error":"#VALUE!"},{"$error":"#VALUE!"},{"$error":"#DIV/0!"},{"$error":"#DIV/0!"},{"$error":"#VALUE!"},{"$error":"#DIV/0!"},{"$error":"#DIV/0!"}]
["","","","","","","","","","","","","","","","","",null,"","","",null,"","","",0,null,0,"","",0,"","","","00:00:00",0,null,0,0,null,{"$error":"#VALUE!"},{"$error":"#VALUE!"},{"$error":"#DIV/0!"},{"$error":"#DIV/0!"},{"$error":"#VALUE!"},{"$error":"#DIV/0!"},{"$error":"#DIV/0!"}]
["","","","","","","","","","","","","","","","","",null,"","","",null,"","","",0,null,0,"","",0,"","","","00:00:00",0,null,0,0,null,{"$error":"#VALUE!"},{"$error":"#VALUE!"},{"$error":"#DIV/0!"},{"$error":"#DIV/0!"},{"$error":"#VALUE!"},{"$error":"#DIV/0!"},{"$error":"#DIV/0!"}]
["","","","","","","","","","","","","","","","","",null,"","","",null,"","","",0,null,0,"","",0,"","","","00:00:00",0,null,0,0,null,{"$error":"#VALUE!"},{"$error":"#VALUE!"},{"$error":"#DIV/0!"},{"$error":"#DIV/0!"},{"$error":"#VALUE!"},{"$error":"#DIV/0!"},{"$error":"#DIV/0!"}]
["","","","","","","","","","","","","","","","","",null,"","","",null,"","","",0,null,0,"","",0,"","","","00:00:00",0,null,0,0,null,{"$error":"#VALUE!"},{"$error":"#VALUE!"},{"$error":"#DIV/0!"},{"$error":"#DIV/0!"},{"$error":"#VALUE!"},{"$error":"#DIV/0!"},{"$error":"#DIV/0!"}]
["","","","","","","","","","","","","","","","","",null,"","","",null,"","","",0,null,0,"","",0,"","","","00:00:00",0,null,0,0,null,{"$error":"#VALUE!"},{"$error":"#VALUE!"},{"$error":"#DIV/0!"},{"$error":"#DIV/0!"},{"$error":"#VALUE!"},{"$error":"#DIV/0!"},{"$error":"#DIV/0!"}]
["","","","","","","","","","","","","","","","","",null,"","","",null,"","","",0,null,0,"","",0,"","","","00:00:00",0,null,0,0,null,{"$error":"#VALUE!"},{"$error":"#VALUE!"},{"$error":"#DIV/0!"},{"$error":"#DIV/0!"},{"$error":"#VALUE!"},{"$error":"#DIV/0!"},{"$error":"#DIV/0!"}]
["","","","","","","","","","","","","","","","","",null,"","","",null,"","","",0,null,0,"","",0,"","","","00:00:00",0,null,0,0,null,{"$error":"#VALUE!"},{"$error":"#VALUE!"},{"$error":"#DIV/0!"},{"$error":"#DIV/0!"},{"$error":"#VALUE!"},{"$error":"#DIV/0!"},{"$error":"#DIV/0!"}]
["","","","","","","","","","","","","","","","","",null,"","","",null,"","","",0,null,0,"","",0,"","","","00:00:00",0,null,0,0,null,{"$error":"#VALUE!"},{"$error":"#VALUE!"},{"$error":"#DIV/0!"},{"$error":"#DIV/0!"},{"$error":"#VALUE!"},{"$error":"#DIV/0!"},{"$error":"#DIV/0!"}]
["","","","","","","","","","","","","","","","","",null,"","","",null,"","","",0,null,0,"","",0,"","","","00:00:00",0,null,0,0,null,{"$error":"#VALUE!"},{"$error":"#VALUE!"},{"$error":"#DIV/0!"},{"$error":"#DIV/0!"},{"$error":"#VALUE!"},{"$error":"#DIV/0!"},{"$error":"#DIV/0!"}]
["","","","","","","","","","","","","","","","","",null,"","","",null,"","","",0,null,0,"","",0,"","","","00:00:00",0,null,0,0,null,{"$error":"#VALUE!"},{"$error":"#VALUE!"},{"$error":"#DIV/0!"},{"$error":"#DIV/0!"},{"$error":"#VALUE!"},{"$error":"#DIV/0!"},{"$error":"#DIV/0!"}]
["","","","","","","","","","","","","","","","","",null,"","","",null,"","",{"$f":"+IF(B272=\"\",\"\",ROUND(J272-K272,2))","v":""},0,null,0,"","",0,"","","","00:00:00",0,null,0,0,null,{"$f":"I272 + AO271","v":{"$error":"#VALUE!"}},{"$error":"#VALUE!"},{"$error":"#DIV/0!"},{"$error":"#DIV/0!"},{"$error":"#VALUE!"},{"$error":"#DIV/0!"},{"$error":"#DIV/0!"}]
["","",{"$f":"IF(A273=\"\",\"\",IF(OR(MONTH(EDATE($Q$6,E273))=$H$16,MONTH(EDATE($Q$6,E273))=$H$17),IF(ABS($H$17-$H$16)=1,EDATE($Q$6,E273+2),EDATE($Q$6,E273+1)),EDATE($Q$6,E273)))","v":""},{"$f":"IF(A273=\"\",\"\",IF(OR(MONTH(C273)=$H$18,MONTH(C273)=$H$19),\"D\",\"\"))","v":""},{"$f":"IF(B273=\"\",\"\",IF(OR(MONTH(DATE(YEAR(C272) + 1/12,MONTH(C272)+1,DAY(C272)))=$H$16,MONTH(DATE(YEAR(C272) + 1/12,MONTH(C272)+1,DAY(C272)))=$H$17),IF(ABS($H$17-$H$16)=1,E272+1,E272 + 2),E272 + 1))","v":""},{"$f":"IF(B273=\"\",\"\",F272+1)","v":""},{"$f":"IF(B273=\"\",\"\",$Q$9)","v":""},{"$f":"IF(B273=\"\",\"\",$H$10)","v":""},{"$f":"IF(B273=\"\",\"\",C273-C272)","v":""},{"$f":"IF(B273=\"\",\"\",Y272)","v":""},"","",{"$f":"+IF(B273=\"\",\"\",IF(ISERROR(MATCH(MONTH(C273),$H$18:$H$19,0))=FALSE,$J$23,0)  + $J$23)","v":""},{"$f":"+IF(B273=\"\",\"\",L273+M273)","v":""},{"$f":"IF(B273=\"\",\"\",K273+N273)","v":""},{"$f":"+IF(B273=\"\",\"\",$J$27)","v":""},{"$f":"+IF(B273=\"\",\"\",ROUND($H$9*J273/30*$I273,2)-S273)","v":""},null,{"$f":"IF(B273=\"\",\"\",IF(E273-E272>1,ROUNDDOWN($J273*$H$9/30*(DATE(YEAR($C273),MONTH($C273)-1,DAY($C273))-C272),2),0))","v":""},{"$f":"IF(B273=\"\",\"\",Q273+R273+S273)","v":""},{"$f":"+IF(B273=\"\",\"\",$J$28)","v":""},null,{"$f":"+IF(B273=\"\",\"\",U273+V273)","v":""},{"$f":"IF(B273=\"\",\"\",IF(B273=\"\",\"\",O273+P273+Q273+R273+S273+W273))","v":""},{"$f":"+IF(B273=\"\",\"\",ROUND(J273-K273,2))","v":""},0,null,{"$f":"SUM(K273:M273)","v":0},{"$f":"+L273","v":""},{"$f":"+Q273","v":""},{"$f":"+R273","v":0},{"$f":"+S273","v":""},{"$f":"IF(B273=\"\",\"\",AC273+K273 + P273 + W273+AD273+AE273 + M273 + AF273)","v":""},{"$f":"IF(B273=\"\",\"\",IF(D273=\"D\",$J$24*2,$J$24)+Q273)","v":""},{"$f":"+IF(C273=\"\",0,C273)","v":"00:00:00"},{"$f":"+IF(AG273=\"\",0,AG273)","v":0},null,{"$f":"+IFERROR(AG273-X273,0)","v":0},{"$f":"+IFERROR(AC273-L273,0)","v":0},null,{"$f":"I273 + AO272","v":{"$error":"#VALUE!"}},{"$f":"(1/((1+($J$8/100))^(AO273/$Q$9))*1) * IF(D273=\"D\",2,1)","v":{"$error":"#VALUE!"}},{"$error":"#DIV/0!"},{"$error":"#DIV/0!"},{"$error":"#VALUE!"},{"$error":"#DIV/0!"},{"$error":"#DIV/0!"}]
["","","","","","","","","","","","","","","","","",null,"","","",null,"","","",0,null,0,"","",0,"","","","00:00:00",0,null,0,0,null,{"$error":"#VALUE!"},{"$error":"#VALUE!"},{"$error":"#DIV/0!"},{"$error":"#DIV/0!"},{"$error":"#VALUE!"},{"$error":"#DIV/0!"},{"$error":"#DIV/0!"}]
["","","","","","","","","","","","","","","","","",null,"","","",null,"","","",0,null,0,"","",0,"","","","00:00:00",0,null,0,0,null,{"$error":"#VALUE!"},{"$error":"#VALUE!"},{"$error":"#DIV/0!"},{"$error":"#DIV/0!"},{"$error":"#VALUE!"},{"$error":"#DIV/0!"},{"$error":"#DIV/0!"}]
["","","","","","","","","","","","","","","","","",null,"","","",null,"","","",0,null,0,"","",0,"","","","00:00:00",0,null,0,0,null,{"$error":"#VALUE!"},{"$error":"#VALUE!"},{"$error":"#DIV/0!"},{"$error":"#DIV/0!"},{"$error":"#VALUE!"},{"$error":"#DIV/0!"},{"$error":"#DIV/0!"}]
["","","","","","","","","","","","","","","","","",null,"","","",null,"","","",0,null,0,"","",0,"","","","00:00:00",0,null,0,0,null,{"$error":"#VALUE!"},{"$error":"#VALUE!"},{"$error":"#DIV/0!"},{"$error":"#DIV/0!"},{"$error":"#VALUE!"},{"$error":"#DIV/0!"},{"$error":"#DIV/0!"}]
["","","","","","","","","","","","","","","","","",null,"","","",null,"","","",0,null,0,"","",0,"","","","00:00:00",0,null,0,0,null,{"$error":"#VALUE!"},{"$error":"#VALUE!"},{"$error":"#DIV/0!"},{"$error":"#DIV/0!"},{"$error":"#VALUE!"},{"$error":"#DIV/0!"},{"$error":"#DIV/0!"}]
["","","","","","","","","","","","","","","","","",null,"","","",null,"","","",0,null,0,"","",0,"","","","00:00:00",0,null,0,0,null,{"$error":"#VALUE!"},{"$error":"#VALUE!"},{"$error":"#DIV/0!"},{"$error":"#DIV/0!"},{"$error":"#VALUE!"},{"$error":"#DIV/0!"},{"$error":"#DIV/0!"}]
["","","","","","","","","","","","","","","","","",null,"","","",null,"","","",0,null,0,"","",0,"","","","00:00:00",0,null,0,0,null,{"$error":"#VALUE!"},{"$error":"#VALUE!"},{"$error":"#DIV/0!"},{"$error":"#DIV/0!"},{"$error":"#VALUE!"},{"$error":"#DIV/0!"},{"$error":"#DIV/0!"}]
["","","","","","","","","","","","","","","","","",null,"","","",null,"","","",0,null,0,"","",0,"","","","00:00:00",0,null,0,0,null,{"$error":"#VALUE!"},{"$error":"#VALUE!"},{"$error":"#DIV/0!"},{"$error":"#DIV/0!"},{"$error":"#VALUE!"},{"$error":"#DIV/0!"},{"$error":"#DIV/0!"}]
["","","","","","","","","","","","","","","","","",null,"","","",null,"","","",0,null,0,"","",0,"","","","00:00:00",0,null,0,0,null,{"$error":"#VALUE!"},{"$error":"#VALUE!"},{"$error":"#DIV/0!"},{"$error":"#DIV/0!"},{"$error":"#VALUE!"},{"$error":"#DIV/0!"},{"$error":"#DIV/0!"}]
["","","","","","","","","","","","","","","","","",null,"","","",null,"","","",0,null,0,"","",0,"","","","00:00:00",0,null,0,0,null,{"$error":"#VALUE!"},{"$error":"#VALUE!"},{"$error":"#DIV/0!"},{"$error":"#DIV/0!"},{"$error":"#VALUE!"},{"$error":"#DIV/0!"},{"$error":"#DIV/0!"}]
["","","","","","","","","","","","","","","","","",null,"","","",null,"","","",0,null,0,"","",0,"","","","00:00:00",0,null,0,0,null,{"$error":"#VALUE!"},{"$error":"#VALUE!"},{"$error":"#DIV/0!"},{"$error":"#DIV/0!"},{"$error":"#VALUE!"},{"$error":"#DIV/0!"},{"$error":"#DIV/0!"}]
["","","","","","","","","","","","","","","","","",null,"","","",null,"","","",0,null,0,"","",0,"","","","00:00:00",0,null,0,0,null,{"$error":"#VALUE!"},{"$error":"#VALUE!"},{"$error":"#DIV/0!"},{"$error":"#DIV/0!"},{"$error":"#VALUE!"},{"$error":"#DIV/0!"},{"$error":"#DIV/0!"}]
["","","","","","","","","","","","","","","","","",null,"","","",null,"","","",0,null,0,"","",0,"","",{"$f":"IF(B286=\"\",\"\",IF(D286=\"D\",$J$24*2,$J$24)+Q286)","v":""},{"$f":"+IF(C286=\"\",0,C286)","v":"00:00:00"},{"$f":"+IF(AG286=\"\",0,AG286)","v":0},null,0,0,null,{"$error":"#VALUE!"},{"$error":"#VALUE!"},{"$error":"#DIV/0!"},{"$error":"#DIV/0!"},{"$error":"#VALUE!"},{"$error":"#DIV/0!"},{"$error":"#DIV/0!"}]
["","","","","","","","","","","","","","","","","",null,"","","",null,"","","",0,null,0,"","",0,"","","","00:00:00",0,null,0,0,null,{"$error":"#VALUE!"},{"$error":"#VALUE!"},{"$error":"#DIV/0!"},{"$error":"#DIV/0!"},{"$error":"#VALUE!"},{"$error":"#DIV/0!"},{"$error":"#DIV/0!"}]
["","","","","","","","","","","","","","","","","",null,"","","",null,"","","",0,null,0,"","",0,"","","","00:00:00",0,null,0,0,null,{"$error":"#VALUE!"},{"$error":"#VALUE!"},{"$error":"#DIV/0!"},{"$error":"#DIV/0!"},{"$error":"#VALUE!"},{"$error":"#DIV/0!"},{"$error":"#DIV/0!"}]
["","","","","","","","","","","","","","","","","",null,"","","",null,"","","",0,null,0,"","",0,"","","","00:00:00",0,null,0,0,null,{"$error":"#VALUE!"},{"$error":"#VALUE!"},{"$error":"#DIV/0!"},{"$f":"AT289-AS289","v":{"$error":"#DIV/0!"}},{"$error":"#VALUE!"},{"$f":"IF(D289=\"D\",$K$23,0)+ $K$23","v":{"$error":"#DIV/0!"}},{"$f":"AQ289-AR289","v":{"$error":"#DIV/0!"}}]
["",{"$f":"IF(A290=\"\",\"\",IF(A290<=$H$22,0,1))","v":""},"","","","","","","","",{"$f":"IF(B290=\"\",\"\",IF(((IF(ISERROR(MATCH(MONTH(C290),$H$18:$H$19,0))=FALSE,$J$24 + $Q$29,0) + $J$24+$Q$29+$S$27)-(IF($J$24+$Q$29 + $S$27<ROUND(ROUND(J290*(((1+(H290/100))^(I290/G290))-1),4),2),$J$24+$Q$29 + $S$27-0.01,IF(ROUND(ROUND(J290*(((1+(H290/100))^(I290/G290))-1),4),2)+ $S$27>$J$24,$J$24+ $S$27+-0.01,ROUND(ROUND(J290*(((1+(H290/100))^(I290/G290))-1),4),2)+$S$27)))- Q290-R290-S290-W290)<0,0.01,IF(ISERROR(MATCH(MONTH(C290),$H$18:$H$19,0))=FALSE,$J$24 + $Q$29,0)+ ($J$24+$Q$29+$S$27)-(IF($J$24+$Q$29 + $S$27<ROUND(ROUND(J290*(((1+(H290/100))^(I290/G290))-1),4),2),$J$24+$Q$29 + $S$27-0.01,IF(ROUND(ROUND(J290*(((1+(H290/100))^(I290/G290))-1),4),2)+ $S$27>$J$24,$J$24+ $S$27+-0.01,ROUND(ROUND(J290*(((1+(H290/100))^(I290/G290))-1),4),2)+$S$27)))- Q290-R290-S290-W290))","v":""},{"$f":"IF(B290=\"\",\"\",IF(K290=0.01,+$J$24-K290-Q290-R290-S290-W290+$Q$29,IF($J$24+$Q$29 + $S$27<ROUND(ROUND(J290*(((1+(H290/100))^(I290/G290))-1),4),2),$J$24+$Q$29 + $S$27-0.01,IF(ROUND(ROUND(J290*(((1+(H290/100))^(I290/G290))-1),4),2)+ $S$27>$J$24,$J$24+ $S$27+-0.01,ROUND(ROUND(J290*(((1+(H290/100))^(I290/G290))-1),4),2)+$S$27))))","v":""},"","","","","",null,"","","",null,"",{"$f":"IF(B290=\"\",\"\",IF(B290=\"\",\"\",O290+P290+Q290+R290+S290+W290))","v":""},"",{"$f":"IFERROR(IF(ROUND(ROUND(J290*(((1+(H290/100))^(I290/G290))-1),4),2) - $J$24<0,0,ROUND(ROUND(J290*(((1+(H290/100))^(I290/G290))-1),4),2) - $J$24),0)","v":0},null,0,"","",0,"",{"$f":"IF(B290=\"\",\"\",AC290+K290 + P290 + W290+AD290+AE290 + M290 + AF290)","v":""},"","00:00:00",0,null,0,0,null,{"$error":"#VALUE!"},{"$error":"#VALUE!"},{"$f":"AU289","v":{"$error":"#DIV/0!"}},{"$error":"#DIV/0!"},{"$f":"(((1+($J$8/100))^((K290)/$Q$9))-1)*AQ290","v":{"$error":"#VALUE!"}},{"$error":"#DIV/0!"},{"$error":"#DIV/0!"}]
[{"$f":"IF(A290>=$H$14,\"\",A290+1)","v":""},{"$f":"IF(A291=\"\",\"\",IF(A291<=$H$22,0,1))","v":""},"","",{"$f":"IF(B291=\"\",\"\",IF(OR(MONTH(DATE(YEAR(C290) + 1/12,MONTH(C290)+1,DAY(C290)))=$H$16,MONTH(DATE(YEAR(C290) + 1/12,MONTH(C290)+1,DAY(C290)))=$H$17),IF(ABS($H$17-$H$16)=1,E290+1,E290 + 2),E290 + 1))","v":""},"","","","","","","","","","","","",null,"","","",null,"","","",0,null,0,"","",0,"","","","00:00:00",0,null,0,0,null,{"$error":"#VALUE!"},{"$error":"#VALUE!"},{"$error":"#DIV/0!"},{"$error":"#DIV/0!"},{"$error":"#VALUE!"},{"$error":"#DIV/0!"},{"$error":"#DIV/0!"}]
["",{"$f":"IF(A292=\"\",\"\",IF(A292<=$H$22,0,1))","v":""},"","",{"$f":"IF(B292=\"\",\"\",IF(OR(MONTH(DATE(YEAR(C291) + 1/12,MONTH(C291)+1,DAY(C291)))=$H$16,MONTH(DATE(YEAR(C291) + 1/12,MONTH(C291)+1,DAY(C291)))=$H$17),IF(ABS($H$17-$H$16)=1,E291+1,E291 + 2),E291 + 1))","v":""},"","","","","","","","","","","","",null,"","","",null,"","","",0,null,0,"","",0,"","","","00:00:00",0,null,0,0,null,{"$error":"#VALUE!"},{"$error":"#VALUE!"},{"$error":"#DIV/0!"},{"$error":"#DIV/0!"},{"$error":"#VALUE!"},{"$error":"#DIV/0!"},{"$error":"#DIV/0!"}]
["",{"$f":"IF(A293=\"\",\"\",IF(A293<=$H$22,0,1))","v":""},{"$f":"IF(A293=\"\",\"\",IF(OR(MONTH(EDATE($Q$6,E293))=$H$16,MONTH(EDATE($Q$6,E293))=$H$17),IF(ABS($H$17-$H$16)=1,EDATE($Q$6,E293+2),EDATE($Q$6,E293+1)),EDATE($Q$6,E293)))","v":""},{"$f":"IF(A293=\"\",\"\",IF(OR(MONTH(C293)=$H$18,MONTH(C293)=$H$19),\"D\",\"\"))","v":""},{"$f":"IF(B293=\"\",\"\",IF(OR(MONTH(DATE(YEAR(C292) + 1/12,MONTH(C292)+1,DAY(C292)))=$H$16,MONTH(DATE(YEAR(C292) + 1/12,MONTH(C292)+1,DAY(C292)))=$H$17),IF(ABS($H$17-$H$16)=1,E292+1,E292 + 2),E292 + 1))","v":""},{"$f":"IF(B293=\"\",\"\",F292+1)","v":""},{"$f":"IF(B293=\"\",\"\",$Q$9)","v":""},{"$f":"IF(B293=\"\",\"\",$H$10)","v":""},{"$f":"IF(B293=\"\",\"\",C293-C292)","v":""},{"$f":"IF(B293=\"\",\"\",Y292)","v":""},"","",{"$f":"+IF(B293=\"\",\"\",IF(ISERROR(MATCH(MONTH(C293),$H$18:$H$19,0))=FALSE,$J$23,0)  + $J$23)","v":""},{"$f":"+IF(B293=\"\",\"\",L293+M293)","v":""},{"$f":"IF(B293=\"\",\"\",K293+N293)","v":""},{"$f":"+IF(B293=\"\",\"\",$J$27)","v":""},{"$f":"+IF(B293=\"\",\"\",ROUND($H$9*J293/30*$I293,2)-S293)","v":""},null,{"$f":"IF(B293=\"\",\"\",IF(E293-E292>1,ROUNDDOWN($J293*$H$9/30*(DATE(YEAR($C293),MONTH($C293)-1,DAY($C293))-C292),2),0))","v":""},{"$f":"IF(B293=\"\",\"\",Q293+R293+S293)","v":""},{"$f":"+IF(B293=\"\",\"\",$J$28)","v":""},null,{"$f":"+IF(B293=\"\",\"\",U293+V293)","v":""},"",{"$f":"+IF(B293=\"\",\"\",ROUND(J293-K293,2))","v":""},0,null,{"$f":"SUM(K293:M293)","v":0},{"$f":"+L293","v":""},{"$f":"+Q293","v":""},{"$f":"+R293","v":0},{"$f":"+S293","v":""},"","","00:00:00",0,null,0,0,null,{"$error":"#VALUE!"},{"$error":"#VALUE!"},{"$error":"#DIV/0!"},{"$error":"#DIV/0!"},{"$error":"#VALUE!"},{"$error":"#DIV/0!"},{"$error":"#DIV/0!"}]
["","","","","","","","","","","","","","","","","",null,"","","",null,"","","",0,null,0,"","",0,"","","","00:00:00",0,null,0,0,null,{"$error":"#VALUE!"},{"$error":"#VALUE!"},{"$error":"#DIV/0!"},{"$error":"#DIV/0!"},{"$error":"#VALUE!"},{"$error":"#DIV/0!"},{"$error":"#DIV/0!"}]
["","","","","","","","","","","","","","","","","",null,"","","",null,"","","",0,null,0,"","",0,"","","","00:00:00",0,null,0,0,null,{"$error":"#VALUE!"},{"$error":"#VALUE!"},{"$error":"#DIV/0!"},{"$error":"#DIV/0!"},{"$error":"#VALUE!"},{"$error":"#DIV/0!"},{"$error":"#DIV/0!"}]
["","","","","","","","","","","","","","","","","",null,"","","",null,"","","",0,null,0,"","",0,"","","","00:00:00",0,null,0,0,null,{"$error":"#VALUE!"},{"$error":"#VALUE!"},{"$error":"#DIV/0!"},{"$error":"#DIV/0!"},{"$error":"#VALUE!"},{"$error":"#DIV/0!"},{"$error":"#DIV/0!"}]
["","","","","","","","","","","","","","","","","",null,"","","",null,"","","",0,null,0,"","",0,"","","","00:00:00",0,null,0,0,null,{"$error":"#VALUE!"},{"$error":"#VALUE!"},{"$error":"#DIV/0!"},{"$error":"#DIV/0!"},{"$error":"#VALUE!"},{"$error":"#DIV/0!"},{"$error":"#DIV/0!"}]
["","","","","","","","","","","","","","","","","",null,"","","",null,"","","",0,null,0,"","",0,"","","","00:00:00",0,null,0,0,null,{"$error":"#VALUE!"},{"$error":"#VALUE!"},{"$error":"#DIV/0!"},{"$error":"#DIV/0!"},{"$error":"#VALUE!"},{"$error":"#DIV/0!"},{"$error":"#DIV/0!"}]
["","","","","","","","","","","","","","","","","",null,"","","",null,"","","",0,null,0,"","",0,"","","","00:00:00",0,null,0,0,null,{"$error":"#VALUE!"},{"$error":"#VALUE!"},{"$error":"#DIV/0!"},{"$error":"#DIV/0!"},{"$error":"#VALUE!"},{"$error":"#DIV/0!"},{"$error":"#DIV/0!"}]
["","","","","","","","","","","","","","","","","",null,"","","",null,"","","",0,null,0,"","",0,"","","","00:00:00",0,null,0,0,null,{"$error":"#VALUE!"},{"$error":"#VALUE!"},{"$error":"#DIV/0!"},{"$error":"#DIV/0!"},{"$error":"#VALUE!"},{"$error":"#DIV/0!"},{"$error":"#DIV/0!"}]
["","","","","","","","","","","","","","","","","",null,"","","",null,"","","",0,null,0,"","",0,"","","","00:00:00",0,null,0,0,null,{"$error":"#VALUE!"},{"$error":"#VALUE!"},{"$error":"#DIV/0!"},{"$error":"#DIV/0!"},{"$error":"#VALUE!"},{"$error":"#DIV/0!"},{"$error":"#DIV/0!"}]
["","","","","","","","","","","","","","","","","",null,"","","",null,"","","",0,null,0,"","",0,"","","","00:00:00",0,null,0,0,null,{"$error":"#VALUE!"},{"$error":"#VALUE!"},{"$error":"#DIV/0!"},{"$error":"#DIV/0!"},{"$error":"#VALUE!"},{"$error":"#DIV/0!"},{"$error":"#DIV/0!"}]
["","","","","","","","","","","","","","","","","",null,"","","",null,"","","",0,null,0,"","",0,"","","","00:00:00",0,null,0,0,null,{"$error":"#VALUE!"},{"$error":"#VALUE!"},{"$error":"#DIV/0!"},{"$error":"#DIV/0!"},{"$error":"#VALUE!"},{"$error":"#DIV/0!"},{"$error":"#DIV/0!"}]
["","","","","","","","","","","","","","","","","",null,"","","",null,"","","",0,null,0,"","",0,"","","","00:00:00",0,null,0,0,null,{"$error":"#VALUE!"},{"$error":"#VALUE!"},{"$error":"#DIV/0!"},{"$error":"#DIV/0!"},{"$error":"#VALUE!"},{"$error":"#DIV/0!"},{"$error":"#DIV/0!"}]
["","","","","","","","","","","","","","","","","",null,"","","",null,"","","",0,null,0,"","",0,"","","","00:00:00",0,null,0,0,null,{"$error":"#VALUE!"},{"$error":"#VALUE!"},{"$error":"#DIV/0!"},{"$error":"#DIV/0!"},{"$error":"#VALUE!"},{"$error":"#DIV/0!"},{"$error":"#DIV/0!"}]
["","","","","","","","","","","","","","","","","",null,"","","",null,"","","",0,null,0,"","",0,"","","","00:00:00",0,null,0,0,null,{"$error":"#VALUE!"},{"$error":"#VALUE!"},{"$error":"#DIV/0!"},{"$error":"#DIV/0!"},{"$error":"#VALUE!"},{"$error":"#DIV/0!"},{"$error":"#DIV/0!"}]
["","","","","","","","","","","","","","","","","",null,"","","",null,"","","",0,null,0,"","",0,"","","","00:00:00",0,null,0,0,null,{"$error":"#VALUE!"},{"$error":"#VALUE!"},{"$error":"#DIV/0!"},{"$error":"#DIV/0!"},{"$error":"#VALUE!"},{"$error":"#DIV/0!"},{"$error":"#DIV/0!"}]
["","","","","","","","","","","","","","","","","",null,"","","",null,"","","",0,null,0,"","",0,"","","","00:00:00",0,null,0,0,null,{"$error":"#VALUE!"},{"$error":"#VALUE!"},{"$error":"#DIV/0!"},{"$error":"#DIV/0!"},{"$error":"#VALUE!"},{"$error":"#DIV/0!"},{"$error":"#DIV/0!"}]
["","","","","","","","","","","","","","","","","",null,"","","",null,"","","",0,null,0,"","",0,"","","","00:00:00",0,null,0,0,null,{"$error":"#VALUE!"},{"$error":"#VALUE!"},{"$error":"#DIV/0!"},{"$error":"#DIV/0!"},{"$error":"#VALUE!"},{"$error":"#DIV/0!"},{"$error":"#DIV/0!"}]
["","","","","","","","","","","","","","","","","",null,"","","",null,"","","",0,null,0,"","",0,"","","","00:00:00",0,null,0,0,null,{"$error":"#VALUE!"},{"$error":"#VALUE!"},{"$error":"#DIV/0!"},{"$error":"#DIV/0!"},{"$error":"#VALUE!"},{"$error":"#DIV/0!"},{"$error":"#DIV/0!"}]
["","","","","","","","","","","","","","","","","",null,"","","",null,"","","",0,null,0,"","",0,"","","","00:00:00",0,null,0,0,null,{"$error":"#VALUE!"},{"$error":"#VALUE!"},{"$error":"#DIV/0!"},{"$error":"#DIV/0!"},{"$error":"#VALUE!"},{"$error":"#DIV/0!"},{"$error":"#DIV/0!"}]
["","","","","","","","","","","","","","","","","",null,"","","",null,"","","",0,null,0,"","",0,"","","","00:00:00",0,null,0,0,null,{"$error":"#VALUE!"},{"$error":"#VALUE!"},{"$error":"#DIV/0!"},{"$error":"#DIV/0!"},{"$error":"#VALUE!"},{"$error":"#DIV/0!"},{"$error":"#DIV/0!"}]
["","","","","","","","","","","","","","","","","",null,"","","",null,"","","",0,null,0,"","",0,"","","","00:00:00",0,null,0,0,null,{"$error":"#VALUE!"},{"$error":"#VALUE!"},{"$error":"#DIV/0!"},{"$error":"#DIV/0!"},{"$error":"#VALUE!"},{"$error":"#DIV/0!"},{"$error":"#DIV/0!"}]
["","","","","","","","","","","","","","","","","",null,"","","",null,"","","",0,null,0,"","",0,"","","","00:00:00",0,null,0,0,null,{"$error":"#VALUE!"},{"$error":"#VALUE!"},{"$error":"#DIV/0!"},{"$error":"#DIV/0!"},{"$error":"#VALUE!"},{"$error":"#DIV/0!"},{"$error":"#DIV/0!"}]
["","","","","","","","","","","","","","","","","",null,"","","",null,"","","",0,null,0,"","",0,"","","","00:00:00",0,null,0,0,null,{"$error":"#VALUE!"},{"$error":"#VALUE!"},{"$error":"#DIV/0!"},{"$error":"#DIV/0!"},{"$error":"#VALUE!"},{"$error":"#DIV/0!"},{"$error":"#DIV/0!"}]
["","","","","","","","","","","","","","","","","",null,"","","",null,"","","",0,null,0,"","",0,"","","","00:00:00",0,null,0,0,null,{"$error":"#VALUE!"},{"$error":"#VALUE!"},{"$error":"#DIV/0!"},{"$error":"#DIV/0!"},{"$error":"#VALUE!"},{"$error":"#DIV/0!"},{"$error":"#DIV/0!"}]
["","","","","","","","","","","","","","","","","",null,"","","",null,"","","",0,null,0,"","",0,"","","","00:00:00",0,null,0,0,null,{"$error":"#VALUE!"},{"$error":"#VALUE!"},{"$error":"#DIV/0!"},{"$error":"#DIV/0!"},{"$error":"#VALUE!"},{"$error":"#DIV/0!"},{"$error":"#DIV/0!"}]
["","","","","","","","","","","","","","","","","",null,"","","",null,"","","",0,null,0,"","",0,"","","","00:00:00",0,null,0,0,null,{"$error":"#VALUE!"},{"$error":"#VALUE!"},{"$error":"#DIV/0!"},{"$error":"#DIV/0!"},{"$error":"#VALUE!"},{"$error":"#DIV/0!"},{"$error":"#DIV/0!"}]
["","","","","","","","","","","","","","","","","",null,"","","",null,"","","",0,null,0,"","",0,"","","","00:00:00",0,null,0,0,null,{"$error":"#VALUE!"},{"$error":"#VALUE!"},{"$error":"#DIV/0!"},{"$error":"#DIV/0!"},{"$error":"#VALUE!"},{"$error":"#DIV/0!"},{"$error":"#DIV/0!"}]
["","","","","","","","","","","","","","","","","",null,"","","",null,"","","",0,null,0,"","",0,"","","","00:00:00",0,null,0,0,null,{"$error":"#VALUE!"},{"$error":"#VALUE!"},{"$error":"#DIV/0!"},{"$error":"#DIV/0!"},{"$error":"#VALUE!"},{"$error":"#DIV/0!"},{"$error":"#DIV/0!"}]
["","","","","","","","","","","","","","","","","",null,"","","",null,"","","",0,null,0,"","",0,"","","","00:00:00",0,null,0,0,null,{"$error":"#VALUE!"},{"$error":"#VALUE!"},{"$error":"#DIV/0!"},{"$error":"#DIV/0!"},{"$error":"#VALUE!"},{"$error":"#DIV/0!"},{"$error":"#DIV/0!"}]
["",{"$f":"IF(A322=\"\",\"\",IF(A322<=$H$22,0,1))","v":""},{"$f":"IF(A322=\"\",\"\",IF(OR(MONTH(EDATE($Q$6,E322))=$H$16,MONTH(EDATE($Q$6,E322))=$H$17),IF(ABS($H$17-$H$16)=1,EDATE($Q$6,E322+2),EDATE($Q$6,E322+1)),EDATE($Q$6,E322)))","v":""},{"$f":"IF(A322=\"\",\"\",IF(OR(MONTH(C322)=$H$18,MONTH(C322)=$H$19),\"D\",\"\"))","v":""},{"$f":"IF(B322=\"\",\"\",IF(OR(MONTH(DATE(YEAR(C321) + 1/12,MONTH(C321)+1,DAY(C321)))=$H$16,MONTH(DATE(YEAR(C321) + 1/12,MONTH(C321)+1,DAY(C321)))=$H$17),IF(ABS($H$17-$H$16)=1,E321+1,E321 + 2),E321 + 1))","v":""},{"$f":"IF(B322=\"\",\"\",F321+1)","v":""},{"$f":"IF(B322=\"\",\"\",$Q$9)","v":""},{"$f":"IF(B322=\"\",\"\",$H$10)","v":""},{"$f":"IF(B322=\"\",\"\",C322-C321)","v":""},{"$f":"IF(B322=\"\",\"\",Y321)","v":""},"","",{"$f":"+IF(B322=\"\",\"\",IF(ISERROR(MATCH(MONTH(C322),$H$18:$H$19,0))=FALSE,$J$23,0)  + $J$23)","v":""},{"$f":"+IF(B322=\"\",\"\",L322+M322)","v":""},{"$f":"IF(B322=\"\",\"\",K322+N322)","v":""},{"$f":"+IF(B322=\"\",\"\",$J$27)","v":""},{"$f":"+IF(B322=\"\",\"\",ROUND($H$9*J322/30*$I322,2)-S322)","v":""},null,{"$f":"IF(B322=\"\",\"\",IF(E322-E321>1,ROUNDDOWN($J322*$H$9/30*(DATE(YEAR($C322),MONTH($C322)-1,DAY($C322))-C321),2),0))","v":""},{"$f":"IF(B322=\"\",\"\",Q322+R322+S322)","v":""},{"$f":"+IF(B322=\"\",\"\",$J$28)","v":""},null,{"$f":"+IF(B322=\"\",\"\",U322+V322)","v":""},"",{"$f":"+IF(B322=\"\",\"\",ROUND(J322-K322,2))","v":""},0,null,{"$f":"SUM(K322:M322)","v":0},{"$f":"+L322","v":""},{"$f":"+Q322","v":""},{"$f":"+R322","v":0},{"$f":"+S322","v":""},"","","00:00:00",0,null,0,0,null,{"$error":"#VALUE!"},{"$error":"#VALUE!"},{"$error":"#DIV/0!"},{"$error":"#DIV/0!"},{"$error":"#VALUE!"},{"$error":"#DIV/0!"},{"$error":"#DIV/0!"}]
["","","","","","","","","","","","","","","","","",null,"","","",null,"","","",0,null,0,"","",0,"","","","00:00:00",0,null,0,0,null,{"$error":"#VALUE!"},{"$error":"#VALUE!"},{"$error":"#DIV/0!"},{"$error":"#DIV/0!"},{"$error":"#VALUE!"},{"$error":"#DIV/0!"},{"$error":"#DIV/0!"}]
["","","","","","","","","","","","","","","","","",null,"","","",null,"","","",0,null,0,"","",0,"","","","00:00:00",0,null,0,0,null,{"$error":"#VALUE!"},{"$error":"#VALUE!"},{"$error":"#DIV/0!"},{"$error":"#DIV/0!"},{"$error":"#VALUE!"},{"$error":"#DIV/0!"},{"$error":"#DIV/0!"}]
["","","","","","","","","","","","","","","","","",null,"","","",null,"","","",0,null,0,"","",0,"","","","00:00:00",0,null,0,0,null,{"$error":"#VALUE!"},{"$error":"#VALUE!"},{"$error":"#DIV/0!"},{"$error":"#DIV/0!"},{"$error":"#VALUE!"},{"$error":"#DIV/0!"},{"$error":"#DIV/0!"}]
["","","","","","","","","","","","","","","","","",null,"","","",null,"","","",0,null,0,"","",0,"","","","00:00:00",0,null,0,0,null,{"$error":"#VALUE!"},{"$error":"#VALUE!"},{"$error":"#DIV/0!"},{"$error":"#DIV/0!"},{"$error":"#VALUE!"},{"$error":"#DIV/0!"},{"$error":"#DIV/0!"}]
["","","","","","","","","","","","","","","","","",null,"","","",null,"","","",0,null,0,"","",0,"","","","00:00:00",0,null,0,0,null,{"$error":"#VALUE!"},{"$error":"#VALUE!"},{"$error":"#DIV/0!"},{"$error":"#DIV/0!"},{"$error":"#VALUE!"},{"$error":"#DIV/0!"},{"$error":"#DIV/0!"}]
["","","","","","","","","","","","","","","","","",null,"","","",null,"","","",0,null,0,"","",0,"","","","00:00:00",0,null,0,0,null,{"$error":"#VALUE!"},{"$error":"#VALUE!"},{"$error":"#DIV/0!"},{"$error":"#DIV/0!"},{"$error":"#VALUE!"},{"$error":"#DIV/0!"},{"$error":"#DIV/0!"}]
["","","","","","","","","","","","","","","","","",null,"","","",null,"","","",0,null,0,"","",0,"","","","00:00:00",0,null,0,0,null,{"$error":"#VALUE!"},{"$error":"#VALUE!"},{"$error":"#DIV/0!"},{"$error":"#DIV/0!"},{"$error":"#VALUE!"},{"$error":"#DIV/0!"},{"$error":"#DIV/0!"}]
["","","","","","","","","","","","","","","","","",null,"","","",null,"","","",0,null,0,"","",0,"","","","00:00:00",0,null,0,0,null,{"$error":"#VALUE!"},{"$error":"#VALUE!"},{"$error":"#DIV/0!"},{"$error":"#DIV/0!"},{"$error":"#VALUE!"},{"$error":"#DIV/0!"},{"$error":"#DIV/0!"}]
["","","","","","","","","","","","","","","","","",null,"","","",null,"","","",0,null,0,"","",0,"","","","00:00:00",0,null,0,0,null,{"$error":"#VALUE!"},{"$error":"#VALUE!"},{"$error":"#DIV/0!"},{"$error":"#DIV/0!"},{"$error":"#VALUE!"},{"$error":"#DIV/0!"},{"$error":"#DIV/0!"}]
[{"$f":"IF(A331>=$H$14,\"\",A331+1)","v":""},"","","",{"$f":"IF(B332=\"\",\"\",IF(OR(MONTH(DATE(YEAR(C331) + 1/12,MONTH(C331)+1,DAY(C331)))=$H$16,MONTH(DATE(YEAR(C331) + 1/12,MONTH(C331)+1,DAY(C331)))=$H$17),IF(ABS($H$17-$H$16)=1,E331+1,E331 + 2),E331 + 1))","v":""},{"$f":"IF(B332=\"\",\"\",F331+1)","v":""},"","",{"$f":"IF(B332=\"\",\"\",C332-C331)","v":""},{"$f":"IF(B332=\"\",\"\",Y331)","v":""},"","","","","","","",null,{"$f":"IF(B332=\"\",\"\",IF(E332-E331>1,ROUNDDOWN($J332*$H$9/30*(DATE(YEAR($C332),MONTH($C332)-1,DAY($C332))-C331),2),0))","v":""},"","",null,"","","",0,null,0,"","",0,"","","","00:00:00",0,null,0,0,null,{"$error":"#VALUE!"},{"$error":"#VALUE!"},{"$error":"#DIV/0!"},{"$error":"#DIV/0!"},{"$error":"#VALUE!"},{"$error":"#DIV/0!"},{"$error":"#DIV/0!"}]
[]
[null,null,"Totales",null,null,null,null,null,null,null,{"$f":"+SUM(K33:K332)","v":{"$error":"#DIV/0!"}},{"$f":"+SUM(L33:L332)","v":{"$error":"#DIV/0!"}},{"$f":"+SUM(M33:M332)","v":{"$error":"#DIV/0!"}},{"$f":"+SUM(N33:N332)","v":{"$error":"#DIV/0!"}},{"$f":"+SUM(O33:O332)","v":{"$error":"#DIV/0!"}},{"$f":"+SUM(P33:P332)","v":0},0,0,0,0,0,0,0,{"$f":"+SUM(X33:X332)","v":{"$error":"#DIV/0!"}},{"$error":"#DIV/0!"},0,0,{"$f":"+SUM(AB33:AB332)","v":{"$error":"#DIV/0!"}},{"$error":"#DIV/0!"},0,0,0,{"$f":"+SUM(AG33:AG332)","v":{"$error":"#DIV/0!"}},null,null,null,null,{"$f":"+IFERROR(AG334-X334,0)","v":0},{"$f":"+IFERROR(AC334-L334,0)","v":0}]
[]
[null,null,null,null,null,null,null,null,null,null,null,null,null,null,null,null,null,null,null,null,null,null,null,{"$f":"+K334+N334+P334+T334+W334","v":{"$error":"#DIV/0!"}},null,null,null,null,null,null,null,null,{"$f":"+AG334-X334","v":{"$error":"#DIV/0!"}}]

{"sheet":"Calculos CHIP","index":4,"n_rows":303,"n_cols":7,"rows_kept":303,"cut":false,"hidden":true,"merged":[[0,0,0,6]]}
["Factores utilizados en Meses de No Pago para cálculo del valor cuota"]
[]
["N° de Cuota","Equivalente","Fecha","Mes","Marca Cuota No Pago","Factor (10)","Acumulado"]
[1,{"$f":"IF(E4<>\"C\",IF(ISERROR(1+B3)=TRUE,1,1+B3),IF(ISNUMBER(B3),B3,1))","v":1},{"$f":"+'Simulador CHIP Final'!Q7","v":"2025-02-14"},{"$f":"MONTH(C4)","v":2},{"$f":"IF(ISERROR(MATCH(D4,'Simulador CHIP Final'!$H$16:$H$17,0))=FALSE,\"C\",IF(ISERROR(MATCH(D4,'Simulador CHIP Final'!$H$18:$H$19,0))=FALSE,\"D\",\"\"))","v":""},{"$f":"IF(E4=\"C\",0,IF(E4 =\"D\",ROUND(1/((1+'Simulador CHIP Final'!$Q$13)^A4),9) * 2,ROUND(1/((1+'Simulador CHIP Final'!$Q$13)^A4),9)))","v":{"$error":"#DIV/0!"}},{"$f":"ROUND(F4,9)","v":{"$error":"#DIV/0!"}}]
[{"$f":"A4+1","v":2},{"$f":"IF(E5<>\"C\",IF(ISERROR(1+B4)=TRUE,1,1+B4),IF(ISNUMBER(B4),B4,1))","v":2},{"$f":"DATE(YEAR(C4) + 1/12,MONTH(C4)+1,DAY(C4))","v":"2025-03-14"},3,{"$f":"IF(ISERROR(MATCH(D5,'Simulador CHIP Final'!$H$16:$H$17,0))=FALSE,\"C\",IF(ISERROR(MATCH(D5,'Simulador CHIP Final'!$H$18:$H$19,0))=FALSE,\"D\",\"\"))","v":""},{"$f":"IF(E5=\"C\",0,IF(E5 =\"D\",ROUND(1/((1+'Simulador CHIP Final'!$Q$13)^A5),9) * 2,ROUND(1/((1+'Simulador CHIP Final'!$Q$13)^A5),9)))","v":{"$error":"#DIV/0!"}},{"$f":"G4+ROUND(F5,9)","v":{"$error":"#DIV/0!"}}]
[3,3,{"$f":"DATE(YEAR(C5) + 1/12,MONTH(C5)+1,DAY(C5))","v":"2025-04-14"},4,{"$f":"IF(ISERROR(MATCH(D6,'Simulador CHIP Final'!$H$16:$H$17,0))=FALSE,\"C\",IF(ISERROR(MATCH(D6,'Simulador CHIP Final'!$H$18:$H$19,0))=FALSE,\"D\",\"\"))","v":""},{"$f":"IF(E6=\"C\",0,IF(E6 =\"D\",ROUND(1/((1+'Simulador CHIP Final'!$Q$13)^A6),9) * 2,ROUND(1/((1+'Simulador CHIP Final'!$Q$13)^A6),9)))","v":{"$error":"#DIV/0!"}},{"$f":"G5+ROUND(F6,9)","v":{"$error":"#DIV/0!"}}]
[4,4,"2025-05-14",5,{"$f":"IF(ISERROR(MATCH(D7,'Simulador CHIP Final'!$H$16:$H$17,0))=FALSE,\"C\",IF(ISERROR(MATCH(D7,'Simulador CHIP Final'!$H$18:$H$19,0))=FALSE,\"D\",\"\"))","v":""},{"$f":"IF(E7=\"C\",0,IF(E7 =\"D\",ROUND(1/((1+'Simulador CHIP Final'!$Q$13)^A7),9) * 2,ROUND(1/((1+'Simulador CHIP Final'!$Q$13)^A7),9)))","v":{"$error":"#DIV/0!"}},{"$error":"#DIV/0!"}]
[5,5,"2025-06-14",6,{"$f":"IF(ISERROR(MATCH(D8,'Simulador CHIP Final'!$H$16:$H$17,0))=FALSE,\"C\",IF(ISERROR(MATCH(D8,'Simulador CHIP Final'!$H$18:$H$19,0))=FALSE,\"D\",\"\"))","v":""},{"$f":"IF(E8=\"C\",0,IF(E8 =\"D\",ROUND(1/((1+'Simulador CHIP Final'!$Q$13)^A8),9) * 2,ROUND(1/((1+'Simulador CHIP Final'!$Q$13)^A8),9)))","v":{"$error":"#DIV/0!"}},{"$error":"#DIV/0!"}]
[6,6,"2025-07-14",7,{"$f":"IF(ISERROR(MATCH(D9,'Simulador CHIP Final'!$H$16:$H$17,0))=FALSE,\"C\",IF(ISERROR(MATCH(D9,'Simulador CHIP Final'!$H$18:$H$19,0))=FALSE,\"D\",\"\"))","v":""},{"$f":"IF(E9=\"C\",0,IF(E9 =\"D\",ROUND(1/((1+'Simulador CHIP Final'!$Q$13)^A9),9) * 2,ROUND(1/((1+'Simulador CHIP Final'!$Q$13)^A9),9)))","v":{"$error":"#DIV/0!"}},{"$error":"#DIV/0!"}]
[7,7,"2025-08-14",8,{"$f":"IF(ISERROR(MATCH(D10,'Simulador CHIP Final'!$H$16:$H$17,0))=FALSE,\"C\",IF(ISERROR(MATCH(D10,'Simulador CHIP Final'!$H$18:$H$19,0))=FALSE,\"D\",\"\"))","v":""},{"$f":"IF(E10=\"C\",0,IF(E10 =\"D\",ROUND(1/((1+'Simulador CHIP Final'!$Q$13)^A10),9) * 2,ROUND(1/((1+'Simulador CHIP Final'!$Q$13)^A10),9)))","v":{"$error":"#DIV/0!"}},{"$error":"#DIV/0!"}]
[8,8,"2025-09-14",9,{"$f":"IF(ISERROR(MATCH(D11,'Simulador CHIP Final'!$H$16:$H$17,0))=FALSE,\"C\",IF(ISERROR(MATCH(D11,'Simulador CHIP Final'!$H$18:$H$19,0))=FALSE,\"D\",\"\"))","v":""},{"$f":"IF(E11=\"C\",0,IF(E11 =\"D\",ROUND(1/((1+'Simulador CHIP Final'!$Q$13)^A11),9) * 2,ROUND(1/((1+'Simulador CHIP Final'!$Q$13)^A11),9)))","v":{"$error":"#DIV/0!"}},{"$error":"#DIV/0!"}]
[9,9,"2025-10-14",10,{"$f":"IF(ISERROR(MATCH(D12,'Simulador CHIP Final'!$H$16:$H$17,0))=FALSE,\"C\",IF(ISERROR(MATCH(D12,'Simulador CHIP Final'!$H$18:$H$19,0))=FALSE,\"D\",\"\"))","v":""},{"$f":"IF(E12=\"C\",0,IF(E12 =\"D\",ROUND(1/((1+'Simulador CHIP Final'!$Q$13)^A12),9) * 2,ROUND(1/((1+'Simulador CHIP Final'!$Q$13)^A12),9)))","v":{"$error":"#DIV/0!"}},{"$error":"#DIV/0!"}]
[10,10,"2025-11-14",11,{"$f":"IF(ISERROR(MATCH(D13,'Simulador CHIP Final'!$H$16:$H$17,0))=FALSE,\"C\",IF(ISERROR(MATCH(D13,'Simulador CHIP Final'!$H$18:$H$19,0))=FALSE,\"D\",\"\"))","v":""},{"$f":"IF(E13=\"C\",0,IF(E13 =\"D\",ROUND(1/((1+'Simulador CHIP Final'!$Q$13)^A13),9) * 2,ROUND(1/((1+'Simulador CHIP Final'!$Q$13)^A13),9)))","v":{"$error":"#DIV/0!"}},{"$error":"#DIV/0!"}]
[11,11,"2025-12-14",12,{"$f":"IF(ISERROR(MATCH(D14,'Simulador CHIP Final'!$H$16:$H$17,0))=FALSE,\"C\",IF(ISERROR(MATCH(D14,'Simulador CHIP Final'!$H$18:$H$19,0))=FALSE,\"D\",\"\"))","v":""},{"$f":"IF(E14=\"C\",0,IF(E14 =\"D\",ROUND(1/((1+'Simulador CHIP Final'!$Q$13)^A14),9) * 2,ROUND(1/((1+'Simulador CHIP Final'!$Q$13)^A14),9)))","v":{"$error":"#DIV/0!"}},{"$error":"#DIV/0!"}]
[12,12,"2026-01-14",1,{"$f":"IF(ISERROR(MATCH(D15,'Simulador CHIP Final'!$H$16:$H$17,0))=FALSE,\"C\",IF(ISERROR(MATCH(D15,'Simulador CHIP Final'!$H$18:$H$19,0))=FALSE,\"D\",\"\"))","v":""},{"$f":"IF(E15=\"C\",0,IF(E15 =\"D\",ROUND(1/((1+'Simulador CHIP Final'!$Q$13)^A15),9) * 2,ROUND(1/((1+'Simulador CHIP Final'!$Q$13)^A15),9)))","v":{"$error":"#DIV/0!"}},{"$error":"#DIV/0!"}]
[13,13,"2026-02-14",2,{"$f":"IF(ISERROR(MATCH(D16,'Simulador CHIP Final'!$H$16:$H$17,0))=FALSE,\"C\",IF(ISERROR(MATCH(D16,'Simulador CHIP Final'!$H$18:$H$19,0))=FALSE,\"D\",\"\"))","v":""},{"$f":"IF(E16=\"C\",0,IF(E16 =\"D\",ROUND(1/((1+'Simulador CHIP Final'!$Q$13)^A16),9) * 2,ROUND(1/((1+'Simulador CHIP Final'!$Q$13)^A16),9)))","v":{"$error":"#DIV/0!"}},{"$error":"#DIV/0!"}]
[14,14,"2026-03-14",3,{"$f":"IF(ISERROR(MATCH(D17,'Simulador CHIP Final'!$H$16:$H$17,0))=FALSE,\"C\",IF(ISERROR(MATCH(D17,'Simulador CHIP Final'!$H$18:$H$19,0))=FALSE,\"D\",\"\"))","v":""},{"$f":"IF(E17=\"C\",0,IF(E17 =\"D\",ROUND(1/((1+'Simulador CHIP Final'!$Q$13)^A17),9) * 2,ROUND(1/((1+'Simulador CHIP Final'!$Q$13)^A17),9)))","v":{"$error":"#DIV/0!"}},{"$error":"#DIV/0!"}]
[15,15,"2026-04-14",4,{"$f":"IF(ISERROR(MATCH(D18,'Simulador CHIP Final'!$H$16:$H$17,0))=FALSE,\"C\",IF(ISERROR(MATCH(D18,'Simulador CHIP Final'!$H$18:$H$19,0))=FALSE,\"D\",\"\"))","v":""},{"$f":"IF(E18=\"C\",0,IF(E18 =\"D\",ROUND(1/((1+'Simulador CHIP Final'!$Q$13)^A18),9) * 2,ROUND(1/((1+'Simulador CHIP Final'!$Q$13)^A18),9)))","v":{"$error":"#DIV/0!"}},{"$error":"#DIV/0!"}]
[16,16,"2026-05-14",5,{"$f":"IF(ISERROR(MATCH(D19,'Simulador CHIP Final'!$H$16:$H$17,0))=FALSE,\"C\",IF(ISERROR(MATCH(D19,'Simulador CHIP Final'!$H$18:$H$19,0))=FALSE,\"D\",\"\"))","v":""},{"$f":"IF(E19=\"C\",0,IF(E19 =\"D\",ROUND(1/((1+'Simulador CHIP Final'!$Q$13)^A19),9) * 2,ROUND(1/((1+'Simulador CHIP Final'!$Q$13)^A19),9)))","v":{"$error":"#DIV/0!"}},{"$error":"#DIV/0!"}]
[17,17,"2026-06-14",6,{"$f":"IF(ISERROR(MATCH(D20,'Simulador CHIP Final'!$H$16:$H$17,0))=FALSE,\"C\",IF(ISERROR(MATCH(D20,'Simulador CHIP Final'!$H$18:$H$19,0))=FALSE,\"D\",\"\"))","v":""},{"$f":"IF(E20=\"C\",0,IF(E20 =\"D\",ROUND(1/((1+'Simulador CHIP Final'!$Q$13)^A20),9) * 2,ROUND(1/((1+'Simulador CHIP Final'!$Q$13)^A20),9)))","v":{"$error":"#DIV/0!"}},{"$error":"#DIV/0!"}]
[18,18,"2026-07-14",7,{"$f":"IF(ISERROR(MATCH(D21,'Simulador CHIP Final'!$H$16:$H$17,0))=FALSE,\"C\",IF(ISERROR(MATCH(D21,'Simulador CHIP Final'!$H$18:$H$19,0))=FALSE,\"D\",\"\"))","v":""},{"$f":"IF(E21=\"C\",0,IF(E21 =\"D\",ROUND(1/((1+'Simulador CHIP Final'!$Q$13)^A21),9) * 2,ROUND(1/((1+'Simulador CHIP Final'!$Q$13)^A21),9)))","v":{"$error":"#DIV/0!"}},{"$error":"#DIV/0!"}]
[19,19,"2026-08-14",8,{"$f":"IF(ISERROR(MATCH(D22,'Simulador CHIP Final'!$H$16:$H$17,0))=FALSE,\"C\",IF(ISERROR(MATCH(D22,'Simulador CHIP Final'!$H$18:$H$19,0))=FALSE,\"D\",\"\"))","v":""},{"$f":"IF(E22=\"C\",0,IF(E22 =\"D\",ROUND(1/((1+'Simulador CHIP Final'!$Q$13)^A22),9) * 2,ROUND(1/((1+'Simulador CHIP Final'!$Q$13)^A22),9)))","v":{"$error":"#DIV/0!"}},{"$error":"#DIV/0!"}]
[20,20,"2026-09-14",9,{"$f":"IF(ISERROR(MATCH(D23,'Simulador CHIP Final'!$H$16:$H$17,0))=FALSE,\"C\",IF(ISERROR(MATCH(D23,'Simulador CHIP Final'!$H$18:$H$19,0))=FALSE,\"D\",\"\"))","v":""},{"$f":"IF(E23=\"C\",0,IF(E23 =\"D\",ROUND(1/((1+'Simulador CHIP Final'!$Q$13)^A23),9) * 2,ROUND(1/((1+'Simulador CHIP Final'!$Q$13)^A23),9)))","v":{"$error":"#DIV/0!"}},{"$error":"#DIV/0!"}]
[21,21,"2026-10-14",10,{"$f":"IF(ISERROR(MATCH(D24,'Simulador CHIP Final'!$H$16:$H$17,0))=FALSE,\"C\",IF(ISERROR(MATCH(D24,'Simulador CHIP Final'!$H$18:$H$19,0))=FALSE,\"D\",\"\"))","v":""},{"$f":"IF(E24=\"C\",0,IF(E24 =\"D\",ROUND(1/((1+'Simulador CHIP Final'!$Q$13)^A24),9) * 2,ROUND(1/((1+'Simulador CHIP Final'!$Q$13)^A24),9)))","v":{"$error":"#DIV/0!"}},{"$error":"#DIV/0!"}]
[22,22,"2026-11-14",11,{"$f":"IF(ISERROR(MATCH(D25,'Simulador CHIP Final'!$H$16:$H$17,0))=FALSE,\"C\",IF(ISERROR(MATCH(D25,'Simulador CHIP Final'!$H$18:$H$19,0))=FALSE,\"D\",\"\"))","v":""},{"$f":"IF(E25=\"C\",0,IF(E25 =\"D\",ROUND(1/((1+'Simulador CHIP Final'!$Q$13)^A25),9) * 2,ROUND(1/((1+'Simulador CHIP Final'!$Q$13)^A25),9)))","v":{"$error":"#DIV/0!"}},{"$error":"#DIV/0!"}]
[23,23,"2026-12-14",12,{"$f":"IF(ISERROR(MATCH(D26,'Simulador CHIP Final'!$H$16:$H$17,0))=FALSE,\"C\",IF(ISERROR(MATCH(D26,'Simulador CHIP Final'!$H$18:$H$19,0))=FALSE,\"D\",\"\"))","v":""},{"$f":"IF(E26=\"C\",0,IF(E26 =\"D\",ROUND(1/((1+'Simulador CHIP Final'!$Q$13)^A26),9) * 2,ROUND(1/((1+'Simulador CHIP Final'!$Q$13)^A26),9)))","v":{"$error":"#DIV/0!"}},{"$error":"#DIV/0!"}]
[24,24,"2027-01-14",1,{"$f":"IF(ISERROR(MATCH(D27,'Simulador CHIP Final'!$H$16:$H$17,0))=FALSE,\"C\",IF(ISERROR(MATCH(D27,'Simulador CHIP Final'!$H$18:$H$19,0))=FALSE,\"D\",\"\"))","v":""},{"$f":"IF(E27=\"C\",0,IF(E27 =\"D\",ROUND(1/((1+'Simulador CHIP Final'!$Q$13)^A27),9) * 2,ROUND(1/((1+'Simulador CHIP Final'!$Q$13)^A27),9)))","v":{"$error":"#DIV/0!"}},{"$error":"#DIV/0!"}]
[25,25,"2027-02-14",2,{"$f":"IF(ISERROR(MATCH(D28,'Simulador CHIP Final'!$H$16:$H$17,0))=FALSE,\"C\",IF(ISERROR(MATCH(D28,'Simulador CHIP Final'!$H$18:$H$19,0))=FALSE,\"D\",\"\"))","v":""},{"$f":"IF(E28=\"C\",0,IF(E28 =\"D\",ROUND(1/((1+'Simulador CHIP Final'!$Q$13)^A28),9) * 2,ROUND(1/((1+'Simulador CHIP Final'!$Q$13)^A28),9)))","v":{"$error":"#DIV/0!"}},{"$error":"#DIV/0!"}]
[26,26,"2027-03-14",3,{"$f":"IF(ISERROR(MATCH(D29,'Simulador CHIP Final'!$H$16:$H$17,0))=FALSE,\"C\",IF(ISERROR(MATCH(D29,'Simulador CHIP Final'!$H$18:$H$19,0))=FALSE,\"D\",\"\"))","v":""},{"$f":"IF(E29=\"C\",0,IF(E29 =\"D\",ROUND(1/((1+'Simulador CHIP Final'!$Q$13)^A29),9) * 2,ROUND(1/((1+'Simulador CHIP Final'!$Q$13)^A29),9)))","v":{"$error":"#DIV/0!"}},{"$error":"#DIV/0!"}]
[27,27,"2027-04-14",4,{"$f":"IF(ISERROR(MATCH(D30,'Simulador CHIP Final'!$H$16:$H$17,0))=FALSE,\"C\",IF(ISERROR(MATCH(D30,'Simulador CHIP Final'!$H$18:$H$19,0))=FALSE,\"D\",\"\"))","v":""},{"$f":"IF(E30=\"C\",0,IF(E30 =\"D\",ROUND(1/((1+'Simulador CHIP Final'!$Q$13)^A30),9) * 2,ROUND(1/((1+'Simulador CHIP Final'!$Q$13)^A30),9)))","v":{"$error":"#DIV/0!"}},{"$error":"#DIV/0!"}]
[28,28,"2027-05-14",5,{"$f":"IF(ISERROR(MATCH(D31,'Simulador CHIP Final'!$H$16:$H$17,0))=FALSE,\"C\",IF(ISERROR(MATCH(D31,'Simulador CHIP Final'!$H$18:$H$19,0))=FALSE,\"D\",\"\"))","v":""},{"$f":"IF(E31=\"C\",0,IF(E31 =\"D\",ROUND(1/((1+'Simulador CHIP Final'!$Q$13)^A31),9) * 2,ROUND(1/((1+'Simulador CHIP Final'!$Q$13)^A31),9)))","v":{"$error":"#DIV/0!"}},{"$error":"#DIV/0!"}]
[29,29,"2027-06-14",6,{"$f":"IF(ISERROR(MATCH(D32,'Simulador CHIP Final'!$H$16:$H$17,0))=FALSE,\"C\",IF(ISERROR(MATCH(D32,'Simulador CHIP Final'!$H$18:$H$19,0))=FALSE,\"D\",\"\"))","v":""},{"$f":"IF(E32=\"C\",0,IF(E32 =\"D\",ROUND(1/((1+'Simulador CHIP Final'!$Q$13)^A32),9) * 2,ROUND(1/((1+'Simulador CHIP Final'!$Q$13)^A32),9)))","v":{"$error":"#DIV/0!"}},{"$error":"#DIV/0!"}]
[30,30,"2027-07-14",7,{"$f":"IF(ISERROR(MATCH(D33,'Simulador CHIP Final'!$H$16:$H$17,0))=FALSE,\"C\",IF(ISERROR(MATCH(D33,'Simulador CHIP Final'!$H$18:$H$19,0))=FALSE,\"D\",\"\"))","v":""},{"$f":"IF(E33=\"C\",0,IF(E33 =\"D\",ROUND(1/((1+'Simulador CHIP Final'!$Q$13)^A33),9) * 2,ROUND(1/((1+'Simulador CHIP Final'!$Q$13)^A33),9)))","v":{"$error":"#DIV/0!"}},{"$error":"#DIV/0!"}]
[31,31,"2027-08-14",8,{"$f":"IF(ISERROR(MATCH(D34,'Simulador CHIP Final'!$H$16:$H$17,0))=FALSE,\"C\",IF(ISERROR(MATCH(D34,'Simulador CHIP Final'!$H$18:$H$19,0))=FALSE,\"D\",\"\"))","v":""},{"$f":"IF(E34=\"C\",0,IF(E34 =\"D\",ROUND(1/((1+'Simulador CHIP Final'!$Q$13)^A34),9) * 2,ROUND(1/((1+'Simulador CHIP Final'!$Q$13)^A34),9)))","v":{"$error":"#DIV/0!"}},{"$error":"#DIV/0!"}]
[32,32,"2027-09-14",9,{"$f":"IF(ISERROR(MATCH(D35,'Simulador CHIP Final'!$H$16:$H$17,0))=FALSE,\"C\",IF(ISERROR(MATCH(D35,'Simulador CHIP Final'!$H$18:$H$19,0))=FALSE,\"D\",\"\"))","v":""},{"$f":"IF(E35=\"C\",0,IF(E35 =\"D\",ROUND(1/((1+'Simulador CHIP Final'!$Q$13)^A35),9) * 2,ROUND(1/((1+'Simulador CHIP Final'!$Q$13)^A35),9)))","v":{"$error":"#DIV/0!"}},{"$error":"#DIV/0!"}]
[33,33,"2027-10-14",10,{"$f":"IF(ISERROR(MATCH(D36,'Simulador CHIP Final'!$H$16:$H$17,0))=FALSE,\"C\",IF(ISERROR(MATCH(D36,'Simulador CHIP Final'!$H$18:$H$19,0))=FALSE,\"D\",\"\"))","v":""},{"$f":"IF(E36=\"C\",0,IF(E36 =\"D\",ROUND(1/((1+'Simulador CHIP Final'!$Q$13)^A36),9) * 2,ROUND(1/((1+'Simulador CHIP Final'!$Q$13)^A36),9)))","v":{"$error":"#DIV/0!"}},{"$error":"#DIV/0!"}]
[{"$f":"A36+1","v":34},34,"2027-11-14",11,{"$f":"IF(ISERROR(MATCH(D37,'Simulador CHIP Final'!$H$16:$H$17,0))=FALSE,\"C\",IF(ISERROR(MATCH(D37,'Simulador CHIP Final'!$H$18:$H$19,0))=FALSE,\"D\",\"\"))","v":""},{"$f":"IF(E37=\"C\",0,IF(E37 =\"D\",ROUND(1/((1+'Simulador CHIP Final'!$Q$13)^A37),9) * 2,ROUND(1/((1+'Simulador CHIP Final'!$Q$13)^A37),9)))","v":{"$error":"#DIV/0!"}},{"$error":"#DIV/0!"}]
[35,35,"2027-12-14",12,{"$f":"IF(ISERROR(MATCH(D38,'Simulador CHIP Final'!$H$16:$H$17,0))=FALSE,\"C\",IF(ISERROR(MATCH(D38,'Simulador CHIP Final'!$H$18:$H$19,0))=FALSE,\"D\",\"\"))","v":""},{"$f":"IF(E38=\"C\",0,IF(E38 =\"D\",ROUND(1/((1+'Simulador CHIP Final'!$Q$13)^A38),9) * 2,ROUND(1/((1+'Simulador CHIP Final'!$Q$13)^A38),9)))","v":{"$error":"#DIV/0!"}},{"$error":"#DIV/0!"}]
[36,36,"2028-01-14",1,{"$f":"IF(ISERROR(MATCH(D39,'Simulador CHIP Final'!$H$16:$H$17,0))=FALSE,\"C\",IF(ISERROR(MATCH(D39,'Simulador CHIP Final'!$H$18:$H$19,0))=FALSE,\"D\",\"\"))","v":""},{"$f":"IF(E39=\"C\",0,IF(E39 =\"D\",ROUND(1/((1+'Simulador CHIP Final'!$Q$13)^A39),9) * 2,ROUND(1/((1+'Simulador CHIP Final'!$Q$13)^A39),9)))","v":{"$error":"#DIV/0!"}},{"$error":"#DIV/0!"}]
[37,37,"2028-02-14",2,{"$f":"IF(ISERROR(MATCH(D40,'Simulador CHIP Final'!$H$16:$H$17,0))=FALSE,\"C\",IF(ISERROR(MATCH(D40,'Simulador CHIP Final'!$H$18:$H$19,0))=FALSE,\"D\",\"\"))","v":""},{"$f":"IF(E40=\"C\",0,IF(E40 =\"D\",ROUND(1/((1+'Simulador CHIP Final'!$Q$13)^A40),9) * 2,ROUND(1/((1+'Simulador CHIP Final'!$Q$13)^A40),9)))","v":{"$error":"#DIV/0!"}},{"$error":"#DIV/0!"}]
[38,38,"2028-03-14",3,{"$f":"IF(ISERROR(MATCH(D41,'Simulador CHIP Final'!$H$16:$H$17,0))=FALSE,\"C\",IF(ISERROR(MATCH(D41,'Simulador CHIP Final'!$H$18:$H$19,0))=FALSE,\"D\",\"\"))","v":""},{"$f":"IF(E41=\"C\",0,IF(E41 =\"D\",ROUND(1/((1+'Simulador CHIP Final'!$Q$13)^A41),9) * 2,ROUND(1/((1+'Simulador CHIP Final'!$Q$13)^A41),9)))","v":{"$error":"#DIV/0!"}},{"$error":"#DIV/0!"}]
[39,39,"2028-04-14",4,{"$f":"IF(ISERROR(MATCH(D42,'Simulador CHIP Final'!$H$16:$H$17,0))=FALSE,\"C\",IF(ISERROR(MATCH(D42,'Simulador CHIP Final'!$H$18:$H$19,0))=FALSE,\"D\",\"\"))","v":""},{"$f":"IF(E42=\"C\",0,IF(E42 =\"D\",ROUND(1/((1+'Simulador CHIP Final'!$Q$13)^A42),9) * 2,ROUND(1/((1+'Simulador CHIP Final'!$Q$13)^A42),9)))","v":{"$error":"#DIV/0!"}},{"$error":"#DIV/0!"}]
[40,40,"2028-05-14",5,{"$f":"IF(ISERROR(MATCH(D43,'Simulador CHIP Final'!$H$16:$H$17,0))=FALSE,\"C\",IF(ISERROR(MATCH(D43,'Simulador CHIP Final'!$H$18:$H$19,0))=FALSE,\"D\",\"\"))","v":""},{"$f":"IF(E43=\"C\",0,IF(E43 =\"D\",ROUND(1/((1+'Simulador CHIP Final'!$Q$13)^A43),9) * 2,ROUND(1/((1+'Simulador CHIP Final'!$Q$13)^A43),9)))","v":{"$error":"#DIV/0!"}},{"$error":"#DIV/0!"}]
[41,41,"2028-06-14",6,{"$f":"IF(ISERROR(MATCH(D44,'Simulador CHIP Final'!$H$16:$H$17,0))=FALSE,\"C\",IF(ISERROR(MATCH(D44,'Simulador CHIP Final'!$H$18:$H$19,0))=FALSE,\"D\",\"\"))","v":""},{"$f":"IF(E44=\"C\",0,IF(E44 =\"D\",ROUND(1/((1+'Simulador CHIP Final'!$Q$13)^A44),9) * 2,ROUND(1/((1+'Simulador CHIP Final'!$Q$13)^A44),9)))","v":{"$error":"#DIV/0!"}},{"$error":"#DIV/0!"}]
[42,42,"2028-07-14",7,{"$f":"IF(ISERROR(MATCH(D45,'Simulador CHIP Final'!$H$16:$H$17,0))=FALSE,\"C\",IF(ISERROR(MATCH(D45,'Simulador CHIP Final'!$H$18:$H$19,0))=FALSE,\"D\",\"\"))","v":""},{"$f":"IF(E45=\"C\",0,IF(E45 =\"D\",ROUND(1/((1+'Simulador CHIP Final'!$Q$13)^A45),9) * 2,ROUND(1/((1+'Simulador CHIP Final'!$Q$13)^A45),9)))","v":{"$error":"#DIV/0!"}},{"$error":"#DIV/0!"}]
[43,43,"2028-08-14",8,{"$f":"IF(ISERROR(MATCH(D46,'Simulador CHIP Final'!$H$16:$H$17,0))=FALSE,\"C\",IF(ISERROR(MATCH(D46,'Simulador CHIP Final'!$H$18:$H$19,0))=FALSE,\"D\",\"\"))","v":""},{"$f":"IF(E46=\"C\",0,IF(E46 =\"D\",ROUND(1/((1+'Simulador CHIP Final'!$Q$13)^A46),9) * 2,ROUND(1/((1+'Simulador CHIP Final'!$Q$13)^A46),9)))","v":{"$error":"#DIV/0!"}},{"$error":"#DIV/0!"}]
[44,44,"2028-09-14",9,{"$f":"IF(ISERROR(MATCH(D47,'Simulador CHIP Final'!$H$16:$H$17,0))=FALSE,\"C\",IF(ISERROR(MATCH(D47,'Simulador CHIP Final'!$H$18:$H$19,0))=FALSE,\"D\",\"\"))","v":""},{"$f":"IF(E47=\"C\",0,IF(E47 =\"D\",ROUND(1/((1+'Simulador CHIP Final'!$Q$13)^A47),9) * 2,ROUND(1/((1+'Simulador CHIP Final'!$Q$13)^A47),9)))","v":{"$error":"#DIV/0!"}},{"$error":"#DIV/0!"}]
[45,45,"2028-10-14",10,{"$f":"IF(ISERROR(MATCH(D48,'Simulador CHIP Final'!$H$16:$H$17,0))=FALSE,\"C\",IF(ISERROR(MATCH(D48,'Simulador CHIP Final'!$H$18:$H$19,0))=FALSE,\"D\",\"\"))","v":""},{"$f":"IF(E48=\"C\",0,IF(E48 =\"D\",ROUND(1/((1+'Simulador CHIP Final'!$Q$13)^A48),9) * 2,ROUND(1/((1+'Simulador CHIP Final'!$Q$13)^A48),9)))","v":{"$error":"#DIV/0!"}},{"$error":"#DIV/0!"}]
[46,46,"2028-11-14",11,{"$f":"IF(ISERROR(MATCH(D49,'Simulador CHIP Final'!$H$16:$H$17,0))=FALSE,\"C\",IF(ISERROR(MATCH(D49,'Simulador CHIP Final'!$H$18:$H$19,0))=FALSE,\"D\",\"\"))","v":""},{"$f":"IF(E49=\"C\",0,IF(E49 =\"D\",ROUND(1/((1+'Simulador CHIP Final'!$Q$13)^A49),9) * 2,ROUND(1/((1+'Simulador CHIP Final'!$Q$13)^A49),9)))","v":{"$error":"#DIV/0!"}},{"$error":"#DIV/0!"}]
[47,47,"2028-12-14",12,{"$f":"IF(ISERROR(MATCH(D50,'Simulador CHIP Final'!$H$16:$H$17,0))=FALSE,\"C\",IF(ISERROR(MATCH(D50,'Simulador CHIP Final'!$H$18:$H$19,0))=FALSE,\"D\",\"\"))","v":""},{"$f":"IF(E50=\"C\",0,IF(E50 =\"D\",ROUND(1/((1+'Simulador CHIP Final'!$Q$13)^A50),9) * 2,ROUND(1/((1+'Simulador CHIP Final'!$Q$13)^A50),9)))","v":{"$error":"#DIV/0!"}},{"$error":"#DIV/0!"}]
[48,48,"2029-01-14",1,{"$f":"IF(ISERROR(MATCH(D51,'Simulador CHIP Final'!$H$16:$H$17,0))=FALSE,\"C\",IF(ISERROR(MATCH(D51,'Simulador CHIP Final'!$H$18:$H$19,0))=FALSE,\"D\",\"\"))","v":""},{"$f":"IF(E51=\"C\",0,IF(E51 =\"D\",ROUND(1/((1+'Simulador CHIP Final'!$Q$13)^A51),9) * 2,ROUND(1/((1+'Simulador CHIP Final'!$Q$13)^A51),9)))","v":{"$error":"#DIV/0!"}},{"$error":"#DIV/0!"}]
[49,49,"2029-02-14",2,{"$f":"IF(ISERROR(MATCH(D52,'Simulador CHIP Final'!$H$16:$H$17,0))=FALSE,\"C\",IF(ISERROR(MATCH(D52,'Simulador CHIP Final'!$H$18:$H$19,0))=FALSE,\"D\",\"\"))","v":""},{"$f":"IF(E52=\"C\",0,IF(E52 =\"D\",ROUND(1/((1+'Simulador CHIP Final'!$Q$13)^A52),9) * 2,ROUND(1/((1+'Simulador CHIP Final'!$Q$13)^A52),9)))","v":{"$error":"#DIV/0!"}},{"$error":"#DIV/0!"}]
[50,50,"2029-03-14",3,{"$f":"IF(ISERROR(MATCH(D53,'Simulador CHIP Final'!$H$16:$H$17,0))=FALSE,\"C\",IF(ISERROR(MATCH(D53,'Simulador CHIP Final'!$H$18:$H$19,0))=FALSE,\"D\",\"\"))","v":""},{"$f":"IF(E53=\"C\",0,IF(E53 =\"D\",ROUND(1/((1+'Simulador CHIP Final'!$Q$13)^A53),9) * 2,ROUND(1/((1+'Simulador CHIP Final'!$Q$13)^A53),9)))","v":{"$error":"#DIV/0!"}},{"$error":"#DIV/0!"}]
[51,51,"2029-04-14",4,{"$f":"IF(ISERROR(MATCH(D54,'Simulador CHIP Final'!$H$16:$H$17,0))=FALSE,\"C\",IF(ISERROR(MATCH(D54,'Simulador CHIP Final'!$H$18:$H$19,0))=FALSE,\"D\",\"\"))","v":""},{"$f":"IF(E54=\"C\",0,IF(E54 =\"D\",ROUND(1/((1+'Simulador CHIP Final'!$Q$13)^A54),9) * 2,ROUND(1/((1+'Simulador CHIP Final'!$Q$13)^A54),9)))","v":{"$error":"#DIV/0!"}},{"$error":"#DIV/0!"}]
[52,52,"2029-05-14",5,{"$f":"IF(ISERROR(MATCH(D55,'Simulador CHIP Final'!$H$16:$H$17,0))=FALSE,\"C\",IF(ISERROR(MATCH(D55,'Simulador CHIP Final'!$H$18:$H$19,0))=FALSE,\"D\",\"\"))","v":""},{"$f":"IF(E55=\"C\",0,IF(E55 =\"D\",ROUND(1/((1+'Simulador CHIP Final'!$Q$13)^A55),9) * 2,ROUND(1/((1+'Simulador CHIP Final'!$Q$13)^A55),9)))","v":{"$error":"#DIV/0!"}},{"$error":"#DIV/0!"}]
[53,53,"2029-06-14",6,{"$f":"IF(ISERROR(MATCH(D56,'Simulador CHIP Final'!$H$16:$H$17,0))=FALSE,\"C\",IF(ISERROR(MATCH(D56,'Simulador CHIP Final'!$H$18:$H$19,0))=FALSE,\"D\",\"\"))","v":""},{"$f":"IF(E56=\"C\",0,IF(E56 =\"D\",ROUND(1/((1+'Simulador CHIP Final'!$Q$13)^A56),9) * 2,ROUND(1/((1+'Simulador CHIP Final'!$Q$13)^A56),9)))","v":{"$error":"#DIV/0!"}},{"$error":"#DIV/0!"}]
[54,54,"2029-07-14",7,{"$f":"IF(ISERROR(MATCH(D57,'Simulador CHIP Final'!$H$16:$H$17,0))=FALSE,\"C\",IF(ISERROR(MATCH(D57,'Simulador CHIP Final'!$H$18:$H$19,0))=FALSE,\"D\",\"\"))","v":""},{"$f":"IF(E57=\"C\",0,IF(E57 =\"D\",ROUND(1/((1+'Simulador CHIP Final'!$Q$13)^A57),9) * 2,ROUND(1/((1+'Simulador CHIP Final'!$Q$13)^A57),9)))","v":{"$error":"#DIV/0!"}},{"$error":"#DIV/0!"}]
[55,55,"2029-08-14",8,{"$f":"IF(ISERROR(MATCH(D58,'Simulador CHIP Final'!$H$16:$H$17,0))=FALSE,\"C\",IF(ISERROR(MATCH(D58,'Simulador CHIP Final'!$H$18:$H$19,0))=FALSE,\"D\",\"\"))","v":""},{"$f":"IF(E58=\"C\",0,IF(E58 =\"D\",ROUND(1/((1+'Simulador CHIP Final'!$Q$13)^A58),9) * 2,ROUND(1/((1+'Simulador CHIP Final'!$Q$13)^A58),9)))","v":{"$error":"#DIV/0!"}},{"$error":"#DIV/0!"}]
[56,56,"2029-09-14",9,{"$f":"IF(ISERROR(MATCH(D59,'Simulador CHIP Final'!$H$16:$H$17,0))=FALSE,\"C\",IF(ISERROR(MATCH(D59,'Simulador CHIP Final'!$H$18:$H$19,0))=FALSE,\"D\",\"\"))","v":""},{"$f":"IF(E59=\"C\",0,IF(E59 =\"D\",ROUND(1/((1+'Simulador CHIP Final'!$Q$13)^A59),9) * 2,ROUND(1/((1+'Simulador CHIP Final'!$Q$13)^A59),9)))","v":{"$error":"#DIV/0!"}},{"$error":"#DIV/0!"}]
[57,57,"2029-10-14",10,{"$f":"IF(ISERROR(MATCH(D60,'Simulador CHIP Final'!$H$16:$H$17,0))=FALSE,\"C\",IF(ISERROR(MATCH(D60,'Simulador CHIP Final'!$H$18:$H$19,0))=FALSE,\"D\",\"\"))","v":""},{"$f":"IF(E60=\"C\",0,IF(E60 =\"D\",ROUND(1/((1+'Simulador CHIP Final'!$Q$13)^A60),9) * 2,ROUND(1/((1+'Simulador CHIP Final'!$Q$13)^A60),9)))","v":{"$error":"#DIV/0!"}},{"$error":"#DIV/0!"}]
[58,58,"2029-11-14",11,{"$f":"IF(ISERROR(MATCH(D61,'Simulador CHIP Final'!$H$16:$H$17,0))=FALSE,\"C\",IF(ISERROR(MATCH(D61,'Simulador CHIP Final'!$H$18:$H$19,0))=FALSE,\"D\",\"\"))","v":""},{"$f":"IF(E61=\"C\",0,IF(E61 =\"D\",ROUND(1/((1+'Simulador CHIP Final'!$Q$13)^A61),9) * 2,ROUND(1/((1+'Simulador CHIP Final'!$Q$13)^A61),9)))","v":{"$error":"#DIV/0!"}},{"$error":"#DIV/0!"}]
[59,59,"2029-12-14",12,{"$f":"IF(ISERROR(MATCH(D62,'Simulador CHIP Final'!$H$16:$H$17,0))=FALSE,\"C\",IF(ISERROR(MATCH(D62,'Simulador CHIP Final'!$H$18:$H$19,0))=FALSE,\"D\",\"\"))","v":""},{"$f":"IF(E62=\"C\",0,IF(E62 =\"D\",ROUND(1/((1+'Simulador CHIP Final'!$Q$13)^A62),9) * 2,ROUND(1/((1+'Simulador CHIP Final'!$Q$13)^A62),9)))","v":{"$error":"#DIV/0!"}},{"$error":"#DIV/0!"}]
[60,60,"2030-01-14",1,{"$f":"IF(ISERROR(MATCH(D63,'Simulador CHIP Final'!$H$16:$H$17,0))=FALSE,\"C\",IF(ISERROR(MATCH(D63,'Simulador CHIP Final'!$H$18:$H$19,0))=FALSE,\"D\",\"\"))","v":""},{"$f":"IF(E63=\"C\",0,IF(E63 =\"D\",ROUND(1/((1+'Simulador CHIP Final'!$Q$13)^A63),9) * 2,ROUND(1/((1+'Simulador CHIP Final'!$Q$13)^A63),9)))","v":{"$error":"#DIV/0!"}},{"$error":"#DIV/0!"}]
[61,61,"2030-02-14",2,{"$f":"IF(ISERROR(MATCH(D64,'Simulador CHIP Final'!$H$16:$H$17,0))=FALSE,\"C\",IF(ISERROR(MATCH(D64,'Simulador CHIP Final'!$H$18:$H$19,0))=FALSE,\"D\",\"\"))","v":""},{"$f":"IF(E64=\"C\",0,IF(E64 =\"D\",ROUND(1/((1+'Simulador CHIP Final'!$Q$13)^A64),9) * 2,ROUND(1/((1+'Simulador CHIP Final'!$Q$13)^A64),9)))","v":{"$error":"#DIV/0!"}},{"$error":"#DIV/0!"}]
[62,62,"2030-03-14",3,{"$f":"IF(ISERROR(MATCH(D65,'Simulador CHIP Final'!$H$16:$H$17,0))=FALSE,\"C\",IF(ISERROR(MATCH(D65,'Simulador CHIP Final'!$H$18:$H$19,0))=FALSE,\"D\",\"\"))","v":""},{"$f":"IF(E65=\"C\",0,IF(E65 =\"D\",ROUND(1/((1+'Simulador CHIP Final'!$Q$13)^A65),9) * 2,ROUND(1/((1+'Simulador CHIP Final'!$Q$13)^A65),9)))","v":{"$error":"#DIV/0!"}},{"$error":"#DIV/0!"}]
[63,63,"2030-04-14",4,{"$f":"IF(ISERROR(MATCH(D66,'Simulador CHIP Final'!$H$16:$H$17,0))=FALSE,\"C\",IF(ISERROR(MATCH(D66,'Simulador CHIP Final'!$H$18:$H$19,0))=FALSE,\"D\",\"\"))","v":""},{"$f":"IF(E66=\"C\",0,IF(E66 =\"D\",ROUND(1/((1+'Simulador CHIP Final'!$Q$13)^A66),9) * 2,ROUND(1/((1+'Simulador CHIP Final'!$Q$13)^A66),9)))","v":{"$error":"#DIV/0!"}},{"$error":"#DIV/0!"}]
[64,64,"2030-05-14",5,{"$f":"IF(ISERROR(MATCH(D67,'Simulador CHIP Final'!$H$16:$H$17,0))=FALSE,\"C\",IF(ISERROR(MATCH(D67,'Simulador CHIP Final'!$H$18:$H$19,0))=FALSE,\"D\",\"\"))","v":""},{"$f":"IF(E67=\"C\",0,IF(E67 =\"D\",ROUND(1/((1+'Simulador CHIP Final'!$Q$13)^A67),9) * 2,ROUND(1/((1+'Simulador CHIP Final'!$Q$13)^A67),9)))","v":{"$error":"#DIV/0!"}},{"$error":"#DIV/0!"}]
[65,65,"2030-06-14",{"$f":"MONTH(C68)","v":6},{"$f":"IF(ISERROR(MATCH(D68,'Simulador CHIP Final'!$H$16:$H$17,0))=FALSE,\"C\",IF(ISERROR(MATCH(D68,'Simulador CHIP Final'!$H$18:$H$19,0))=FALSE,\"D\",\"\"))","v":""},{"$f":"IF(E68=\"C\",0,IF(E68 =\"D\",ROUND(1/((1+'Simulador CHIP Final'!$Q$13)^A68),9) * 2,ROUND(1/((1+'Simulador CHIP Final'!$Q$13)^A68),9)))","v":{"$error":"#DIV/0!"}},{"$error":"#DIV/0!"}]
[{"$f":"A68+1","v":66},{"$f":"IF(E69<>\"C\",IF(ISERROR(1+B68)=TRUE,1,1+B68),IF(ISNUMBER(B68),B68,1))","v":66},{"$f":"DATE(YEAR(C68) + 1/12,MONTH(C68)+1,DAY(C68))","v":"2030-07-14"},7,{"$f":"IF(ISERROR(MATCH(D69,'Simulador CHIP Final'!$H$16:$H$17,0))=FALSE,\"C\",IF(ISERROR(MATCH(D69,'Simulador CHIP Final'!$H$18:$H$19,0))=FALSE,\"D\",\"\"))","v":""},{"$f":"IF(E69=\"C\",0,IF(E69 =\"D\",ROUND(1/((1+'Simulador CHIP Final'!$Q$13)^A69),9) * 2,ROUND(1/((1+'Simulador CHIP Final'!$Q$13)^A69),9)))","v":{"$error":"#DIV/0!"}},{"$error":"#DIV/0!"}]
[67,67,"2030-08-14",8,{"$f":"IF(ISERROR(MATCH(D70,'Simulador CHIP Final'!$H$16:$H$17,0))=FALSE,\"C\",IF(ISERROR(MATCH(D70,'Simulador CHIP Final'!$H$18:$H$19,0))=FALSE,\"D\",\"\"))","v":""},{"$f":"IF(E70=\"C\",0,IF(E70 =\"D\",ROUND(1/((1+'Simulador CHIP Final'!$Q$13)^A70),9) * 2,ROUND(1/((1+'Simulador CHIP Final'!$Q$13)^A70),9)))","v":{"$error":"#DIV/0!"}},{"$f":"G69+ROUND(F70,9)","v":{"$error":"#DIV/0!"}}]
[68,68,"2030-09-14",9,{"$f":"IF(ISERROR(MATCH(D71,'Simulador CHIP Final'!$H$16:$H$17,0))=FALSE,\"C\",IF(ISERROR(MATCH(D71,'Simulador CHIP Final'!$H$18:$H$19,0))=FALSE,\"D\",\"\"))","v":""},{"$f":"IF(E71=\"C\",0,IF(E71 =\"D\",ROUND(1/((1+'Simulador CHIP Final'!$Q$13)^A71),9) * 2,ROUND(1/((1+'Simulador CHIP Final'!$Q$13)^A71),9)))","v":{"$error":"#DIV/0!"}},{"$error":"#DIV/0!"}]
[69,69,"2030-10-14",10,{"$f":"IF(ISERROR(MATCH(D72,'Simulador CHIP Final'!$H$16:$H$17,0))=FALSE,\"C\",IF(ISERROR(MATCH(D72,'Simulador CHIP Final'!$H$18:$H$19,0))=FALSE,\"D\",\"\"))","v":""},{"$f":"IF(E72=\"C\",0,IF(E72 =\"D\",ROUND(1/((1+'Simulador CHIP Final'!$Q$13)^A72),9) * 2,ROUND(1/((1+'Simulador CHIP Final'!$Q$13)^A72),9)))","v":{"$error":"#DIV/0!"}},{"$error":"#DIV/0!"}]
[70,70,"2030-11-14",11,{"$f":"IF(ISERROR(MATCH(D73,'Simulador CHIP Final'!$H$16:$H$17,0))=FALSE,\"C\",IF(ISERROR(MATCH(D73,'Simulador CHIP Final'!$H$18:$H$19,0))=FALSE,\"D\",\"\"))","v":""},{"$f":"IF(E73=\"C\",0,IF(E73 =\"D\",ROUND(1/((1+'Simulador CHIP Final'!$Q$13)^A73),9) * 2,ROUND(1/((1+'Simulador CHIP Final'!$Q$13)^A73),9)))","v":{"$error":"#DIV/0!"}},{"$error":"#DIV/0!"}]
[71,71,"2030-12-14",12,{"$f":"IF(ISERROR(MATCH(D74,'Simulador CHIP Final'!$H$16:$H$17,0))=FALSE,\"C\",IF(ISERROR(MATCH(D74,'Simulador CHIP Final'!$H$18:$H$19,0))=FALSE,\"D\",\"\"))","v":""},{"$f":"IF(E74=\"C\",0,IF(E74 =\"D\",ROUND(1/((1+'Simulador CHIP Final'!$Q$13)^A74),9) * 2,ROUND(1/((1+'Simulador CHIP Final'!$Q$13)^A74),9)))","v":{"$error":"#DIV/0!"}},{"$error":"#DIV/0!"}]
[72,72,"2031-01-14",1,{"$f":"IF(ISERROR(MATCH(D75,'Simulador CHIP Final'!$H$16:$H$17,0))=FALSE,\"C\",IF(ISERROR(MATCH(D75,'Simulador CHIP Final'!$H$18:$H$19,0))=FALSE,\"D\",\"\"))","v":""},{"$f":"IF(E75=\"C\",0,IF(E75 =\"D\",ROUND(1/((1+'Simulador CHIP Final'!$Q$13)^A75),9) * 2,ROUND(1/((1+'Simulador CHIP Final'!$Q$13)^A75),9)))","v":{"$error":"#DIV/0!"}},{"$error":"#DIV/0!"}]
[73,73,"2031-02-14",2,{"$f":"IF(ISERROR(MATCH(D76,'Simulador CHIP Final'!$H$16:$H$17,0))=FALSE,\"C\",IF(ISERROR(MATCH(D76,'Simulador CHIP Final'!$H$18:$H$19,0))=FALSE,\"D\",\"\"))","v":""},{"$f":"IF(E76=\"C\",0,IF(E76 =\"D\",ROUND(1/((1+'Simulador CHIP Final'!$Q$13)^A76),9) * 2,ROUND(1/((1+'Simulador CHIP Final'!$Q$13)^A76),9)))","v":{"$error":"#DIV/0!"}},{"$error":"#DIV/0!"}]
[74,74,"2031-03-14",3,{"$f":"IF(ISERROR(MATCH(D77,'Simulador CHIP Final'!$H$16:$H$17,0))=FALSE,\"C\",IF(ISERROR(MATCH(D77,'Simulador CHIP Final'!$H$18:$H$19,0))=FALSE,\"D\",\"\"))","v":""},{"$f":"IF(E77=\"C\",0,IF(E77 =\"D\",ROUND(1/((1+'Simulador CHIP Final'!$Q$13)^A77),9) * 2,ROUND(1/((1+'Simulador CHIP Final'!$Q$13)^A77),9)))","v":{"$error":"#DIV/0!"}},{"$error":"#DIV/0!"}]
[75,75,"2031-04-14",4,{"$f":"IF(ISERROR(MATCH(D78,'Simulador CHIP Final'!$H$16:$H$17,0))=FALSE,\"C\",IF(ISERROR(MATCH(D78,'Simulador CHIP Final'!$H$18:$H$19,0))=FALSE,\"D\",\"\"))","v":""},{"$f":"IF(E78=\"C\",0,IF(E78 =\"D\",ROUND(1/((1+'Simulador CHIP Final'!$Q$13)^A78),9) * 2,ROUND(1/((1+'Simulador CHIP Final'!$Q$13)^A78),9)))","v":{"$error":"#DIV/0!"}},{"$error":"#DIV/0!"}]
[76,76,"2031-05-14",5,{"$f":"IF(ISERROR(MATCH(D79,'Simulador CHIP Final'!$H$16:$H$17,0))=FALSE,\"C\",IF(ISERROR(MATCH(D79,'Simulador CHIP Final'!$H$18:$H$19,0))=FALSE,\"D\",\"\"))","v":""},{"$f":"IF(E79=\"C\",0,IF(E79 =\"D\",ROUND(1/((1+'Simulador CHIP Final'!$Q$13)^A79),9) * 2,ROUND(1/((1+'Simulador CHIP Final'!$Q$13)^A79),9)))","v":{"$error":"#DIV/0!"}},{"$error":"#DIV/0!"}]
[77,77,"2031-06-14",6,{"$f":"IF(ISERROR(MATCH(D80,'Simulador CHIP Final'!$H$16:$H$17,0))=FALSE,\"C\",IF(ISERROR(MATCH(D80,'Simulador CHIP Final'!$H$18:$H$19,0))=FALSE,\"D\",\"\"))","v":""},{"$f":"IF(E80=\"C\",0,IF(E80 =\"D\",ROUND(1/((1+'Simulador CHIP Final'!$Q$13)^A80),9) * 2,ROUND(1/((1+'Simulador CHIP Final'!$Q$13)^A80),9)))","v":{"$error":"#DIV/0!"}},{"$error":"#DIV/0!"}]
[78,78,"2031-07-14",7,{"$f":"IF(ISERROR(MATCH(D81,'Simulador CHIP Final'!$H$16:$H$17,0))=FALSE,\"C\",IF(ISERROR(MATCH(D81,'Simulador CHIP Final'!$H$18:$H$19,0))=FALSE,\"D\",\"\"))","v":""},{"$f":"IF(E81=\"C\",0,IF(E81 =\"D\",ROUND(1/((1+'Simulador CHIP Final'!$Q$13)^A81),9) * 2,ROUND(1/((1+'Simulador CHIP Final'!$Q$13)^A81),9)))","v":{"$error":"#DIV/0!"}},{"$error":"#DIV/0!"}]
[79,79,"2031-08-14",8,{"$f":"IF(ISERROR(MATCH(D82,'Simulador CHIP Final'!$H$16:$H$17,0))=FALSE,\"C\",IF(ISERROR(MATCH(D82,'Simulador CHIP Final'!$H$18:$H$19,0))=FALSE,\"D\",\"\"))","v":""},{"$f":"IF(E82=\"C\",0,IF(E82 =\"D\",ROUND(1/((1+'Simulador CHIP Final'!$Q$13)^A82),9) * 2,ROUND(1/((1+'Simulador CHIP Final'!$Q$13)^A82),9)))","v":{"$error":"#DIV/0!"}},{"$error":"#DIV/0!"}]
[80,80,"2031-09-14",9,{"$f":"IF(ISERROR(MATCH(D83,'Simulador CHIP Final'!$H$16:$H$17,0))=FALSE,\"C\",IF(ISERROR(MATCH(D83,'Simulador CHIP Final'!$H$18:$H$19,0))=FALSE,\"D\",\"\"))","v":""},{"$f":"IF(E83=\"C\",0,IF(E83 =\"D\",ROUND(1/((1+'Simulador CHIP Final'!$Q$13)^A83),9) * 2,ROUND(1/((1+'Simulador CHIP Final'!$Q$13)^A83),9)))","v":{"$error":"#DIV/0!"}},{"$error":"#DIV/0!"}]
[81,81,"2031-10-14",10,{"$f":"IF(ISERROR(MATCH(D84,'Simulador CHIP Final'!$H$16:$H$17,0))=FALSE,\"C\",IF(ISERROR(MATCH(D84,'Simulador CHIP Final'!$H$18:$H$19,0))=FALSE,\"D\",\"\"))","v":""},{"$f":"IF(E84=\"C\",0,IF(E84 =\"D\",ROUND(1/((1+'Simulador CHIP Final'!$Q$13)^A84),9) * 2,ROUND(1/((1+'Simulador CHIP Final'!$Q$13)^A84),9)))","v":{"$error":"#DIV/0!"}},{"$error":"#DIV/0!"}]
[82,82,"2031-11-14",11,{"$f":"IF(ISERROR(MATCH(D85,'Simulador CHIP Final'!$H$16:$H$17,0))=FALSE,\"C\",IF(ISERROR(MATCH(D85,'Simulador CHIP Final'!$H$18:$H$19,0))=FALSE,\"D\",\"\"))","v":""},{"$f":"IF(E85=\"C\",0,IF(E85 =\"D\",ROUND(1/((1+'Simulador CHIP Final'!$Q$13)^A85),9) * 2,ROUND(1/((1+'Simulador CHIP Final'!$Q$13)^A85),9)))","v":{"$error":"#DIV/0!"}},{"$error":"#DIV/0!"}]
[83,83,"2031-12-14",12,{"$f":"IF(ISERROR(MATCH(D86,'Simulador CHIP Final'!$H$16:$H$17,0))=FALSE,\"C\",IF(ISERROR(MATCH(D86,'Simulador CHIP Final'!$H$18:$H$19,0))=FALSE,\"D\",\"\"))","v":""},{"$f":"IF(E86=\"C\",0,IF(E86 =\"D\",ROUND(1/((1+'Simulador CHIP Final'!$Q$13)^A86),9) * 2,ROUND(1/((1+'Simulador CHIP Final'!$Q$13)^A86),9)))","v":{"$error":"#DIV/0!"}},{"$error":"#DIV/0!"}]
[84,84,"2032-01-14",1,{"$f":"IF(ISERROR(MATCH(D87,'Simulador CHIP Final'!$H$16:$H$17,0))=FALSE,\"C\",IF(ISERROR(MATCH(D87,'Simulador CHIP Final'!$H$18:$H$19,0))=FALSE,\"D\",\"\"))","v":""},{"$f":"IF(E87=\"C\",0,IF(E87 =\"D\",ROUND(1/((1+'Simulador CHIP Final'!$Q$13)^A87),9) * 2,ROUND(1/((1+'Simulador CHIP Final'!$Q$13)^A87),9)))","v":{"$error":"#DIV/0!"}},{"$error":"#DIV/0!"}]
[85,85,"2032-02-14",2,{"$f":"IF(ISERROR(MATCH(D88,'Simulador CHIP Final'!$H$16:$H$17,0))=FALSE,\"C\",IF(ISERROR(MATCH(D88,'Simulador CHIP Final'!$H$18:$H$19,0))=FALSE,\"D\",\"\"))","v":""},{"$f":"IF(E88=\"C\",0,IF(E88 =\"D\",ROUND(1/((1+'Simulador CHIP Final'!$Q$13)^A88),9) * 2,ROUND(1/((1+'Simulador CHIP Final'!$Q$13)^A88),9)))","v":{"$error":"#DIV/0!"}},{"$error":"#DIV/0!"}]
[86,86,"2032-03-14",3,{"$f":"IF(ISERROR(MATCH(D89,'Simulador CHIP Final'!$H$16:$H$17,0))=FALSE,\"C\",IF(ISERROR(MATCH(D89,'Simulador CHIP Final'!$H$18:$H$19,0))=FALSE,\"D\",\"\"))","v":""},{"$f":"IF(E89=\"C\",0,IF(E89 =\"D\",ROUND(1/((1+'Simulador CHIP Final'!$Q$13)^A89),9) * 2,ROUND(1/((1+'Simulador CHIP Final'!$Q$13)^A89),9)))","v":{"$error":"#DIV/0!"}},{"$error":"#DIV/0!"}]
[87,87,"2032-04-14",4,{"$f":"IF(ISERROR(MATCH(D90,'Simulador CHIP Final'!$H$16:$H$17,0))=FALSE,\"C\",IF(ISERROR(MATCH(D90,'Simulador CHIP Final'!$H$18:$H$19,0))=FALSE,\"D\",\"\"))","v":""},{"$f":"IF(E90=\"C\",0,IF(E90 =\"D\",ROUND(1/((1+'Simulador CHIP Final'!$Q$13)^A90),9) * 2,ROUND(1/((1+'Simulador CHIP Final'!$Q$13)^A90),9)))","v":{"$error":"#DIV/0!"}},{"$error":"#DIV/0!"}]
[88,88,"2032-05-14",5,{"$f":"IF(ISERROR(MATCH(D91,'Simulador CHIP Final'!$H$16:$H$17,0))=FALSE,\"C\",IF(ISERROR(MATCH(D91,'Simulador CHIP Final'!$H$18:$H$19,0))=FALSE,\"D\",\"\"))","v":""},{"$f":"IF(E91=\"C\",0,IF(E91 =\"D\",ROUND(1/((1+'Simulador CHIP Final'!$Q$13)^A91),9) * 2,ROUND(1/((1+'Simulador CHIP Final'!$Q$13)^A91),9)))","v":{"$error":"#DIV/0!"}},{"$error":"#DIV/0!"}]
[89,89,"2032-06-14",6,{"$f":"IF(ISERROR(MATCH(D92,'Simulador CHIP Final'!$H$16:$H$17,0))=FALSE,\"C\",IF(ISERROR(MATCH(D92,'Simulador CHIP Final'!$H$18:$H$19,0))=FALSE,\"D\",\"\"))","v":""},{"$f":"IF(E92=\"C\",0,IF(E92 =\"D\",ROUND(1/((1+'Simulador CHIP Final'!$Q$13)^A92),9) * 2,ROUND(1/((1+'Simulador CHIP Final'!$Q$13)^A92),9)))","v":{"$error":"#DIV/0!"}},{"$error":"#DIV/0!"}]
[90,90,"2032-07-14",7,{"$f":"IF(ISERROR(MATCH(D93,'Simulador CHIP Final'!$H$16:$H$17,0))=FALSE,\"C\",IF(ISERROR(MATCH(D93,'Simulador CHIP Final'!$H$18:$H$19,0))=FALSE,\"D\",\"\"))","v":""},{"$f":"IF(E93=\"C\",0,IF(E93 =\"D\",ROUND(1/((1+'Simulador CHIP Final'!$Q$13)^A93),9) * 2,ROUND(1/((1+'Simulador CHIP Final'!$Q$13)^A93),9)))","v":{"$error":"#DIV/0!"}},{"$error":"#DIV/0!"}]
[91,91,"2032-08-14",8,{"$f":"IF(ISERROR(MATCH(D94,'Simulador CHIP Final'!$H$16:$H$17,0))=FALSE,\"C\",IF(ISERROR(MATCH(D94,'Simulador CHIP Final'!$H$18:$H$19,0))=FALSE,\"D\",\"\"))","v":""},{"$f":"IF(E94=\"C\",0,IF(E94 =\"D\",ROUND(1/((1+'Simulador CHIP Final'!$Q$13)^A94),9) * 2,ROUND(1/((1+'Simulador CHIP Final'!$Q$13)^A94),9)))","v":{"$error":"#DIV/0!"}},{"$error":"#DIV/0!"}]
[92,92,"2032-09-14",9,{"$f":"IF(ISERROR(MATCH(D95,'Simulador CHIP Final'!$H$16:$H$17,0))=FALSE,\"C\",IF(ISERROR(MATCH(D95,'Simulador CHIP Final'!$H$18:$H$19,0))=FALSE,\"D\",\"\"))","v":""},{"$f":"IF(E95=\"C\",0,IF(E95 =\"D\",ROUND(1/((1+'Simulador CHIP Final'!$Q$13)^A95),9) * 2,ROUND(1/((1+'Simulador CHIP Final'!$Q$13)^A95),9)))","v":{"$error":"#DIV/0!"}},{"$error":"#DIV/0!"}]
[93,93,"2032-10-14",10,{"$f":"IF(ISERROR(MATCH(D96,'Simulador CHIP Final'!$H$16:$H$17,0))=FALSE,\"C\",IF(ISERROR(MATCH(D96,'Simulador CHIP Final'!$H$18:$H$19,0))=FALSE,\"D\",\"\"))","v":""},{"$f":"IF(E96=\"C\",0,IF(E96 =\"D\",ROUND(1/((1+'Simulador CHIP Final'!$Q$13)^A96),9) * 2,ROUND(1/((1+'Simulador CHIP Final'!$Q$13)^A96),9)))","v":{"$error":"#DIV/0!"}},{"$error":"#DIV/0!"}]
[94,94,"2032-11-14",11,{"$f":"IF(ISERROR(MATCH(D97,'Simulador CHIP Final'!$H$16:$H$17,0))=FALSE,\"C\",IF(ISERROR(MATCH(D97,'Simulador CHIP Final'!$H$18:$H$19,0))=FALSE,\"D\",\"\"))","v":""},{"$f":"IF(E97=\"C\",0,IF(E97 =\"D\",ROUND(1/((1+'Simulador CHIP Final'!$Q$13)^A97),9) * 2,ROUND(1/((1+'Simulador CHIP Final'!$Q$13)^A97),9)))","v":{"$error":"#DIV/0!"}},{"$error":"#DIV/0!"}]
[95,95,"2032-12-14",12,{"$f":"IF(ISERROR(MATCH(D98,'Simulador CHIP Final'!$H$16:$H$17,0))=FALSE,\"C\",IF(ISERROR(MATCH(D98,'Simulador CHIP Final'!$H$18:$H$19,0))=FALSE,\"D\",\"\"))","v":""},{"$f":"IF(E98=\"C\",0,IF(E98 =\"D\",ROUND(1/((1+'Simulador CHIP Final'!$Q$13)^A98),9) * 2,ROUND(1/((1+'Simulador CHIP Final'!$Q$13)^A98),9)))","v":{"$error":"#DIV/0!"}},{"$error":"#DIV/0!"}]
[96,96,"2033-01-14",1,{"$f":"IF(ISERROR(MATCH(D99,'Simulador CHIP Final'!$H$16:$H$17,0))=FALSE,\"C\",IF(ISERROR(MATCH(D99,'Simulador CHIP Final'!$H$18:$H$19,0))=FALSE,\"D\",\"\"))","v":""},{"$f":"IF(E99=\"C\",0,IF(E99 =\"D\",ROUND(1/((1+'Simulador CHIP Final'!$Q$13)^A99),9) * 2,ROUND(1/((1+'Simulador CHIP Final'!$Q$13)^A99),9)))","v":{"$error":"#DIV/0!"}},{"$error":"#DIV/0!"}]
[97,97,"2033-02-14",2,{"$f":"IF(ISERROR(MATCH(D100,'Simulador CHIP Final'!$H$16:$H$17,0))=FALSE,\"C\",IF(ISERROR(MATCH(D100,'Simulador CHIP Final'!$H$18:$H$19,0))=FALSE,\"D\",\"\"))","v":""},{"$f":"IF(E100=\"C\",0,IF(E100 =\"D\",ROUND(1/((1+'Simulador CHIP Final'!$Q$13)^A100),9) * 2,ROUND(1/((1+'Simulador CHIP Final'!$Q$13)^A100),9)))","v":{"$error":"#DIV/0!"}},{"$f":"G99+ROUND(F100,9)","v":{"$error":"#DIV/0!"}}]
[98,98,"2033-03-14",3,{"$f":"IF(ISERROR(MATCH(D101,'Simulador CHIP Final'!$H$16:$H$17,0))=FALSE,\"C\",IF(ISERROR(MATCH(D101,'Simulador CHIP Final'!$H$18:$H$19,0))=FALSE,\"D\",\"\"))","v":""},{"$f":"IF(E101=\"C\",0,IF(E101 =\"D\",ROUND(1/((1+'Simulador CHIP Final'!$Q$13)^A101),9) * 2,ROUND(1/((1+'Simulador CHIP Final'!$Q$13)^A101),9)))","v":{"$error":"#DIV/0!"}},{"$error":"#DIV/0!"}]
[99,99,"2033-04-14",4,{"$f":"IF(ISERROR(MATCH(D102,'Simulador CHIP Final'!$H$16:$H$17,0))=FALSE,\"C\",IF(ISERROR(MATCH(D102,'Simulador CHIP Final'!$H$18:$H$19,0))=FALSE,\"D\",\"\"))","v":""},{"$f":"IF(E102=\"C\",0,IF(E102 =\"D\",ROUND(1/((1+'Simulador CHIP Final'!$Q$13)^A102),9) * 2,ROUND(1/((1+'Simulador CHIP Final'!$Q$13)^A102),9)))","v":{"$error":"#DIV/0!"}},{"$error":"#DIV/0!"}]
[100,100,"2033-05-14",5,{"$f":"IF(ISERROR(MATCH(D103,'Simulador CHIP Final'!$H$16:$H$17,0))=FALSE,\"C\",IF(ISERROR(MATCH(D103,'Simulador CHIP Final'!$H$18:$H$19,0))=FALSE,\"D\",\"\"))","v":""},{"$f":"IF(E103=\"C\",0,IF(E103 =\"D\",ROUND(1/((1+'Simulador CHIP Final'!$Q$13)^A103),9) * 2,ROUND(1/((1+'Simulador CHIP Final'!$Q$13)^A103),9)))","v":{"$error":"#DIV/0!"}},{"$error":"#DIV/0!"}]
[101,101,"2033-06-14",6,{"$f":"IF(ISERROR(MATCH(D104,'Simulador CHIP Final'!$H$16:$H$17,0))=FALSE,\"C\",IF(ISERROR(MATCH(D104,'Simulador CHIP Final'!$H$18:$H$19,0))=FALSE,\"D\",\"\"))","v":""},{"$f":"IF(E104=\"C\",0,IF(E104 =\"D\",ROUND(1/((1+'Simulador CHIP Final'!$Q$13)^A104),9) * 2,ROUND(1/((1+'Simulador CHIP Final'!$Q$13)^A104),9)))","v":{"$error":"#DIV/0!"}},{"$error":"#DIV/0!"}]
[102,102,"2033-07-14",7,{"$f":"IF(ISERROR(MATCH(D105,'Simulador CHIP Final'!$H$16:$H$17,0))=FALSE,\"C\",IF(ISERROR(MATCH(D105,'Simulador CHIP Final'!$H$18:$H$19,0))=FALSE,\"D\",\"\"))","v":""},{"$f":"IF(E105=\"C\",0,IF(E105 =\"D\",ROUND(1/((1+'Simulador CHIP Final'!$Q$13)^A105),9) * 2,ROUND(1/((1+'Simulador CHIP Final'!$Q$13)^A105),9)))","v":{"$error":"#DIV/0!"}},{"$error":"#DIV/0!"}]
[103,103,"2033-08-14",8,{"$f":"IF(ISERROR(MATCH(D106,'Simulador CHIP Final'!$H$16:$H$17,0))=FALSE,\"C\",IF(ISERROR(MATCH(D106,'Simulador CHIP Final'!$H$18:$H$19,0))=FALSE,\"D\",\"\"))","v":""},{"$f":"IF(E106=\"C\",0,IF(E106 =\"D\",ROUND(1/((1+'Simulador CHIP Final'!$Q$13)^A106),9) * 2,ROUND(1/((1+'Simulador CHIP Final'!$Q$13)^A106),9)))","v":{"$error":"#DIV/0!"}},{"$error":"#DIV/0!"}]
[104,104,"2033-09-14",9,{"$f":"IF(ISERROR(MATCH(D107,'Simulador CHIP Final'!$H$16:$H$17,0))=FALSE,\"C\",IF(ISERROR(MATCH(D107,'Simulador CHIP Final'!$H$18:$H$19,0))=FALSE,\"D\",\"\"))","v":""},{"$f":"IF(E107=\"C\",0,IF(E107 =\"D\",ROUND(1/((1+'Simulador CHIP Final'!$Q$13)^A107),9) * 2,ROUND(1/((1+'Simulador CHIP Final'!$Q$13)^A107),9)))","v":{"$error":"#DIV/0!"}},{"$error":"#DIV/0!"}]
[105,105,"2033-10-14",10,{"$f":"IF(ISERROR(MATCH(D108,'Simulador CHIP Final'!$H$16:$H$17,0))=FALSE,\"C\",IF(ISERROR(MATCH(D108,'Simulador CHIP Final'!$H$18:$H$19,0))=FALSE,\"D\",\"\"))","v":""},{"$f":"IF(E108=\"C\",0,IF(E108 =\"D\",ROUND(1/((1+'Simulador CHIP Final'!$Q$13)^A108),9) * 2,ROUND(1/((1+'Simulador CHIP Final'!$Q$13)^A108),9)))","v":{"$error":"#DIV/0!"}},{"$error":"#DIV/0!"}]
[106,106,"2033-11-14",11,{"$f":"IF(ISERROR(MATCH(D109,'Simulador CHIP Final'!$H$16:$H$17,0))=FALSE,\"C\",IF(ISERROR(MATCH(D109,'Simulador CHIP Final'!$H$18:$H$19,0))=FALSE,\"D\",\"\"))","v":""},{"$f":"IF(E109=\"C\",0,IF(E109 =\"D\",ROUND(1/((1+'Simulador CHIP Final'!$Q$13)^A109),9) * 2,ROUND(1/((1+'Simulador CHIP Final'!$Q$13)^A109),9)))","v":{"$error":"#DIV/0!"}},{"$error":"#DIV/0!"}]
[107,107,"2033-12-14",12,{"$f":"IF(ISERROR(MATCH(D110,'Simulador CHIP Final'!$H$16:$H$17,0))=FALSE,\"C\",IF(ISERROR(MATCH(D110,'Simulador CHIP Final'!$H$18:$H$19,0))=FALSE,\"D\",\"\"))","v":""},{"$f":"IF(E110=\"C\",0,IF(E110 =\"D\",ROUND(1/((1+'Simulador CHIP Final'!$Q$13)^A110),9) * 2,ROUND(1/((1+'Simulador CHIP Final'!$Q$13)^A110),9)))","v":{"$error":"#DIV/0!"}},{"$error":"#DIV/0!"}]
[108,108,"2034-01-14",1,{"$f":"IF(ISERROR(MATCH(D111,'Simulador CHIP Final'!$H$16:$H$17,0))=FALSE,\"C\",IF(ISERROR(MATCH(D111,'Simulador CHIP Final'!$H$18:$H$19,0))=FALSE,\"D\",\"\"))","v":""},{"$f":"IF(E111=\"C\",0,IF(E111 =\"D\",ROUND(1/((1+'Simulador CHIP Final'!$Q$13)^A111),9) * 2,ROUND(1/((1+'Simulador CHIP Final'!$Q$13)^A111),9)))","v":{"$error":"#DIV/0!"}},{"$error":"#DIV/0!"}]
[109,109,"2034-02-14",2,{"$f":"IF(ISERROR(MATCH(D112,'Simulador CHIP Final'!$H$16:$H$17,0))=FALSE,\"C\",IF(ISERROR(MATCH(D112,'Simulador CHIP Final'!$H$18:$H$19,0))=FALSE,\"D\",\"\"))","v":""},{"$f":"IF(E112=\"C\",0,IF(E112 =\"D\",ROUND(1/((1+'Simulador CHIP Final'!$Q$13)^A112),9) * 2,ROUND(1/((1+'Simulador CHIP Final'!$Q$13)^A112),9)))","v":{"$error":"#DIV/0!"}},{"$error":"#DIV/0!"}]
[110,110,"2034-03-14",3,{"$f":"IF(ISERROR(MATCH(D113,'Simulador CHIP Final'!$H$16:$H$17,0))=FALSE,\"C\",IF(ISERROR(MATCH(D113,'Simulador CHIP Final'!$H$18:$H$19,0))=FALSE,\"D\",\"\"))","v":""},{"$f":"IF(E113=\"C\",0,IF(E113 =\"D\",ROUND(1/((1+'Simulador CHIP Final'!$Q$13)^A113),9) * 2,ROUND(1/((1+'Simulador CHIP Final'!$Q$13)^A113),9)))","v":{"$error":"#DIV/0!"}},{"$error":"#DIV/0!"}]
[111,111,"2034-04-14",4,{"$f":"IF(ISERROR(MATCH(D114,'Simulador CHIP Final'!$H$16:$H$17,0))=FALSE,\"C\",IF(ISERROR(MATCH(D114,'Simulador CHIP Final'!$H$18:$H$19,0))=FALSE,\"D\",\"\"))","v":""},{"$f":"IF(E114=\"C\",0,IF(E114 =\"D\",ROUND(1/((1+'Simulador CHIP Final'!$Q$13)^A114),9) * 2,ROUND(1/((1+'Simulador CHIP Final'!$Q$13)^A114),9)))","v":{"$error":"#DIV/0!"}},{"$error":"#DIV/0!"}]
[112,112,"2034-05-14",5,{"$f":"IF(ISERROR(MATCH(D115,'Simulador CHIP Final'!$H$16:$H$17,0))=FALSE,\"C\",IF(ISERROR(MATCH(D115,'Simulador CHIP Final'!$H$18:$H$19,0))=FALSE,\"D\",\"\"))","v":""},{"$f":"IF(E115=\"C\",0,IF(E115 =\"D\",ROUND(1/((1+'Simulador CHIP Final'!$Q$13)^A115),9) * 2,ROUND(1/((1+'Simulador CHIP Final'!$Q$13)^A115),9)))","v":{"$error":"#DIV/0!"}},{"$error":"#DIV/0!"}]
[113,113,"2034-06-14",6,{"$f":"IF(ISERROR(MATCH(D116,'Simulador CHIP Final'!$H$16:$H$17,0))=FALSE,\"C\",IF(ISERROR(MATCH(D116,'Simulador CHIP Final'!$H$18:$H$19,0))=FALSE,\"D\",\"\"))","v":""},{"$f":"IF(E116=\"C\",0,IF(E116 =\"D\",ROUND(1/((1+'Simulador CHIP Final'!$Q$13)^A116),9) * 2,ROUND(1/((1+'Simulador CHIP Final'!$Q$13)^A116),9)))","v":{"$error":"#DIV/0!"}},{"$error":"#DIV/0!"}]
[114,114,"2034-07-14",7,{"$f":"IF(ISERROR(MATCH(D117,'Simulador CHIP Final'!$H$16:$H$17,0))=FALSE,\"C\",IF(ISERROR(MATCH(D117,'Simulador CHIP Final'!$H$18:$H$19,0))=FALSE,\"D\",\"\"))","v":""},{"$f":"IF(E117=\"C\",0,IF(E117 =\"D\",ROUND(1/((1+'Simulador CHIP Final'!$Q$13)^A117),9) * 2,ROUND(1/((1+'Simulador CHIP Final'!$Q$13)^A117),9)))","v":{"$error":"#DIV/0!"}},{"$error":"#DIV/0!"}]
[115,115,"2034-08-14",8,{"$f":"IF(ISERROR(MATCH(D118,'Simulador CHIP Final'!$H$16:$H$17,0))=FALSE,\"C\",IF(ISERROR(MATCH(D118,'Simulador CHIP Final'!$H$18:$H$19,0))=FALSE,\"D\",\"\"))","v":""},{"$f":"IF(E118=\"C\",0,IF(E118 =\"D\",ROUND(1/((1+'Simulador CHIP Final'!$Q$13)^A118),9) * 2,ROUND(1/((1+'Simulador CHIP Final'!$Q$13)^A118),9)))","v":{"$error":"#DIV/0!"}},{"$error":"#DIV/0!"}]
[116,116,"2034-09-14",9,{"$f":"IF(ISERROR(MATCH(D119,'Simulador CHIP Final'!$H$16:$H$17,0))=FALSE,\"C\",IF(ISERROR(MATCH(D119,'Simulador CHIP Final'!$H$18:$H$19,0))=FALSE,\"D\",\"\"))","v":""},{"$f":"IF(E119=\"C\",0,IF(E119 =\"D\",ROUND(1/((1+'Simulador CHIP Final'!$Q$13)^A119),9) * 2,ROUND(1/((1+'Simulador CHIP Final'!$Q$13)^A119),9)))","v":{"$error":"#DIV/0!"}},{"$error":"#DIV/0!"}]
[117,117,"2034-10-14",10,{"$f":"IF(ISERROR(MATCH(D120,'Simulador CHIP Final'!$H$16:$H$17,0))=FALSE,\"C\",IF(ISERROR(MATCH(D120,'Simulador CHIP Final'!$H$18:$H$19,0))=FALSE,\"D\",\"\"))","v":""},{"$f":"IF(E120=\"C\",0,IF(E120 =\"D\",ROUND(1/((1+'Simulador CHIP Final'!$Q$13)^A120),9) * 2,ROUND(1/((1+'Simulador CHIP Final'!$Q$13)^A120),9)))","v":{"$error":"#DIV/0!"}},{"$error":"#DIV/0!"}]
[118,118,"2034-11-14",11,{"$f":"IF(ISERROR(MATCH(D121,'Simulador CHIP Final'!$H$16:$H$17,0))=FALSE,\"C\",IF(ISERROR(MATCH(D121,'Simulador CHIP Final'!$H$18:$H$19,0))=FALSE,\"D\",\"\"))","v":""},{"$f":"IF(E121=\"C\",0,IF(E121 =\"D\",ROUND(1/((1+'Simulador CHIP Final'!$Q$13)^A121),9) * 2,ROUND(1/((1+'Simulador CHIP Final'!$Q$13)^A121),9)))","v":{"$error":"#DIV/0!"}},{"$error":"#DIV/0!"}]
[119,119,"2034-12-14",12,{"$f":"IF(ISERROR(MATCH(D122,'Simulador CHIP Final'!$H$16:$H$17,0))=FALSE,\"C\",IF(ISERROR(MATCH(D122,'Simulador CHIP Final'!$H$18:$H$19,0))=FALSE,\"D\",\"\"))","v":""},{"$f":"IF(E122=\"C\",0,IF(E122 =\"D\",ROUND(1/((1+'Simulador CHIP Final'!$Q$13)^A122),9) * 2,ROUND(1/((1+'Simulador CHIP Final'!$Q$13)^A122),9)))","v":{"$error":"#DIV/0!"}},{"$error":"#DIV/0!"}]
[120,120,"2035-01-14",1,{"$f":"IF(ISERROR(MATCH(D123,'Simulador CHIP Final'!$H$16:$H$17,0))=FALSE,\"C\",IF(ISERROR(MATCH(D123,'Simulador CHIP Final'!$H$18:$H$19,0))=FALSE,\"D\",\"\"))","v":""},{"$f":"IF(E123=\"C\",0,IF(E123 =\"D\",ROUND(1/((1+'Simulador CHIP Final'!$Q$13)^A123),9) * 2,ROUND(1/((1+'Simulador CHIP Final'!$Q$13)^A123),9)))","v":{"$error":"#DIV/0!"}},{"$error":"#DIV/0!"}]
[121,121,"2035-02-14",2,{"$f":"IF(ISERROR(MATCH(D124,'Simulador CHIP Final'!$H$16:$H$17,0))=FALSE,\"C\",IF(ISERROR(MATCH(D124,'Simulador CHIP Final'!$H$18:$H$19,0))=FALSE,\"D\",\"\"))","v":""},{"$f":"IF(E124=\"C\",0,IF(E124 =\"D\",ROUND(1/((1+'Simulador CHIP Final'!$Q$13)^A124),9) * 2,ROUND(1/((1+'Simulador CHIP Final'!$Q$13)^A124),9)))","v":{"$error":"#DIV/0!"}},{"$error":"#DIV/0!"}]
[122,122,"2035-03-14",3,{"$f":"IF(ISERROR(MATCH(D125,'Simulador CHIP Final'!$H$16:$H$17,0))=FALSE,\"C\",IF(ISERROR(MATCH(D125,'Simulador CHIP Final'!$H$18:$H$19,0))=FALSE,\"D\",\"\"))","v":""},{"$f":"IF(E125=\"C\",0,IF(E125 =\"D\",ROUND(1/((1+'Simulador CHIP Final'!$Q$13)^A125),9) * 2,ROUND(1/((1+'Simulador CHIP Final'!$Q$13)^A125),9)))","v":{"$error":"#DIV/0!"}},{"$error":"#DIV/0!"}]
[123,123,"2035-04-14",4,{"$f":"IF(ISERROR(MATCH(D126,'Simulador CHIP Final'!$H$16:$H$17,0))=FALSE,\"C\",IF(ISERROR(MATCH(D126,'Simulador CHIP Final'!$H$18:$H$19,0))=FALSE,\"D\",\"\"))","v":""},{"$f":"IF(E126=\"C\",0,IF(E126 =\"D\",ROUND(1/((1+'Simulador CHIP Final'!$Q$13)^A126),9) * 2,ROUND(1/((1+'Simulador CHIP Final'!$Q$13)^A126),9)))","v":{"$error":"#DIV/0!"}},{"$error":"#DIV/0!"}]
[124,124,"2035-05-14",5,{"$f":"IF(ISERROR(MATCH(D127,'Simulador CHIP Final'!$H$16:$H$17,0))=FALSE,\"C\",IF(ISERROR(MATCH(D127,'Simulador CHIP Final'!$H$18:$H$19,0))=FALSE,\"D\",\"\"))","v":""},{"$f":"IF(E127=\"C\",0,IF(E127 =\"D\",ROUND(1/((1+'Simulador CHIP Final'!$Q$13)^A127),9) * 2,ROUND(1/((1+'Simulador CHIP Final'!$Q$13)^A127),9)))","v":{"$error":"#DIV/0!"}},{"$error":"#DIV/0!"}]
[125,125,"2035-06-14",6,{"$f":"IF(ISERROR(MATCH(D128,'Simulador CHIP Final'!$H$16:$H$17,0))=FALSE,\"C\",IF(ISERROR(MATCH(D128,'Simulador CHIP Final'!$H$18:$H$19,0))=FALSE,\"D\",\"\"))","v":""},{"$f":"IF(E128=\"C\",0,IF(E128 =\"D\",ROUND(1/((1+'Simulador CHIP Final'!$Q$13)^A128),9) * 2,ROUND(1/((1+'Simulador CHIP Final'!$Q$13)^A128),9)))","v":{"$error":"#DIV/0!"}},{"$error":"#DIV/0!"}]
[126,126,"2035-07-14",7,{"$f":"IF(ISERROR(MATCH(D129,'Simulador CHIP Final'!$H$16:$H$17,0))=FALSE,\"C\",IF(ISERROR(MATCH(D129,'Simulador CHIP Final'!$H$18:$H$19,0))=FALSE,\"D\",\"\"))","v":""},{"$f":"IF(E129=\"C\",0,IF(E129 =\"D\",ROUND(1/((1+'Simulador CHIP Final'!$Q$13)^A129),9) * 2,ROUND(1/((1+'Simulador CHIP Final'!$Q$13)^A129),9)))","v":{"$error":"#DIV/0!"}},{"$error":"#DIV/0!"}]
[127,127,"2035-08-14",8,{"$f":"IF(ISERROR(MATCH(D130,'Simulador CHIP Final'!$H$16:$H$17,0))=FALSE,\"C\",IF(ISERROR(MATCH(D130,'Simulador CHIP Final'!$H$18:$H$19,0))=FALSE,\"D\",\"\"))","v":""},{"$f":"IF(E130=\"C\",0,IF(E130 =\"D\",ROUND(1/((1+'Simulador CHIP Final'!$Q$13)^A130),9) * 2,ROUND(1/((1+'Simulador CHIP Final'!$Q$13)^A130),9)))","v":{"$error":"#DIV/0!"}},{"$error":"#DIV/0!"}]
[128,128,"2035-09-14",9,{"$f":"IF(ISERROR(MATCH(D131,'Simulador CHIP Final'!$H$16:$H$17,0))=FALSE,\"C\",IF(ISERROR(MATCH(D131,'Simulador CHIP Final'!$H$18:$H$19,0))=FALSE,\"D\",\"\"))","v":""},{"$f":"IF(E131=\"C\",0,IF(E131 =\"D\",ROUND(1/((1+'Simulador CHIP Final'!$Q$13)^A131),9) * 2,ROUND(1/((1+'Simulador CHIP Final'!$Q$13)^A131),9)))","v":{"$error":"#DIV/0!"}},{"$error":"#DIV/0!"}]
[129,129,"2035-10-14",{"$f":"MONTH(C132)","v":10},{"$f":"IF(ISERROR(MATCH(D132,'Simulador CHIP Final'!$H$16:$H$17,0))=FALSE,\"C\",IF(ISERROR(MATCH(D132,'Simulador CHIP Final'!$H$18:$H$19,0))=FALSE,\"D\",\"\"))","v":""},{"$f":"IF(E132=\"C\",0,IF(E132 =\"D\",ROUND(1/((1+'Simulador CHIP Final'!$Q$13)^A132),9) * 2,ROUND(1/((1+'Simulador CHIP Final'!$Q$13)^A132),9)))","v":{"$error":"#DIV/0!"}},{"$error":"#DIV/0!"}]
[{"$f":"A132+1","v":130},{"$f":"IF(E133<>\"C\",IF(ISERROR(1+B132)=TRUE,1,1+B132),IF(ISNUMBER(B132),B132,1))","v":130},{"$f":"DATE(YEAR(C132) + 1/12,MONTH(C132)+1,DAY(C132))","v":"2035-11-14"},11,{"$f":"IF(ISERROR(MATCH(D133,'Simulador CHIP Final'!$H$16:$H$17,0))=FALSE,\"C\",IF(ISERROR(MATCH(D133,'Simulador CHIP Final'!$H$18:$H$19,0))=FALSE,\"D\",\"\"))","v":""},{"$f":"IF(E133=\"C\",0,IF(E133 =\"D\",ROUND(1/((1+'Simulador CHIP Final'!$Q$13)^A133),9) * 2,ROUND(1/((1+'Simulador CHIP Final'!$Q$13)^A133),9)))","v":{"$error":"#DIV/0!"}},{"$error":"#DIV/0!"}]
[131,131,"2035-12-14",12,{"$f":"IF(ISERROR(MATCH(D134,'Simulador CHIP Final'!$H$16:$H$17,0))=FALSE,\"C\",IF(ISERROR(MATCH(D134,'Simulador CHIP Final'!$H$18:$H$19,0))=FALSE,\"D\",\"\"))","v":""},{"$f":"IF(E134=\"C\",0,IF(E134 =\"D\",ROUND(1/((1+'Simulador CHIP Final'!$Q$13)^A134),9) * 2,ROUND(1/((1+'Simulador CHIP Final'!$Q$13)^A134),9)))","v":{"$error":"#DIV/0!"}},{"$error":"#DIV/0!"}]
[132,132,"2036-01-14",1,{"$f":"IF(ISERROR(MATCH(D135,'Simulador CHIP Final'!$H$16:$H$17,0))=FALSE,\"C\",IF(ISERROR(MATCH(D135,'Simulador CHIP Final'!$H$18:$H$19,0))=FALSE,\"D\",\"\"))","v":""},{"$f":"IF(E135=\"C\",0,IF(E135 =\"D\",ROUND(1/((1+'Simulador CHIP Final'!$Q$13)^A135),9) * 2,ROUND(1/((1+'Simulador CHIP Final'!$Q$13)^A135),9)))","v":{"$error":"#DIV/0!"}},{"$error":"#DIV/0!"}]
[133,133,"2036-02-14",2,{"$f":"IF(ISERROR(MATCH(D136,'Simulador CHIP Final'!$H$16:$H$17,0))=FALSE,\"C\",IF(ISERROR(MATCH(D136,'Simulador CHIP Final'!$H$18:$H$19,0))=FALSE,\"D\",\"\"))","v":""},{"$f":"IF(E136=\"C\",0,IF(E136 =\"D\",ROUND(1/((1+'Simulador CHIP Final'!$Q$13)^A136),9) * 2,ROUND(1/((1+'Simulador CHIP Final'!$Q$13)^A136),9)))","v":{"$error":"#DIV/0!"}},{"$error":"#DIV/0!"}]
[134,134,"2036-03-14",3,{"$f":"IF(ISERROR(MATCH(D137,'Simulador CHIP Final'!$H$16:$H$17,0))=FALSE,\"C\",IF(ISERROR(MATCH(D137,'Simulador CHIP Final'!$H$18:$H$19,0))=FALSE,\"D\",\"\"))","v":""},{"$f":"IF(E137=\"C\",0,IF(E137 =\"D\",ROUND(1/((1+'Simulador CHIP Final'!$Q$13)^A137),9) * 2,ROUND(1/((1+'Simulador CHIP Final'!$Q$13)^A137),9)))","v":{"$error":"#DIV/0!"}},{"$error":"#DIV/0!"}]
[135,135,"2036-04-14",4,{"$f":"IF(ISERROR(MATCH(D138,'Simulador CHIP Final'!$H$16:$H$17,0))=FALSE,\"C\",IF(ISERROR(MATCH(D138,'Simulador CHIP Final'!$H$18:$H$19,0))=FALSE,\"D\",\"\"))","v":""},{"$f":"IF(E138=\"C\",0,IF(E138 =\"D\",ROUND(1/((1+'Simulador CHIP Final'!$Q$13)^A138),9) * 2,ROUND(1/((1+'Simulador CHIP Final'!$Q$13)^A138),9)))","v":{"$error":"#DIV/0!"}},{"$error":"#DIV/0!"}]
[136,136,"2036-05-14",5,{"$f":"IF(ISERROR(MATCH(D139,'Simulador CHIP Final'!$H$16:$H$17,0))=FALSE,\"C\",IF(ISERROR(MATCH(D139,'Simulador CHIP Final'!$H$18:$H$19,0))=FALSE,\"D\",\"\"))","v":""},{"$f":"IF(E139=\"C\",0,IF(E139 =\"D\",ROUND(1/((1+'Simulador CHIP Final'!$Q$13)^A139),9) * 2,ROUND(1/((1+'Simulador CHIP Final'!$Q$13)^A139),9)))","v":{"$error":"#DIV/0!"}},{"$error":"#DIV/0!"}]
[137,137,"2036-06-14",6,{"$f":"IF(ISERROR(MATCH(D140,'Simulador CHIP Final'!$H$16:$H$17,0))=FALSE,\"C\",IF(ISERROR(MATCH(D140,'Simulador CHIP Final'!$H$18:$H$19,0))=FALSE,\"D\",\"\"))","v":""},{"$f":"IF(E140=\"C\",0,IF(E140 =\"D\",ROUND(1/((1+'Simulador CHIP Final'!$Q$13)^A140),9) * 2,ROUND(1/((1+'Simulador CHIP Final'!$Q$13)^A140),9)))","v":{"$error":"#DIV/0!"}},{"$error":"#DIV/0!"}]
[138,138,"2036-07-14",7,{"$f":"IF(ISERROR(MATCH(D141,'Simulador CHIP Final'!$H$16:$H$17,0))=FALSE,\"C\",IF(ISERROR(MATCH(D141,'Simulador CHIP Final'!$H$18:$H$19,0))=FALSE,\"D\",\"\"))","v":""},{"$f":"IF(E141=\"C\",0,IF(E141 =\"D\",ROUND(1/((1+'Simulador CHIP Final'!$Q$13)^A141),9) * 2,ROUND(1/((1+'Simulador CHIP Final'!$Q$13)^A141),9)))","v":{"$error":"#DIV/0!"}},{"$error":"#DIV/0!"}]
[139,139,"2036-08-14",8,{"$f":"IF(ISERROR(MATCH(D142,'Simulador CHIP Final'!$H$16:$H$17,0))=FALSE,\"C\",IF(ISERROR(MATCH(D142,'Simulador CHIP Final'!$H$18:$H$19,0))=FALSE,\"D\",\"\"))","v":""},{"$f":"IF(E142=\"C\",0,IF(E142 =\"D\",ROUND(1/((1+'Simulador CHIP Final'!$Q$13)^A142),9) * 2,ROUND(1/((1+'Simulador CHIP Final'!$Q$13)^A142),9)))","v":{"$error":"#DIV/0!"}},{"$error":"#DIV/0!"}]
[140,140,"2036-09-14",9,{"$f":"IF(ISERROR(MATCH(D143,'Simulador CHIP Final'!$H$16:$H$17,0))=FALSE,\"C\",IF(ISERROR(MATCH(D143,'Simulador CHIP Final'!$H$18:$H$19,0))=FALSE,\"D\",\"\"))","v":""},{"$f":"IF(E143=\"C\",0,IF(E143 =\"D\",ROUND(1/((1+'Simulador CHIP Final'!$Q$13)^A143),9) * 2,ROUND(1/((1+'Simulador CHIP Final'!$Q$13)^A143),9)))","v":{"$error":"#DIV/0!"}},{"$error":"#DIV/0!"}]
[141,141,"2036-10-14",10,{"$f":"IF(ISERROR(MATCH(D144,'Simulador CHIP Final'!$H$16:$H$17,0))=FALSE,\"C\",IF(ISERROR(MATCH(D144,'Simulador CHIP Final'!$H$18:$H$19,0))=FALSE,\"D\",\"\"))","v":""},{"$f":"IF(E144=\"C\",0,IF(E144 =\"D\",ROUND(1/((1+'Simulador CHIP Final'!$Q$13)^A144),9) * 2,ROUND(1/((1+'Simulador CHIP Final'!$Q$13)^A144),9)))","v":{"$error":"#DIV/0!"}},{"$error":"#DIV/0!"}]
[142,142,"2036-11-14",11,{"$f":"IF(ISERROR(MATCH(D145,'Simulador CHIP Final'!$H$16:$H$17,0))=FALSE,\"C\",IF(ISERROR(MATCH(D145,'Simulador CHIP Final'!$H$18:$H$19,0))=FALSE,\"D\",\"\"))","v":""},{"$f":"IF(E145=\"C\",0,IF(E145 =\"D\",ROUND(1/((1+'Simulador CHIP Final'!$Q$13)^A145),9) * 2,ROUND(1/((1+'Simulador CHIP Final'!$Q$13)^A145),9)))","v":{"$error":"#DIV/0!"}},{"$error":"#DIV/0!"}]
[143,143,"2036-12-14",12,{"$f":"IF(ISERROR(MATCH(D146,'Simulador CHIP Final'!$H$16:$H$17,0))=FALSE,\"C\",IF(ISERROR(MATCH(D146,'Simulador CHIP Final'!$H$18:$H$19,0))=FALSE,\"D\",\"\"))","v":""},{"$f":"IF(E146=\"C\",0,IF(E146 =\"D\",ROUND(1/((1+'Simulador CHIP Final'!$Q$13)^A146),9) * 2,ROUND(1/((1+'Simulador CHIP Final'!$Q$13)^A146),9)))","v":{"$error":"#DIV/0!"}},{"$error":"#DIV/0!"}]
[144,144,"2037-01-14",1,{"$f":"IF(ISERROR(MATCH(D147,'Simulador CHIP Final'!$H$16:$H$17,0))=FALSE,\"C\",IF(ISERROR(MATCH(D147,'Simulador CHIP Final'!$H$18:$H$19,0))=FALSE,\"D\",\"\"))","v":""},{"$f":"IF(E147=\"C\",0,IF(E147 =\"D\",ROUND(1/((1+'Simulador CHIP Final'!$Q$13)^A147),9) * 2,ROUND(1/((1+'Simulador CHIP Final'!$Q$13)^A147),9)))","v":{"$error":"#DIV/0!"}},{"$error":"#DIV/0!"}]
[145,145,"2037-02-14",2,{"$f":"IF(ISERROR(MATCH(D148,'Simulador CHIP Final'!$H$16:$H$17,0))=FALSE,\"C\",IF(ISERROR(MATCH(D148,'Simulador CHIP Final'!$H$18:$H$19,0))=FALSE,\"D\",\"\"))","v":""},{"$f":"IF(E148=\"C\",0,IF(E148 =\"D\",ROUND(1/((1+'Simulador CHIP Final'!$Q$13)^A148),9) * 2,ROUND(1/((1+'Simulador CHIP Final'!$Q$13)^A148),9)))","v":{"$error":"#DIV/0!"}},{"$error":"#DIV/0!"}]
[146,146,"2037-03-14",3,{"$f":"IF(ISERROR(MATCH(D149,'Simulador CHIP Final'!$H$16:$H$17,0))=FALSE,\"C\",IF(ISERROR(MATCH(D149,'Simulador CHIP Final'!$H$18:$H$19,0))=FALSE,\"D\",\"\"))","v":""},{"$f":"IF(E149=\"C\",0,IF(E149 =\"D\",ROUND(1/((1+'Simulador CHIP Final'!$Q$13)^A149),9) * 2,ROUND(1/((1+'Simulador CHIP Final'!$Q$13)^A149),9)))","v":{"$error":"#DIV/0!"}},{"$error":"#DIV/0!"}]
[147,147,"2037-04-14",4,{"$f":"IF(ISERROR(MATCH(D150,'Simulador CHIP Final'!$H$16:$H$17,0))=FALSE,\"C\",IF(ISERROR(MATCH(D150,'Simulador CHIP Final'!$H$18:$H$19,0))=FALSE,\"D\",\"\"))","v":""},{"$f":"IF(E150=\"C\",0,IF(E150 =\"D\",ROUND(1/((1+'Simulador CHIP Final'!$Q$13)^A150),9) * 2,ROUND(1/((1+'Simulador CHIP Final'!$Q$13)^A150),9)))","v":{"$error":"#DIV/0!"}},{"$error":"#DIV/0!"}]
[148,148,"2037-05-14",5,{"$f":"IF(ISERROR(MATCH(D151,'Simulador CHIP Final'!$H$16:$H$17,0))=FALSE,\"C\",IF(ISERROR(MATCH(D151,'Simulador CHIP Final'!$H$18:$H$19,0))=FALSE,\"D\",\"\"))","v":""},{"$f":"IF(E151=\"C\",0,IF(E151 =\"D\",ROUND(1/((1+'Simulador CHIP Final'!$Q$13)^A151),9) * 2,ROUND(1/((1+'Simulador CHIP Final'!$Q$13)^A151),9)))","v":{"$error":"#DIV/0!"}},{"$error":"#DIV/0!"}]
[149,149,"2037-06-14",6,{"$f":"IF(ISERROR(MATCH(D152,'Simulador CHIP Final'!$H$16:$H$17,0))=FALSE,\"C\",IF(ISERROR(MATCH(D152,'Simulador CHIP Final'!$H$18:$H$19,0))=FALSE,\"D\",\"\"))","v":""},{"$f":"IF(E152=\"C\",0,IF(E152 =\"D\",ROUND(1/((1+'Simulador CHIP Final'!$Q$13)^A152),9) * 2,ROUND(1/((1+'Simulador CHIP Final'!$Q$13)^A152),9)))","v":{"$error":"#DIV/0!"}},{"$error":"#DIV/0!"}]
[150,150,"2037-07-14",7,{"$f":"IF(ISERROR(MATCH(D153,'Simulador CHIP Final'!$H$16:$H$17,0))=FALSE,\"C\",IF(ISERROR(MATCH(D153,'Simulador CHIP Final'!$H$18:$H$19,0))=FALSE,\"D\",\"\"))","v":""},{"$f":"IF(E153=\"C\",0,IF(E153 =\"D\",ROUND(1/((1+'Simulador CHIP Final'!$Q$13)^A153),9) * 2,ROUND(1/((1+'Simulador CHIP Final'!$Q$13)^A153),9)))","v":{"$error":"#DIV/0!"}},{"$error":"#DIV/0!"}]
[151,151,"2037-08-14",8,{"$f":"IF(ISERROR(MATCH(D154,'Simulador CHIP Final'!$H$16:$H$17,0))=FALSE,\"C\",IF(ISERROR(MATCH(D154,'Simulador CHIP Final'!$H$18:$H$19,0))=FALSE,\"D\",\"\"))","v":""},{"$f":"IF(E154=\"C\",0,IF(E154 =\"D\",ROUND(1/((1+'Simulador CHIP Final'!$Q$13)^A154),9) * 2,ROUND(1/((1+'Simulador CHIP Final'!$Q$13)^A154),9)))","v":{"$error":"#DIV/0!"}},{"$error":"#DIV/0!"}]
[152,152,"2037-09-14",9,{"$f":"IF(ISERROR(MATCH(D155,'Simulador CHIP Final'!$H$16:$H$17,0))=FALSE,\"C\",IF(ISERROR(MATCH(D155,'Simulador CHIP Final'!$H$18:$H$19,0))=FALSE,\"D\",\"\"))","v":""},{"$f":"IF(E155=\"C\",0,IF(E155 =\"D\",ROUND(1/((1+'Simulador CHIP Final'!$Q$13)^A155),9) * 2,ROUND(1/((1+'Simulador CHIP Final'!$Q$13)^A155),9)))","v":{"$error":"#DIV/0!"}},{"$error":"#DIV/0!"}]
[153,153,"2037-10-14",10,{"$f":"IF(ISERROR(MATCH(D156,'Simulador CHIP Final'!$H$16:$H$17,0))=FALSE,\"C\",IF(ISERROR(MATCH(D156,'Simulador CHIP Final'!$H$18:$H$19,0))=FALSE,\"D\",\"\"))","v":""},{"$f":"IF(E156=\"C\",0,IF(E156 =\"D\",ROUND(1/((1+'Simulador CHIP Final'!$Q$13)^A156),9) * 2,ROUND(1/((1+'Simulador CHIP Final'!$Q$13)^A156),9)))","v":{"$error":"#DIV/0!"}},{"$error":"#DIV/0!"}]
[154,154,"2037-11-14",11,{"$f":"IF(ISERROR(MATCH(D157,'Simulador CHIP Final'!$H$16:$H$17,0))=FALSE,\"C\",IF(ISERROR(MATCH(D157,'Simulador CHIP Final'!$H$18:$H$19,0))=FALSE,\"D\",\"\"))","v":""},{"$f":"IF(E157=\"C\",0,IF(E157 =\"D\",ROUND(1/((1+'Simulador CHIP Final'!$Q$13)^A157),9) * 2,ROUND(1/((1+'Simulador CHIP Final'!$Q$13)^A157),9)))","v":{"$error":"#DIV/0!"}},{"$error":"#DIV/0!"}]
[155,155,"2037-12-14",12,{"$f":"IF(ISERROR(MATCH(D158,'Simulador CHIP Final'!$H$16:$H$17,0))=FALSE,\"C\",IF(ISERROR(MATCH(D158,'Simulador CHIP Final'!$H$18:$H$19,0))=FALSE,\"D\",\"\"))","v":""},{"$f":"IF(E158=\"C\",0,IF(E158 =\"D\",ROUND(1/((1+'Simulador CHIP Final'!$Q$13)^A158),9) * 2,ROUND(1/((1+'Simulador CHIP Final'!$Q$13)^A158),9)))","v":{"$error":"#DIV/0!"}},{"$error":"#DIV/0!"}]
[156,156,"2038-01-14",1,{"$f":"IF(ISERROR(MATCH(D159,'Simulador CHIP Final'!$H$16:$H$17,0))=FALSE,\"C\",IF(ISERROR(MATCH(D159,'Simulador CHIP Final'!$H$18:$H$19,0))=FALSE,\"D\",\"\"))","v":""},{"$f":"IF(E159=\"C\",0,IF(E159 =\"D\",ROUND(1/((1+'Simulador CHIP Final'!$Q$13)^A159),9) * 2,ROUND(1/((1+'Simulador CHIP Final'!$Q$13)^A159),9)))","v":{"$error":"#DIV/0!"}},{"$error":"#DIV/0!"}]
[157,157,"2038-02-14",2,{"$f":"IF(ISERROR(MATCH(D160,'Simulador CHIP Final'!$H$16:$H$17,0))=FALSE,\"C\",IF(ISERROR(MATCH(D160,'Simulador CHIP Final'!$H$18:$H$19,0))=FALSE,\"D\",\"\"))","v":""},{"$f":"IF(E160=\"C\",0,IF(E160 =\"D\",ROUND(1/((1+'Simulador CHIP Final'!$Q$13)^A160),9) * 2,ROUND(1/((1+'Simulador CHIP Final'!$Q$13)^A160),9)))","v":{"$error":"#DIV/0!"}},{"$error":"#DIV/0!"}]
[158,158,"2038-03-14",3,{"$f":"IF(ISERROR(MATCH(D161,'Simulador CHIP Final'!$H$16:$H$17,0))=FALSE,\"C\",IF(ISERROR(MATCH(D161,'Simulador CHIP Final'!$H$18:$H$19,0))=FALSE,\"D\",\"\"))","v":""},{"$f":"IF(E161=\"C\",0,IF(E161 =\"D\",ROUND(1/((1+'Simulador CHIP Final'!$Q$13)^A161),9) * 2,ROUND(1/((1+'Simulador CHIP Final'!$Q$13)^A161),9)))","v":{"$error":"#DIV/0!"}},{"$error":"#DIV/0!"}]
[159,159,"2038-04-14",4,{"$f":"IF(ISERROR(MATCH(D162,'Simulador CHIP Final'!$H$16:$H$17,0))=FALSE,\"C\",IF(ISERROR(MATCH(D162,'Simulador CHIP Final'!$H$18:$H$19,0))=FALSE,\"D\",\"\"))","v":""},{"$f":"IF(E162=\"C\",0,IF(E162 =\"D\",ROUND(1/((1+'Simulador CHIP Final'!$Q$13)^A162),9) * 2,ROUND(1/((1+'Simulador CHIP Final'!$Q$13)^A162),9)))","v":{"$error":"#DIV/0!"}},{"$error":"#DIV/0!"}]
[160,160,"2038-05-14",5,{"$f":"IF(ISERROR(MATCH(D163,'Simulador CHIP Final'!$H$16:$H$17,0))=FALSE,\"C\",IF(ISERROR(MATCH(D163,'Simulador CHIP Final'!$H$18:$H$19,0))=FALSE,\"D\",\"\"))","v":""},{"$f":"IF(E163=\"C\",0,IF(E163 =\"D\",ROUND(1/((1+'Simulador CHIP Final'!$Q$13)^A163),9) * 2,ROUND(1/((1+'Simulador CHIP Final'!$Q$13)^A163),9)))","v":{"$error":"#DIV/0!"}},{"$error":"#DIV/0!"}]
[161,161,"2038-06-14",6,{"$f":"IF(ISERROR(MATCH(D164,'Simulador CHIP Final'!$H$16:$H$17,0))=FALSE,\"C\",IF(ISERROR(MATCH(D164,'Simulador CHIP Final'!$H$18:$H$19,0))=FALSE,\"D\",\"\"))","v":""},{"$f":"IF(E164=\"C\",0,IF(E164 =\"D\",ROUND(1/((1+'Simulador CHIP Final'!$Q$13)^A164),9) * 2,ROUND(1/((1+'Simulador CHIP Final'!$Q$13)^A164),9)))","v":{"$error":"#DIV/0!"}},{"$f":"G163+ROUND(F164,9)","v":{"$error":"#DIV/0!"}}]
[162,162,"2038-07-14",7,{"$f":"IF(ISERROR(MATCH(D165,'Simulador CHIP Final'!$H$16:$H$17,0))=FALSE,\"C\",IF(ISERROR(MATCH(D165,'Simulador CHIP Final'!$H$18:$H$19,0))=FALSE,\"D\",\"\"))","v":""},{"$f":"IF(E165=\"C\",0,IF(E165 =\"D\",ROUND(1/((1+'Simulador CHIP Final'!$Q$13)^A165),9) * 2,ROUND(1/((1+'Simulador CHIP Final'!$Q$13)^A165),9)))","v":{"$error":"#DIV/0!"}},{"$error":"#DIV/0!"}]
[163,163,"2038-08-14",8,{"$f":"IF(ISERROR(MATCH(D166,'Simulador CHIP Final'!$H$16:$H$17,0))=FALSE,\"C\",IF(ISERROR(MATCH(D166,'Simulador CHIP Final'!$H$18:$H$19,0))=FALSE,\"D\",\"\"))","v":""},{"$f":"IF(E166=\"C\",0,IF(E166 =\"D\",ROUND(1/((1+'Simulador CHIP Final'!$Q$13)^A166),9) * 2,ROUND(1/((1+'Simulador CHIP Final'!$Q$13)^A166),9)))","v":{"$error":"#DIV/0!"}},{"$error":"#DIV/0!"}]
[164,164,"2038-09-14",9,{"$f":"IF(ISERROR(MATCH(D167,'Simulador CHIP Final'!$H$16:$H$17,0))=FALSE,\"C\",IF(ISERROR(MATCH(D167,'Simulador CHIP Final'!$H$18:$H$19,0))=FALSE,\"D\",\"\"))","v":""},{"$f":"IF(E167=\"C\",0,IF(E167 =\"D\",ROUND(1/((1+'Simulador CHIP Final'!$Q$13)^A167),9) * 2,ROUND(1/((1+'Simulador CHIP Final'!$Q$13)^A167),9)))","v":{"$error":"#DIV/0!"}},{"$error":"#DIV/0!"}]
[165,165,"2038-10-14",10,{"$f":"IF(ISERROR(MATCH(D168,'Simulador CHIP Final'!$H$16:$H$17,0))=FALSE,\"C\",IF(ISERROR(MATCH(D168,'Simulador CHIP Final'!$H$18:$H$19,0))=FALSE,\"D\",\"\"))","v":""},{"$f":"IF(E168=\"C\",0,IF(E168 =\"D\",ROUND(1/((1+'Simulador CHIP Final'!$Q$13)^A168),9) * 2,ROUND(1/((1+'Simulador CHIP Final'!$Q$13)^A168),9)))","v":{"$error":"#DIV/0!"}},{"$error":"#DIV/0!"}]
[166,166,"2038-11-14",11,{"$f":"IF(ISERROR(MATCH(D169,'Simulador CHIP Final'!$H$16:$H$17,0))=FALSE,\"C\",IF(ISERROR(MATCH(D169,'Simulador CHIP Final'!$H$18:$H$19,0))=FALSE,\"D\",\"\"))","v":""},{"$f":"IF(E169=\"C\",0,IF(E169 =\"D\",ROUND(1/((1+'Simulador CHIP Final'!$Q$13)^A169),9) * 2,ROUND(1/((1+'Simulador CHIP Final'!$Q$13)^A169),9)))","v":{"$error":"#DIV/0!"}},{"$error":"#DIV/0!"}]
[167,167,"2038-12-14",12,{"$f":"IF(ISERROR(MATCH(D170,'Simulador CHIP Final'!$H$16:$H$17,0))=FALSE,\"C\",IF(ISERROR(MATCH(D170,'Simulador CHIP Final'!$H$18:$H$19,0))=FALSE,\"D\",\"\"))","v":""},{"$f":"IF(E170=\"C\",0,IF(E170 =\"D\",ROUND(1/((1+'Simulador CHIP Final'!$Q$13)^A170),9) * 2,ROUND(1/((1+'Simulador CHIP Final'!$Q$13)^A170),9)))","v":{"$error":"#DIV/0!"}},{"$error":"#DIV/0!"}]
[168,168,"2039-01-14",1,{"$f":"IF(ISERROR(MATCH(D171,'Simulador CHIP Final'!$H$16:$H$17,0))=FALSE,\"C\",IF(ISERROR(MATCH(D171,'Simulador CHIP Final'!$H$18:$H$19,0))=FALSE,\"D\",\"\"))","v":""},{"$f":"IF(E171=\"C\",0,IF(E171 =\"D\",ROUND(1/((1+'Simulador CHIP Final'!$Q$13)^A171),9) * 2,ROUND(1/((1+'Simulador CHIP Final'!$Q$13)^A171),9)))","v":{"$error":"#DIV/0!"}},{"$error":"#DIV/0!"}]
[169,169,"2039-02-14",2,{"$f":"IF(ISERROR(MATCH(D172,'Simulador CHIP Final'!$H$16:$H$17,0))=FALSE,\"C\",IF(ISERROR(MATCH(D172,'Simulador CHIP Final'!$H$18:$H$19,0))=FALSE,\"D\",\"\"))","v":""},{"$f":"IF(E172=\"C\",0,IF(E172 =\"D\",ROUND(1/((1+'Simulador CHIP Final'!$Q$13)^A172),9) * 2,ROUND(1/((1+'Simulador CHIP Final'!$Q$13)^A172),9)))","v":{"$error":"#DIV/0!"}},{"$error":"#DIV/0!"}]
[170,170,"2039-03-14",3,{"$f":"IF(ISERROR(MATCH(D173,'Simulador CHIP Final'!$H$16:$H$17,0))=FALSE,\"C\",IF(ISERROR(MATCH(D173,'Simulador CHIP Final'!$H$18:$H$19,0))=FALSE,\"D\",\"\"))","v":""},{"$f":"IF(E173=\"C\",0,IF(E173 =\"D\",ROUND(1/((1+'Simulador CHIP Final'!$Q$13)^A173),9) * 2,ROUND(1/((1+'Simulador CHIP Final'!$Q$13)^A173),9)))","v":{"$error":"#DIV/0!"}},{"$error":"#DIV/0!"}]
[171,171,"2039-04-14",4,{"$f":"IF(ISERROR(MATCH(D174,'Simulador CHIP Final'!$H$16:$H$17,0))=FALSE,\"C\",IF(ISERROR(MATCH(D174,'Simulador CHIP Final'!$H$18:$H$19,0))=FALSE,\"D\",\"\"))","v":""},{"$f":"IF(E174=\"C\",0,IF(E174 =\"D\",ROUND(1/((1+'Simulador CHIP Final'!$Q$13)^A174),9) * 2,ROUND(1/((1+'Simulador CHIP Final'!$Q$13)^A174),9)))","v":{"$error":"#DIV/0!"}},{"$error":"#DIV/0!"}]
[172,172,"2039-05-14",5,{"$f":"IF(ISERROR(MATCH(D175,'Simulador CHIP Final'!$H$16:$H$17,0))=FALSE,\"C\",IF(ISERROR(MATCH(D175,'Simulador CHIP Final'!$H$18:$H$19,0))=FALSE,\"D\",\"\"))","v":""},{"$f":"IF(E175=\"C\",0,IF(E175 =\"D\",ROUND(1/((1+'Simulador CHIP Final'!$Q$13)^A175),9) * 2,ROUND(1/((1+'Simulador CHIP Final'!$Q$13)^A175),9)))","v":{"$error":"#DIV/0!"}},{"$error":"#DIV/0!"}]
[173,173,"2039-06-14",6,{"$f":"IF(ISERROR(MATCH(D176,'Simulador CHIP Final'!$H$16:$H$17,0))=FALSE,\"C\",IF(ISERROR(MATCH(D176,'Simulador CHIP Final'!$H$18:$H$19,0))=FALSE,\"D\",\"\"))","v":""},{"$f":"IF(E176=\"C\",0,IF(E176 =\"D\",ROUND(1/((1+'Simulador CHIP Final'!$Q$13)^A176),9) * 2,ROUND(1/((1+'Simulador CHIP Final'!$Q$13)^A176),9)))","v":{"$error":"#DIV/0!"}},{"$error":"#DIV/0!"}]
[174,174,"2039-07-14",7,{"$f":"IF(ISERROR(MATCH(D177,'Simulador CHIP Final'!$H$16:$H$17,0))=FALSE,\"C\",IF(ISERROR(MATCH(D177,'Simulador CHIP Final'!$H$18:$H$19,0))=FALSE,\"D\",\"\"))","v":""},{"$f":"IF(E177=\"C\",0,IF(E177 =\"D\",ROUND(1/((1+'Simulador CHIP Final'!$Q$13)^A177),9) * 2,ROUND(1/((1+'Simulador CHIP Final'!$Q$13)^A177),9)))","v":{"$error":"#DIV/0!"}},{"$error":"#DIV/0!"}]
[175,175,"2039-08-14",8,{"$f":"IF(ISERROR(MATCH(D178,'Simulador CHIP Final'!$H$16:$H$17,0))=FALSE,\"C\",IF(ISERROR(MATCH(D178,'Simulador CHIP Final'!$H$18:$H$19,0))=FALSE,\"D\",\"\"))","v":""},{"$f":"IF(E178=\"C\",0,IF(E178 =\"D\",ROUND(1/((1+'Simulador CHIP Final'!$Q$13)^A178),9) * 2,ROUND(1/((1+'Simulador CHIP Final'!$Q$13)^A178),9)))","v":{"$error":"#DIV/0!"}},{"$error":"#DIV/0!"}]
[176,176,"2039-09-14",9,{"$f":"IF(ISERROR(MATCH(D179,'Simulador CHIP Final'!$H$16:$H$17,0))=FALSE,\"C\",IF(ISERROR(MATCH(D179,'Simulador CHIP Final'!$H$18:$H$19,0))=FALSE,\"D\",\"\"))","v":""},{"$f":"IF(E179=\"C\",0,IF(E179 =\"D\",ROUND(1/((1+'Simulador CHIP Final'!$Q$13)^A179),9) * 2,ROUND(1/((1+'Simulador CHIP Final'!$Q$13)^A179),9)))","v":{"$error":"#DIV/0!"}},{"$error":"#DIV/0!"}]
[177,177,"2039-10-14",10,{"$f":"IF(ISERROR(MATCH(D180,'Simulador CHIP Final'!$H$16:$H$17,0))=FALSE,\"C\",IF(ISERROR(MATCH(D180,'Simulador CHIP Final'!$H$18:$H$19,0))=FALSE,\"D\",\"\"))","v":""},{"$f":"IF(E180=\"C\",0,IF(E180 =\"D\",ROUND(1/((1+'Simulador CHIP Final'!$Q$13)^A180),9) * 2,ROUND(1/((1+'Simulador CHIP Final'!$Q$13)^A180),9)))","v":{"$error":"#DIV/0!"}},{"$error":"#DIV/0!"}]
[178,178,"2039-11-14",11,{"$f":"IF(ISERROR(MATCH(D181,'Simulador CHIP Final'!$H$16:$H$17,0))=FALSE,\"C\",IF(ISERROR(MATCH(D181,'Simulador CHIP Final'!$H$18:$H$19,0))=FALSE,\"D\",\"\"))","v":""},{"$f":"IF(E181=\"C\",0,IF(E181 =\"D\",ROUND(1/((1+'Simulador CHIP Final'!$Q$13)^A181),9) * 2,ROUND(1/((1+'Simulador CHIP Final'!$Q$13)^A181),9)))","v":{"$error":"#DIV/0!"}},{"$error":"#DIV/0!"}]
[179,179,"2039-12-14",12,{"$f":"IF(ISERROR(MATCH(D182,'Simulador CHIP Final'!$H$16:$H$17,0))=FALSE,\"C\",IF(ISERROR(MATCH(D182,'Simulador CHIP Final'!$H$18:$H$19,0))=FALSE,\"D\",\"\"))","v":""},{"$f":"IF(E182=\"C\",0,IF(E182 =\"D\",ROUND(1/((1+'Simulador CHIP Final'!$Q$13)^A182),9) * 2,ROUND(1/((1+'Simulador CHIP Final'!$Q$13)^A182),9)))","v":{"$error":"#DIV/0!"}},{"$error":"#DIV/0!"}]
[180,180,"2040-01-14",1,{"$f":"IF(ISERROR(MATCH(D183,'Simulador CHIP Final'!$H$16:$H$17,0))=FALSE,\"C\",IF(ISERROR(MATCH(D183,'Simulador CHIP Final'!$H$18:$H$19,0))=FALSE,\"D\",\"\"))","v":""},{"$f":"IF(E183=\"C\",0,IF(E183 =\"D\",ROUND(1/((1+'Simulador CHIP Final'!$Q$13)^A183),9) * 2,ROUND(1/((1+'Simulador CHIP Final'!$Q$13)^A183),9)))","v":{"$error":"#DIV/0!"}},{"$error":"#DIV/0!"}]
[181,181,"2040-02-14",2,{"$f":"IF(ISERROR(MATCH(D184,'Simulador CHIP Final'!$H$16:$H$17,0))=FALSE,\"C\",IF(ISERROR(MATCH(D184,'Simulador CHIP Final'!$H$18:$H$19,0))=FALSE,\"D\",\"\"))","v":""},{"$f":"IF(E184=\"C\",0,IF(E184 =\"D\",ROUND(1/((1+'Simulador CHIP Final'!$Q$13)^A184),9) * 2,ROUND(1/((1+'Simulador CHIP Final'!$Q$13)^A184),9)))","v":{"$error":"#DIV/0!"}},{"$error":"#DIV/0!"}]
[182,182,"2040-03-14",3,{"$f":"IF(ISERROR(MATCH(D185,'Simulador CHIP Final'!$H$16:$H$17,0))=FALSE,\"C\",IF(ISERROR(MATCH(D185,'Simulador CHIP Final'!$H$18:$H$19,0))=FALSE,\"D\",\"\"))","v":""},{"$f":"IF(E185=\"C\",0,IF(E185 =\"D\",ROUND(1/((1+'Simulador CHIP Final'!$Q$13)^A185),9) * 2,ROUND(1/((1+'Simulador CHIP Final'!$Q$13)^A185),9)))","v":{"$error":"#DIV/0!"}},{"$error":"#DIV/0!"}]
[183,183,"2040-04-14",4,{"$f":"IF(ISERROR(MATCH(D186,'Simulador CHIP Final'!$H$16:$H$17,0))=FALSE,\"C\",IF(ISERROR(MATCH(D186,'Simulador CHIP Final'!$H$18:$H$19,0))=FALSE,\"D\",\"\"))","v":""},{"$f":"IF(E186=\"C\",0,IF(E186 =\"D\",ROUND(1/((1+'Simulador CHIP Final'!$Q$13)^A186),9) * 2,ROUND(1/((1+'Simulador CHIP Final'!$Q$13)^A186),9)))","v":{"$error":"#DIV/0!"}},{"$error":"#DIV/0!"}]
[184,184,"2040-05-14",5,{"$f":"IF(ISERROR(MATCH(D187,'Simulador CHIP Final'!$H$16:$H$17,0))=FALSE,\"C\",IF(ISERROR(MATCH(D187,'Simulador CHIP Final'!$H$18:$H$19,0))=FALSE,\"D\",\"\"))","v":""},{"$f":"IF(E187=\"C\",0,IF(E187 =\"D\",ROUND(1/((1+'Simulador CHIP Final'!$Q$13)^A187),9) * 2,ROUND(1/((1+'Simulador CHIP Final'!$Q$13)^A187),9)))","v":{"$error":"#DIV/0!"}},{"$error":"#DIV/0!"}]
[185,185,"2040-06-14",6,{"$f":"IF(ISERROR(MATCH(D188,'Simulador CHIP Final'!$H$16:$H$17,0))=FALSE,\"C\",IF(ISERROR(MATCH(D188,'Simulador CHIP Final'!$H$18:$H$19,0))=FALSE,\"D\",\"\"))","v":""},{"$f":"IF(E188=\"C\",0,IF(E188 =\"D\",ROUND(1/((1+'Simulador CHIP Final'!$Q$13)^A188),9) * 2,ROUND(1/((1+'Simulador CHIP Final'!$Q$13)^A188),9)))","v":{"$error":"#DIV/0!"}},{"$error":"#DIV/0!"}]
[186,186,"2040-07-14",7,{"$f":"IF(ISERROR(MATCH(D189,'Simulador CHIP Final'!$H$16:$H$17,0))=FALSE,\"C\",IF(ISERROR(MATCH(D189,'Simulador CHIP Final'!$H$18:$H$19,0))=FALSE,\"D\",\"\"))","v":""},{"$f":"IF(E189=\"C\",0,IF(E189 =\"D\",ROUND(1/((1+'Simulador CHIP Final'!$Q$13)^A189),9) * 2,ROUND(1/((1+'Simulador CHIP Final'!$Q$13)^A189),9)))","v":{"$error":"#DIV/0!"}},{"$error":"#DIV/0!"}]
[187,187,"2040-08-14",8,{"$f":"IF(ISERROR(MATCH(D190,'Simulador CHIP Final'!$H$16:$H$17,0))=FALSE,\"C\",IF(ISERROR(MATCH(D190,'Simulador CHIP Final'!$H$18:$H$19,0))=FALSE,\"D\",\"\"))","v":""},{"$f":"IF(E190=\"C\",0,IF(E190 =\"D\",ROUND(1/((1+'Simulador CHIP Final'!$Q$13)^A190),9) * 2,ROUND(1/((1+'Simulador CHIP Final'!$Q$13)^A190),9)))","v":{"$error":"#DIV/0!"}},{"$error":"#DIV/0!"}]
[188,188,"2040-09-14",9,{"$f":"IF(ISERROR(MATCH(D191,'Simulador CHIP Final'!$H$16:$H$17,0))=FALSE,\"C\",IF(ISERROR(MATCH(D191,'Simulador CHIP Final'!$H$18:$H$19,0))=FALSE,\"D\",\"\"))","v":""},{"$f":"IF(E191=\"C\",0,IF(E191 =\"D\",ROUND(1/((1+'Simulador CHIP Final'!$Q$13)^A191),9) * 2,ROUND(1/((1+'Simulador CHIP Final'!$Q$13)^A191),9)))","v":{"$error":"#DIV/0!"}},{"$error":"#DIV/0!"}]
[189,189,"2040-10-14",10,{"$f":"IF(ISERROR(MATCH(D192,'Simulador CHIP Final'!$H$16:$H$17,0))=FALSE,\"C\",IF(ISERROR(MATCH(D192,'Simulador CHIP Final'!$H$18:$H$19,0))=FALSE,\"D\",\"\"))","v":""},{"$f":"IF(E192=\"C\",0,IF(E192 =\"D\",ROUND(1/((1+'Simulador CHIP Final'!$Q$13)^A192),9) * 2,ROUND(1/((1+'Simulador CHIP Final'!$Q$13)^A192),9)))","v":{"$error":"#DIV/0!"}},{"$error":"#DIV/0!"}]
[190,190,"2040-11-14",11,{"$f":"IF(ISERROR(MATCH(D193,'Simulador CHIP Final'!$H$16:$H$17,0))=FALSE,\"C\",IF(ISERROR(MATCH(D193,'Simulador CHIP Final'!$H$18:$H$19,0))=FALSE,\"D\",\"\"))","v":""},{"$f":"IF(E193=\"C\",0,IF(E193 =\"D\",ROUND(1/((1+'Simulador CHIP Final'!$Q$13)^A193),9) * 2,ROUND(1/((1+'Simulador CHIP Final'!$Q$13)^A193),9)))","v":{"$error":"#DIV/0!"}},{"$error":"#DIV/0!"}]
[191,191,"2040-12-14",12,{"$f":"IF(ISERROR(MATCH(D194,'Simulador CHIP Final'!$H$16:$H$17,0))=FALSE,\"C\",IF(ISERROR(MATCH(D194,'Simulador CHIP Final'!$H$18:$H$19,0))=FALSE,\"D\",\"\"))","v":""},{"$f":"IF(E194=\"C\",0,IF(E194 =\"D\",ROUND(1/((1+'Simulador CHIP Final'!$Q$13)^A194),9) * 2,ROUND(1/((1+'Simulador CHIP Final'!$Q$13)^A194),9)))","v":{"$error":"#DIV/0!"}},{"$error":"#DIV/0!"}]
[192,192,"2041-01-14",1,{"$f":"IF(ISERROR(MATCH(D195,'Simulador CHIP Final'!$H$16:$H$17,0))=FALSE,\"C\",IF(ISERROR(MATCH(D195,'Simulador CHIP Final'!$H$18:$H$19,0))=FALSE,\"D\",\"\"))","v":""},{"$f":"IF(E195=\"C\",0,IF(E195 =\"D\",ROUND(1/((1+'Simulador CHIP Final'!$Q$13)^A195),9) * 2,ROUND(1/((1+'Simulador CHIP Final'!$Q$13)^A195),9)))","v":{"$error":"#DIV/0!"}},{"$error":"#DIV/0!"}]
[193,193,"2041-02-14",{"$f":"MONTH(C196)","v":2},{"$f":"IF(ISERROR(MATCH(D196,'Simulador CHIP Final'!$H$16:$H$17,0))=FALSE,\"C\",IF(ISERROR(MATCH(D196,'Simulador CHIP Final'!$H$18:$H$19,0))=FALSE,\"D\",\"\"))","v":""},{"$f":"IF(E196=\"C\",0,IF(E196 =\"D\",ROUND(1/((1+'Simulador CHIP Final'!$Q$13)^A196),9) * 2,ROUND(1/((1+'Simulador CHIP Final'!$Q$13)^A196),9)))","v":{"$error":"#DIV/0!"}},{"$error":"#DIV/0!"}]
[{"$f":"A196+1","v":194},{"$f":"IF(E197<>\"C\",IF(ISERROR(1+B196)=TRUE,1,1+B196),IF(ISNUMBER(B196),B196,1))","v":194},{"$f":"DATE(YEAR(C196) + 1/12,MONTH(C196)+1,DAY(C196))","v":"2041-03-14"},3,{"$f":"IF(ISERROR(MATCH(D197,'Simulador CHIP Final'!$H$16:$H$17,0))=FALSE,\"C\",IF(ISERROR(MATCH(D197,'Simulador CHIP Final'!$H$18:$H$19,0))=FALSE,\"D\",\"\"))","v":""},{"$f":"IF(E197=\"C\",0,IF(E197 =\"D\",ROUND(1/((1+'Simulador CHIP Final'!$Q$13)^A197),9) * 2,ROUND(1/((1+'Simulador CHIP Final'!$Q$13)^A197),9)))","v":{"$error":"#DIV/0!"}},{"$error":"#DIV/0!"}]
[195,195,"2041-04-14",4,{"$f":"IF(ISERROR(MATCH(D198,'Simulador CHIP Final'!$H$16:$H$17,0))=FALSE,\"C\",IF(ISERROR(MATCH(D198,'Simulador CHIP Final'!$H$18:$H$19,0))=FALSE,\"D\",\"\"))","v":""},{"$f":"IF(E198=\"C\",0,IF(E198 =\"D\",ROUND(1/((1+'Simulador CHIP Final'!$Q$13)^A198),9) * 2,ROUND(1/((1+'Simulador CHIP Final'!$Q$13)^A198),9)))","v":{"$error":"#DIV/0!"}},{"$error":"#DIV/0!"}]
[196,196,"2041-05-14",5,{"$f":"IF(ISERROR(MATCH(D199,'Simulador CHIP Final'!$H$16:$H$17,0))=FALSE,\"C\",IF(ISERROR(MATCH(D199,'Simulador CHIP Final'!$H$18:$H$19,0))=FALSE,\"D\",\"\"))","v":""},{"$f":"IF(E199=\"C\",0,IF(E199 =\"D\",ROUND(1/((1+'Simulador CHIP Final'!$Q$13)^A199),9) * 2,ROUND(1/((1+'Simulador CHIP Final'!$Q$13)^A199),9)))","v":{"$error":"#DIV/0!"}},{"$error":"#DIV/0!"}]
[197,197,"2041-06-14",6,{"$f":"IF(ISERROR(MATCH(D200,'Simulador CHIP Final'!$H$16:$H$17,0))=FALSE,\"C\",IF(ISERROR(MATCH(D200,'Simulador CHIP Final'!$H$18:$H$19,0))=FALSE,\"D\",\"\"))","v":""},{"$f":"IF(E200=\"C\",0,IF(E200 =\"D\",ROUND(1/((1+'Simulador CHIP Final'!$Q$13)^A200),9) * 2,ROUND(1/((1+'Simulador CHIP Final'!$Q$13)^A200),9)))","v":{"$error":"#DIV/0!"}},{"$error":"#DIV/0!"}]
[198,198,"2041-07-14",7,{"$f":"IF(ISERROR(MATCH(D201,'Simulador CHIP Final'!$H$16:$H$17,0))=FALSE,\"C\",IF(ISERROR(MATCH(D201,'Simulador CHIP Final'!$H$18:$H$19,0))=FALSE,\"D\",\"\"))","v":""},{"$f":"IF(E201=\"C\",0,IF(E201 =\"D\",ROUND(1/((1+'Simulador CHIP Final'!$Q$13)^A201),9) * 2,ROUND(1/((1+'Simulador CHIP Final'!$Q$13)^A201),9)))","v":{"$error":"#DIV/0!"}},{"$error":"#DIV/0!"}]
[199,199,"2041-08-14",8,{"$f":"IF(ISERROR(MATCH(D202,'Simulador CHIP Final'!$H$16:$H$17,0))=FALSE,\"C\",IF(ISERROR(MATCH(D202,'Simulador CHIP Final'!$H$18:$H$19,0))=FALSE,\"D\",\"\"))","v":""},{"$f":"IF(E202=\"C\",0,IF(E202 =\"D\",ROUND(1/((1+'Simulador CHIP Final'!$Q$13)^A202),9) * 2,ROUND(1/((1+'Simulador CHIP Final'!$Q$13)^A202),9)))","v":{"$error":"#DIV/0!"}},{"$error":"#DIV/0!"}]
[200,200,"2041-09-14",9,{"$f":"IF(ISERROR(MATCH(D203,'Simulador CHIP Final'!$H$16:$H$17,0))=FALSE,\"C\",IF(ISERROR(MATCH(D203,'Simulador CHIP Final'!$H$18:$H$19,0))=FALSE,\"D\",\"\"))","v":""},{"$f":"IF(E203=\"C\",0,IF(E203 =\"D\",ROUND(1/((1+'Simulador CHIP Final'!$Q$13)^A203),9) * 2,ROUND(1/((1+'Simulador CHIP Final'!$Q$13)^A203),9)))","v":{"$error":"#DIV/0!"}},{"$error":"#DIV/0!"}]
[201,201,"2041-10-14",10,{"$f":"IF(ISERROR(MATCH(D204,'Simulador CHIP Final'!$H$16:$H$17,0))=FALSE,\"C\",IF(ISERROR(MATCH(D204,'Simulador CHIP Final'!$H$18:$H$19,0))=FALSE,\"D\",\"\"))","v":""},{"$f":"IF(E204=\"C\",0,IF(E204 =\"D\",ROUND(1/((1+'Simulador CHIP Final'!$Q$13)^A204),9) * 2,ROUND(1/((1+'Simulador CHIP Final'!$Q$13)^A204),9)))","v":{"$error":"#DIV/0!"}},{"$error":"#DIV/0!"}]
[202,202,"2041-11-14",11,{"$f":"IF(ISERROR(MATCH(D205,'Simulador CHIP Final'!$H$16:$H$17,0))=FALSE,\"C\",IF(ISERROR(MATCH(D205,'Simulador CHIP Final'!$H$18:$H$19,0))=FALSE,\"D\",\"\"))","v":""},{"$f":"IF(E205=\"C\",0,IF(E205 =\"D\",ROUND(1/((1+'Simulador CHIP Final'!$Q$13)^A205),9) * 2,ROUND(1/((1+'Simulador CHIP Final'!$Q$13)^A205),9)))","v":{"$error":"#DIV/0!"}},{"$error":"#DIV/0!"}]
[203,203,"2041-12-14",12,{"$f":"IF(ISERROR(MATCH(D206,'Simulador CHIP Final'!$H$16:$H$17,0))=FALSE,\"C\",IF(ISERROR(MATCH(D206,'Simulador CHIP Final'!$H$18:$H$19,0))=FALSE,\"D\",\"\"))","v":""},{"$f":"IF(E206=\"C\",0,IF(E206 =\"D\",ROUND(1/((1+'Simulador CHIP Final'!$Q$13)^A206),9) * 2,ROUND(1/((1+'Simulador CHIP Final'!$Q$13)^A206),9)))","v":{"$error":"#DIV/0!"}},{"$error":"#DIV/0!"}]
[204,204,"2042-01-14",1,{"$f":"IF(ISERROR(MATCH(D207,'Simulador CHIP Final'!$H$16:$H$17,0))=FALSE,\"C\",IF(ISERROR(MATCH(D207,'Simulador CHIP Final'!$H$18:$H$19,0))=FALSE,\"D\",\"\"))","v":""},{"$f":"IF(E207=\"C\",0,IF(E207 =\"D\",ROUND(1/((1+'Simulador CHIP Final'!$Q$13)^A207),9) * 2,ROUND(1/((1+'Simulador CHIP Final'!$Q$13)^A207),9)))","v":{"$error":"#DIV/0!"}},{"$error":"#DIV/0!"}]
[205,205,"2042-02-14",2,{"$f":"IF(ISERROR(MATCH(D208,'Simulador CHIP Final'!$H$16:$H$17,0))=FALSE,\"C\",IF(ISERROR(MATCH(D208,'Simulador CHIP Final'!$H$18:$H$19,0))=FALSE,\"D\",\"\"))","v":""},{"$f":"IF(E208=\"C\",0,IF(E208 =\"D\",ROUND(1/((1+'Simulador CHIP Final'!$Q$13)^A208),9) * 2,ROUND(1/((1+'Simulador CHIP Final'!$Q$13)^A208),9)))","v":{"$error":"#DIV/0!"}},{"$error":"#DIV/0!"}]
[206,206,"2042-03-14",3,{"$f":"IF(ISERROR(MATCH(D209,'Simulador CHIP Final'!$H$16:$H$17,0))=FALSE,\"C\",IF(ISERROR(MATCH(D209,'Simulador CHIP Final'!$H$18:$H$19,0))=FALSE,\"D\",\"\"))","v":""},{"$f":"IF(E209=\"C\",0,IF(E209 =\"D\",ROUND(1/((1+'Simulador CHIP Final'!$Q$13)^A209),9) * 2,ROUND(1/((1+'Simulador CHIP Final'!$Q$13)^A209),9)))","v":{"$error":"#DIV/0!"}},{"$error":"#DIV/0!"}]
[207,207,"2042-04-14",4,{"$f":"IF(ISERROR(MATCH(D210,'Simulador CHIP Final'!$H$16:$H$17,0))=FALSE,\"C\",IF(ISERROR(MATCH(D210,'Simulador CHIP Final'!$H$18:$H$19,0))=FALSE,\"D\",\"\"))","v":""},{"$f":"IF(E210=\"C\",0,IF(E210 =\"D\",ROUND(1/((1+'Simulador CHIP Final'!$Q$13)^A210),9) * 2,ROUND(1/((1+'Simulador CHIP Final'!$Q$13)^A210),9)))","v":{"$error":"#DIV/0!"}},{"$error":"#DIV/0!"}]
[208,208,"2042-05-14",5,{"$f":"IF(ISERROR(MATCH(D211,'Simulador CHIP Final'!$H$16:$H$17,0))=FALSE,\"C\",IF(ISERROR(MATCH(D211,'Simulador CHIP Final'!$H$18:$H$19,0))=FALSE,\"D\",\"\"))","v":""},{"$f":"IF(E211=\"C\",0,IF(E211 =\"D\",ROUND(1/((1+'Simulador CHIP Final'!$Q$13)^A211),9) * 2,ROUND(1/((1+'Simulador CHIP Final'!$Q$13)^A211),9)))","v":{"$error":"#DIV/0!"}},{"$error":"#DIV/0!"}]
[209,209,"2042-06-14",6,{"$f":"IF(ISERROR(MATCH(D212,'Simulador CHIP Final'!$H$16:$H$17,0))=FALSE,\"C\",IF(ISERROR(MATCH(D212,'Simulador CHIP Final'!$H$18:$H$19,0))=FALSE,\"D\",\"\"))","v":""},{"$f":"IF(E212=\"C\",0,IF(E212 =\"D\",ROUND(1/((1+'Simulador CHIP Final'!$Q$13)^A212),9) * 2,ROUND(1/((1+'Simulador CHIP Final'!$Q$13)^A212),9)))","v":{"$error":"#DIV/0!"}},{"$error":"#DIV/0!"}]
[210,210,"2042-07-14",7,{"$f":"IF(ISERROR(MATCH(D213,'Simulador CHIP Final'!$H$16:$H$17,0))=FALSE,\"C\",IF(ISERROR(MATCH(D213,'Simulador CHIP Final'!$H$18:$H$19,0))=FALSE,\"D\",\"\"))","v":""},{"$f":"IF(E213=\"C\",0,IF(E213 =\"D\",ROUND(1/((1+'Simulador CHIP Final'!$Q$13)^A213),9) * 2,ROUND(1/((1+'Simulador CHIP Final'!$Q$13)^A213),9)))","v":{"$error":"#DIV/0!"}},{"$error":"#DIV/0!"}]
[211,211,"2042-08-14",8,{"$f":"IF(ISERROR(MATCH(D214,'Simulador CHIP Final'!$H$16:$H$17,0))=FALSE,\"C\",IF(ISERROR(MATCH(D214,'Simulador CHIP Final'!$H$18:$H$19,0))=FALSE,\"D\",\"\"))","v":""},{"$f":"IF(E214=\"C\",0,IF(E214 =\"D\",ROUND(1/((1+'Simulador CHIP Final'!$Q$13)^A214),9) * 2,ROUND(1/((1+'Simulador CHIP Final'!$Q$13)^A214),9)))","v":{"$error":"#DIV/0!"}},{"$error":"#DIV/0!"}]
[212,212,"2042-09-14",9,{"$f":"IF(ISERROR(MATCH(D215,'Simulador CHIP Final'!$H$16:$H$17,0))=FALSE,\"C\",IF(ISERROR(MATCH(D215,'Simulador CHIP Final'!$H$18:$H$19,0))=FALSE,\"D\",\"\"))","v":""},{"$f":"IF(E215=\"C\",0,IF(E215 =\"D\",ROUND(1/((1+'Simulador CHIP Final'!$Q$13)^A215),9) * 2,ROUND(1/((1+'Simulador CHIP Final'!$Q$13)^A215),9)))","v":{"$error":"#DIV/0!"}},{"$error":"#DIV/0!"}]
[213,213,"2042-10-14",10,{"$f":"IF(ISERROR(MATCH(D216,'Simulador CHIP Final'!$H$16:$H$17,0))=FALSE,\"C\",IF(ISERROR(MATCH(D216,'Simulador CHIP Final'!$H$18:$H$19,0))=FALSE,\"D\",\"\"))","v":""},{"$f":"IF(E216=\"C\",0,IF(E216 =\"D\",ROUND(1/((1+'Simulador CHIP Final'!$Q$13)^A216),9) * 2,ROUND(1/((1+'Simulador CHIP Final'!$Q$13)^A216),9)))","v":{"$error":"#DIV/0!"}},{"$error":"#DIV/0!"}]
[214,214,"2042-11-14",11,{"$f":"IF(ISERROR(MATCH(D217,'Simulador CHIP Final'!$H$16:$H$17,0))=FALSE,\"C\",IF(ISERROR(MATCH(D217,'Simulador CHIP Final'!$H$18:$H$19,0))=FALSE,\"D\",\"\"))","v":""},{"$f":"IF(E217=\"C\",0,IF(E217 =\"D\",ROUND(1/((1+'Simulador CHIP Final'!$Q$13)^A217),9) * 2,ROUND(1/((1+'Simulador CHIP Final'!$Q$13)^A217),9)))","v":{"$error":"#DIV/0!"}},{"$error":"#DIV/0!"}]
[215,215,"2042-12-14",12,{"$f":"IF(ISERROR(MATCH(D218,'Simulador CHIP Final'!$H$16:$H$17,0))=FALSE,\"C\",IF(ISERROR(MATCH(D218,'Simulador CHIP Final'!$H$18:$H$19,0))=FALSE,\"D\",\"\"))","v":""},{"$f":"IF(E218=\"C\",0,IF(E218 =\"D\",ROUND(1/((1+'Simulador CHIP Final'!$Q$13)^A218),9) * 2,ROUND(1/((1+'Simulador CHIP Final'!$Q$13)^A218),9)))","v":{"$error":"#DIV/0!"}},{"$error":"#DIV/0!"}]
[216,216,"2043-01-14",1,{"$f":"IF(ISERROR(MATCH(D219,'Simulador CHIP Final'!$H$16:$H$17,0))=FALSE,\"C\",IF(ISERROR(MATCH(D219,'Simulador CHIP Final'!$H$18:$H$19,0))=FALSE,\"D\",\"\"))","v":""},{"$f":"IF(E219=\"C\",0,IF(E219 =\"D\",ROUND(1/((1+'Simulador CHIP Final'!$Q$13)^A219),9) * 2,ROUND(1/((1+'Simulador CHIP Final'!$Q$13)^A219),9)))","v":{"$error":"#DIV/0!"}},{"$error":"#DIV/0!"}]
[217,217,"2043-02-14",2,{"$f":"IF(ISERROR(MATCH(D220,'Simulador CHIP Final'!$H$16:$H$17,0))=FALSE,\"C\",IF(ISERROR(MATCH(D220,'Simulador CHIP Final'!$H$18:$H$19,0))=FALSE,\"D\",\"\"))","v":""},{"$f":"IF(E220=\"C\",0,IF(E220 =\"D\",ROUND(1/((1+'Simulador CHIP Final'!$Q$13)^A220),9) * 2,ROUND(1/((1+'Simulador CHIP Final'!$Q$13)^A220),9)))","v":{"$error":"#DIV/0!"}},{"$f":"G219+ROUND(F220,9)","v":{"$error":"#DIV/0!"}}]
[218,218,"2043-03-14",3,{"$f":"IF(ISERROR(MATCH(D221,'Simulador CHIP Final'!$H$16:$H$17,0))=FALSE,\"C\",IF(ISERROR(MATCH(D221,'Simulador CHIP Final'!$H$18:$H$19,0))=FALSE,\"D\",\"\"))","v":""},{"$f":"IF(E221=\"C\",0,IF(E221 =\"D\",ROUND(1/((1+'Simulador CHIP Final'!$Q$13)^A221),9) * 2,ROUND(1/((1+'Simulador CHIP Final'!$Q$13)^A221),9)))","v":{"$error":"#DIV/0!"}},{"$f":"G220+ROUND(F221,9)","v":{"$error":"#DIV/0!"}}]
[219,219,"2043-04-14",4,{"$f":"IF(ISERROR(MATCH(D222,'Simulador CHIP Final'!$H$16:$H$17,0))=FALSE,\"C\",IF(ISERROR(MATCH(D222,'Simulador CHIP Final'!$H$18:$H$19,0))=FALSE,\"D\",\"\"))","v":""},{"$f":"IF(E222=\"C\",0,IF(E222 =\"D\",ROUND(1/((1+'Simulador CHIP Final'!$Q$13)^A222),9) * 2,ROUND(1/((1+'Simulador CHIP Final'!$Q$13)^A222),9)))","v":{"$error":"#DIV/0!"}},{"$f":"G221+ROUND(F222,9)","v":{"$error":"#DIV/0!"}}]
[220,220,"2043-05-14",5,{"$f":"IF(ISERROR(MATCH(D223,'Simulador CHIP Final'!$H$16:$H$17,0))=FALSE,\"C\",IF(ISERROR(MATCH(D223,'Simulador CHIP Final'!$H$18:$H$19,0))=FALSE,\"D\",\"\"))","v":""},{"$f":"IF(E223=\"C\",0,IF(E223 =\"D\",ROUND(1/((1+'Simulador CHIP Final'!$Q$13)^A223),9) * 2,ROUND(1/((1+'Simulador CHIP Final'!$Q$13)^A223),9)))","v":{"$error":"#DIV/0!"}},{"$f":"G222+ROUND(F223,9)","v":{"$error":"#DIV/0!"}}]
[221,221,"2043-06-14",6,{"$f":"IF(ISERROR(MATCH(D224,'Simulador CHIP Final'!$H$16:$H$17,0))=FALSE,\"C\",IF(ISERROR(MATCH(D224,'Simulador CHIP Final'!$H$18:$H$19,0))=FALSE,\"D\",\"\"))","v":""},{"$f":"IF(E224=\"C\",0,IF(E224 =\"D\",ROUND(1/((1+'Simulador CHIP Final'!$Q$13)^A224),9) * 2,ROUND(1/((1+'Simulador CHIP Final'!$Q$13)^A224),9)))","v":{"$error":"#DIV/0!"}},{"$f":"G223+ROUND(F224,9)","v":{"$error":"#DIV/0!"}}]
[222,222,"2043-07-14",7,{"$f":"IF(ISERROR(MATCH(D225,'Simulador CHIP Final'!$H$16:$H$17,0))=FALSE,\"C\",IF(ISERROR(MATCH(D225,'Simulador CHIP Final'!$H$18:$H$19,0))=FALSE,\"D\",\"\"))","v":""},{"$f":"IF(E225=\"C\",0,IF(E225 =\"D\",ROUND(1/((1+'Simulador CHIP Final'!$Q$13)^A225),9) * 2,ROUND(1/((1+'Simulador CHIP Final'!$Q$13)^A225),9)))","v":{"$error":"#DIV/0!"}},{"$f":"G224+ROUND(F225,9)","v":{"$error":"#DIV/0!"}}]
[223,223,"2043-08-14",8,{"$f":"IF(ISERROR(MATCH(D226,'Simulador CHIP Final'!$H$16:$H$17,0))=FALSE,\"C\",IF(ISERROR(MATCH(D226,'Simulador CHIP Final'!$H$18:$H$19,0))=FALSE,\"D\",\"\"))","v":""},{"$f":"IF(E226=\"C\",0,IF(E226 =\"D\",ROUND(1/((1+'Simulador CHIP Final'!$Q$13)^A226),9) * 2,ROUND(1/((1+'Simulador CHIP Final'!$Q$13)^A226),9)))","v":{"$error":"#DIV/0!"}},{"$error":"#DIV/0!"}]
[224,224,"2043-09-14",9,{"$f":"IF(ISERROR(MATCH(D227,'Simulador CHIP Final'!$H$16:$H$17,0))=FALSE,\"C\",IF(ISERROR(MATCH(D227,'Simulador CHIP Final'!$H$18:$H$19,0))=FALSE,\"D\",\"\"))","v":""},{"$f":"IF(E227=\"C\",0,IF(E227 =\"D\",ROUND(1/((1+'Simulador CHIP Final'!$Q$13)^A227),9) * 2,ROUND(1/((1+'Simulador CHIP Final'!$Q$13)^A227),9)))","v":{"$error":"#DIV/0!"}},{"$error":"#DIV/0!"}]
[225,225,"2043-10-14",10,{"$f":"IF(ISERROR(MATCH(D228,'Simulador CHIP Final'!$H$16:$H$17,0))=FALSE,\"C\",IF(ISERROR(MATCH(D228,'Simulador CHIP Final'!$H$18:$H$19,0))=FALSE,\"D\",\"\"))","v":""},{"$f":"IF(E228=\"C\",0,IF(E228 =\"D\",ROUND(1/((1+'Simulador CHIP Final'!$Q$13)^A228),9) * 2,ROUND(1/((1+'Simulador CHIP Final'!$Q$13)^A228),9)))","v":{"$error":"#DIV/0!"}},{"$error":"#DIV/0!"}]
[226,226,"2043-11-14",11,{"$f":"IF(ISERROR(MATCH(D229,'Simulador CHIP Final'!$H$16:$H$17,0))=FALSE,\"C\",IF(ISERROR(MATCH(D229,'Simulador CHIP Final'!$H$18:$H$19,0))=FALSE,\"D\",\"\"))","v":""},{"$f":"IF(E229=\"C\",0,IF(E229 =\"D\",ROUND(1/((1+'Simulador CHIP Final'!$Q$13)^A229),9) * 2,ROUND(1/((1+'Simulador CHIP Final'!$Q$13)^A229),9)))","v":{"$error":"#DIV/0!"}},{"$error":"#DIV/0!"}]
[227,227,"2043-12-14",12,{"$f":"IF(ISERROR(MATCH(D230,'Simulador CHIP Final'!$H$16:$H$17,0))=FALSE,\"C\",IF(ISERROR(MATCH(D230,'Simulador CHIP Final'!$H$18:$H$19,0))=FALSE,\"D\",\"\"))","v":""},{"$f":"IF(E230=\"C\",0,IF(E230 =\"D\",ROUND(1/((1+'Simulador CHIP Final'!$Q$13)^A230),9) * 2,ROUND(1/((1+'Simulador CHIP Final'!$Q$13)^A230),9)))","v":{"$error":"#DIV/0!"}},{"$error":"#DIV/0!"}]
[228,228,"2044-01-14",1,{"$f":"IF(ISERROR(MATCH(D231,'Simulador CHIP Final'!$H$16:$H$17,0))=FALSE,\"C\",IF(ISERROR(MATCH(D231,'Simulador CHIP Final'!$H$18:$H$19,0))=FALSE,\"D\",\"\"))","v":""},{"$f":"IF(E231=\"C\",0,IF(E231 =\"D\",ROUND(1/((1+'Simulador CHIP Final'!$Q$13)^A231),9) * 2,ROUND(1/((1+'Simulador CHIP Final'!$Q$13)^A231),9)))","v":{"$error":"#DIV/0!"}},{"$error":"#DIV/0!"}]
[229,229,"2044-02-14",2,{"$f":"IF(ISERROR(MATCH(D232,'Simulador CHIP Final'!$H$16:$H$17,0))=FALSE,\"C\",IF(ISERROR(MATCH(D232,'Simulador CHIP Final'!$H$18:$H$19,0))=FALSE,\"D\",\"\"))","v":""},{"$f":"IF(E232=\"C\",0,IF(E232 =\"D\",ROUND(1/((1+'Simulador CHIP Final'!$Q$13)^A232),9) * 2,ROUND(1/((1+'Simulador CHIP Final'!$Q$13)^A232),9)))","v":{"$error":"#DIV/0!"}},{"$error":"#DIV/0!"}]
[230,230,"2044-03-14",3,{"$f":"IF(ISERROR(MATCH(D233,'Simulador CHIP Final'!$H$16:$H$17,0))=FALSE,\"C\",IF(ISERROR(MATCH(D233,'Simulador CHIP Final'!$H$18:$H$19,0))=FALSE,\"D\",\"\"))","v":""},{"$f":"IF(E233=\"C\",0,IF(E233 =\"D\",ROUND(1/((1+'Simulador CHIP Final'!$Q$13)^A233),9) * 2,ROUND(1/((1+'Simulador CHIP Final'!$Q$13)^A233),9)))","v":{"$error":"#DIV/0!"}},{"$error":"#DIV/0!"}]
[231,231,"2044-04-14",4,{"$f":"IF(ISERROR(MATCH(D234,'Simulador CHIP Final'!$H$16:$H$17,0))=FALSE,\"C\",IF(ISERROR(MATCH(D234,'Simulador CHIP Final'!$H$18:$H$19,0))=FALSE,\"D\",\"\"))","v":""},{"$f":"IF(E234=\"C\",0,IF(E234 =\"D\",ROUND(1/((1+'Simulador CHIP Final'!$Q$13)^A234),9) * 2,ROUND(1/((1+'Simulador CHIP Final'!$Q$13)^A234),9)))","v":{"$error":"#DIV/0!"}},{"$error":"#DIV/0!"}]
[232,232,"2044-05-14",5,{"$f":"IF(ISERROR(MATCH(D235,'Simulador CHIP Final'!$H$16:$H$17,0))=FALSE,\"C\",IF(ISERROR(MATCH(D235,'Simulador CHIP Final'!$H$18:$H$19,0))=FALSE,\"D\",\"\"))","v":""},{"$f":"IF(E235=\"C\",0,IF(E235 =\"D\",ROUND(1/((1+'Simulador CHIP Final'!$Q$13)^A235),9) * 2,ROUND(1/((1+'Simulador CHIP Final'!$Q$13)^A235),9)))","v":{"$error":"#DIV/0!"}},{"$error":"#DIV/0!"}]
[233,233,"2044-06-14",6,{"$f":"IF(ISERROR(MATCH(D236,'Simulador CHIP Final'!$H$16:$H$17,0))=FALSE,\"C\",IF(ISERROR(MATCH(D236,'Simulador CHIP Final'!$H$18:$H$19,0))=FALSE,\"D\",\"\"))","v":""},{"$f":"IF(E236=\"C\",0,IF(E236 =\"D\",ROUND(1/((1+'Simulador CHIP Final'!$Q$13)^A236),9) * 2,ROUND(1/((1+'Simulador CHIP Final'!$Q$13)^A236),9)))","v":{"$error":"#DIV/0!"}},{"$error":"#DIV/0!"}]
[234,234,"2044-07-14",7,{"$f":"IF(ISERROR(MATCH(D237,'Simulador CHIP Final'!$H$16:$H$17,0))=FALSE,\"C\",IF(ISERROR(MATCH(D237,'Simulador CHIP Final'!$H$18:$H$19,0))=FALSE,\"D\",\"\"))","v":""},{"$f":"IF(E237=\"C\",0,IF(E237 =\"D\",ROUND(1/((1+'Simulador CHIP Final'!$Q$13)^A237),9) * 2,ROUND(1/((1+'Simulador CHIP Final'!$Q$13)^A237),9)))","v":{"$error":"#DIV/0!"}},{"$error":"#DIV/0!"}]
[235,235,"2044-08-14",8,{"$f":"IF(ISERROR(MATCH(D238,'Simulador CHIP Final'!$H$16:$H$17,0))=FALSE,\"C\",IF(ISERROR(MATCH(D238,'Simulador CHIP Final'!$H$18:$H$19,0))=FALSE,\"D\",\"\"))","v":""},{"$f":"IF(E238=\"C\",0,IF(E238 =\"D\",ROUND(1/((1+'Simulador CHIP Final'!$Q$13)^A238),9) * 2,ROUND(1/((1+'Simulador CHIP Final'!$Q$13)^A238),9)))","v":{"$error":"#DIV/0!"}},{"$error":"#DIV/0!"}]
[236,236,"2044-09-14",9,{"$f":"IF(ISERROR(MATCH(D239,'Simulador CHIP Final'!$H$16:$H$17,0))=FALSE,\"C\",IF(ISERROR(MATCH(D239,'Simulador CHIP Final'!$H$18:$H$19,0))=FALSE,\"D\",\"\"))","v":""},{"$f":"IF(E239=\"C\",0,IF(E239 =\"D\",ROUND(1/((1+'Simulador CHIP Final'!$Q$13)^A239),9) * 2,ROUND(1/((1+'Simulador CHIP Final'!$Q$13)^A239),9)))","v":{"$error":"#DIV/0!"}},{"$error":"#DIV/0!"}]
[237,237,"2044-10-14",10,{"$f":"IF(ISERROR(MATCH(D240,'Simulador CHIP Final'!$H$16:$H$17,0))=FALSE,\"C\",IF(ISERROR(MATCH(D240,'Simulador CHIP Final'!$H$18:$H$19,0))=FALSE,\"D\",\"\"))","v":""},{"$f":"IF(E240=\"C\",0,IF(E240 =\"D\",ROUND(1/((1+'Simulador CHIP Final'!$Q$13)^A240),9) * 2,ROUND(1/((1+'Simulador CHIP Final'!$Q$13)^A240),9)))","v":{"$error":"#DIV/0!"}},{"$error":"#DIV/0!"}]
[238,238,"2044-11-14",11,{"$f":"IF(ISERROR(MATCH(D241,'Simulador CHIP Final'!$H$16:$H$17,0))=FALSE,\"C\",IF(ISERROR(MATCH(D241,'Simulador CHIP Final'!$H$18:$H$19,0))=FALSE,\"D\",\"\"))","v":""},{"$f":"IF(E241=\"C\",0,IF(E241 =\"D\",ROUND(1/((1+'Simulador CHIP Final'!$Q$13)^A241),9) * 2,ROUND(1/((1+'Simulador CHIP Final'!$Q$13)^A241),9)))","v":{"$error":"#DIV/0!"}},{"$error":"#DIV/0!"}]
[239,239,"2044-12-14",12,{"$f":"IF(ISERROR(MATCH(D242,'Simulador CHIP Final'!$H$16:$H$17,0))=FALSE,\"C\",IF(ISERROR(MATCH(D242,'Simulador CHIP Final'!$H$18:$H$19,0))=FALSE,\"D\",\"\"))","v":""},{"$f":"IF(E242=\"C\",0,IF(E242 =\"D\",ROUND(1/((1+'Simulador CHIP Final'!$Q$13)^A242),9) * 2,ROUND(1/((1+'Simulador CHIP Final'!$Q$13)^A242),9)))","v":{"$error":"#DIV/0!"}},{"$error":"#DIV/0!"}]
[240,240,"2045-01-14",1,{"$f":"IF(ISERROR(MATCH(D243,'Simulador CHIP Final'!$H$16:$H$17,0))=FALSE,\"C\",IF(ISERROR(MATCH(D243,'Simulador CHIP Final'!$H$18:$H$19,0))=FALSE,\"D\",\"\"))","v":""},{"$f":"IF(E243=\"C\",0,IF(E243 =\"D\",ROUND(1/((1+'Simulador CHIP Final'!$Q$13)^A243),9) * 2,ROUND(1/((1+'Simulador CHIP Final'!$Q$13)^A243),9)))","v":{"$error":"#DIV/0!"}},{"$error":"#DIV/0!"}]
[241,241,"2045-02-14",2,{"$f":"IF(ISERROR(MATCH(D244,'Simulador CHIP Final'!$H$16:$H$17,0))=FALSE,\"C\",IF(ISERROR(MATCH(D244,'Simulador CHIP Final'!$H$18:$H$19,0))=FALSE,\"D\",\"\"))","v":""},{"$f":"IF(E244=\"C\",0,IF(E244 =\"D\",ROUND(1/((1+'Simulador CHIP Final'!$Q$13)^A244),9) * 2,ROUND(1/((1+'Simulador CHIP Final'!$Q$13)^A244),9)))","v":{"$error":"#DIV/0!"}},{"$f":"G243+ROUND(F244,9)","v":{"$error":"#DIV/0!"}}]
[242,242,"2045-03-14",3,{"$f":"IF(ISERROR(MATCH(D245,'Simulador CHIP Final'!$H$16:$H$17,0))=FALSE,\"C\",IF(ISERROR(MATCH(D245,'Simulador CHIP Final'!$H$18:$H$19,0))=FALSE,\"D\",\"\"))","v":""},{"$f":"IF(E245=\"C\",0,IF(E245 =\"D\",ROUND(1/((1+'Simulador CHIP Final'!$Q$13)^A245),9) * 2,ROUND(1/((1+'Simulador CHIP Final'!$Q$13)^A245),9)))","v":{"$error":"#DIV/0!"}},{"$error":"#DIV/0!"}]
[243,243,"2045-04-14",4,{"$f":"IF(ISERROR(MATCH(D246,'Simulador CHIP Final'!$H$16:$H$17,0))=FALSE,\"C\",IF(ISERROR(MATCH(D246,'Simulador CHIP Final'!$H$18:$H$19,0))=FALSE,\"D\",\"\"))","v":""},{"$f":"IF(E246=\"C\",0,IF(E246 =\"D\",ROUND(1/((1+'Simulador CHIP Final'!$Q$13)^A246),9) * 2,ROUND(1/((1+'Simulador CHIP Final'!$Q$13)^A246),9)))","v":{"$error":"#DIV/0!"}},{"$error":"#DIV/0!"}]
[244,244,"2045-05-14",5,{"$f":"IF(ISERROR(MATCH(D247,'Simulador CHIP Final'!$H$16:$H$17,0))=FALSE,\"C\",IF(ISERROR(MATCH(D247,'Simulador CHIP Final'!$H$18:$H$19,0))=FALSE,\"D\",\"\"))","v":""},{"$f":"IF(E247=\"C\",0,IF(E247 =\"D\",ROUND(1/((1+'Simulador CHIP Final'!$Q$13)^A247),9) * 2,ROUND(1/((1+'Simulador CHIP Final'!$Q$13)^A247),9)))","v":{"$error":"#DIV/0!"}},{"$error":"#DIV/0!"}]
[245,245,"2045-06-14",6,{"$f":"IF(ISERROR(MATCH(D248,'Simulador CHIP Final'!$H$16:$H$17,0))=FALSE,\"C\",IF(ISERROR(MATCH(D248,'Simulador CHIP Final'!$H$18:$H$19,0))=FALSE,\"D\",\"\"))","v":""},{"$f":"IF(E248=\"C\",0,IF(E248 =\"D\",ROUND(1/((1+'Simulador CHIP Final'!$Q$13)^A248),9) * 2,ROUND(1/((1+'Simulador CHIP Final'!$Q$13)^A248),9)))","v":{"$error":"#DIV/0!"}},{"$error":"#DIV/0!"}]
[246,246,"2045-07-14",7,{"$f":"IF(ISERROR(MATCH(D249,'Simulador CHIP Final'!$H$16:$H$17,0))=FALSE,\"C\",IF(ISERROR(MATCH(D249,'Simulador CHIP Final'!$H$18:$H$19,0))=FALSE,\"D\",\"\"))","v":""},{"$f":"IF(E249=\"C\",0,IF(E249 =\"D\",ROUND(1/((1+'Simulador CHIP Final'!$Q$13)^A249),9) * 2,ROUND(1/((1+'Simulador CHIP Final'!$Q$13)^A249),9)))","v":{"$error":"#DIV/0!"}},{"$error":"#DIV/0!"}]
[247,247,"2045-08-14",8,{"$f":"IF(ISERROR(MATCH(D250,'Simulador CHIP Final'!$H$16:$H$17,0))=FALSE,\"C\",IF(ISERROR(MATCH(D250,'Simulador CHIP Final'!$H$18:$H$19,0))=FALSE,\"D\",\"\"))","v":""},{"$f":"IF(E250=\"C\",0,IF(E250 =\"D\",ROUND(1/((1+'Simulador CHIP Final'!$Q$13)^A250),9) * 2,ROUND(1/((1+'Simulador CHIP Final'!$Q$13)^A250),9)))","v":{"$error":"#DIV/0!"}},{"$error":"#DIV/0!"}]
[248,248,"2045-09-14",9,{"$f":"IF(ISERROR(MATCH(D251,'Simulador CHIP Final'!$H$16:$H$17,0))=FALSE,\"C\",IF(ISERROR(MATCH(D251,'Simulador CHIP Final'!$H$18:$H$19,0))=FALSE,\"D\",\"\"))","v":""},{"$f":"IF(E251=\"C\",0,IF(E251 =\"D\",ROUND(1/((1+'Simulador CHIP Final'!$Q$13)^A251),9) * 2,ROUND(1/((1+'Simulador CHIP Final'!$Q$13)^A251),9)))","v":{"$error":"#DIV/0!"}},{"$error":"#DIV/0!"}]
[249,249,"2045-10-14",10,{"$f":"IF(ISERROR(MATCH(D252,'Simulador CHIP Final'!$H$16:$H$17,0))=FALSE,\"C\",IF(ISERROR(MATCH(D252,'Simulador CHIP Final'!$H$18:$H$19,0))=FALSE,\"D\",\"\"))","v":""},{"$f":"IF(E252=\"C\",0,IF(E252 =\"D\",ROUND(1/((1+'Simulador CHIP Final'!$Q$13)^A252),9) * 2,ROUND(1/((1+'Simulador CHIP Final'!$Q$13)^A252),9)))","v":{"$error":"#DIV/0!"}},{"$error":"#DIV/0!"}]
[250,250,"2045-11-14",11,{"$f":"IF(ISERROR(MATCH(D253,'Simulador CHIP Final'!$H$16:$H$17,0))=FALSE,\"C\",IF(ISERROR(MATCH(D253,'Simulador CHIP Final'!$H$18:$H$19,0))=FALSE,\"D\",\"\"))","v":""},{"$f":"IF(E253=\"C\",0,IF(E253 =\"D\",ROUND(1/((1+'Simulador CHIP Final'!$Q$13)^A253),9) * 2,ROUND(1/((1+'Simulador CHIP Final'!$Q$13)^A253),9)))","v":{"$error":"#DIV/0!"}},{"$error":"#DIV/0!"}]
[251,251,"2045-12-14",12,{"$f":"IF(ISERROR(MATCH(D254,'Simulador CHIP Final'!$H$16:$H$17,0))=FALSE,\"C\",IF(ISERROR(MATCH(D254,'Simulador CHIP Final'!$H$18:$H$19,0))=FALSE,\"D\",\"\"))","v":""},{"$f":"IF(E254=\"C\",0,IF(E254 =\"D\",ROUND(1/((1+'Simulador CHIP Final'!$Q$13)^A254),9) * 2,ROUND(1/((1+'Simulador CHIP Final'!$Q$13)^A254),9)))","v":{"$error":"#DIV/0!"}},{"$error":"#DIV/0!"}]
[252,252,"2046-01-14",1,{"$f":"IF(ISERROR(MATCH(D255,'Simulador CHIP Final'!$H$16:$H$17,0))=FALSE,\"C\",IF(ISERROR(MATCH(D255,'Simulador CHIP Final'!$H$18:$H$19,0))=FALSE,\"D\",\"\"))","v":""},{"$f":"IF(E255=\"C\",0,IF(E255 =\"D\",ROUND(1/((1+'Simulador CHIP Final'!$Q$13)^A255),9) * 2,ROUND(1/((1+'Simulador CHIP Final'!$Q$13)^A255),9)))","v":{"$error":"#DIV/0!"}},{"$error":"#DIV/0!"}]
[253,253,"2046-02-14",2,{"$f":"IF(ISERROR(MATCH(D256,'Simulador CHIP Final'!$H$16:$H$17,0))=FALSE,\"C\",IF(ISERROR(MATCH(D256,'Simulador CHIP Final'!$H$18:$H$19,0))=FALSE,\"D\",\"\"))","v":""},{"$f":"IF(E256=\"C\",0,IF(E256 =\"D\",ROUND(1/((1+'Simulador CHIP Final'!$Q$13)^A256),9) * 2,ROUND(1/((1+'Simulador CHIP Final'!$Q$13)^A256),9)))","v":{"$error":"#DIV/0!"}},{"$error":"#DIV/0!"}]
[254,254,"2046-03-14",3,{"$f":"IF(ISERROR(MATCH(D257,'Simulador CHIP Final'!$H$16:$H$17,0))=FALSE,\"C\",IF(ISERROR(MATCH(D257,'Simulador CHIP Final'!$H$18:$H$19,0))=FALSE,\"D\",\"\"))","v":""},{"$f":"IF(E257=\"C\",0,IF(E257 =\"D\",ROUND(1/((1+'Simulador CHIP Final'!$Q$13)^A257),9) * 2,ROUND(1/((1+'Simulador CHIP Final'!$Q$13)^A257),9)))","v":{"$error":"#DIV/0!"}},{"$error":"#DIV/0!"}]
[255,255,"2046-04-14",4,{"$f":"IF(ISERROR(MATCH(D258,'Simulador CHIP Final'!$H$16:$H$17,0))=FALSE,\"C\",IF(ISERROR(MATCH(D258,'Simulador CHIP Final'!$H$18:$H$19,0))=FALSE,\"D\",\"\"))","v":""},{"$f":"IF(E258=\"C\",0,IF(E258 =\"D\",ROUND(1/((1+'Simulador CHIP Final'!$Q$13)^A258),9) * 2,ROUND(1/((1+'Simulador CHIP Final'!$Q$13)^A258),9)))","v":{"$error":"#DIV/0!"}},{"$error":"#DIV/0!"}]
[256,256,"2046-05-14",5,{"$f":"IF(ISERROR(MATCH(D259,'Simulador CHIP Final'!$H$16:$H$17,0))=FALSE,\"C\",IF(ISERROR(MATCH(D259,'Simulador CHIP Final'!$H$18:$H$19,0))=FALSE,\"D\",\"\"))","v":""},{"$f":"IF(E259=\"C\",0,IF(E259 =\"D\",ROUND(1/((1+'Simulador CHIP Final'!$Q$13)^A259),9) * 2,ROUND(1/((1+'Simulador CHIP Final'!$Q$13)^A259),9)))","v":{"$error":"#DIV/0!"}},{"$error":"#DIV/0!"}]
[257,257,"2046-06-14",{"$f":"MONTH(C260)","v":6},{"$f":"IF(ISERROR(MATCH(D260,'Simulador CHIP Final'!$H$16:$H$17,0))=FALSE,\"C\",IF(ISERROR(MATCH(D260,'Simulador CHIP Final'!$H$18:$H$19,0))=FALSE,\"D\",\"\"))","v":""},{"$f":"IF(E260=\"C\",0,IF(E260 =\"D\",ROUND(1/((1+'Simulador CHIP Final'!$Q$13)^A260),9) * 2,ROUND(1/((1+'Simulador CHIP Final'!$Q$13)^A260),9)))","v":{"$error":"#DIV/0!"}},{"$error":"#DIV/0!"}]
[{"$f":"A260+1","v":258},{"$f":"IF(E261<>\"C\",IF(ISERROR(1+B260)=TRUE,1,1+B260),IF(ISNUMBER(B260),B260,1))","v":258},{"$f":"DATE(YEAR(C260) + 1/12,MONTH(C260)+1,DAY(C260))","v":"2046-07-14"},7,{"$f":"IF(ISERROR(MATCH(D261,'Simulador CHIP Final'!$H$16:$H$17,0))=FALSE,\"C\",IF(ISERROR(MATCH(D261,'Simulador CHIP Final'!$H$18:$H$19,0))=FALSE,\"D\",\"\"))","v":""},{"$f":"IF(E261=\"C\",0,IF(E261 =\"D\",ROUND(1/((1+'Simulador CHIP Final'!$Q$13)^A261),9) * 2,ROUND(1/((1+'Simulador CHIP Final'!$Q$13)^A261),9)))","v":{"$error":"#DIV/0!"}},{"$error":"#DIV/0!"}]
[259,259,"2046-08-14",8,{"$f":"IF(ISERROR(MATCH(D262,'Simulador CHIP Final'!$H$16:$H$17,0))=FALSE,\"C\",IF(ISERROR(MATCH(D262,'Simulador CHIP Final'!$H$18:$H$19,0))=FALSE,\"D\",\"\"))","v":""},{"$f":"IF(E262=\"C\",0,IF(E262 =\"D\",ROUND(1/((1+'Simulador CHIP Final'!$Q$13)^A262),9) * 2,ROUND(1/((1+'Simulador CHIP Final'!$Q$13)^A262),9)))","v":{"$error":"#DIV/0!"}},{"$error":"#DIV/0!"}]
[260,260,"2046-09-14",9,{"$f":"IF(ISERROR(MATCH(D263,'Simulador CHIP Final'!$H$16:$H$17,0))=FALSE,\"C\",IF(ISERROR(MATCH(D263,'Simulador CHIP Final'!$H$18:$H$19,0))=FALSE,\"D\",\"\"))","v":""},{"$f":"IF(E263=\"C\",0,IF(E263 =\"D\",ROUND(1/((1+'Simulador CHIP Final'!$Q$13)^A263),9) * 2,ROUND(1/((1+'Simulador CHIP Final'!$Q$13)^A263),9)))","v":{"$error":"#DIV/0!"}},{"$error":"#DIV/0!"}]
[261,261,"2046-10-14",10,{"$f":"IF(ISERROR(MATCH(D264,'Simulador CHIP Final'!$H$16:$H$17,0))=FALSE,\"C\",IF(ISERROR(MATCH(D264,'Simulador CHIP Final'!$H$18:$H$19,0))=FALSE,\"D\",\"\"))","v":""},{"$f":"IF(E264=\"C\",0,IF(E264 =\"D\",ROUND(1/((1+'Simulador CHIP Final'!$Q$13)^A264),9) * 2,ROUND(1/((1+'Simulador CHIP Final'!$Q$13)^A264),9)))","v":{"$error":"#DIV/0!"}},{"$error":"#DIV/0!"}]
[262,262,"2046-11-14",11,{"$f":"IF(ISERROR(MATCH(D265,'Simulador CHIP Final'!$H$16:$H$17,0))=FALSE,\"C\",IF(ISERROR(MATCH(D265,'Simulador CHIP Final'!$H$18:$H$19,0))=FALSE,\"D\",\"\"))","v":""},{"$f":"IF(E265=\"C\",0,IF(E265 =\"D\",ROUND(1/((1+'Simulador CHIP Final'!$Q$13)^A265),9) * 2,ROUND(1/((1+'Simulador CHIP Final'!$Q$13)^A265),9)))","v":{"$error":"#DIV/0!"}},{"$error":"#DIV/0!"}]
[263,263,"2046-12-14",12,{"$f":"IF(ISERROR(MATCH(D266,'Simulador CHIP Final'!$H$16:$H$17,0))=FALSE,\"C\",IF(ISERROR(MATCH(D266,'Simulador CHIP Final'!$H$18:$H$19,0))=FALSE,\"D\",\"\"))","v":""},{"$f":"IF(E266=\"C\",0,IF(E266 =\"D\",ROUND(1/((1+'Simulador CHIP Final'!$Q$13)^A266),9) * 2,ROUND(1/((1+'Simulador CHIP Final'!$Q$13)^A266),9)))","v":{"$error":"#DIV/0!"}},{"$error":"#DIV/0!"}]
[264,264,"2047-01-14",1,{"$f":"IF(ISERROR(MATCH(D267,'Simulador CHIP Final'!$H$16:$H$17,0))=FALSE,\"C\",IF(ISERROR(MATCH(D267,'Simulador CHIP Final'!$H$18:$H$19,0))=FALSE,\"D\",\"\"))","v":""},{"$f":"IF(E267=\"C\",0,IF(E267 =\"D\",ROUND(1/((1+'Simulador CHIP Final'!$Q$13)^A267),9) * 2,ROUND(1/((1+'Simulador CHIP Final'!$Q$13)^A267),9)))","v":{"$error":"#DIV/0!"}},{"$error":"#DIV/0!"}]
[265,265,"2047-02-14",2,{"$f":"IF(ISERROR(MATCH(D268,'Simulador CHIP Final'!$H$16:$H$17,0))=FALSE,\"C\",IF(ISERROR(MATCH(D268,'Simulador CHIP Final'!$H$18:$H$19,0))=FALSE,\"D\",\"\"))","v":""},{"$f":"IF(E268=\"C\",0,IF(E268 =\"D\",ROUND(1/((1+'Simulador CHIP Final'!$Q$13)^A268),9) * 2,ROUND(1/((1+'Simulador CHIP Final'!$Q$13)^A268),9)))","v":{"$error":"#DIV/0!"}},{"$error":"#DIV/0!"}]
[266,266,"2047-03-14",3,{"$f":"IF(ISERROR(MATCH(D269,'Simulador CHIP Final'!$H$16:$H$17,0))=FALSE,\"C\",IF(ISERROR(MATCH(D269,'Simulador CHIP Final'!$H$18:$H$19,0))=FALSE,\"D\",\"\"))","v":""},{"$f":"IF(E269=\"C\",0,IF(E269 =\"D\",ROUND(1/((1+'Simulador CHIP Final'!$Q$13)^A269),9) * 2,ROUND(1/((1+'Simulador CHIP Final'!$Q$13)^A269),9)))","v":{"$error":"#DIV/0!"}},{"$error":"#DIV/0!"}]
[267,267,"2047-04-14",4,{"$f":"IF(ISERROR(MATCH(D270,'Simulador CHIP Final'!$H$16:$H$17,0))=FALSE,\"C\",IF(ISERROR(MATCH(D270,'Simulador CHIP Final'!$H$18:$H$19,0))=FALSE,\"D\",\"\"))","v":""},{"$f":"IF(E270=\"C\",0,IF(E270 =\"D\",ROUND(1/((1+'Simulador CHIP Final'!$Q$13)^A270),9) * 2,ROUND(1/((1+'Simulador CHIP Final'!$Q$13)^A270),9)))","v":{"$error":"#DIV/0!"}},{"$error":"#DIV/0!"}]
[268,268,"2047-05-14",5,{"$f":"IF(ISERROR(MATCH(D271,'Simulador CHIP Final'!$H$16:$H$17,0))=FALSE,\"C\",IF(ISERROR(MATCH(D271,'Simulador CHIP Final'!$H$18:$H$19,0))=FALSE,\"D\",\"\"))","v":""},{"$f":"IF(E271=\"C\",0,IF(E271 =\"D\",ROUND(1/((1+'Simulador CHIP Final'!$Q$13)^A271),9) * 2,ROUND(1/((1+'Simulador CHIP Final'!$Q$13)^A271),9)))","v":{"$error":"#DIV/0!"}},{"$error":"#DIV/0!"}]
[269,269,"2047-06-14",6,{"$f":"IF(ISERROR(MATCH(D272,'Simulador CHIP Final'!$H$16:$H$17,0))=FALSE,\"C\",IF(ISERROR(MATCH(D272,'Simulador CHIP Final'!$H$18:$H$19,0))=FALSE,\"D\",\"\"))","v":""},{"$f":"IF(E272=\"C\",0,IF(E272 =\"D\",ROUND(1/((1+'Simulador CHIP Final'!$Q$13)^A272),9) * 2,ROUND(1/((1+'Simulador CHIP Final'!$Q$13)^A272),9)))","v":{"$error":"#DIV/0!"}},{"$error":"#DIV/0!"}]
[270,270,"2047-07-14",7,{"$f":"IF(ISERROR(MATCH(D273,'Simulador CHIP Final'!$H$16:$H$17,0))=FALSE,\"C\",IF(ISERROR(MATCH(D273,'Simulador CHIP Final'!$H$18:$H$19,0))=FALSE,\"D\",\"\"))","v":""},{"$f":"IF(E273=\"C\",0,IF(E273 =\"D\",ROUND(1/((1+'Simulador CHIP Final'!$Q$13)^A273),9) * 2,ROUND(1/((1+'Simulador CHIP Final'!$Q$13)^A273),9)))","v":{"$error":"#DIV/0!"}},{"$error":"#DIV/0!"}]
[271,271,"2047-08-14",8,{"$f":"IF(ISERROR(MATCH(D274,'Simulador CHIP Final'!$H$16:$H$17,0))=FALSE,\"C\",IF(ISERROR(MATCH(D274,'Simulador CHIP Final'!$H$18:$H$19,0))=FALSE,\"D\",\"\"))","v":""},{"$f":"IF(E274=\"C\",0,IF(E274 =\"D\",ROUND(1/((1+'Simulador CHIP Final'!$Q$13)^A274),9) * 2,ROUND(1/((1+'Simulador CHIP Final'!$Q$13)^A274),9)))","v":{"$error":"#DIV/0!"}},{"$f":"G273+ROUND(F274,9)","v":{"$error":"#DIV/0!"}}]
[272,272,"2047-09-14",9,{"$f":"IF(ISERROR(MATCH(D275,'Simulador CHIP Final'!$H$16:$H$17,0))=FALSE,\"C\",IF(ISERROR(MATCH(D275,'Simulador CHIP Final'!$H$18:$H$19,0))=FALSE,\"D\",\"\"))","v":""},{"$f":"IF(E275=\"C\",0,IF(E275 =\"D\",ROUND(1/((1+'Simulador CHIP Final'!$Q$13)^A275),9) * 2,ROUND(1/((1+'Simulador CHIP Final'!$Q$13)^A275),9)))","v":{"$error":"#DIV/0!"}},{"$error":"#DIV/0!"}]
[273,273,"2047-10-14",10,{"$f":"IF(ISERROR(MATCH(D276,'Simulador CHIP Final'!$H$16:$H$17,0))=FALSE,\"C\",IF(ISERROR(MATCH(D276,'Simulador CHIP Final'!$H$18:$H$19,0))=FALSE,\"D\",\"\"))","v":""},{"$f":"IF(E276=\"C\",0,IF(E276 =\"D\",ROUND(1/((1+'Simulador CHIP Final'!$Q$13)^A276),9) * 2,ROUND(1/((1+'Simulador CHIP Final'!$Q$13)^A276),9)))","v":{"$error":"#DIV/0!"}},{"$error":"#DIV/0!"}]
[274,274,"2047-11-14",11,{"$f":"IF(ISERROR(MATCH(D277,'Simulador CHIP Final'!$H$16:$H$17,0))=FALSE,\"C\",IF(ISERROR(MATCH(D277,'Simulador CHIP Final'!$H$18:$H$19,0))=FALSE,\"D\",\"\"))","v":""},{"$f":"IF(E277=\"C\",0,IF(E277 =\"D\",ROUND(1/((1+'Simulador CHIP Final'!$Q$13)^A277),9) * 2,ROUND(1/((1+'Simulador CHIP Final'!$Q$13)^A277),9)))","v":{"$error":"#DIV/0!"}},{"$error":"#DIV/0!"}]
[275,275,"2047-12-14",12,{"$f":"IF(ISERROR(MATCH(D278,'Simulador CHIP Final'!$H$16:$H$17,0))=FALSE,\"C\",IF(ISERROR(MATCH(D278,'Simulador CHIP Final'!$H$18:$H$19,0))=FALSE,\"D\",\"\"))","v":""},{"$f":"IF(E278=\"C\",0,IF(E278 =\"D\",ROUND(1/((1+'Simulador CHIP Final'!$Q$13)^A278),9) * 2,ROUND(1/((1+'Simulador CHIP Final'!$Q$13)^A278),9)))","v":{"$error":"#DIV/0!"}},{"$error":"#DIV/0!"}]
[276,276,"2048-01-14",1,{"$f":"IF(ISERROR(MATCH(D279,'Simulador CHIP Final'!$H$16:$H$17,0))=FALSE,\"C\",IF(ISERROR(MATCH(D279,'Simulador CHIP Final'!$H$18:$H$19,0))=FALSE,\"D\",\"\"))","v":""},{"$f":"IF(E279=\"C\",0,IF(E279 =\"D\",ROUND(1/((1+'Simulador CHIP Final'!$Q$13)^A279),9) * 2,ROUND(1/((1+'Simulador CHIP Final'!$Q$13)^A279),9)))","v":{"$error":"#DIV/0!"}},{"$error":"#DIV/0!"}]
[277,277,"2048-02-14",2,{"$f":"IF(ISERROR(MATCH(D280,'Simulador CHIP Final'!$H$16:$H$17,0))=FALSE,\"C\",IF(ISERROR(MATCH(D280,'Simulador CHIP Final'!$H$18:$H$19,0))=FALSE,\"D\",\"\"))","v":""},{"$f":"IF(E280=\"C\",0,IF(E280 =\"D\",ROUND(1/((1+'Simulador CHIP Final'!$Q$13)^A280),9) * 2,ROUND(1/((1+'Simulador CHIP Final'!$Q$13)^A280),9)))","v":{"$error":"#DIV/0!"}},{"$error":"#DIV/0!"}]
[278,278,"2048-03-14",3,{"$f":"IF(ISERROR(MATCH(D281,'Simulador CHIP Final'!$H$16:$H$17,0))=FALSE,\"C\",IF(ISERROR(MATCH(D281,'Simulador CHIP Final'!$H$18:$H$19,0))=FALSE,\"D\",\"\"))","v":""},{"$f":"IF(E281=\"C\",0,IF(E281 =\"D\",ROUND(1/((1+'Simulador CHIP Final'!$Q$13)^A281),9) * 2,ROUND(1/((1+'Simulador CHIP Final'!$Q$13)^A281),9)))","v":{"$error":"#DIV/0!"}},{"$error":"#DIV/0!"}]
[279,279,"2048-04-14",4,{"$f":"IF(ISERROR(MATCH(D282,'Simulador CHIP Final'!$H$16:$H$17,0))=FALSE,\"C\",IF(ISERROR(MATCH(D282,'Simulador CHIP Final'!$H$18:$H$19,0))=FALSE,\"D\",\"\"))","v":""},{"$f":"IF(E282=\"C\",0,IF(E282 =\"D\",ROUND(1/((1+'Simulador CHIP Final'!$Q$13)^A282),9) * 2,ROUND(1/((1+'Simulador CHIP Final'!$Q$13)^A282),9)))","v":{"$error":"#DIV/0!"}},{"$error":"#DIV/0!"}]
[280,280,"2048-05-14",5,{"$f":"IF(ISERROR(MATCH(D283,'Simulador CHIP Final'!$H$16:$H$17,0))=FALSE,\"C\",IF(ISERROR(MATCH(D283,'Simulador CHIP Final'!$H$18:$H$19,0))=FALSE,\"D\",\"\"))","v":""},{"$f":"IF(E283=\"C\",0,IF(E283 =\"D\",ROUND(1/((1+'Simulador CHIP Final'!$Q$13)^A283),9) * 2,ROUND(1/((1+'Simulador CHIP Final'!$Q$13)^A283),9)))","v":{"$error":"#DIV/0!"}},{"$error":"#DIV/0!"}]
[281,281,"2048-06-14",6,{"$f":"IF(ISERROR(MATCH(D284,'Simulador CHIP Final'!$H$16:$H$17,0))=FALSE,\"C\",IF(ISERROR(MATCH(D284,'Simulador CHIP Final'!$H$18:$H$19,0))=FALSE,\"D\",\"\"))","v":""},{"$f":"IF(E284=\"C\",0,IF(E284 =\"D\",ROUND(1/((1+'Simulador CHIP Final'!$Q$13)^A284),9) * 2,ROUND(1/((1+'Simulador CHIP Final'!$Q$13)^A284),9)))","v":{"$error":"#DIV/0!"}},{"$error":"#DIV/0!"}]
[282,282,"2048-07-14",7,{"$f":"IF(ISERROR(MATCH(D285,'Simulador CHIP Final'!$H$16:$H$17,0))=FALSE,\"C\",IF(ISERROR(MATCH(D285,'Simulador CHIP Final'!$H$18:$H$19,0))=FALSE,\"D\",\"\"))","v":""},{"$f":"IF(E285=\"C\",0,IF(E285 =\"D\",ROUND(1/((1+'Simulador CHIP Final'!$Q$13)^A285),9) * 2,ROUND(1/((1+'Simulador CHIP Final'!$Q$13)^A285),9)))","v":{"$error":"#DIV/0!"}},{"$error":"#DIV/0!"}]
[283,283,"2048-08-14",8,{"$f":"IF(ISERROR(MATCH(D286,'Simulador CHIP Final'!$H$16:$H$17,0))=FALSE,\"C\",IF(ISERROR(MATCH(D286,'Simulador CHIP Final'!$H$18:$H$19,0))=FALSE,\"D\",\"\"))","v":""},{"$f":"IF(E286=\"C\",0,IF(E286 =\"D\",ROUND(1/((1+'Simulador CHIP Final'!$Q$13)^A286),9) * 2,ROUND(1/((1+'Simulador CHIP Final'!$Q$13)^A286),9)))","v":{"$error":"#DIV/0!"}},{"$error":"#DIV/0!"}]
[284,284,"2048-09-14",9,{"$f":"IF(ISERROR(MATCH(D287,'Simulador CHIP Final'!$H$16:$H$17,0))=FALSE,\"C\",IF(ISERROR(MATCH(D287,'Simulador CHIP Final'!$H$18:$H$19,0))=FALSE,\"D\",\"\"))","v":""},{"$f":"IF(E287=\"C\",0,IF(E287 =\"D\",ROUND(1/((1+'Simulador CHIP Final'!$Q$13)^A287),9) * 2,ROUND(1/((1+'Simulador CHIP Final'!$Q$13)^A287),9)))","v":{"$error":"#DIV/0!"}},{"$error":"#DIV/0!"}]
[285,285,"2048-10-14",10,{"$f":"IF(ISERROR(MATCH(D288,'Simulador CHIP Final'!$H$16:$H$17,0))=FALSE,\"C\",IF(ISERROR(MATCH(D288,'Simulador CHIP Final'!$H$18:$H$19,0))=FALSE,\"D\",\"\"))","v":""},{"$f":"IF(E288=\"C\",0,IF(E288 =\"D\",ROUND(1/((1+'Simulador CHIP Final'!$Q$13)^A288),9) * 2,ROUND(1/((1+'Simulador CHIP Final'!$Q$13)^A288),9)))","v":{"$error":"#DIV/0!"}},{"$error":"#DIV/0!"}]
[286,286,"2048-11-14",11,{"$f":"IF(ISERROR(MATCH(D289,'Simulador CHIP Final'!$H$16:$H$17,0))=FALSE,\"C\",IF(ISERROR(MATCH(D289,'Simulador CHIP Final'!$H$18:$H$19,0))=FALSE,\"D\",\"\"))","v":""},{"$f":"IF(E289=\"C\",0,IF(E289 =\"D\",ROUND(1/((1+'Simulador CHIP Final'!$Q$13)^A289),9) * 2,ROUND(1/((1+'Simulador CHIP Final'!$Q$13)^A289),9)))","v":{"$error":"#DIV/0!"}},{"$error":"#DIV/0!"}]
[287,287,"2048-12-14",12,{"$f":"IF(ISERROR(MATCH(D290,'Simulador CHIP Final'!$H$16:$H$17,0))=FALSE,\"C\",IF(ISERROR(MATCH(D290,'Simulador CHIP Final'!$H$18:$H$19,0))=FALSE,\"D\",\"\"))","v":""},{"$f":"IF(E290=\"C\",0,IF(E290 =\"D\",ROUND(1/((1+'Simulador CHIP Final'!$Q$13)^A290),9) * 2,ROUND(1/((1+'Simulador CHIP Final'!$Q$13)^A290),9)))","v":{"$error":"#DIV/0!"}},{"$error":"#DIV/0!"}]
[288,288,"2049-01-14",1,{"$f":"IF(ISERROR(MATCH(D291,'Simulador CHIP Final'!$H$16:$H$17,0))=FALSE,\"C\",IF(ISERROR(MATCH(D291,'Simulador CHIP Final'!$H$18:$H$19,0))=FALSE,\"D\",\"\"))","v":""},{"$f":"IF(E291=\"C\",0,IF(E291 =\"D\",ROUND(1/((1+'Simulador CHIP Final'!$Q$13)^A291),9) * 2,ROUND(1/((1+'Simulador CHIP Final'!$Q$13)^A291),9)))","v":{"$error":"#DIV/0!"}},{"$error":"#DIV/0!"}]
[289,289,"2049-02-14",2,{"$f":"IF(ISERROR(MATCH(D292,'Simulador CHIP Final'!$H$16:$H$17,0))=FALSE,\"C\",IF(ISERROR(MATCH(D292,'Simulador CHIP Final'!$H$18:$H$19,0))=FALSE,\"D\",\"\"))","v":""},{"$f":"IF(E292=\"C\",0,IF(E292 =\"D\",ROUND(1/((1+'Simulador CHIP Final'!$Q$13)^A292),9) * 2,ROUND(1/((1+'Simulador CHIP Final'!$Q$13)^A292),9)))","v":{"$error":"#DIV/0!"}},{"$error":"#DIV/0!"}]
[290,290,"2049-03-14",3,{"$f":"IF(ISERROR(MATCH(D293,'Simulador CHIP Final'!$H$16:$H$17,0))=FALSE,\"C\",IF(ISERROR(MATCH(D293,'Simulador CHIP Final'!$H$18:$H$19,0))=FALSE,\"D\",\"\"))","v":""},{"$f":"IF(E293=\"C\",0,IF(E293 =\"D\",ROUND(1/((1+'Simulador CHIP Final'!$Q$13)^A293),9) * 2,ROUND(1/((1+'Simulador CHIP Final'!$Q$13)^A293),9)))","v":{"$error":"#DIV/0!"}},{"$error":"#DIV/0!"}]
[291,291,"2049-04-14",4,{"$f":"IF(ISERROR(MATCH(D294,'Simulador CHIP Final'!$H$16:$H$17,0))=FALSE,\"C\",IF(ISERROR(MATCH(D294,'Simulador CHIP Final'!$H$18:$H$19,0))=FALSE,\"D\",\"\"))","v":""},{"$f":"IF(E294=\"C\",0,IF(E294 =\"D\",ROUND(1/((1+'Simulador CHIP Final'!$Q$13)^A294),9) * 2,ROUND(1/((1+'Simulador CHIP Final'!$Q$13)^A294),9)))","v":{"$error":"#DIV/0!"}},{"$error":"#DIV/0!"}]
[292,292,"2049-05-14",5,{"$f":"IF(ISERROR(MATCH(D295,'Simulador CHIP Final'!$H$16:$H$17,0))=FALSE,\"C\",IF(ISERROR(MATCH(D295,'Simulador CHIP Final'!$H$18:$H$19,0))=FALSE,\"D\",\"\"))","v":""},{"$f":"IF(E295=\"C\",0,IF(E295 =\"D\",ROUND(1/((1+'Simulador CHIP Final'!$Q$13)^A295),9) * 2,ROUND(1/((1+'Simulador CHIP Final'!$Q$13)^A295),9)))","v":{"$error":"#DIV/0!"}},{"$error":"#DIV/0!"}]
[293,293,"2049-06-14",6,{"$f":"IF(ISERROR(MATCH(D296,'Simulador CHIP Final'!$H$16:$H$17,0))=FALSE,\"C\",IF(ISERROR(MATCH(D296,'Simulador CHIP Final'!$H$18:$H$19,0))=FALSE,\"D\",\"\"))","v":""},{"$f":"IF(E296=\"C\",0,IF(E296 =\"D\",ROUND(1/((1+'Simulador CHIP Final'!$Q$13)^A296),9) * 2,ROUND(1/((1+'Simulador CHIP Final'!$Q$13)^A296),9)))","v":{"$error":"#DIV/0!"}},{"$error":"#DIV/0!"}]
[294,294,"2049-07-14",7,{"$f":"IF(ISERROR(MATCH(D297,'Simulador CHIP Final'!$H$16:$H$17,0))=FALSE,\"C\",IF(ISERROR(MATCH(D297,'Simulador CHIP Final'!$H$18:$H$19,0))=FALSE,\"D\",\"\"))","v":""},{"$f":"IF(E297=\"C\",0,IF(E297 =\"D\",ROUND(1/((1+'Simulador CHIP Final'!$Q$13)^A297),9) * 2,ROUND(1/((1+'Simulador CHIP Final'!$Q$13)^A297),9)))","v":{"$error":"#DIV/0!"}},{"$error":"#DIV/0!"}]
[295,295,"2049-08-14",8,{"$f":"IF(ISERROR(MATCH(D298,'Simulador CHIP Final'!$H$16:$H$17,0))=FALSE,\"C\",IF(ISERROR(MATCH(D298,'Simulador CHIP Final'!$H$18:$H$19,0))=FALSE,\"D\",\"\"))","v":""},{"$f":"IF(E298=\"C\",0,IF(E298 =\"D\",ROUND(1/((1+'Simulador CHIP Final'!$Q$13)^A298),9) * 2,ROUND(1/((1+'Simulador CHIP Final'!$Q$13)^A298),9)))","v":{"$error":"#DIV/0!"}},{"$error":"#DIV/0!"}]
[296,296,"2049-09-14",9,{"$f":"IF(ISERROR(MATCH(D299,'Simulador CHIP Final'!$H$16:$H$17,0))=FALSE,\"C\",IF(ISERROR(MATCH(D299,'Simulador CHIP Final'!$H$18:$H$19,0))=FALSE,\"D\",\"\"))","v":""},{"$f":"IF(E299=\"C\",0,IF(E299 =\"D\",ROUND(1/((1+'Simulador CHIP Final'!$Q$13)^A299),9) * 2,ROUND(1/((1+'Simulador CHIP Final'!$Q$13)^A299),9)))","v":{"$error":"#DIV/0!"}},{"$error":"#DIV/0!"}]
[297,297,"2049-10-14",10,{"$f":"IF(ISERROR(MATCH(D300,'Simulador CHIP Final'!$H$16:$H$17,0))=FALSE,\"C\",IF(ISERROR(MATCH(D300,'Simulador CHIP Final'!$H$18:$H$19,0))=FALSE,\"D\",\"\"))","v":""},{"$f":"IF(E300=\"C\",0,IF(E300 =\"D\",ROUND(1/((1+'Simulador CHIP Final'!$Q$13)^A300),9) * 2,ROUND(1/((1+'Simulador CHIP Final'!$Q$13)^A300),9)))","v":{"$error":"#DIV/0!"}},{"$error":"#DIV/0!"}]
[298,298,"2049-11-14",11,{"$f":"IF(ISERROR(MATCH(D301,'Simulador CHIP Final'!$H$16:$H$17,0))=FALSE,\"C\",IF(ISERROR(MATCH(D301,'Simulador CHIP Final'!$H$18:$H$19,0))=FALSE,\"D\",\"\"))","v":""},{"$f":"IF(E301=\"C\",0,IF(E301 =\"D\",ROUND(1/((1+'Simulador CHIP Final'!$Q$13)^A301),9) * 2,ROUND(1/((1+'Simulador CHIP Final'!$Q$13)^A301),9)))","v":{"$error":"#DIV/0!"}},{"$error":"#DIV/0!"}]
[299,299,"2049-12-14",12,{"$f":"IF(ISERROR(MATCH(D302,'Simulador CHIP Final'!$H$16:$H$17,0))=FALSE,\"C\",IF(ISERROR(MATCH(D302,'Simulador CHIP Final'!$H$18:$H$19,0))=FALSE,\"D\",\"\"))","v":""},{"$f":"IF(E302=\"C\",0,IF(E302 =\"D\",ROUND(1/((1+'Simulador CHIP Final'!$Q$13)^A302),9) * 2,ROUND(1/((1+'Simulador CHIP Final'!$Q$13)^A302),9)))","v":{"$error":"#DIV/0!"}},{"$error":"#DIV/0!"}]
[300,300,"2050-01-14",1,{"$f":"IF(ISERROR(MATCH(D303,'Simulador CHIP Final'!$H$16:$H$17,0))=FALSE,\"C\",IF(ISERROR(MATCH(D303,'Simulador CHIP Final'!$H$18:$H$19,0))=FALSE,\"D\",\"\"))","v":""},{"$f":"IF(E303=\"C\",0,IF(E303 =\"D\",ROUND(1/((1+'Simulador CHIP Final'!$Q$13)^A303),9) * 2,ROUND(1/((1+'Simulador CHIP Final'!$Q$13)^A303),9)))","v":{"$error":"#DIV/0!"}},{"$error":"#DIV/0!"}]

{"sheet":"Parametros","index":5,"n_rows":45,"n_cols":19,"rows_kept":45,"cut":false,"hidden":true,"merged":[[31,1,31,2],[38,1,38,3],[2,15,3,15],[2,13,2,14],[2,5,3,5],[2,6,2,8],[2,9,2,10],[2,11,3,11],[23,1,23,2],[2,1,3,1],[2,2,3,2],[2,3,3,3],[2,4,3,4]]}
[]
[]
[null,"Código","Descripción","Moneda","Tasa de Desgravamen sin retorno","Tasa de Desgravamen con retorno","TEA",null,null,"Plazo",null,"Envío información","Cuota Inicial","Valor Vivienda",null,"Máx. periodo gracia"]
[null,null,null,null,null,null,"Default","Mín.","Máx.","Mín.","Máx.",null,"Min.","Min.","Máx."]
[null,"CHFE","HIPOTECARIO INDIVIDUAL","PEN",5.0000000000000001E-4,2.6900000000000001E-3,10.5,8.75,14.000000000000002,12,300,10,0.05,0,"N/A",360]
[null,"CHFF","HIPOTECARIO SOLIDARIO","PEN",8.9999999999999998E-4,5.3800000000000002E-3,10.5,8.75,14.000000000000002,12,300,10,0.05,0,"N/A",360]
[null,"CHFI","HIPOTECARIO INDIVIDUAL","USD",5.0000000000000001E-4,2.6900000000000001E-3,11,10,14.000000000000002,12,300,3,0.05,0,"N/A",360]
[null,"CHFM","HIPOTECARIO SOLIDARIO","USD",8.9999999999999998E-4,5.3800000000000002E-3,11,10,14.000000000000002,12,300,3,0.05,0,"N/A",360]
[null,"CHFT","TECHO PROPIO INDIVIDUAL","PEN",4.6999999999999999E-4,2.6900000000000001E-3,16,10.5,20,60,300,10,0.05,0,130500,180]
[null,"CHFU","TECHO PROPIO SOLIDARIO","PEN",8.0000000000000004E-4,5.3800000000000002E-3,16,10.5,20,60,300,10,0.05,0,130500,180]
[null,"HEFV","NUEVO CREDITO MI VIVIENDA INDIVIDUAL","PEN",4.6999999999999999E-4,2.6900000000000001E-3,9.8000000000000007,9.1,15,60,240,10,7.4999999999999997E-2,63981.81818181814,464200.26,180]
[null,"HEFW","NUEVO CREDITO MI VIVIENDA SOLIDARIO","PEN",8.0000000000000004E-4,5.3800000000000002E-3,9.8000000000000007,9.1,15,60,240,10,7.4999999999999997E-2,63981.81818181814,464200.26,180]
[]
[]
[]
[]
[null,"UIT"]
[null,2014,2015,2016,2017,null,2018,2019,2020,2021,2022,2023,2024,2025,2026,2027,2028,2029,2030]
[null,3800,3850,3950,4050,null,4150,4200,4300,4400,4600,4950,5150,5350,0,0,0,0,0]
[]
[]
[]
[]
[null,"Techo Propio"]
[null,"Bono","Importe BFH"]
[null,"Bono Familiar Habitacional",{"$f":"N19*8.7","v":46544.999999999993}]
[null,"Bono Personal de las FF.AA y PNP",58181.25]
[null,"Bono Victima del Terrorismo",70282.95]
[]
[]
[]
[null,"BONO AL BUEN PAGADOR (BBP) - MI VIVIENDA MAS"]
[null,"Grado","Importe BBP","Bono integrador"]
[null,"GRADO 0",0,3400]
[null,"GRADO 1",6000,3400]
[null,"GRADO 2",6000,3400]
[null,"GRADO 3",6000,3400]
[]
[null,"BONO AL BUEN PAGADOR (BBP) - MI VIVIENDA MAS"]
[null,"Min.","Máx.","Importe BBP"]
[null,67400,96200,26900]
[null,96200.01,144000,22400]
[null,144000.01,239800,20500]
[null,239800.01,355100,7600]
[null,355100.01,479300,0]